{"text_format":"1","workbook":"xlsx","n_sheets":55,"sheets":["Funktion-IQA","Vorauswahl","Xhor_IVA","Hinweise zum Programm","vx_vy LDI","Auslegung-L","Funktion-L","Grunddaten-L","Lw LDI","Datenblatt Einzeldurchlass-L","Auslegung-V","Datenblatt Einzeldurchlass-V","Grunddaten-V","Lw","Akustikberechnung","xkr._vx","DR","VLV-CAP","VLD-CAP","WKD380-CAP","WKD381-CAP","Funktion-W0","Funktion-W1","Funktion-V","LW-IVA","Auslegung-IVA","Grunddaten-IVA","Datenblatt Einzeldurchlass-IVA","Funktion-IVA","LP-RechnerHeiz","LP-RechnerKühl","Datenblatt Akustik","LW Auswahl","Grunddaten-IVAT","Einheiten","Version","Datenblatt IVAT","Auslegung-IVAT","LW,vY-IVAT","Funktion-IVAT","Grunddaten-LUW","Auslegung-LUW","Datenblatt-LUW","Funktion-LUW","Funktion-LDA","Grunddaten-IVATH","Datenblatt IVATH","Auslegung-IVATH","Übersetzung","LW,vY-IVATH","Grunddaten-IQA","LW,v,LN-IQA","Auslegung-IQA","Datenblatt IQA","Funktion-IVATH"],"not_rendered":{"charts":0,"images":56,"macros":1,"external_links":1,"defined_names":92,"comments":9,"pivot_tables":0},"unopened":[],"bounds":{"document_bytes":16777216,"sheet_cells":100000,"rows_first":2000,"rows_last":500,"rows_between":2000,"halvings":0,"cell_chars":16384,"cell_head_chars":4096},"cells_cut":0,"cells_raw":0,"read":"whole","date_system":"1900"}

{"sheet":"Funktion-IQA","index":0,"n_rows":55,"n_cols":4,"rows_kept":55,"cut":false,"hidden":true,"merged":[]}
[]
[]
[]
[]
[]
[]
[]
[]
[]
[]
[]
[]
[]
[]
[]
[]
[]
[]
[]
[]
[]
[]
[]
[]
[]
[]
[]
[]
[]
[]
[]
[]
[]
[]
[]
[]
[]
[]
[]
[]
[]
[]
[]
[]
[]
[]
[]
[]
[]
[]
[]
[]
[]
[]
[null,"Stand:",{"$f":"'Grunddaten-IVA'!E36","v":"2020-10-30"},"Änderungen vorbehalten"]

{"sheet":"Vorauswahl","index":1,"n_rows":136,"n_cols":14,"rows_kept":136,"cut":false,"hidden":false,"merged":[[125,8,125,10],[5,0,5,8],[3,0,3,8],[73,4,73,5],[74,4,74,5],[75,4,75,5],[69,4,69,5],[70,4,70,5],[71,4,71,5],[7,0,7,8],[72,4,72,5]]}
[]
[]
[]
[{"$f":"Übersetzung!F5","v":"Auslegung Kampmann Industrieluftdurchlässe"}]
[]
[{"$f":"Übersetzung!F106","v":"Bitte wählen Sie einen Durchlasstypen"}]
[]
[{"$f":"Übersetzung!F107","v":"Durch Klick auf einen Durchlass glangen sie direkt zur technischen Auslegung"}]
[]
[]
[]
[]
[]
[]
[]
[]
[]
[]
[]
[]
[]
[]
[]
[null,null,null,null,null,null,null,5,"min. Abmessung Frontblende rund",{"$error":"#REF!"},"mm"]
[]
[]
[]
[]
[]
[]
[]
[]
[]
[]
[]
[]
[]
[]
[]
[]
[]
[]
[]
[]
[]
[]
[]
[]
[null,null,null,null,null,{"$f":"IF(#REF!<1000,CONCATENATE(0,#REF!),#REF!)","v":{"$error":"#REF!"}}]
[null,null,null,null,null,{"$f":"IF(J19=78,\"080\",100)","v":100}]
[]
[]
[]
[]
[]
[]
[]
[]
[]
[]
[]
[]
[]
[]
[]
[]
[]
[]
[]
[null,null,null,null,{"$error":"#REF!"}]
[]
[]
[]
[]
[]
[]
[]
[]
[]
[]
[]
[]
[]
[]
[]
[]
[]
[]
[]
[]
[]
[]
[]
[]
[]
[]
[]
[]
[]
[]
[]
[]
[]
[]
[]
[]
[]
[]
[]
[]
[]
[]
[]
[]
[]
[]
[]
[]
[]
[]
[]
[]
[]
[]
[]
[]
[null,null,null,null,null,null,null,null,null,null,null,null,null,2]
[null,null,null,null,null,null,null,null,null,null,null,null,null,{"$f":"N127","v":2}]
[]
[]
[]
[]
[]
[]
[{"$f":"Übersetzung!F44","v":"Änderungen vorbehalten"}]
[{"$f":"Übersetzung!F45","v":"Stand:"},{"$f":"'Grunddaten-IQA'!$H$36","v":"2020-10-30"}]

{"sheet":"Xhor_IVA","index":2,"n_rows":30,"n_cols":6,"rows_kept":30,"cut":false,"hidden":true,"merged":[[14,1,14,2],[21,1,21,2],[26,1,26,2],[21,4,21,5],[26,4,26,5]]}
[]
["Rechenmodell zur Berechnung der horizontalen Wurfweite des IVA"]
[]
["Grundproblem:","Innerhalb des Auslegungstools wurden bis zum 20.08.2019 die horizontalen Wurfweiten des IVA bis Unterkante des Durchlasses angegeben. Entsprechende Messungen hierzu wurden durchgeführt."]
[null,"Im Vorfeld durchgeführte Prognosen zu dem selben Thema hatten zur Folge, dass erhebliche Abweichungen (teilweise bis um den Faktor 6 bei kleinen DN´s) zwischen Tool und den Prognosen auftraten."]
[null,"Die Prognosen der horizontalen Wurfweite basierten auf Katalogunterlagen von Krantz, in welchen der Temperatureinfluss der Zuluft nicht berücksichtigt wurde."]
["Lösungsvorschlag:","Erweiterung des bestehenden Modells."]
["Ansatz:","Aus messtechnischen Untersuchungen ist das Xkrit für die einzelnen Duchlässe bekannt, es wird jedoch lediglich die horizontale Komponente des Strahls bis zum Abknicken und dem Verlauf bis zur Unterkante des Durchlasses beschrieben."]
[null,"An diesem Punkt findet eine Erweiterung des Rechenmosells statt, basierend auf einem sich einstellenden Winkelzusammenhang, welcher für die Durchlässe IVA-TH beschrieben wurde."]
[null,"Bei diesem wurde der Strahlverlauf in einen horizontalen und einen schräg verlaufenden Anteil aufgeteilt."]
[null,"Als Eingangsgrößen dienen hierbei die Austrittsgeschwindigkeit der Luft, welcher in vergleichbaren Größenordnungen liegt."]
[null,"Um nicht Gefahr zu laufen, dass der schräge Anteil der Strömung unrealistisch lang wird, werden 2 Begrenzungen durchgeführt: Begrenzung der Höhendifferenz auf 5m und des Winkels auf 35° (DT ca. 4K) (damit die Länge des schrägen Anteils in gewissen Grenzen bleibt)"]
[]
[]
[null,"Berechnungskonstanten alpha"]
[null,"k1",1578.0399072038433]
[null,"k2",7.6619459554802391E-3]
[null,"k3",-2.1362098398370879]
[null,"k4",-1522.4527670166945]
[]
[]
[null,"Eingangsgrößen",null,null,"Eingangsgröße"]
[null,"Mantelfläche",{"$f":"PI()*('Grunddaten-IVA'!E33/1000)*('Grunddaten-IVA'!D33/1000)","v":1.0546734945145904},null,"xkrit",{"$f":"'Grunddaten-IVA'!$P$33","v":2.3946843671563443}]
[null,"vaus",{"$f":"Einheiten!$E$58/Xhor_IVA!C23/3600","v":1.0535119322615536},null,"Montagehöhe",{"$f":"Einheiten!$E$63","v":3}]
[null,"Delta T",{"$f":"Einheiten!$E$60-Einheiten!$E$59","v":8},null,"OK A-Ber",{"$f":"Einheiten!$E$64","v":1.8}]
[]
[null,"Ausgabe: alpha im Knickpunkt",null,null,"Ausgabe: horizontaler Strahlweg"]
[null,"alpha =",{"$f":"IF($C$16*($C$24/$C$25)^$C$17+$C$24^$C$18+$C$19>45,45,$C$16*($C$24/$C$25)^$C$17+$C$24^$C$18+$C$19)","v":32.159208069701435},null,"Höhendifferenz",{"$f":"IF(F24-F25>5,5,F24-F25)","v":1.2}]
[null,null,null,null,"schräger Anteil",{"$f":"TAN(C28*PI()/180)*F28","v":0.75448771810816218}]
[null,null,null,null,"Xhor",{"$f":"IF(C25=0,\"\",F23+F29)","v":3.1491720852645066}]

{"sheet":"Hinweise zum Programm","index":3,"n_rows":20,"n_cols":1,"rows_kept":20,"cut":false,"hidden":true,"merged":[]}
["Hinweise zur Bedienung"]
[]
["Allgemeine Hinweise:"]
["Das Auslegungstool Industrie dient als Hilfsmittel zur Technischen Planung von Industrieluftdurchlässen der Marke emcoair. "]
[]
["Auslegung:"]
["Im Tabellenblatt \"Auslegung\" erfolgt die Festlegung des gewünschten Auslasstyps. Bei Eingabe der Vorgabedaten, wie z.B. dem benötigten Luftvolumenstrom werden die technischen Daten des gewählten Luftdurchlasses berechnet."]
[]
["Bedienung:"]
["Die im Tabellenblatt \"Auslegung\" ermittelten Strömungsgeschwindigkeiten gelten für einen deckenbündig montierten Luftdurchlass mit horizontaler Ausblascharakteristik. "]
[]
["Funktion:"]
["Im Tabellenblatt \"Funktion\" finden Sie eine kurze Funktionsbeschreibung des jeweiligen Luftdurchlasses."]
[]
[]
["Hinweise zur Funktion:"]
["Für eine ordnungsgemäße Funktion des Auslegungstools muss die Ausführung von Makros und MS Excel aktiviert sein. Die Aktivierung von Makros erfolgt im Menü Makrosicherheit."]
["Einstellung unter MS Excel 97-2003: Extras → Makro → Sicherheit"]
["Einstellung unter MS Excel 2007 und 2010: Entwicklertools* → Makrosicherheit  "]
["*Das Menü Entwicklertools muss unter Umständen eingefügt werden unter Excel-Optionen"]

{"sheet":"vx_vy LDI","index":4,"n_rows":32,"n_cols":21,"rows_kept":32,"cut":false,"hidden":true,"merged":[[58,2,58,10],[3,2,3,3],[3,4,3,10],[3,11,3,16],[3,17,3,19],[22,17,22,19]]}
[]
["Konstantensammlung LDI"]
[]
["Nenndurchmesser",null,"Mindestabstand",null,"Klappenwinkel Kühlfall",null,null,null,null,null,null,"Klappenwinkel Heizfall",null,null,null,null,null,"Vertikale Eindringtiefe"]
[null,null,"K1","K2","K1","K2","K3","K4","K5","K6","K7","K1","K2","K3","K4","K5","K6","K1","K2","K3"]
[250,null,0.8491637263670011,2.1075149111289319E-2,0.86778134101413062,1.5449884255475898E-2,-64.902664532997761,-5.2941497609786099,-0.64820511320808705,8.1244184350122861,63.490087209652479,-0.53880254038986375,-0.75933850117646839,10.177713949702158,-4.568902422974876,-1.5013444612495059,47.077919016911238,3.6420455695009473,0.50130392055981299,1.1536343344248159]
[315,null,0.99019603344344342,2.206104577163356E-2,0.85805334490438856,2.517067237577892,-66.858043289808165,-4.6180750078897077,-0.49559753940852441,4.5593048080769973,64.028255826149689,-0.65953160136960931,-1.7743147603337344,25.271460660693798,-4.9580884547627733,-8.786045335633581,38.461655430014787,3.9798467566945672,0.50251367765986688,1.1473820480821313]
[400,null,1.1586522658159775,-4.2947096863406083E-3,0.92515977847825126,4.5157164622802259,-65.183185512906633,-3.1009625493010087,-0.34563377752703855,2.0796931919202142,58.319209691828277,-0.53403004442182744,-1.4824714797189169,16.664158780983637,-4.4984504500179705,0.15477187064448353,31.287270220907207,4.3939605283240688,0.5066591201450571,1.146627870915083]
[500,null,1.3493941775087213,-1.2814655982274853E-2,0.85284629267849621,22.423210742296902,-63.32841497182536,-2.077600312286433,-0.63301495680080566,-7.747361652303276,45.677340487797608,-0.79482210022591748,-2.5359750187240548,26.082216440342091,-4.7572900549241162,9.2133572505735456E-4,17.920623635885665,4.7236271211270298,0.50083590437227754,1.1532306044504408]
[630,null,1.5662108168349107,2.5445832250143404E-2,0.86919158793202322,6.9447265053294602,-65.765187908035202,-1.4297033482725252,-0.14343158669561232,-0.7050011148265265,54.748902222322698,-0.96121412944381268,-2.1908719612670056,25.706233931868315,-4.0045430184353146,9.2120785971576435E-4,12.598268657362627,5.3869421107892936,0.50212894600824531,1.138318711994726]
[800,null,1.8374554581058173,1.3759120746645837E-2,0.87936759155402322,4.2276698176215195,-66.988185167890904,-1.0418717821906374,-6.8782468458761736E-2,0.24827541646051551,55.684349997357678,-1.3998175108141551,-0.71597010979659037,15.262458665558649,-2.4930172704221905,9.2049367938171255E-4,21.710991364068615,5.9373634364311334,0.50133330617124183,1.1476207873678883]
[]
[]
["DT Kühl",{"$f":"Einheiten!$E$22-Einheiten!$E$21","v":8}]
["h",{"$f":"Einheiten!$E$25-Einheiten!$E$26","v":6.2}]
["alpha Kühl",{"$f":"Einheiten!E19","v":50}]
["wx",{"$f":"E32","v":0.16712715254911567}]
["DT Heiz",{"$f":"Einheiten!E23-Einheiten!E24","v":10}]
["Alpha Heiz",{"$f":"Einheiten!E20","v":25}]
[]
[]
[]
[null,null,"Dmin","Alpha Tool","wx","ymax",null,"Alpha Tool: empfohlener Winkel im Kühlfall, Kesslertech-Tool",null,null,null,null,null,null,null,null,null,"Winkelkorrektur Eindringtiefe",null,null,"Datenherkunft hierfür sind Ergebnisse der vertikalen Eindringtiefe LDI 250 aus Diplomarbeit TU."]
["DN","v",{"$f":"('Auslegung-L'!D29/(PI()*('Auslegung-L'!$D$20/1000)^2/4))/3600","v":3.5644006179422822},null,null,null,null,null,null,null,null,null,null,null,null,null,null,"k1",-1.0193293200149167E-2]
[250,null,{"$f":"$C$6*C24+$D$6","v":3.047834860107999},{"$f":"$E6*$B$14+$F6*C$24+$G6*$B$17+$H6*$B$15+$I6*C25^2+$J6*C25+$K6","v":45.557197174443239},{"$f":"($B$16-$E$6*$B$14-$F$6*$C$24-$H$6*$B$15-$I$6*$C$26^2-$J$6*$C$26-$K$6)/$G$6","v":0.12852629511168231},{"$f":"($R6*C$24^$T6/($B$18^$S6))*($S$24*$B$19+$S$25)","v":4.5316973915313143},null,null,null,null,null,null,null,null,null,null,null,"k2",1.165644566216826]
[315,null,{"$f":"$C$7*C24+$D$7","v":3.5515163992614398},50,{"$f":"($B$16-$E$7*$B$14-$F$7*$C$24-$H$7*$B$15-$I$7*$C$26^2-$J$7*$C$26-$K$7)/$G$7","v":0.16712715254911567},4.8991523098481276]
[400,null,{"$f":"$C$8*C24+$D$8","v":4.1256061425683548},54.393554205658802,{"$f":"($B$16-$E$8*$B$14-$F$8*$C$24-$H$8*$B$15-$I$8*$C$26^2-$J$8*$C$26-$K$8)/$G$8","v":0.23958380212123001},5.3524054550174354]
[500,null,{"$f":"$C$9*C24+$D$9","v":4.7969667841775285},57.230323191098194,{"$f":"($B$16-$E$9*$B$14-$F$9*$C$24-$H$9*$B$15-$I$9*$C$26^2-$J$9*$C$26-$K$9)/$G$9","v":0.53759478130336835},5.8807984663301287]
[630,null,{"$f":"$C$10*C24+$D$10","v":5.6080486356043853},58.136279031101147,{"$f":"($B$16-$E$10*$B$14-$F$10*$C$24-$H$10*$B$15-$I$10*$C$26^2-$J$10*$C$26-$K$10)/$G$10","v":0.35397294807865504},6.5611322605868647]
[800,null,{"$f":"$C$11*C24+$D$11","v":6.5631864910604403},58.799894303024615,{"$f":"($B$16-$E$11*$B$14-$F$11*$C$24-$H$11*$B$15-$I$11*$C$26^2-$J$11*$C$26-$K$11)/$G$11","v":0.31860807978783118},7.330952026628073]
[1,2,3,4,5,6]
["Auswahl:",{"$f":"'Auslegung-L'!D20","v":315},{"$f":"VLOOKUP($B$32,$A$25:$E$30,C31,FALSE)","v":3.5515163992614398},{"$f":"VLOOKUP($B$32,$A$25:$E$30,D31,FALSE)","v":50},0.16712715254911567,{"$f":"VLOOKUP($B$32,$A$25:$F$30,F31,FALSE)","v":4.8991523098481276}]

{"sheet":"Auslegung-L","index":5,"n_rows":109,"n_cols":12,"rows_kept":109,"cut":false,"hidden":true,"merged":[[89,3,89,4],[93,3,93,4],[81,3,81,4],[82,3,82,4],[84,3,84,4],[86,3,86,4],[87,3,87,4],[88,3,88,4],[80,3,80,4],[76,3,76,4],[73,3,73,4],[28,3,28,4],[38,0,38,4],[39,3,39,4],[40,3,40,4],[41,3,41,4],[42,3,42,4],[43,3,43,4],[44,3,44,4],[45,3,45,4],[47,0,47,4],[48,3,48,4],[19,3,19,4],[0,0,0,3],[5,0,5,4],[6,3,6,4],[7,3,7,4],[11,3,11,4],[25,3,25,4],[26,3,26,4],[27,3,27,4],[20,3,20,4],[21,3,21,4],[22,3,22,4],[23,3,23,4],[24,3,24,4]]}
[{"$f":"Übersetzung!F5","v":"Auslegung Kampmann Industrieluftdurchlässe"}]
[]
[{"$f":"Übersetzung!F6","v":"Eingabefelder sind gelb gekennzeichnet"}]
[{"$f":"Übersetzung!F7","v":"Ergebnisfelder sind blau gekennzeichnet"}]
[]
[{"$f":"Übersetzung!F8","v":"Vorgaben"}]
[{"$f":"Übersetzung!F9","v":"Lüftungstechnik"},{"$f":"Übersetzung!F10","v":"Symbol"},{"$f":"Übersetzung!F11","v":"Einheit"},{"$f":"Übersetzung!F12","v":"Wert"}]
["Bezeichung","Symbol","Einheit"]
[null,"L","mm"]
[null,"L","mm"]
[null,"L","mm"]
[{"$f":"Übersetzung!F13","v":"Durchlass Typ"},null,null,"LDI"]
[null,null,null,"LDI"]
[]
[]
[]
[]
[null,null,null,630]
[]
[{"$f":"Übersetzung!F46","v":"Nenndurchmesser"},"DN","[-]",315]
[null,null,null,250]
[null,null,null,315]
[null,null,null,400]
[null,null,null,500]
[null,null,null,630]
[null,null,null,800]
[]
[null,null,null,{"$f":"IF(OR($D$12=\"VLV\",$D$12=\"VLD\"),\"\",IF($D$12=\"WKD 380\",\"\",IF($D$12=\"WKD 381-1\",\"\",IF(OR($D$12=\"WKD 381-2\",$D$12=\"WKD 381-3\"),\"\",IF($D$12=\"IVA\",630,\"\")))))","v":""}]
[{"$f":"Übersetzung!F16","v":"Luftvolumenstrom"},"V·SUP",{"$f":"Einheiten!L7","v":"m³/h"},1000]
[{"$f":"Übersetzung!F69","v":"Klappenwinkel Kühlfall / Heizfall"},"aK / aH","[°]",50,25]
[null,null,null,60,15]
[null,null,null,55,20]
[null,null,null,50,25]
[null,null,null,null,30]
[]
[]
[{"$f":"Übersetzung!F18","v":"Temperatur Zuluft"},"tSUP",{"$f":"Einheiten!$L$9","v":"°C"},16,30]
[{"$f":"Übersetzung!F19","v":"Temperatur Raum"},"tRaum",{"$f":"Einheiten!$L$9","v":"°C"},24,20]
[{"$f":"Übersetzung!F20","v":"Raumdaten"}]
[{"$f":"Übersetzung!F21","v":"Montagehöhe"},"H1",{"$f":"Einheiten!L5","v":"m"},8]
[{"$f":"Übersetzung!F22","v":"Obergrenze Aufenthaltsbereich"},"H2",{"$f":"Einheiten!$L$5","v":"m"},1.8]
[{"$f":"Übersetzung!F23","v":"Raumlänge"},"LR",{"$f":"Einheiten!$L$5","v":"m"},21]
[{"$f":"Übersetzung!F24","v":"Raumbreite"},"BR",{"$f":"Einheiten!$L$5","v":"m"},12.7]
[{"$f":"Übersetzung!F25","v":"Raumhöhe"},"HR",{"$f":"Einheiten!$L$5","v":"m"},14]
["Abstand Durchlass zur nächstgelegenen Wand","a","m",5]
["kleinster Abstand zwischen 2 Durchlässen","smin","m",8]
[]
["Akustikdaten"]
["Raumart nach VDI 2081",null,null,"Großraumbüro",null,null,null,null,7,"Maximaler Volumenstrom",{"$f":"'Grunddaten-L'!$I$33","v":1700},"m³/h"]
[null,null,"Einzelbüro",null,null,null,null,null,5,"min. Abmessung Frontblende rund",null,"mm"]
[null,null,"Großraumbüro"]
[null,null,"Werkstätten"]
[null,null,"Ruheraum, Pausenraum"]
[null,null,"Untersuchungsraum Krankenhaus"]
[null,null,"Rundfunk-, Fernsehstudio"]
[null,null,"Chemielabor"]
[null,null,"Wasch- und WC-Raum, Umkleide"]
[null,null,"Schwimmbad"]
[null,null,"EDV-Raum"]
[null,null,"Konzertsaal"]
[null,null,"Lesesaal"]
[null,null,"Museum"]
[null,null,"Küche"]
[null,null,"Theater, Kino"]
[null,null,"Klassen- Seminarraum"]
[null,null,"Gaststätte"]
[null,null,"kein Typ"]
[null,null,"Konferenzraum"]
[null,null,"Hotelzimmer"]
[null,null,"Hörsaal"]
[null,null,"Bettenzimmer Krankenhaus"]
[null,null,"Verkaufsraum"]
[null,"","Sporthalle"]
["Betrachteter Durchlass",null,null,"Zuluft"]
[null,null,null,"Zuluft"]
[null,null,null,"Abluft"]
["Abstand zur Schallquelle","r","m",3]
[{"$f":"Übersetzung!F26","v":"Berechnung strömungstechnische und Akustische Daten"},null,null,{"$f":"Übersetzung!F101","v":"Kühlfall"},{"$f":"Übersetzung!F102","v":"Heizfall"}]
[{"$f":"Übersetzung!F27","v":"Totaldruckverlust"},"Dpt",{"$f":"Einheiten!L8","v":"Pa"},{"$f":"IF(Einheiten!F2=3,FIXED(Einheiten!E31,3,TRUE),FIXED(Einheiten!E31,0,TRUE))","v":"44"},{"$f":"IF(Einheiten!$F$2=3,FIXED(Einheiten!E32,3,TRUE),FIXED(Einheiten!E32,0,TRUE))","v":"18"}]
[{"$f":"Übersetzung!F49","v":"kleinster Abstand zwischen 2 Durchlässen"},"dmin",{"$f":"Einheiten!L5","v":"m"},{"$f":"Einheiten!E33","v":3.5515163992614398},null,null,null,null,null,{"$f":"Übersetzung!F70","v":"Abmessungen"}]
["Laufweg bis Fußbodenbereich","xx","m",{"$f":"xkr._vx!L24","v":18.5}]
["Laufweg bis Aufenthaltsbereich nach Stoßpunkt","xx+y","m"]
["Laufweg bis Aufenthaltsbereich nach xkrit","xxkr","m"]
[{"$f":"Übersetzung!F63","v":"Mittlere Geschwindigkeit im Aufenthaltsbereich"},"vx1",{"$f":"Einheiten!L6","v":"m/s"},{"$f":"IF(Einheiten!E34<0.1,\"<0,1\",Einheiten!E34)","v":0.16712715254911567},null,null,null,null,1,{"$f":"Übersetzung!F71","v":"Anschlussdurchmesser LDI"},{"$f":"IF(Einheiten!$F$2=3,FIXED('Grunddaten-L'!$J$33,1,TRUE),FIXED('Grunddaten-L'!$J$33,0,TRUE))","v":"318"},{"$f":"Einheiten!$L$10","v":"mm"}]
[{"$f":"IF(D37>D38,\"\",\"Zugluftrisiko am Fußboden**\")","v":"Zugluftrisiko am Fußboden**"},"DR1","%",null,null,null,null,null,2,"Höhe Anschlusskasten",{"$f":"'Grunddaten-L'!N33","v":470},{"$f":"Einheiten!$L$10","v":"mm"}]
[{"$f":"Übersetzung!F54","v":"Vertikale Eindringtiefe"},"vx2",{"$f":"Einheiten!L5","v":"m"},null,{"$f":"Einheiten!E35","v":4.8991523098481276},null,null,null,2,{"$f":"Übersetzung!F73","v":"Außendurchmesser, einfache Düsenkontur"},{"$f":"IF(Einheiten!$F$2=3,FIXED('Grunddaten-L'!$J$33,1,TRUE),FIXED('Grunddaten-L'!$J$33,0,TRUE))","v":"318"},{"$f":"Einheiten!$L$10","v":"mm"}]
[{"$f":"IF(D37>D38,\"\",\"Zugluftrisiko im Aufenthaltsbereich**\")","v":"Zugluftrisiko im Aufenthaltsbereich**"},"DR2","%",null,null,null,null,null,4,"Minimaler Volumenstrom",{"$f":"'Grunddaten-L'!$H$33","v":560},{"$f":"Einheiten!$L$10","v":"mm"}]
[{"$f":"IF(D37>D38,\"\",\"Geschwindigkeit nach Ablösen an Xkr.\")","v":"Geschwindigkeit nach Ablösen an Xkr."},"vx3","m/s",null,null,null,null,null,5,"Maximaler Volumenstrom",{"$f":"'Grunddaten-L'!$I$33","v":1700},{"$f":"Einheiten!$L$10","v":"mm"}]
[{"$f":"IF(D37>D38,\"\",\"Zugluftrisiko nach Ablösepunkt**\")","v":"Zugluftrisiko nach Ablösepunkt**"},"DR3","%",null,null,null,null,null,null,null,null,{"$f":"Einheiten!$L$10","v":"mm"}]
["Resultierende Raumkategorie","RAL","[-]",{"$f":"IF(D74=\"Zuluft\",IF(D37>D38,\"\",IF(AND($D$85<9.95,$D$87<9.95,OR($D$89=\"\",$D$89<9.95)),\"A\",IF(AND($D$85<19.95,$D$87<19.95,OR($D$89=\"\",$D$89<19.95)),\"B\",IF(AND($D$85<29.95,$D$87<29.95,OR($D$89=\"\",$D$89<29.95)),\"C\",\"Außerhalb C\")))),\"\")","v":"A"},null,null,null,null,null,null,null,{"$f":"Einheiten!$L$10","v":"mm"}]
[{"$f":"Übersetzung!F33","v":"Schallleistungspegel, Einzeldurchlass"},"LWA_SUP/ETA","dB(A)",{"$f":"IF('Lw LDI'!I97<25,\"<25\",'Lw LDI'!I97)","v":42.720495855420182},{"$f":"IF('Lw LDI'!I115<25,\"<25\",'Lw LDI'!I115)","v":33.564518218164245},null,null,null,3,{"$f":"Übersetzung!F74","v":"Außendurchmesser, verlängerte Düsenkontur"},{"$f":"IF(Einheiten!$F$2=3,FIXED('Grunddaten-L'!$F$33,1,TRUE),FIXED('Grunddaten-L'!$F$33,0,TRUE))","v":"580"},{"$f":"Einheiten!$L$10","v":"mm"}]
["Schalldruckpegel, Zahlenwert Zuluft + Abluft",null,null,null,{"$f":"E91+10*LOG('Lw LDI'!$F$5/(4*PI()*'Auslegung-L'!E77^2)+4/('Lw LDI'!$H$5))","v":{"$error":"#DIV/0!"}},null,null,null,null,null,null,{"$f":"Einheiten!$L$10","v":"mm"}]
[{"$f":"CONCATENATE(\"Schallldruckpegel in \",D77,\"m Entfernung, Einzeldurchlass\")","v":"Schallldruckpegel in 3m Entfernung, Einzeldurchlass"},"LPA_SUP/ETA","dB(A)",null,null,null,null,null,null,null,null,{"$f":"Einheiten!$L$10","v":"mm"}]
["Schalldruckpegel rechnerisch ",null,null,{"$f":"IF(10*LOG(10^(D92/10)+10^(E92/10))<25,\"<25\",10*LOG(10^(D92/10)+10^(E92/10)))","v":{"$error":"#DIV/0!"}},null,null,null,null,null,null,null,{"$f":"Einheiten!$L$10","v":"mm"}]
[null,null,null,null,null,null,null,null,4,{"$f":"Übersetzung!F75","v":"Höhe LDI"},{"$f":"IF(Einheiten!$F$2=3,FIXED('Grunddaten-L'!$D$33,1,TRUE),FIXED('Grunddaten-L'!$D$33,0,TRUE))","v":"175"},{"$f":"Einheiten!$L$10","v":"mm"}]
[null,null,null,null,null,null,null,null,5,{"$f":"Übersetzung!F76","v":"Anschlussdurchmesser opt. RAK"},{"$f":"IF(Einheiten!$F$2=3,FIXED('Grunddaten-L'!$P$33,1,TRUE),FIXED('Grunddaten-L'!$P$33,0,TRUE))","v":"279"},{"$f":"Einheiten!$L$10","v":"mm"}]
[null,null,null,null,null,null,null,null,6,{"$f":"Übersetzung!F77","v":"Außendurchmesser opt. RAK"},{"$f":"IF(Einheiten!$F$2=3,FIXED('Grunddaten-L'!$O$33,1,TRUE),FIXED('Grunddaten-L'!$O$33,0,TRUE))","v":"385"},{"$f":"Einheiten!$L$10","v":"mm"}]
[{"$f":"Übersetzung!F34","v":"Oktavspektrum Schallleistung [dB]"},"LW_Okt","dB",{"$f":"Übersetzung!F101","v":"Kühlfall"},{"$f":"Übersetzung!F102","v":"Heizfall"},null,null,null,7,{"$f":"Übersetzung!F78","v":"Höhe opt. RAK"},{"$f":"IF(Einheiten!$F$2=3,FIXED('Grunddaten-L'!$N$33,1,TRUE),FIXED('Grunddaten-L'!$N$33,0,TRUE))","v":"470"},{"$f":"Einheiten!$L$10","v":"mm"}]
[null,"LW_125","dB",{"$f":"IF($D$91=\"<25\",\"\",'Lw LDI'!$B$97)","v":46.37466967747033},{"$f":"IF($E$91=\"<25\",\"\",'Lw LDI'!$B$115)","v":20.000775726437006}]
[null,"LW_250","dB",{"$f":"IF($D$91=\"<25\",\"\",'Lw LDI'!$C$97)","v":42.479218601200706},{"$f":"IF($E$91=\"<25\",\"\",'Lw LDI'!$C$115)","v":24.334656873049788},null,null,null,null,{"$f":"Übersetzung!F81","v":"Einsatzbereich"}]
[null,"LW_500","dB",{"$f":"IF($D$91=\"<25\",\"\",'Lw LDI'!$D$97)","v":40.284690342541147},{"$f":"IF($E$91=\"<25\",\"\",'Lw LDI'!$D$115)","v":27.992995451252568},null,null,null,8,{"$f":"Übersetzung!F39","v":"Minimaler Volumenstrom"},{"$f":"'Grunddaten-L'!$H$33","v":560},{"$f":"Einheiten!$L$7","v":"m³/h"}]
[null,"LW_1000","dB",{"$f":"IF($D$91=\"<25\",\"\",'Lw LDI'!$E$97)","v":38.054276644273614},{"$f":"IF($E$91=\"<25\",\"\",'Lw LDI'!$E$115)","v":31.0166687473519},null,null,null,9,{"$f":"Übersetzung!F40","v":"Maximaler Volumenstrom"},{"$f":"'Grunddaten-L'!$I$33","v":1700},{"$f":"Einheiten!$L$7","v":"m³/h"}]
[null,"LW_2000","dB",{"$f":"IF($D$91=\"<25\",\"\",'Lw LDI'!$F$97)","v":33.562260378693786},{"$f":"IF($E$91=\"<25\",\"\",'Lw LDI'!$F$115)","v":25.571069216310871},null,null,null,10,{"$f":"Übersetzung!F79","v":"minimale Einbauhöhe"},{"$f":"'Grunddaten-L'!$L$33","v":3.5},{"$f":"Einheiten!$L$5","v":"m"}]
[null,"LW_4000","dB",{"$f":"IF($D$91=\"<25\",\"\",'Lw LDI'!$G$97)","v":26.684769575782095},{"$f":"IF($E$91=\"<25\",\"\",'Lw LDI'!$G$115)","v":20.89011920166061},null,null,null,11,{"$f":"Übersetzung!F80","v":"maximale Einbauhöhe"},{"$f":"'Grunddaten-L'!$M$33","v":6},{"$f":"Einheiten!$L$5","v":"m"}]
[null,"LW_8000","dB",{"$f":"IF($D$91=\"<25\",\"\",'Lw LDI'!$H$97)","v":21.912910269227773},{"$f":"IF($E$91=\"<25\",\"\",'Lw LDI'!$H$115)","v":16.789542181657872}]
[]
[{"$f":"Übersetzung!F44","v":"Änderungen vorbehalten"}]
[{"$f":"Übersetzung!F45","v":"Stand:"}]
[{"$f":"'Grunddaten-L'!E36","v":"2020-10-30"}]

{"sheet":"Funktion-L","index":6,"n_rows":55,"n_cols":4,"rows_kept":55,"cut":false,"hidden":true,"merged":[]}
[]
[]
[]
[]
[]
[]
[]
[]
[]
[]
[]
[]
[]
[]
[]
[]
[]
[]
[]
[]
[]
[]
[]
[]
[]
[]
[]
[]
[]
[]
[]
[]
[]
[]
[]
[]
[]
[]
[]
[]
[]
[]
[]
[]
[]
[]
[]
[]
[]
[]
[]
[]
[]
[]
[null,"Stand:",{"$f":"'Grunddaten-L'!E36","v":"2020-10-30"},"Änderungen vorbehalten"]

{"sheet":"Grunddaten-L","index":7,"n_rows":36,"n_cols":17,"rows_kept":36,"cut":false,"hidden":true,"merged":[]}
["Typ","DN",null,"Höhe LDI","Durchmesser SR/SV","Durchmesser ER/EV","Soll-Volumenstrom","V° Auslegung min","V° Auslegung max","Durchmesser Anschluss","Anströmgeschwindigkeit","Montagehöhe minimal","Montagehöhe maximal","Höhe Anschlusskasten","Durchmesser Anschlusskasten","Durchmesser Anschlussstutzen AK","min. Abmessungen Frontblende rund"]
[null,"Lochbild",null,"l","n","L","V°","V°min","V°max","d","v","hmin","hmax","h","b","b1","x"]
[null,null,null,"mm",1,"mm","m³/h","m³/h","m³/h","mm","m/s","m","m","mm","mm","mm","mm"]
["LDI",250,{"$f":"CONCATENATE(A4,B4)","v":"LDI250"},140,330,480,{"$f":"Einheiten!$E$18","v":1000},350,1060,253,{"$f":"G4/(PI()/4*('Grunddaten-L'!J4/1000)^2*3600)","v":5.525436287324017},3,5,385,320,223]
["LDI",315,{"$f":"CONCATENATE(A5,B5)","v":"LDI315"},175,415,580,{"$f":"Einheiten!$E$18","v":1000},560,1700,318,{"$f":"G5/(PI()/4*('Grunddaten-L'!J5/1000)^2*3600)","v":3.49746500648039},3.5,6,470,385,279]
["LDI",400,"LDI400",215,535,750,{"$f":"Einheiten!$E$18","v":1000},900,2750,403,{"$f":"G6/(PI()/4*('Grunddaten-L'!J6/1000)^2*3600)","v":2.1776973647724138},4.5,7,590,500,354]
["LDI",500,"LDI500",280,660,925,{"$f":"Einheiten!$E$18","v":1000},1400,4250,503,{"$f":"G7/(PI()/4*('Grunddaten-L'!J7/1000)^2*3600)","v":1.3978856535353406},5,14,720,600,449]
["LDI",630,"LDI630",355,830,1160,{"$f":"Einheiten!$E$18","v":1000},2200,6750,633,{"$f":"G8/(PI()/4*('Grunddaten-L'!J8/1000)^2*3600)","v":0.88267372280078304},8,25,840,730,559]
["LDI",800,"LDI800",425,1100,1420,{"$f":"Einheiten!$E$18","v":1000},3600,10900,804,{"$f":"G9/(PI()/4*('Grunddaten-L'!J9/1000)^2*3600)","v":0.54713628888412869},10,30,970,900,708]
[]
[]
[]
[]
[]
[]
[]
[]
[]
[]
[]
[]
[]
[]
[]
[]
[]
[]
[]
[]
[]
[null,null,null,2,3,4,5,6,7,8,9,10,11,12,13,14,15]
[]
["Auswahl:","Zuluft",{"$f":"CONCATENATE('Auslegung-L'!$D$12,'Auslegung-L'!$D$20)","v":"LDI315"},{"$f":"VLOOKUP($C$33,$C$4:$L$30,D31,FALSE)/Einheiten!$F$15","v":175},{"$f":"VLOOKUP($C$33,$C$4:$L$30,E31,FALSE)/Einheiten!$F$15","v":415},{"$f":"VLOOKUP($C$33,$C$4:$L$30,F31,FALSE)/Einheiten!$F$15","v":580},{"$f":"VLOOKUP($C$33,$C$4:$L$30,G31,FALSE)","v":1000},{"$f":"VLOOKUP($C$33,$C$4:$L$30,H31,FALSE)*Einheiten!$F$11","v":560},{"$f":"VLOOKUP($C$33,$C$4:$L$30,I31,FALSE)*Einheiten!F11","v":1700},{"$f":"VLOOKUP($C$33,$C$4:$P$29,J31,FALSE)/Einheiten!$F$15","v":318},3.49746500648039,{"$f":"VLOOKUP($C$33,$C$4:$P$30,L31,FALSE)/Einheiten!$F$5","v":3.5},{"$f":"VLOOKUP($C$33,$C$4:$P$30,M31,FALSE)/Einheiten!$F$5","v":6},{"$f":"VLOOKUP($C$33,$C$4:$N$30,N31,FALSE)/Einheiten!$F$15","v":470},{"$f":"VLOOKUP($C$33,$C$4:$P$29,O31,FALSE)/Einheiten!$F$15","v":385},{"$f":"VLOOKUP($C$33,$C$4:$P$29,P31,FALSE)/Einheiten!$F$15","v":279},{"$f":"VLOOKUP($C$33,$C$4:$Q$30,Q31,FALSE)","v":0}]
[null,"Abluft",{"$f":"CONCATENATE('Auslegung-L'!$D$12,'Auslegung-L'!$D$30)","v":"LDI50"},{"$f":"VLOOKUP($C$34,$C$4:$L$30,D31,FALSE)","v":{"$error":"#N/A"}},{"$error":"#N/A"},{"$error":"#N/A"},{"$error":"#N/A"},{"$error":"#N/A"},{"$error":"#N/A"},{"$error":"#N/A"},{"$error":"#N/A"},{"$f":"VLOOKUP($C$34,$C$4:$L$30,L31,FALSE)","v":{"$error":"#N/A"}},{"$f":"VLOOKUP($C$33,$C$4:$M$30,M31,FALSE)","v":6},{"$f":"VLOOKUP($C$34,$C$4:$N$30,N31,FALSE)","v":{"$error":"#N/A"}},{"$f":"VLOOKUP($C$34,$C$4:$Q$30,O31,FALSE)","v":{"$error":"#N/A"}},{"$f":"VLOOKUP($C$34,$C$4:$Q$30,P31,FALSE)","v":{"$error":"#N/A"}},{"$f":"VLOOKUP($C$34,$C$4:$Q$30,Q31,FALSE)","v":{"$error":"#N/A"}}]
[]
[null,null,null,"Stand:","2020-10-30"]

{"sheet":"Lw LDI","index":8,"n_rows":153,"n_cols":27,"rows_kept":153,"cut":false,"hidden":true,"merged":[[100,11,116,11],[25,0,25,1],[26,0,26,1],[31,3,31,9],[31,10,31,12],[32,3,32,9],[82,11,98,11],[24,0,24,1],[13,0,13,1],[14,0,14,1],[15,0,15,1],[16,0,16,1],[17,0,17,1],[18,0,18,1],[19,0,19,1],[20,0,20,1],[21,0,21,1],[22,0,22,1],[23,0,23,1],[12,0,12,1],[1,0,1,2],[2,0,2,1],[3,0,3,1],[4,0,4,1],[5,0,5,1],[6,0,6,1],[7,0,7,1],[8,0,8,1],[9,0,9,1],[10,0,10,1],[11,0,11,1]]}
[]
["T[s] nach VDI 2081",null,null,null,"Nachhallzeit","Richtungsfaktor","Raumvolumen","äqu. Absorptionsfläche"]
["Raumart",null,"s",null,"t","Q","V","A"]
["Einzelbüro",null,0.5,null,"s",null,"m³","m²Sabine"]
["Großraumbüro",null,0.5,{"$f":"'Auslegung-L'!D49","v":"Großraumbüro"},{"$f":"VLOOKUP(D5,'Lw LDI'!$A$4:$C$27,3,FALSE)","v":0.5},4,{"$f":"'Auslegung-L'!D40*'Auslegung-L'!D42*'Auslegung-L'!D43","v":2133.6},{"$f":"0.163*G5/E5","v":695.55359999999996}]
["Werkstätten",null,1.5]
["Ruheraum, Pausenraum",null,1]
["Untersuchungsraum Krankenhaus",null,2]
["Rundfunk-, Fernsehstudio",null,0.5]
["Chemielabor",null,2]
["Wasch- und WC-Raum, Umkleide",null,2]
["Schwimmbad",null,2]
["EDV-Raum",null,1.5]
["Konzertsaal",null,1.5]
["Lesesaal",null,1]
["Museum",null,1.5]
["Küche",null,1.5]
["Theater, Kino",null,1]
["Klassen- Seminarraum",null,1]
["Gaststätte",null,1]
["kein Typ",null,"x"]
["Konferenzraum",null,1]
["Hotelzimmer",null,0.5]
["Hörsaal",null,1]
["Bettenzimmer Krankenhaus",null,1]
["Verkaufsraum",null,1]
["Sporthalle",null,2]
[]
[]
[]
[]
[null,null,null,"Koeffizientensätze Akustik",null,null,null,null,null,null,"Koeffizienten Totaldruck"]
[null,null,null,"Mittenfrequenz"]
["DN",null,null,125,250,500,1000,2000,4000,8000,"K1","K2","DK"]
[250,"K1",{"$f":"CONCATENATE(A35,B35)","v":"250K1"},384.29916418555894,722.73703195325788,10.998445395333196,-143.41231909754254,-93.891211955860115,8.9364347925329143E-3,320.18927007903199,5.6157229957272022E-2,7.9974027459228866E-2,1.1000000000000001]
[250,"K2",{"$f":"CONCATENATE(A36,B36)","v":"250K2"},6297.5340614288816,11934.38632219411,72.755173829116501,-2193.2157382431046,-1207.0237066492555,200.18319235527204,5577.2580220535174,5.6157229957272022E-2,7.9974027459228866E-2,1.1000000000000001]
[250,"K3","250K3",-3123.5554234152564,-5941.2699936928466,-9.8590319992471152,1132.2152764056796,641.98914614672594,-68.619359729926984,-2762.5483225365706,5.6157229957272022E-2,7.9974027459228866E-2,1.1000000000000001]
[250,"K4","250K4",0.96197551889521493,1.8229601835634575,1.81848227771923E-2,-0.3330787626797681,-0.18131654947846598,3.765168006965787E-2,0.85078872654837701,5.6157229957272022E-2,7.9974027459228866E-2,1.1000000000000001]
[250,"K5","250K5",-16.90893587681321,-32.064156851443371,-0.77096969879949628,5.6212122334263901,2.9332632718947242,-1.0871056847779521,-14.905195295834284,5.6157229957272022E-2,7.9974027459228866E-2,1.1000000000000001]
[315,"K1","315K1",2.5353764542242199,1.1309178698316344,-0.95062237588234511,-14.18573313852518,-23.30666565401426,-10.277128650903551,11.281196084147322,9.5277959692660952E-2,6.6192139776165324E-2,0.89]
[315,"K2","315K2",-243.81510228332976,280.13792391596405,888.72784375746426,727.44941030160214,-286.23804777341638,516.60488084141821,1153.7447625537798,9.5277959692660952E-2,6.6192139776165324E-2,0.89]
[315,"K3","315K3",146.31027274865437,-109.87298792994559,-411.35031157393092,-324.5560283836125,179.63892502374037,-227.06494881656931,-560.68795155797,9.5277959692660952E-2,6.6192139776165324E-2,0.89]
[315,"K4","315K4",-2.5444028107908849E-2,3.2775906762245101E-2,9.542776744877661E-2,7.6527432227871145E-2,-2.9180798378210637E-2,6.1683493719578431E-2,0.12692929859472513,9.5277959692660952E-2,6.6192139776165324E-2,0.89]
[315,"K5","315K5",1.8796782182692009E-2,-0.28347062714065785,-0.20141854038669646,-0.11625480914759916,-0.16382282721625605,-0.56489745718868856,-0.39266812937308049,9.5277959692660952E-2,6.6192139776165324E-2,0.89]
[400,"K1","400K1",-4.9621321691282629,-35.655220713474691,-18.539490297628934,-11.854268431792335,7.2216324707852921,-67.506157817978917,-26.110411324237585,0.18072993071645829,5.6318199622161884E-2,0.51]
[400,"K2","400K2",256.97538293476839,458.970502562798,138.20087548303721,0.15459949097259254,-212.89418110300576,645.37472261490586,243.22983726661721,0.18072993071645829,5.6318199622161884E-2,0.51]
[400,"K3","400K3",-101.85566498844364,-198.74172276248885,-35.665019481697193,36.131132844546158,141.9615580003736,-293.70567938545349,-102.89334847861636,0.18072993071645829,5.6318199622161884E-2,0.51]
[400,"K4","400K4",2.7079710239768878E-2,3.735881035009312E-2,7.640266254780816E-3,1.1894825521676139E-3,-8.1398328896391467E-3,4.8371518190615602E-2,1.7209666726975336E-2,0.18072993071645829,5.6318199622161884E-2,0.51]
[400,"K5","400K5",0.16746647295460157,1.1490698759646019,0.47486342448160773,-0.23126390320227244,-1.4271317482530999,2.0223280035129214,0.85723728503829277,0.18072993071645829,5.6318199622161884E-2,0.51]
[500,"K1","500K1",1.9392220290195532,42.366414143995819,29.767786659286841,-7.9828948915148974,-20.478359415680014,-8.2885767924055678,84.405394617860708,0.17840999389829665,5.5965904801734627E-2,0.53]
[500,"K2","500K2",48.191141694849073,-2.0879091533480789,24.181278570886267,66.210459163174789,74.227743670089012,50.601190086356411,-103.17272944934933,0.17840999389829665,5.5965904801734627E-2,0.53]
[500,"K3","500K3",8.4487985492723201,32.239673040092335,19.370217845975521,0.64409572559919792,4.0306230579815114,18.078875963587208,83.520170137388135,0.17840999389829665,5.5965904801734627E-2,0.53]
[500,"K4","500K4",1.7559260860132788E-3,1.625566301433911E-2,8.8537850317130674E-3,8.2988894228268274E-4,3.003320884623959E-3,1.0690724494282754E-2,2.8994768664025297E-2,0.17840999389829665,5.5965904801734627E-2,0.53]
[500,"K5","500K5",2.5530676234952587E-2,-1.7064683502067932,-1.0029024084431772,0.19344549127302901,-4.5798525968681579E-2,-0.96257274624746936,-3.9376241638885339,0.17840999389829665,5.5965904801734627E-2,0.53]
[630,"K1","630K1",64.047267571743077,66.025294244613434,59.202536600181134,75.101737763542687,86.699959803272677,15.717914682690111,-52.409644736815103,0.1921639524588438,5.4591509846115653E-2,0.48]
[630,"K2","630K2",56.784365370957858,53.010875875621146,56.319218219875005,61.818119449535729,80.030029294750008,77.214153820475744,59.251344366789652,0.1921639524588438,5.4591509846115653E-2,0.48]
[630,"K3","630K3",2.5818170284547071,4.924531075173503,4.9754590745618055,6.9803186300445441,5.190263109321366,3.0016093746770016,-1.7797227594512866,0.1921639524588438,5.4591509846115653E-2,0.48]
[630,"K4","630K4",2.1121186060522667E-2,2.2810073945198281E-2,2.034252357659929E-2,3.0217659413773908E-2,4.0852844280106368E-2,2.0577190922379172E-2,-5.8334024873460929E-3,0.1921639524588438,5.4591509846115653E-2,0.48]
[630,"K5","630K5",-1.9444402539435495,-2.2029129261468379,-1.9921660001874708,-2.9876559733134651,-4.0377365394737295,-1.6723149977227105,1.239408058956428,0.1921639524588438,5.4591509846115653E-2,0.48]
[800,"K1","800K1",8.173448354944389,-27.875383655640338,-7.6705362962718961,21.526417170343411,16.385560749874841,-62.614087288964981,-47.696895773630551,0.1923101170789909,5.4360235693524037E-2,0.495]
[800,"K2","800K2",182.8602911141611,428.37289852435759,67.348335168803331,-334.39498489911841,-315.37133176349778,560.09503913343224,375.8825514270697,0.1923101170789909,5.4360235693524037E-2,0.495]
[800,"K3","800K3",-65.01280648460353,-183.12761038080097,-0.13718734986409978,205.52482861416786,196.96324988266926,-245.72146758422861,-162.43995719323217,0.1923101170789909,5.4360235693524037E-2,0.495]
[800,"K4","800K4",2.1756174317545531E-2,3.3501164324384623E-2,2.238658303402473E-3,-1.8739227497165379E-2,-1.4037849535808151E-2,4.0041108328327933E-2,2.1426858836074553E-2,0.1923101170789909,5.4360235693524037E-2,0.495]
[800,"K5","800K5",-0.12235252423319051,1.0755196307644543,0.26409246727551522,-1.6165655985351115,-1.8231304203652026,1.7319624909918234,1.626268030292068,0.1923101170789909,5.4360235693524037E-2,0.495]
[1,2,3,4,5,6,7,8,9,10,11,12,13]
[]
["Auswahl",{"$f":"CONCATENATE($B$83,\"K1\")","v":"315K1"},null,{"$f":"VLOOKUP($B67,$C$35:$M$64,B$65,FALSE)","v":2.5353764542242199},{"$f":"VLOOKUP($B67,$C$35:$M$64,C$65,FALSE)","v":1.1309178698316344},-0.95062237588234511,-14.18573313852518,-23.30666565401426,-10.277128650903551,11.281196084147322,{"$f":"VLOOKUP($B67,$C$35:$M$64,I$65,FALSE)","v":9.5277959692660952E-2},{"$f":"VLOOKUP($B67,$C$35:$M$64,J$65,FALSE)","v":6.6192139776165324E-2},0.89]
[null,{"$f":"CONCATENATE($B$83,\"K2\")","v":"315K2"},null,{"$f":"VLOOKUP($B68,$C$35:$M$64,B$65,FALSE)","v":-243.81510228332976},280.13792391596405,888.72784375746426,727.44941030160214,-286.23804777341638,516.60488084141821,1153.7447625537798]
[null,{"$f":"CONCATENATE($B$83,\"K3\")","v":"315K3"},null,146.31027274865437,-109.87298792994559,-411.35031157393092,-324.5560283836125,179.63892502374037,-227.06494881656931,-560.68795155797]
[null,{"$f":"CONCATENATE($B$83,\"K4\")","v":"315K4"},null,-2.5444028107908849E-2,3.2775906762245101E-2,9.542776744877661E-2,7.6527432227871145E-2,-2.9180798378210637E-2,6.1683493719578431E-2,0.12692929859472513]
[null,{"$f":"CONCATENATE($B$83,\"K5\")","v":"315K5"},null,1.8796782182692009E-2,-0.28347062714065785,-0.20141854038669646,-0.11625480914759916,-0.16382282721625605,-0.56489745718868856,-0.39266812937308049]
[]
[]
[]
[]
[]
[]
[]
[null,null,null,null,null,null,null,null,null,null,null,null,null,null,{"$f":"PI()*0.63^2/4","v":0.31172453105244724}]
[null,null,null,null,null,null,null,null,null,null,null,null,null,null,{"$f":"2200/O79","v":7057.5132235257188}]
[null,null,null,null,null,null,null,null,null,null,null,null,null,null,{"$f":"O80/3600","v":1.9604203398682551}]
["Auswahl",null,null,null,null,null,null,null,null,null,null,null,null,null,{"$f":"0.6*O81^2","v":2.3059487453814991}]
["DN",{"$f":"'Auslegung-L'!D20","v":315},null,null,null,null,null,null,null,null,null,"Kühlfall"]
["V°",{"$f":"Einheiten!E18","v":1000}]
["a",{"$f":"Einheiten!E19","v":50}]
["DT",-15]
["v=",{"$f":"$B$84/(PI()*($B$83/1000)^2/4)/3600","v":3.5644006179422822}]
["DpTot=",{"$f":"($K$67*EXP($L$67*$B$85)+$M$67)*$B$87^2","v":44.44412733714109},null,null,null,null,null,null,null,null,"Summe"]
["LWOCT=",null,null,{"$f":"IF(B93=1,(D$67+D$68*LOG($B$87)+D$69*LOG($B$88)+D$70*$B$85^2+D$71*$B$85)+6,(D$67+D$68*LOG($B$87)+D$69*LOG($B$88)+D$70*$B$85^2+D$71*$B$85))","v":46.37466967747033},{"$f":"IF(B93=1,(E$67+E$68*LOG($B$87)+E$69*LOG($B$88)+E$70*$B$85^2+E$71*$B$85)+6,(E$67+E$68*LOG($B$87)+E$69*LOG($B$88)+E$70*$B$85^2+E$71*$B$85))","v":42.479218601200706},{"$f":"IF(B93=1,(F$67+F$68*LOG($B$87)+F$69*LOG($B$88)+F$70*$B$85^2+F$71*$B$85)+5,(F$67+F$68*LOG($B$87)+F$69*LOG($B$88)+F$70*$B$85^2+F$71*$B$85))","v":40.284690342541147},{"$f":"IF(B93=1,(G$67+G$68*LOG($B$87)+G$69*LOG($B$88)+G$70*$B$85^2+G$71*$B$85)+5,(G$67+G$68*LOG($B$87)+G$69*LOG($B$88)+G$70*$B$85^2+G$71*$B$85))","v":38.054276644273614},{"$f":"IF(B93=1,(H$67+H$68*LOG($B$87)+H$69*LOG($B$88)+H$70*$B$85^2+H$71*$B$85)+4,(H$67+H$68*LOG($B$87)+H$69*LOG($B$88)+H$70*$B$85^2+H$71*$B$85))","v":33.562260378693786},{"$f":"IF(B93=1,(I$67+I$68*LOG($B$87)+I$69*LOG($B$88)+I$70*$B$85^2+I$71*$B$85)+4,(I$67+I$68*LOG($B$87)+I$69*LOG($B$88)+I$70*$B$85^2+I$71*$B$85))","v":26.684769575782095},{"$f":"IF(B93=1,(J$67+J$68*LOG($B$87)+J$69*LOG($B$88)+J$70*$B$85^2+J$71*$B$85)+4,(J$67+J$68*LOG($B$87)+J$69*LOG($B$88)+J$70*$B$85^2+J$71*$B$85))","v":21.912910269227773},{"$f":"10*LOG(10^(D89/10)+10^(E89/10)+10^(F89/10)+10^(G89/10)+10^(H89/10)+10^(I89/10)+10^(J89/10))","v":49.087772768615636}]
["A-Bew=",null,null,-16.100000000000001,-8.6,-3.2,0,1.2,1,-1.1000000000000001]
["LWAOCT=",null,null,{"$f":"D89+D90","v":30.274669677470328},{"$f":"E89+E90","v":33.879218601200705},37.084690342541144,38.054276644273614,34.762260378693789,27.684769575782095,20.812910269227771,{"$f":"10*LOG(10^(D91/10)+10^(E91/10)+10^(F91/10)+10^(G91/10)+10^(H91/10)+10^(I91/10)+10^(J91/10))","v":42.720495855420182},null,null,null,null,null,"Oktavbänder LDI 630 unbewertet"]
["SLWA=",{"$f":"K91","v":42.720495855420182},"dB(A)",null,null,null,null,null,null,null,null,null,null,null,null,null,"Klappenwinkel 50°, Messung TH Köln"]
["AK?",0,null,"Offset AK: 5 dB, Datenherkunft: Auslegungsprogramme Mitbewerber",null,null,null,null,null,null,null,null,null,null,null,null,"Volumenstrom 3000 m³/h"]
["AK: 1 wenn vorhanden",null,null,null,null,null,null,null,null,null,null,null,null,null,null,null,null,null,63,125,250,500,1000,2000,4000,8000]
[{"$f":"CONCATENATE(\"Oktavspektren emcoair LDI, DN \",B83,\", Volumenstrom \",B84,\" m³/h\",\" Klappenwinkel \",B85,\"°\",IF(B93<>0,\" mit Anschlusskasten\",\" ohne Anschlusskasten\"))","v":"Oktavspektren emcoair LDI, DN 315, Volumenstrom 1000 m³/h Klappenwinkel 50° ohne Anschlusskasten"},null,null,null,null,null,null,null,"SLW,A",null,null,null,null,null,null,null,"ohne AK",null,48.948168412350611,46.705157566395656,40.708450801968922,39.342585888699887,34.294570671137791,25.835564275432034,20.632562725425032,20.483352345283464,{"$f":"10*LOG(10^(0.1*S95)+10^(0.1*T95)+10^(0.1*U95)+10^(0.1*V95)+10^(0.1*W95)+10^(0.1*X95)+10^(0.1*Y95))","v":51.728183511842339}]
["Oktavband, Mittenfrequenz f [Hz]",125,250,500,1000,2000,4000,8000,"dB(A)",null,null,null,null,null,null,null,"mit AK",null,49.435941499505532,50.133611886263822,43.916397538636744,43.50409997220649,38.273998316063739,28.515934858449612,22.111773375417272,21.658236142823284,{"$f":"10*LOG(10^(0.1*S96)+10^(0.1*T96)+10^(0.1*U96)+10^(0.1*V96)+10^(0.1*W96)+10^(0.1*X96)+10^(0.1*Y96))","v":53.902043677894092}]
[{"$f":"CONCATENATE(\"Schallleistungspegel, \",IF(B86<0,\" Kühlfall\",\" Heizfall\"),\" [dB]\")","v":"Schallleistungspegel,  Kühlfall [dB]"},{"$f":"D89","v":46.37466967747033},42.479218601200706,40.284690342541147,{"$f":"G89","v":38.054276644273614},33.562260378693786,26.684769575782095,21.912910269227773,{"$f":"10*LOG(10^(H99/10)+10^(B99/10)+10^(C99/10)+10^(D99/10)+10^(E99/10)+10^(F99/10)+10^(G99/10))","v":42.720495855420182},null,null,null,null,null,null,null,"Differenz (Erhöhung)",null,{"$f":"S96-S95","v":0.4877730871549204},{"$f":"T96-T95","v":3.4284543198681661},3.2079467366678216,4.1615140835066029,3.9794276449259485,2.6803705830175772,1.4792106499922397,1.1748837975398203]
["A-Bewertung",-16.100000000000001,-8.6,-3.2,0,1.2,1,-1.1000000000000001]
["Schallleistungspegel, bewertet",{"$f":"B97+B98","v":30.274669677470328},{"$f":"C97+C98","v":33.879218601200705},37.084690342541144,38.054276644273614,34.762260378693789,27.684769575782095,20.812910269227771]
[null,null,null,null,null,null,null,null,null,null,null,null,null,null,null,null,"Volumenstrom 5000 m³/h"]
["DN",{"$f":"B83","v":315},null,null,null,null,null,null,null,null,null,"Heizfall",null,null,null,null,null,null,63,125,250,500,1000,2000,4000,8000]
["V°",{"$f":"B84","v":1000},null,null,null,null,null,null,null,null,null,null,null,null,null,null,"ohne AK",null,62.290043778612073,60.032991786070227,54.208362234175326,54.090960156688396,51.523025422095571,46.562698379242306,37.469925893146637,30.236669492602715,{"$f":"10*LOG(10^(0.1*S102)+10^(0.1*T102)+10^(0.1*U102)+10^(0.1*V102)+10^(0.1*W102)+10^(0.1*X102)+10^(0.1*Y102))","v":65.333813541163892}]
["a",{"$f":"Einheiten!E20","v":25},null,null,null,null,null,null,null,null,null,null,null,null,null,null,"mit AK",null,63.266704246135603,63.299402290101881,57.350884029116628,58.254353216216316,55.552620700456998,49.434762875731906,39.289225990203931,31.567301412879971,{"$f":"10*LOG(10^(0.1*S103)+10^(0.1*T103)+10^(0.1*U103)+10^(0.1*V103)+10^(0.1*W103)+10^(0.1*X103)+10^(0.1*Y103))","v":67.728423980357661}]
["DT",-15,null,null,null,null,null,null,null,null,null,null,null,null,null,null,"Differenz (Erhöhung)",null,{"$f":"S103-S102","v":0.97666046752352997},{"$f":"T103-T102","v":3.2664105040316542},3.1425217949413025,4.1633930595279196,4.0295952783614268,2.8720644964895996,1.8193000970572939,1.3306319202772556]
["v=",{"$f":"$B$84/(PI()*($B$83/1000)^2/4)/3600","v":3.5644006179422822},null,null,null,null,null,null,null,null,null,null,null,null,null,"zu berücksichtigendes Offset",null,null,1,3,3,4,4,3,2,1]
["DpTot=",{"$f":"($K$67*EXP($L$67*$B$103)+$M$67)*$B$105^2","v":17.640815493930841},null,null,null,null,null,null,null,null,"Summe"]
["LWOCT=",null,null,{"$f":"IF($B$93=1,D153+6,D153)","v":20.000775726437006},{"$f":"IF($B$93=1,E153+6,E153)","v":24.334656873049788},{"$f":"IF($B$93=1,F153+5,F153)","v":27.992995451252568},{"$f":"IF($B$93=1,G153+5,G153)","v":31.0166687473519},{"$f":"IF($B$93=1,H153+4,H153)","v":25.571069216310871},{"$f":"IF($B$93=1,I153+4,I153)","v":20.89011920166061},{"$f":"IF($B$93=1,J153+4,J153)","v":16.789542181657872},{"$f":"10*LOG(10^(D107/10)+10^(E107/10)+10^(F107/10)+10^(G107/10)+10^(H107/10)+10^(I107/10)+10^(J107/10))","v":34.465678477529586}]
["A-Bew=",null,null,-16.100000000000001,-8.6,-3.2,0,1.2,1,-1.1000000000000001]
["LWAOCT=",null,null,{"$f":"D107+D108","v":3.9007757264370042},{"$f":"E107+E108","v":15.734656873049788},24.792995451252569,31.0166687473519,26.77106921631087,21.89011920166061,15.689542181657872,{"$f":"10*LOG(10^(D109/10)+10^(E109/10)+10^(F109/10)+10^(G109/10)+10^(H109/10)+10^(I109/10)+10^(J109/10))","v":33.564518218164245}]
["SLWA=",{"$f":"K109","v":33.564518218164245},"dB(A)"]
["Offset AK=",0,"dB","Offset AK: 5 dB, Datenherkunft: Auslegungsprogramme Mitbewerber"]
[]
[{"$f":"CONCATENATE(\"Oktavspektren emcoair LDI, DN \",B101,\", Volumenstrom \",B102,\" m³/h\",\" Klappenwinkel \",B103,\"°\",IF(B111<>0,\" mit Anschlusskasten\",\" ohne Anschlusskasten\"))","v":"Oktavspektren emcoair LDI, DN 315, Volumenstrom 1000 m³/h Klappenwinkel 25° ohne Anschlusskasten"},null,null,null,null,null,null,null,"SLW,A"]
["Oktavband, Mittenfrequenz f [Hz]",125,250,500,1000,2000,4000,8000,"dB(A)"]
[{"$f":"CONCATENATE(\"Schallleistungspegel, \",IF(B104<0,\" Kühlfall\",\" Heizfall\"),\" [dB]\")","v":"Schallleistungspegel,  Kühlfall [dB]"},{"$f":"D107","v":20.000775726437006},24.334656873049788,27.992995451252568,{"$f":"G107","v":31.0166687473519},{"$f":"H107","v":25.571069216310871},20.89011920166061,16.789542181657872,{"$f":"10*LOG(10^(H117/10)+10^(B117/10)+10^(C117/10)+10^(D117/10)+10^(E117/10)+10^(F117/10)+10^(G117/10))","v":33.564518218164245}]
["A-Bewertung",-16.100000000000001,-8.6,-3.2,0,1.2,1,-1.1000000000000001]
["Schallleistungspegel, bewertet",{"$f":"B115+B116","v":3.9007757264370042},{"$f":"C115+C116","v":15.734656873049788},24.792995451252569,31.0166687473519,26.77106921631087,21.89011920166061,15.689542181657872]
[]
[]
["Akustikberechnung für Vorauswahltabelle"]
["a",60]
["V°",{"$f":"B84","v":1000}]
["DN",{"$f":"B83","v":315}]
[]
["DN","v","Dptot"]
[250,{"$f":"$B$122/(PI()*(A126/1000)^2/4)/3600","v":5.6588424210451675},{"$f":"($K$35*EXP($L$35*$B$121)+$M$35)*$B$126^2","v":253.39604141112662},{"$f":"((D$35+D$36*LOG($B$126)+D$37*LOG($C$126)+D$38*$B$121^2+D$39*$B$85)+$B$93)+D$108","v":217.7899583583617},{"$f":"((E$35+E$36*LOG($B$126)+E$37*LOG($C$126)+E$38*$B$121^2+E$39*$B$85)+$B$93)+E$108","v":375.30405322160016},65.781010471011768,9.2896112584917319,35.885712831839911,67.935909514798709,194.21179229282987,{"$f":"10*LOG(10^(D126/10)+10^(E126/10)+10^(F126/10)+10^(G126/10)+10^(H126/10)+10^(I126/10)+10^(J126/10))","v":375.30405322160016}]
[315,{"$f":"$B$122/(PI()*(A127/1000)^2/4)/3600","v":3.5644006179422822},{"$f":"($K$40*EXP($L$40*$B$121)+$M$40)*$B$127^2","v":75.543383794732847},{"$f":"((D$40+D$41*LOG($B$127)+D$42*LOG($C$127)+D$43*$B$121^2+D$44*$B$85)+$B$93)+D$108","v":35.99349946833641},{"$f":"((E$40+E$41*LOG($B$127)+E$42*LOG($C$127)+E$43*$B$121^2+E$44*$B$85)+$B$93)+E$108","v":44.619951737358434},47.287506100591521,47.462568630663839,44.048966138460194,43.224924062153661,31.262698505616143,{"$f":"10*LOG(10^(D127/10)+10^(E127/10)+10^(F127/10)+10^(G127/10)+10^(H127/10)+10^(I127/10)+10^(J127/10))","v":52.787604417841514}]
[400,2.2104853207207684,{"$f":"($K$45*EXP($L$45*$B$121)+$M$45)*$B$128^2","v":28.405501676488935},{"$f":"((D$45+D$46*LOG($B$128)+D$47*LOG($C$128)+D$48*$B$121^2+D$49*$B$85)+$B$93)+D$108","v":25.285715863833381},{"$f":"((E$45+E$46*LOG($B$128)+E$47*LOG($C$128)+E$48*$B$121^2+E$49*$B$85)+$B$93)+E$108","v":16.947943869254004},25.281505034475988,33.431008707325674,40.749511828544897,4.1987617932029195,11.850478403625269,41.711330672672744]
[500,1.4147106052612919,{"$f":"($K$50*EXP(L50*$B$121)+$M$50)*$B$129^2","v":11.319518100079755},{"$f":"((D$50+D$51*LOG($B$129)+D$52*LOG($C$129)+D$53*$B$121^2+D$54*$B$85)+$B$93)+D$108","v":9.6015138098353674},{"$f":"((E$50+E$51*LOG($B$129)+E$52*LOG($C$129)+E$53*$B$121^2+E$54*$B$85)+$B$93)+E$108","v":40.623871374753584},32.352504516993967,15.331517520686559,4.67496933227903,9.7453789900055909,63.276453832235909,63.303572286879913]
[630,0.89110015448557056,{"$f":"($K$55*EXP(L55*$B$121)+$M$55)*$B$130^2","v":4.4180899951608081},{"$f":"((D$55+D$56*LOG($B$130)+D$57*LOG($C$130)+D$58*$B$121^2+D$59*$B$85)+$B$93)+D$108","v":25.584011419021472},{"$f":"((E$55+E$56*LOG($B$130)+E$57*LOG($C$130)+E$58*$B$121^2+E$59*$B$85)+$B$93)+E$108","v":29.918952683887689},30.017560297995349,35.911007361698751,32.424927207024311,5.2504127481002314,-16.654750440408712,39.030251990242853]
[800,0.55262133018019211,{"$f":"($K$60*EXP($L$60*$B$121)+$M$60)*$B$131^2","v":1.6835198780190104},{"$f":"((D$60+D$61*LOG($B$131)+D$62*LOG($C$131)+D$63*$B$121^2+D$64*$B$85)+$B$93)+D$108","v":2.4712104411114026},{"$f":"((E$60+E$61*LOG($B$131)+E$62*LOG($C$131)+E$63*$B$121^2+E$64*$B$85)+$B$93)+E$108","v":-13.85903461914681},-6.9848466922797838,5.8612891712419639,1.6803998137364402,-30.719651689205449,-23.910639470639417,{"$f":"10*LOG(10^(D131/10)+10^(E131/10)+10^(F131/10)+10^(G131/10)+10^(H131/10)+10^(I131/10)+10^(J131/10))","v":8.6576498794388748}]
[]
[]
[]
["a"]
[15,{"$f":"$B$122/(PI()*($B$123/1000)^2/4)/3600","v":3.5644006179422822},{"$f":"($K$35*EXP($L$35*A136)+$M$35)*$B$136^2","v":16.343344339686741},{"$f":"((D$35+D$36*LOG($B136)+D$37*LOG($C136)+D$38*$A136^2+D$39*$A136)+$B$93)+D$108","v":17.225822290793467},{"$f":"((E$35+E$36*LOG($B136)+E$37*LOG($C136)+E$38*$A136^2+E$39*$A136)+$B$93)+E$108","v":22.174913420708457},28.522992480763381,29.100778707678231,23.202418100264719,20.413723125806481,13.597043080390955,{"$f":"10*LOG(10^(D136/10)+10^(E136/10)+10^(F136/10)+10^(G136/10)+10^(H136/10)+10^(I136/10)+10^(J136/10))","v":33.189832394690676},{"$f":"MIN($K$136:$K$139)","v":33.189832394690676}]
[20,{"$f":"$B$122/(PI()*($B$123/1000)^2/4)/3600","v":3.5644006179422822},{"$f":"($K$35*EXP($L$35*A137)+$M$35)*$B$136^2","v":17.507476052859744},{"$f":"((D$35+D$36*LOG($B137)+D$37*LOG($C137)+D$38*$A137^2+D$39*$A137)+$B$93)+D$108","v":7.6868702388223014},3.3315072687853675,27.555874364742611,32.751603926158779,25.322649567881502,19.51671315009412,5.4069396688489295,{"$f":"10*LOG(10^(D137/10)+10^(E137/10)+10^(F137/10)+10^(G137/10)+10^(H137/10)+10^(I137/10)+10^(J137/10))","v":34.617310013705463},{"$f":"SMALL(K136:K139,2)","v":34.432813655109314}]
[25,3.5644006179422822,19.243930978504203,11.301481779566494,9.1673228312222594,27.387698090755595,32.415307474232549,25.559396756649843,19.734598511530098,8.8498775708437396,34.432813655109314,{"$f":"SMALL(K136:K139,3)","v":34.465678477529586}]
[30,3.5644006179422822,21.834080937202909,20.000775726437006,24.334656873049788,27.992995451252568,31.0166687473519,25.571069216310871,20.89011920166061,16.789542181657872,34.465678477529586,{"$f":"MAX($K$136:$K$139)","v":34.617310013705463}]
[35,3.5644006179422822,25.697628852825879,27.081178953945162,36.082739050181225,29.350607627837679,30.985575123946262,26.735462632737022,22.836008777788457,23.297130524404132,38.786085305895973]
[40,3.5644006179422822,31.460616608103962,28.797454215980359,37.287807285987036,31.448713343520797,33.679586899575582,29.8223413724327,25.489990556126287,25.060263764955288,40.59833941478621]
[45,3.5644006179422822,40.056867668738157,25.400934771405012,28.427918969204846,34.288105893859608,39.007601687191055,34.780048524480051,28.857585913747329,22.301227145141432,{"$f":"10*LOG(10^(D142/10)+10^(E142/10)+10^(F142/10)+10^(G142/10)+10^(H142/10)+10^(I142/10)+10^(J142/10))","v":41.939356693013998}]
[50,3.5644006179422822,52.879302043993711,21.06657874174882,17.444202093411285,37.881962905032026,45.456295494486881,40.7504985304965,33.030511793162411,18.712455084034694,47.436655613775436]
[55,3.5644006179422822,72.005642369331511,22.750190288376437,17.567192040218877,42.252239324689455,50.504353132961739,46.30405427220218,38.161575736821881,20.445829816163176,52.521583106266604]
[60,3.5644006179422822,100.53508409114585,{"$f":"((D$35+D$36*LOG($B145)+D$37*LOG($C145)+D$38*$A145^2+D$39*$A145)+$B$93)+D$108","v":38.578588518591935},44.254794933026822,47.424586232697585,51.205994075432159,49.770398129978858,44.429310553717613,34.688907651280282,55.398814504127863]
[]
[null,15,null,{"$f":"IF($L$136=$K$136,D136,IF($L$136=$K$137,D137,IF($L$136=$K$138,D138,IF($L$136=$K$139,D139))))","v":17.225822290793467},{"$f":"IF($L$136=$K$136,E136,IF($L$136=$K$137,E137,IF($L$136=$K$138,E138,IF($L$136=$K$139,E139))))","v":22.174913420708457},28.522992480763381,29.100778707678231,23.202418100264719,20.413723125806481,13.597043080390955,33.189832394690676]
[null,20,null,{"$f":"IF($L$137=$K$136,D136,IF($L$137=$K$137,D137,IF($L$137=$K$138,D138,IF($L$137=$K$139,D139))))","v":11.301481779566494},{"$f":"IF($L$137=$K$136,E136,IF($L$137=$K$137,E137,IF($L$137=$K$138,E138,IF($L$137=$K$139,E139))))","v":9.1673228312222594},27.387698090755595,32.415307474232549,25.559396756649843,19.734598511530098,8.8498775708437396,34.432813655109314]
[null,25,null,{"$f":"IF($L$138=$K$136,D136,IF($L$138=$K$137,D137,IF($L$138=$K$138,D138,IF($L$138=$K$139,D139))))","v":20.000775726437006},{"$f":"IF($L$138=$K$136,E136,IF($L$138=$K$137,E137,IF($L$138=$K$138,E138,IF($L$138=$K$139,E139))))","v":24.334656873049788},27.992995451252568,31.0166687473519,25.571069216310871,20.89011920166061,16.789542181657872,34.465678477529586]
[null,30,null,{"$f":"IF($L$139=$K$136,D136,IF($L$139=$K$137,D137,IF($L$139=$K$138,D138,IF($L$139=$K$139,D139))))","v":7.6868702388223014},{"$f":"IF($L$139=$K$136,E136,IF($L$139=$K$137,E137,IF($L$139=$K$138,E138,IF($L$139=$K$139,E139))))","v":3.3315072687853675},27.555874364742611,32.751603926158779,25.322649567881502,19.51671315009412,5.4069396688489295,{"$f":"10*LOG(10^(D150/10)+10^(E150/10)+10^(F150/10)+10^(G150/10)+10^(H150/10)+10^(I150/10)+10^(J150/10))","v":34.617310013705463}]
[]
[null,null,1,2,3,4,5,6,7,8,9,10]
[null,{"$f":"'Auslegung-L'!$E$30","v":25},null,{"$f":"VLOOKUP($B$153,$B$147:$J$150,E152,FALSE)","v":20.000775726437006},{"$f":"VLOOKUP($B$153,$B$147:$J$150,F152,FALSE)","v":24.334656873049788},{"$f":"VLOOKUP($B$153,$B$147:$J$150,G152,FALSE)","v":27.992995451252568},31.0166687473519,25.571069216310871,20.89011920166061,16.789542181657872,{"$f":"VLOOKUP($B$153,$B$147:$K$150,L152,FALSE)","v":34.465678477529586}]

{"sheet":"Datenblatt Einzeldurchlass-L","index":9,"n_rows":44,"n_cols":9,"rows_kept":44,"cut":false,"hidden":true,"merged":[[36,5,36,6],[32,5,32,6],[31,2,31,3],[33,5,33,6],[34,5,34,6],[35,5,35,6],[1,1,1,7],[27,5,27,6],[28,2,28,3],[29,2,29,3],[30,2,30,3],[5,6,5,7],[5,2,5,4],[9,0,9,8],[18,4,18,5],[19,4,19,5],[24,5,24,6],[25,5,25,6],[26,5,26,6]]}
[]
[{"$f":"Übersetzung!F86","v":"Typ"},{"$f":"'Auslegung-L'!D12","v":"LDI"},null,null,null,null,null,null,{"$f":"TODAY()","v":"2020-12-07"}]
[{"$f":"Übersetzung!F87","v":"Projekt"}]
[]
[{"$f":"Übersetzung!F88","v":"Definition:"}]
[{"$f":"'Auslegung-L'!A12","v":"Durchlass Typ"},{"$f":"'Auslegung-L'!$D$12","v":"LDI"},{"$f":"'Auslegung-L'!A20","v":"Nenndurchmesser"},null,null,{"$f":"'Auslegung-L'!$D$20","v":315}]
["Schlitzanzahl:",{"$f":"'[1]Auslegung-V'!D20","v":500},"Farbe Abdeckprofil:",null,{"$f":"'[1]Auslegung-V'!B85","v":9010}]
["Innenauskleidung:",{"$f":"'[1]Auslegung-V'!G99","v":"B1"},"Drossel fb:",null,{"$f":"'[1]Auslegung-V'!B96","v":"ohne"}]
[]
[{"$f":"Übersetzung!F94","v":"Beschreibung:\nLuftdurchlass für die Belüftung industrieller Bereiche. In Abhängigkeit des ausgewählten Durchlasses erfolgt eine Umschaltung zwischen Kühl- und Heizbetrieb manuell oder elektrisch.\n"}]
[{"$f":"'Auslegung-L'!J100","v":"Einsatzbereich"}]
[{"$f":"'Auslegung-L'!J101","v":"Minimaler Volumenstrom"},"V°min",{"$f":"'Grunddaten-L'!$H$33","v":560},{"$f":"Einheiten!$L$7","v":"m³/h"}]
[{"$f":"'Auslegung-L'!J102","v":"Maximaler Volumenstrom"},"V°max",{"$f":"'Grunddaten-L'!$I$33","v":1700},{"$f":"Einheiten!$L$7","v":"m³/h"}]
[]
[{"$f":"Übersetzung!F90","v":"technische Vorgaben"},null,null,null,null,{"$f":"'Auslegung-L'!A39","v":"Raumdaten"}]
[{"$f":"'Auslegung-L'!A29","v":"Luftvolumenstrom"},"V·SUP",{"$f":"'Auslegung-L'!$D$29","v":1000},{"$f":"Einheiten!$L$7","v":"m³/h"},null,{"$f":"'Auslegung-L'!A44","v":"Raumhöhe"},{"$f":"'Auslegung-L'!$D$44","v":14},{"$f":"Einheiten!$L$5","v":"m"}]
[{"$f":"Übersetzung!F95","v":"Zulufttemperatur Kühlfall"},"tZULK",{"$f":"'Auslegung-L'!D37","v":16},{"$f":"Einheiten!$L$9","v":"°C"},null,{"$f":"'Auslegung-L'!A43","v":"Raumbreite"},{"$f":"'Auslegung-L'!$D$43","v":12.7},{"$f":"Einheiten!$L$5","v":"m"}]
[{"$f":"Übersetzung!F96","v":"Raumtemperatur Kühlfall"},"tRAUMK",{"$f":"'Auslegung-L'!D38","v":24},{"$f":"Einheiten!$L$9","v":"°C"},null,{"$f":"'Auslegung-L'!A42","v":"Raumlänge"},{"$f":"'Auslegung-L'!$D$42","v":21},{"$f":"Einheiten!$L$5","v":"m"}]
[{"$f":"Übersetzung!F97","v":"Zulufttemperatur Heizfall"},"tZULH",{"$f":"'Auslegung-L'!E37","v":30},{"$f":"Einheiten!$L$9","v":"°C"},{"$f":"'Auslegung-L'!A40","v":"Montagehöhe"},null,{"$f":"'Auslegung-L'!D40","v":8},{"$f":"Einheiten!$L$5","v":"m"}]
[{"$f":"Übersetzung!F98","v":"Raumtemperatur Heizfall"},"tRAUMH",{"$f":"'Auslegung-L'!E38","v":20},{"$f":"Einheiten!$L$9","v":"°C"},{"$f":"'Auslegung-L'!A41","v":"Obergrenze Aufenthaltsbereich"},null,{"$f":"'Auslegung-L'!D41","v":1.8},{"$f":"Einheiten!$L$5","v":"m"}]
[{"$f":"Übersetzung!F99","v":"Klappenwinkel Kühlfall"},"aK",{"$f":"'Auslegung-L'!$D$30","v":50},"°"]
[{"$f":"Übersetzung!F100","v":"Klappenwinkel Heizfall"},"aH",{"$f":"'Auslegung-L'!E30","v":25},"°"]
[]
[{"$f":"'Auslegung-L'!A78","v":"Berechnung strömungstechnische und Akustische Daten"},null,{"$f":"'Auslegung-L'!D98","v":"Kühlfall"},{"$f":"'Auslegung-L'!E78","v":"Heizfall"},null,{"$f":"Übersetzung!F84","v":"Abmessungen und Einsatzbereich"}]
[{"$f":"'Auslegung-L'!A79","v":"Totaldruckverlust"},"Dp_SUP/ETA",{"$f":"'Auslegung-L'!$D$79","v":"44"},{"$f":"'Auslegung-L'!E79","v":"18"},{"$f":"Einheiten!$L$8","v":"Pa"},{"$f":"'Auslegung-L'!J101","v":"Minimaler Volumenstrom"},null,{"$f":"'Grunddaten-L'!H33","v":560},{"$f":"Einheiten!$L$7","v":"m³/h"}]
[{"$f":"'Auslegung-L'!A80","v":"kleinster Abstand zwischen 2 Durchlässen"},"Smin",{"$f":"'Auslegung-L'!D80","v":3.5515163992614398},null,{"$f":"Einheiten!$L$5","v":"m"},{"$f":"'Auslegung-L'!J102","v":"Maximaler Volumenstrom"},null,{"$f":"'Grunddaten-L'!I33","v":1700},{"$f":"Einheiten!$L$7","v":"m³/h"}]
[{"$f":"'Auslegung-L'!A84","v":"Mittlere Geschwindigkeit im Aufenthaltsbereich"},"vx1",{"$f":"'Auslegung-L'!D84","v":0.16712715254911567},null,{"$f":"Einheiten!$L$6","v":"m/s"},{"$f":"'Auslegung-L'!J84","v":"Anschlussdurchmesser LDI"},null,{"$f":"'Auslegung-L'!K84","v":"318"},{"$f":"Einheiten!$L$10","v":"mm"}]
[{"$f":"'Auslegung-L'!A86","v":"Vertikale Eindringtiefe"},"Ymax",null,{"$f":"'Auslegung-L'!E86","v":4.8991523098481276},{"$f":"Einheiten!$L$5","v":"m"},{"$f":"'Auslegung-L'!J86","v":"Außendurchmesser, einfache Düsenkontur"},null,{"$f":"'Auslegung-L'!K86","v":"318"},{"$f":"Einheiten!$L$10","v":"mm"}]
[{"$f":"'[1]Auslegung-V'!A114","v":"Zugluftrisiko im Aufenthaltsbereich**"},"DR2",{"$f":"'[1]Auslegung-V'!D112","v":3.4030466824872017},null,"%",null,null,{"$f":"'Auslegung-L'!K86","v":"318"},{"$f":"Einheiten!$L$10","v":"mm"}]
[{"$f":"'[1]Auslegung-V'!A115","v":"Geschwindigkeit nach Ablösen an Xkr."},"vx3",{"$f":"'[1]Auslegung-V'!$D$115","v":0.30660233333333331},null,"m/s",null,null,{"$f":"'Auslegung-L'!K87","v":560},{"$f":"Einheiten!$L$10","v":"mm"}]
[{"$f":"'[1]Auslegung-V'!A116","v":"Zugluftrisiko nach Ablösepunkt**"},"DR3",{"$f":"'[1]Auslegung-V'!D116","v":19.566920065963405},null,"%",null,null,{"$f":"'Auslegung-L'!K88","v":1700},{"$f":"Einheiten!$L$10","v":"mm"}]
["Raumkategorie**","RAL",{"$f":"'[1]Auslegung-V'!D117","v":"B"},null,{"$f":"\"-/-\"","v":"-/-"},null,null,{"$f":"'Auslegung-L'!K89","v":0},{"$f":"Einheiten!$L$10","v":"mm"}]
[{"$f":"'Auslegung-L'!A91","v":"Schallleistungspegel, Einzeldurchlass"},"LWA_SUP/ETA",{"$f":"'Auslegung-L'!D91","v":42.720495855420182},{"$f":"'Auslegung-L'!E91","v":33.564518218164245},"dB(A)",{"$f":"'Auslegung-L'!J91","v":"Außendurchmesser, verlängerte Düsenkontur"},null,{"$f":"'Auslegung-L'!K91","v":"580"},{"$f":"Einheiten!$L$10","v":"mm"}]
[null,null,null,null,null,{"$f":"'Auslegung-L'!J95","v":"Höhe LDI"},null,{"$f":"'Auslegung-L'!K95","v":"175"},{"$f":"Einheiten!$L$10","v":"mm"}]
[null,null,null,null,null,{"$f":"'Auslegung-L'!J96","v":"Anschlussdurchmesser opt. RAK"},null,{"$f":"'Auslegung-L'!K96","v":"279"},{"$f":"Einheiten!$L$10","v":"mm"}]
[null,null,null,null,null,{"$f":"'Auslegung-L'!J97","v":"Außendurchmesser opt. RAK"},null,{"$f":"'Auslegung-L'!K97","v":"385"},{"$f":"Einheiten!$L$10","v":"mm"}]
[null,null,null,null,null,{"$f":"'Auslegung-L'!J98","v":"Höhe opt. RAK"},null,{"$f":"'Auslegung-L'!K98","v":"470"},{"$f":"Einheiten!$L$10","v":"mm"}]
[]
[]
[]
[{"$f":"'Auslegung-L'!A98","v":"Oktavspektrum Schallleistung [dB]"},"f [Hz]",125,250,500,1000,2000,4000,8000]
[{"$f":"Übersetzung!F101","v":"Kühlfall"},"LWA_K",{"$f":"'Auslegung-L'!$D$99","v":46.37466967747033},{"$f":"'Auslegung-L'!$D$100","v":42.479218601200706},{"$f":"'Auslegung-L'!$D$101","v":40.284690342541147},{"$f":"'Auslegung-L'!$D$102","v":38.054276644273614},{"$f":"'Auslegung-L'!$D$103","v":33.562260378693786},{"$f":"'Auslegung-L'!$D$104","v":26.684769575782095},{"$f":"'Auslegung-L'!$D$105","v":21.912910269227773}]
[{"$f":"Übersetzung!F102","v":"Heizfall"},"LWA_H",{"$f":"'Auslegung-L'!$E$99","v":20.000775726437006},{"$f":"'Auslegung-L'!$E$100","v":24.334656873049788},{"$f":"'Auslegung-L'!$E$101","v":27.992995451252568},{"$f":"'Auslegung-L'!$E$102","v":31.0166687473519},{"$f":"'Auslegung-L'!$E$103","v":25.571069216310871},{"$f":"'Auslegung-L'!$E$104","v":20.89011920166061},{"$f":"'Auslegung-L'!$E$105","v":16.789542181657872}]
[null,null,null,null,null,null,"technische Änderungen vorbehalten","Stand:",{"$f":"'Grunddaten-L'!$E$36","v":"2020-10-30"}]

{"sheet":"Auslegung-V","index":10,"n_rows":136,"n_cols":12,"rows_kept":136,"cut":false,"hidden":true,"merged":[[34,3,34,4],[35,3,35,4],[28,3,28,4],[30,3,30,4],[31,3,31,4],[32,3,32,4],[33,3,33,4],[23,3,23,4],[24,3,24,4],[25,3,25,4],[26,3,26,4],[27,3,27,4],[17,3,17,4],[18,3,18,4],[20,3,20,4],[21,3,21,4],[22,3,22,4],[12,3,12,4],[13,3,13,4],[14,3,14,4],[15,3,15,4],[16,3,16,4],[125,3,125,4],[95,1,95,4],[120,3,120,4],[90,1,90,4],[131,3,131,4],[107,3,107,4],[108,3,108,4],[109,3,109,4],[126,3,126,4],[127,3,127,4],[128,3,128,4],[129,3,129,4],[130,3,130,4],[114,3,114,4],[115,3,115,4],[116,3,116,4],[117,3,117,4],[112,3,112,4],[105,3,105,4],[102,1,102,4],[111,3,111,4],[98,1,98,4],[89,1,89,4],[93,1,93,4],[113,3,113,4],[44,3,44,4],[75,3,75,4],[78,3,78,4],[85,1,85,4],[84,1,84,4],[46,3,46,4],[49,0,49,4],[79,0,79,4],[80,1,80,4],[45,3,45,4],[106,3,106,4],[110,3,110,4],[0,0,0,3],[40,0,40,4],[50,3,50,4],[7,3,7,4],[5,0,5,4],[11,3,11,4],[19,3,19,4],[36,3,36,4],[38,3,38,4],[6,3,6,4],[39,3,39,4],[29,3,29,4],[47,3,47,4],[41,3,41,4],[42,3,42,4],[43,3,43,4]]}
[{"$f":"Übersetzung!F5","v":"Auslegung Kampmann Industrieluftdurchlässe"}]
[]
[{"$f":"Übersetzung!F6","v":"Eingabefelder sind gelb gekennzeichnet"}]
[{"$f":"Übersetzung!F7","v":"Ergebnisfelder sind blau gekennzeichnet"}]
[]
[{"$f":"Übersetzung!F8","v":"Vorgaben"}]
[{"$f":"Übersetzung!F9","v":"Lüftungstechnik"},{"$f":"Übersetzung!F10","v":"Symbol"},{"$f":"Übersetzung!F11","v":"Einheit"},{"$f":"Übersetzung!F12","v":"Wert"}]
["Bezeichung","Symbol","Einheit"]
[null,"L","mm"]
[null,"L","mm"]
[null,"L","mm"]
["Durchlass Typ",null,null,"VLD"]
[null,null,null,"WKD 381-1"]
[null,null,null,"WKD 381-2"]
[null,null,null,"WKD 381-3"]
[]
[]
[null,null,null,"VLV"]
[]
[{"$f":"Übersetzung!F46","v":"Nenndurchmesser"},"DN","[-]",400]
[null,null,null,{"$f":"IF(OR($D$12=\"VLV\",$D$12=\"VLD\"),250,IF($D$12=\"WKD 380\",600,IF($D$12=\"WKD 381-1\",300,IF(OR($D$12=\"WKD 381-2\",$D$12=\"WKD 381-3\"),600,IF($D$12=\"IVA\",250,\"\")))))","v":250}]
[null,null,null,{"$f":"IF(OR($D$12=\"VLV\",$D$12=\"VLD\"),315,IF($D$12=\"WKD 380\",800,IF($D$12=\"WKD 381-1\",500,IF(OR($D$12=\"WKD 381-2\",$D$12=\"WKD 381-3\"),\"\",IF($D$12=\"IVA\",315,\"\")))))","v":315}]
[null,null,null,{"$f":"IF(OR($D$12=\"VLV\",$D$12=\"VLD\"),400,IF($D$12=\"WKD 380\",1000,IF($D$12=\"WKD 381-1\",600,IF(OR($D$12=\"WKD 381-2\",$D$12=\"WKD 381-3\"),\"\",IF($D$12=\"IVA\",355,\"\")))))","v":400}]
[null,null,null,{"$f":"IF(OR($D$12=\"VLV\",$D$12=\"VLD\"),500,IF($D$12=\"WKD 380\",\"\",IF($D$12=\"WKD 381-1\",\"\",IF(OR($D$12=\"WKD 381-2\",$D$12=\"WKD 381-3\"),\"\",IF($D$12=\"IVA\",400,\"\")))))","v":500}]
[null,null,null,{"$f":"IF(OR($D$12=\"VLV\",$D$12=\"VLD\"),\"\",IF($D$12=\"WKD 380\",\"\",IF($D$12=\"WKD 381-1\",\"\",IF(OR($D$12=\"WKD 381-2\",$D$12=\"WKD 381-3\"),\"\",IF($D$12=\"IVA\",450,\"\")))))","v":""}]
[null,null,null,{"$f":"IF(OR($D$12=\"VLV\",$D$12=\"VLD\"),\"\",IF($D$12=\"WKD 380\",\"\",IF($D$12=\"WKD 381-1\",\"\",IF(OR($D$12=\"WKD 381-2\",$D$12=\"WKD 381-3\"),\"\",IF($D$12=\"IVA\",500,\"\")))))","v":""}]
[null,null,null,{"$f":"IF(OR($D$12=\"VLV\",$D$12=\"VLD\"),\"\",IF($D$12=\"WKD 380\",\"\",IF($D$12=\"WKD 381-1\",\"\",IF(OR($D$12=\"WKD 381-2\",$D$12=\"WKD 381-3\"),\"\",IF($D$12=\"IVA\",560,\"\")))))","v":""}]
[null,null,null,{"$f":"IF(OR($D$12=\"VLV\",$D$12=\"VLD\"),\"\",IF($D$12=\"WKD 380\",\"\",IF($D$12=\"WKD 381-1\",\"\",IF(OR($D$12=\"WKD 381-2\",$D$12=\"WKD 381-3\"),\"\",IF($D$12=\"IVA\",630,\"\")))))","v":""}]
[null,null,null,{"$f":"IF(OR($D$12=\"VLV\",$D$12=\"VLD\"),\"\",IF($D$12=\"WKD 380\",\"\",IF($D$12=\"WKD 381-1\",\"\",IF(OR($D$12=\"WKD 381-2\",$D$12=\"WKD 381-3\"),\"\",IF($D$12=\"IVA\",630,\"\")))))","v":""}]
[{"$f":"Übersetzung!F47","v":"Montageart"},"DN","[-]","deckenbündig"]
[null,null,null,{"$f":"Übersetzung!F50","v":"deckenbündig"}]
[null,null,null,{"$f":"Übersetzung!F51","v":"freihängend"}]
[null,null,null,{"$f":"IF(Vorauswahl!$D$14-Vorauswahl!$D$16<2,\"deckenbündig\",\"freihängend\")","v":"deckenbündig"}]
[]
[]
[]
[{"$f":"Übersetzung!F16","v":"Luftvolumenstrom"},"V·SUP",{"$f":"Einheiten!L7","v":"m³/h"},3000]
["max. Luftgeschwindigkeit im Aufenthaltsbereich","vMax","m/s",0.2]
[{"$f":"Übersetzung!F18","v":"Temperatur Zuluft"},"tSUP",{"$f":"Einheiten!$L$9","v":"°C"},30]
[{"$f":"Übersetzung!F19","v":"Temperatur Raum"},"tRaum",{"$f":"Einheiten!$L$9","v":"°C"},20]
[{"$f":"Übersetzung!F20","v":"Raumdaten"}]
[{"$f":"Übersetzung!F21","v":"Montagehöhe"},"H1",{"$f":"Einheiten!L5","v":"m"},15]
[{"$f":"Übersetzung!F22","v":"Obergrenze Aufenthaltsbereich"},"H2",{"$f":"Einheiten!$L$5","v":"m"},1.8]
[{"$f":"Übersetzung!F23","v":"Raumlänge"},"LR",{"$f":"Einheiten!$L$5","v":"m"},100]
[{"$f":"Übersetzung!F24","v":"Raumbreite"},"BR",{"$f":"Einheiten!$L$5","v":"m"},100]
[{"$f":"Übersetzung!F25","v":"Raumhöhe"},"HR",{"$f":"Einheiten!$L$5","v":"m"},30]
[{"$f":"Übersetzung!F48","v":"Abstand Durchlass zur nächstgelegenen Wand"},"a",{"$f":"Einheiten!$L$5","v":"m"},3]
[{"$f":"Übersetzung!F49","v":"kleinster Abstand zwischen 2 Durchlässen"},"smin",{"$f":"Einheiten!$L$5","v":"m"},3]
[]
["Akustikdaten"]
["Raumart nach VDI 2081",null,null,"Großraumbüro",null,null,null,null,7,"Maximaler Volumenstrom",{"$f":"'Grunddaten-V'!$I$37","v":4500},"m³/h"]
[null,null,"Einzelbüro",null,null,null,null,null,5,"min. Abmessung Frontblende rund",{"$f":"'Grunddaten-V'!Q37","v":0},"mm"]
[null,null,"Großraumbüro"]
[null,null,"Werkstätten"]
[null,null,"Ruheraum, Pausenraum"]
[null,null,"Untersuchungsraum Krankenhaus"]
[null,null,"Rundfunk-, Fernsehstudio"]
[null,null,"Chemielabor"]
[null,null,"Wasch- und WC-Raum, Umkleide"]
[null,null,"Schwimmbad"]
[null,null,"EDV-Raum"]
[null,null,"Konzertsaal"]
[null,null,"Lesesaal"]
[null,null,"Museum"]
[null,null,"Küche"]
[null,null,"Theater, Kino"]
[null,null,"Klassen- Seminarraum"]
[null,null,"Gaststätte"]
[null,null,"kein Typ"]
[null,null,"Konferenzraum"]
[null,null,"Hotelzimmer"]
[null,null,"Hörsaal"]
[null,null,"Bettenzimmer Krankenhaus"]
[null,null,"Verkaufsraum"]
[null,"","Sporthalle"]
["Betrachteter Durchlass",null,null,"Zuluft"]
[null,null,null,"Zuluft"]
[null,null,null,"Abluft"]
["Abstand zur Schallquelle","r","m",3]
["Zusatzdaten"]
["Funktion","",null,null,null,{"$f":"VLOOKUP(B81,#REF!,2,FALSE)","v":{"$error":"#REF!"}},{"$f":"VLOOKUP($B$81,$B$82:$G$84,6,0)","v":"Z"}]
[null,{"$f":"IF(D12=500,\"Zuluft\",\"\")","v":""},null,null,null,null,"Z"]
[null,{"$f":"IF(D12=500,\"Abluft\",\"\")","v":""},null,null,null,null,"A"]
[null,{"$f":"IF(D12>500,\"Zuluft/Abluft-Kombination\",\"\")","v":"Zuluft/Abluft-Kombination"},null,null,null,null,"K"]
["Farbe Abdeckprofil und Endwinkel",9010,null,null,null,{"$f":"VLOOKUP(B85,#REF!,2,FALSE)","v":{"$error":"#REF!"}},{"$f":"$B$85","v":9010}]
["Farbe Luftlenkelement","schwarz",null,null,null,null,{"$f":"VLOOKUP(B86,B87:G89,6,FALSE)","v":"S"}]
[null,"schwarz",null,null,null,null,"S"]
[null,"weiß",null,null,null,null,"W"]
[null,"grau",null,null,null,null,"G"]
["Einstellung Luftlenkelement","Deckenstrahl D / E",null,null,null,null,{"$f":"VLOOKUP(B90,B91:G94,6,FALSE)","v":"D"}]
[null,"Deckenstrahl D / E",null,null,null,null,"D"]
[null,"Sondereinstellung",null,null,null,null,"S"]
[]
["Werkstoff Anschlusskasten","Stahl verzinkt",null,null,null,null,"V"]
[null,"Stahl verzinkt"]
["frontseitig bedienbare Drossel","ohne",null,null,null,{"$f":"VLOOKUP(B96,#REF!,2,FALSE)","v":{"$error":"#REF!"}},{"$f":"VLOOKUP(B96,B97:G99,6,FALSE)","v":0}]
[null,"mit",null,null,null,null,1]
[null,"ohne",null,null,null,null,0]
["Innenauskleidung","Baustoffklasse B1 (Standard)",null,null,null,null,{"$f":"VLOOKUP(B99,B100:G103,6,FALSE)","v":"B1"}]
[null,"Baustoffklasse B1 (Standard)",null,null,null,null,"B1"]
[null,"Baustoffklasse A2 (optional)",null,null,null,null,"A2"]
[]
["Merkmalschlüssel",{"$f":"CONCATENATE(1,\"KSW\",\"0\",D20,G103,G81,\"A\",G85,G86,G90,G94,G96,G99,1,G104)","v":"1KSW0400VLDZA9010SDV0B11100"},null,null,null,null,{"$f":"IF(D12<1000,CONCATENATE(0,D12),D12)","v":"VLD"}]
[null,null,null,null,null,null,{"$f":"IF(K113=78,\"080\",100)","v":100}]
[{"$f":"Übersetzung!F26","v":"Berechnung strömungstechnische und Akustische Daten"}]
[{"$f":"Übersetzung!F27","v":"Totaldruckverlust"},"Dpt",{"$f":"Einheiten!L8","v":"Pa"},{"$f":"IF(Einheiten!$F$2=3,FIXED(Einheiten!$E$48,3,TRUE),FIXED(Einheiten!$E$48,0,TRUE))","v":"35"}]
[{"$f":"IF(D39>D40,\"\",Übersetzung!F91)","v":""},"xkr.",{"$f":"Einheiten!L5","v":"m"},{"$f":"IF(OR(D76=\"deckenbündig\",D30=\"flush installed\"),Einheiten!$E$49,IF(OR(D30=\"freihängend\",D30=\"hanging installed\"),\"\",IF(D39>D40,\"\",xkr._vx!$F$11)))","v":""}]
["Laufweg bis Fußbodenbereich","xx","m",{"$f":"xkr._vx!L24","v":18.5}]
["Laufweg bis Aufenthaltsbereich nach Stoßpunkt","xx+y","m",{"$f":"xkr._vx!L26","v":14.7}]
["Laufweg bis Aufenthaltsbereich nach xkrit","xxkr","m",{"$f":"IF(D39>=D40,\"Heizfall\",xkr._vx!L28)","v":"Heizfall"}]
[{"$f":"IF(D39>D40,\"\",Übersetzung!F52)","v":""},"vx1",{"$f":"Einheiten!$L$6","v":"m/s"},{"$f":"IF(D40<D39,\"\",IF(Einheiten!$E$50< 0.1,\"< 0,1\",Einheiten!$E$50))","v":""}]
[{"$f":"IF(D39>D40,\"\",Übersetzung!F53)","v":""},"DR1","%",{"$f":"IF(D76=\"Zuluft\",IF($D$39>$D$40,\"\",Einheiten!$E$51),\"\")","v":""}]
[{"$f":"IF(D39>D40,Übersetzung!F54,Übersetzung!F55)","v":"Vertikale Eindringtiefe"},"vx2",{"$f":"IF(D39>D40,Einheiten!$L$5,Einheiten!$L$6)","v":"m"},{"$f":"IF(D76=\"Zuluft\",IF($D$39>$D$40,Einheiten!$E$56,IF(Einheiten!$E$52<0.1,\"< 0,1\",Einheiten!$E$52)),\"\")","v":7.4281902237355233}]
[{"$f":"IF(D39>D40,\"\",Übersetzung!F56)","v":""},"DR2","%",{"$f":"IF(D76=\"Zuluft\",IF($D$39>$D$40,\"\",DR!$C$24),\"\")","v":""}]
[{"$f":"IF(D39>D40,\"\",Übersetzung!F57)","v":""},"vx3",{"$f":"Einheiten!$L$6","v":"m/s"},{"$f":"IF(D39>D40,\"\",IF(xkr._vx!$I$11<0.1,\"<0,1\",IF($D$39>$D$40,\"Heizfall\",xkr._vx!$I$11)))","v":""}]
[{"$f":"IF(D39>D40,\"\",Übersetzung!F58)","v":""},"DR3","%",{"$f":"IF(D76=\"Zuluft\",IF($D$39>$D$40,\"\",DR!$C$32),\"\")","v":""}]
[{"$f":"Übersetzung!F59","v":"Resultierende Raumkategorie"},"RAL","[-]",{"$f":"IF(D76=\"Zuluft\",IF(D39>D40,\"\",IF(AND($D$112<9.95,$D$114<9.95,OR($D$116=\"\",$D$116<9.95)),\"A\",IF(AND($D$112<19.95,$D$114<19.95,OR($D$116=\"\",$D$116<19.95)),\"B\",IF(AND($D$112<29.95,$D$114<29.95,OR($D$116=\"\",$D$116<29.95)),\"C\",\"Außerhalb C\")))),\"\")","v":""}]
[{"$f":"Übersetzung!F33","v":"Schallleistungspegel, Einzeldurchlass"},"LWA_SUP/ETA","dB(A)",{"$f":"IF(D76=\"Zuluft\",Lw!I96,\"\")","v":51.401162151607735}]
["Schalldruckpegel, Zahlenwert Zuluft + Abluft",null,null,{"$f":"D118+10*LOG(Lw!$F$106/(4*PI()*'Auslegung-V'!D79^2)+4/(Lw!$H$106))","v":36.897271221054723},{"$f":"E118+10*LOG(Lw!$F$106/(4*PI()*'Auslegung-V'!E79^2)+4/(Lw!$H$106))","v":{"$error":"#DIV/0!"}}]
[{"$f":"CONCATENATE(\"Schallldruckpegel in \",D79,\"m Entfernung, Einzeldurchlass\")","v":"Schallldruckpegel in 3m Entfernung, Einzeldurchlass"},"LPA_SUP/ETA","dB(A)",{"$f":"IF(D76=\"Zuluft\",IF(D118=\"<25\",\"<25\",IF(D118+10*LOG(Lw!$F$106/(4*PI()*'Auslegung-V'!D79^2)+4/(Lw!$H$106))>=25,D118+10*LOG(Lw!$F$106/(4*PI()*'Auslegung-V'!D79^2)+4/(Lw!$H$106)),\"<25\")),\"\")","v":36.897271221054723},{"$f":"IF(D76=\"Abluft\",IFERROR(IF(E118=\"<25\",\"<25\",IF(E118+10*LOG(Lw!$F$106/(4*PI()*'Auslegung-V'!D79^2)+4/(Lw!$H$106))>=25,E118+10*LOG(Lw!$F$106/(4*PI()*'Auslegung-V'!D79^2)+4/(Lw!$H$106)),\"<25\")),\"a. Anf\"),\"\")","v":""}]
["Schalldruckpegel rechnerisch ",null,null,{"$f":"IF(10*LOG(10^(D119/10)+10^(E119/10))<25,\"<25\",10*LOG(10^(D119/10)+10^(E119/10)))","v":{"$error":"#DIV/0!"}}]
[{"$f":"Übersetzung!F60","v":"*Gilt für Eintritt der Luftströmung in den Aufenthaltbereich nach dem Stoßpunkt"}]
[{"$f":"Übersetzung!F61","v":"** Berechnung gemäß DIN EN ISO 7730"}]
[]
[{"$f":"Übersetzung!F34","v":"Oktavspektrum Schallleistung [dB]"},"LW_Okt","dB"]
[null,"LW_125","dB",{"$f":"IF($D$76=\"Zuluft\",IFERROR(Lw!B$98,\"a. Anf\"),\"\")","v":63.765824257200173}]
[null,"LW_250","dB",{"$f":"IF($D$76=\"Zuluft\",IFERROR(Lw!C$98,\"a. Anf\"),\"\")","v":55.166922126888934}]
[null,"LW_500","dB",{"$f":"IF($D$76=\"Zuluft\",IFERROR(Lw!D$98,\"a. Anf\"),\"\")","v":46.807571914190724}]
[null,"LW_1000","dB",{"$f":"IF($D$76=\"Zuluft\",IFERROR(Lw!E$98,\"a. Anf\"),\"\")","v":37.299591884101545}]
[null,"LW_2000","dB",{"$f":"IF($D$76=\"Zuluft\",IFERROR(Lw!F$98,\"a. Anf\"),\"\")","v":29.735077409825585}]
[null,"LW_4000","dB",{"$f":"IF($D$76=\"Zuluft\",IFERROR(Lw!G$98,\"a. Anf\"),\"\")","v":26.228973570729075}]
[null,"LW_8000","dB",{"$f":"IF($D$76=\"Zuluft\",IFERROR(Lw!H$98,\"a. Anf\"),\"\")","v":28.514613009352708}]
[]
[{"$f":"Übersetzung!F44","v":"Änderungen vorbehalten"}]
[{"$f":"Übersetzung!F45","v":"Stand:"},null,null,null,{"$f":"IF(D12=500,KSW(),\"\")","v":""}]
[{"$f":"'Grunddaten-V'!E40","v":"2020-10-30"}]

{"sheet":"Datenblatt Einzeldurchlass-V","index":11,"n_rows":43,"n_cols":9,"rows_kept":43,"cut":false,"hidden":true,"merged":[[33,2,33,3],[34,2,34,3],[28,2,28,3],[28,5,28,6],[29,2,29,3],[30,2,30,3],[31,2,31,3],[32,2,32,3],[25,2,25,3],[25,5,25,6],[26,2,26,3],[26,5,26,6],[27,2,27,3],[27,5,27,6],[24,2,24,3],[24,5,24,6],[1,1,1,7],[5,2,5,4],[5,6,5,7],[9,0,9,8],[18,4,18,5],[19,4,19,5],[23,0,23,3]]}
[]
[{"$f":"Übersetzung!F86","v":"Typ"},{"$f":"'Auslegung-V'!D12","v":"VLD"},null,null,null,null,null,null,{"$f":"TODAY()","v":"2020-12-07"}]
[{"$f":"Übersetzung!F87","v":"Projekt"},{"$f":"Übersetzung!F89","v":"bitte Projektname / VIS-Nr. eintragen"}]
[]
[{"$f":"Übersetzung!F88","v":"Definition:"}]
[{"$f":"Übersetzung!F13","v":"Durchlass Typ"},{"$f":"'Auslegung-V'!D12","v":"VLD"},{"$f":"Übersetzung!F46","v":"Nenndurchmesser"},null,null,{"$f":"'Auslegung-V'!D20","v":400},{"$f":"Übersetzung!F47","v":"Montageart"},null,{"$f":"'Auslegung-V'!D30","v":"deckenbündig"}]
["Schlitzanzahl:",{"$f":"'Auslegung-L'!D20","v":315},"Farbe Abdeckprofil:",null,{"$f":"'Auslegung-L'!B83","v":"xxkr"}]
["Innenauskleidung:",{"$f":"'Auslegung-L'!G96","v":0},"Drossel fb:",null,{"$f":"'Auslegung-L'!B94","v":0}]
[]
[{"$f":"Übersetzung!F94","v":"Beschreibung:\nLuftdurchlass für die Belüftung industrieller Bereiche. In Abhängigkeit des ausgewählten Durchlasses erfolgt eine Umschaltung zwischen Kühl- und Heizbetrieb manuell oder elektrisch.\n"}]
[{"$f":"Übersetzung!F81","v":"Einsatzbereich"}]
[{"$f":"Übersetzung!F39","v":"Minimaler Volumenstrom"},"V°min",{"$f":"'Grunddaten-V'!H37","v":700},{"$f":"Einheiten!$L$7","v":"m³/h"}]
[{"$f":"Übersetzung!F40","v":"Maximaler Volumenstrom"},"V°max",{"$f":"'Grunddaten-V'!I37","v":4500},{"$f":"Einheiten!$L$7","v":"m³/h"}]
[]
[{"$f":"Übersetzung!F90","v":"technische Vorgaben"},null,null,null,null,{"$f":"'Auslegung-V'!A41","v":"Raumdaten"}]
[{"$f":"'Auslegung-V'!A37","v":"Luftvolumenstrom"},"V·SUP",{"$f":"'Auslegung-V'!D37","v":3000},{"$f":"Einheiten!L7","v":"m³/h"},null,{"$f":"'Auslegung-V'!A46","v":"Raumhöhe"},{"$f":"'Auslegung-V'!D46","v":30},{"$f":"Einheiten!$L$5","v":"m"}]
[{"$f":"'Auslegung-V'!A39","v":"Temperatur Zuluft"},"tZUL",{"$f":"'Auslegung-V'!D39","v":30},{"$f":"Einheiten!$L$9","v":"°C"},null,{"$f":"'Auslegung-V'!A45","v":"Raumbreite"},{"$f":"'Auslegung-V'!D45","v":100},{"$f":"Einheiten!$L$5","v":"m"}]
[{"$f":"'Auslegung-V'!A40","v":"Temperatur Raum"},"tRAUM",{"$f":"'Auslegung-V'!D40","v":20},{"$f":"Einheiten!$L$9","v":"°C"},null,{"$f":"'Auslegung-V'!A44","v":"Raumlänge"},{"$f":"'Auslegung-V'!D44","v":100},{"$f":"Einheiten!$L$5","v":"m"}]
[{"$f":"'Auslegung-V'!A46","v":"Raumhöhe"},{"$f":"'Auslegung-L'!B45","v":"a"},{"$f":"'Auslegung-V'!D47","v":3},{"$f":"Einheiten!$L$5","v":"m"},{"$f":"'Auslegung-V'!A42","v":"Montagehöhe"},null,{"$f":"'Auslegung-V'!D42","v":15},{"$f":"Einheiten!$L$5","v":"m"}]
[{"$f":"'Auslegung-V'!A47","v":"Abstand Durchlass zur nächstgelegenen Wand"},"smin",{"$f":"'Auslegung-V'!D48","v":3},{"$f":"Einheiten!$L$5","v":"m"},{"$f":"'Auslegung-V'!A43","v":"Obergrenze Aufenthaltsbereich"},null,{"$f":"'Auslegung-V'!D43","v":1.8},{"$f":"Einheiten!$L$5","v":"m"}]
[]
[]
[]
[{"$f":"'Auslegung-V'!A105","v":"Berechnung strömungstechnische und Akustische Daten"},null,null,null,null,{"$f":"Übersetzung!F84","v":"Abmessungen und Einsatzbereich"}]
[{"$f":"'Auslegung-V'!A106","v":"Totaldruckverlust"},"Dp_SUP",{"$f":"'Auslegung-V'!D106","v":"35"},null,{"$f":"Einheiten!$L$8","v":"Pa"},{"$f":"Übersetzung!F39","v":"Minimaler Volumenstrom"},null,{"$f":"'Grunddaten-V'!H37","v":700},{"$f":"Einheiten!$L$7","v":"m³/h"}]
[{"$f":"'Auslegung-V'!A107","v":""},"xkr.",{"$f":"'Auslegung-V'!D107","v":""},null,{"$f":"Einheiten!L5","v":"m"},{"$f":"Übersetzung!F40","v":"Maximaler Volumenstrom"},null,{"$f":"'Grunddaten-V'!I37","v":4500},{"$f":"Einheiten!$L$7","v":"m³/h"}]
[{"$f":"'Auslegung-V'!A111","v":""},"vx1",{"$f":"'Auslegung-V'!D111","v":""},null,{"$f":"Einheiten!$L$6","v":"m/s"},{"$f":"Übersetzung!F93","v":"Durchmesser Anschlusskasten"},null,{"$f":"IFERROR(IF(Einheiten!$F$2=3,FIXED('Grunddaten-V'!O37,1,TRUE),FIXED('Grunddaten-V'!O37,0,TRUE)),\"\")","v":""},{"$f":"Einheiten!$L$10","v":"mm"}]
[{"$f":"'Auslegung-V'!A111","v":""},"DR1",{"$f":"'Auslegung-V'!D112","v":""},null,"%",{"$f":"Übersetzung!F72","v":"Höhe Anschlusskasten"},null,{"$f":"IFERROR(IF(Einheiten!$F$2=3,FIXED('Grunddaten-V'!N37,1,TRUE),FIXED('Grunddaten-V'!N37,0,TRUE)),\"\")","v":""},{"$f":"Einheiten!$L$10","v":"mm"}]
[{"$f":"'Auslegung-V'!A113","v":"Vertikale Eindringtiefe"},"vx2",{"$f":"'Auslegung-V'!D113","v":7.4281902237355233},null,{"$f":"IF(C17<C18,Einheiten!$L$6,Einheiten!$L$5)","v":"m"},{"$f":"Übersetzung!F42","v":"Durchmesser Anschlussstutzen"},null,{"$f":"IF(Einheiten!$F$2=3,FIXED('Grunddaten-V'!J37,1,TRUE),FIXED('Grunddaten-V'!J37,0,TRUE))","v":"398"},{"$f":"Einheiten!$L$10","v":"mm"}]
[{"$f":"'Auslegung-V'!A114","v":""},"DR2",{"$f":"'Auslegung-V'!D114","v":""},null,"%"]
[{"$f":"'Auslegung-V'!A115","v":""},"vx3",{"$f":"'Auslegung-V'!D115","v":""},null,{"$f":"Einheiten!$L$6","v":"m/s"}]
[{"$f":"'Auslegung-V'!A116","v":""},"DR3",{"$f":"'Auslegung-V'!D116","v":""},null,"%"]
[{"$f":"'Auslegung-V'!A117","v":"Resultierende Raumkategorie"},"RAL",{"$f":"'Auslegung-V'!D117","v":""},null,{"$f":"\"-/-\"","v":"-/-"}]
[{"$f":"'Auslegung-V'!A118","v":"Schallleistungspegel, Einzeldurchlass"},"LWA_SUP",{"$f":"'Auslegung-V'!D118","v":51.401162151607735},null,"dB(A)"]
[]
[{"$f":"'Auslegung-V'!A122","v":"*Gilt für Eintritt der Luftströmung in den Aufenthaltbereich nach dem Stoßpunkt"}]
[{"$f":"Übersetzung!F92","v":"** Raumkategorie nach DIN EN ISO 7730: DR<10 % = A; DR<20 % = B; DR<30 % = C"}]
[]
[]
[{"$f":"'Auslegung-V'!A125","v":"Oktavspektrum Schallleistung [dB]"},"f [Hz]",125,250,500,1000,2000,4000,8000]
[null,"LWA_Okt",{"$f":"IF('Auslegung-V'!$D$126=\"\",'Auslegung-V'!$E$126,'Auslegung-V'!$D$126)","v":63.765824257200173},{"$f":"IF('Auslegung-V'!$D$127=\"\",'Auslegung-V'!$E$127,'Auslegung-V'!$D$127)","v":55.166922126888934},{"$f":"IF('Auslegung-V'!$D$128=\"\",'Auslegung-V'!$E$128,'Auslegung-V'!$D$128)","v":46.807571914190724},{"$f":"IF('Auslegung-V'!$D$129=\"\",'Auslegung-V'!$E$103,'Auslegung-V'!$D$129)","v":37.299591884101545},{"$f":"IF('Auslegung-V'!$D$130=\"\",'Auslegung-V'!$E$130,'Auslegung-V'!$D$130)","v":29.735077409825585},{"$f":"IF('Auslegung-V'!$D$130=\"\",'Auslegung-V'!$E$130,'Auslegung-V'!$D$130)","v":29.735077409825585},{"$f":"IF('Auslegung-V'!$D$132=\"\",'Auslegung-V'!$E$132,'Auslegung-V'!$D$132)","v":28.514613009352708}]
[null,null,null,null,null,null,null,null,{"$f":"'Auslegung-V'!A134","v":"Änderungen vorbehalten"}]
[null,null,null,null,null,null,null,{"$f":"'Auslegung-V'!A135","v":"Stand:"},{"$f":"'Grunddaten-L'!$E$36","v":"2020-10-30"}]

{"sheet":"Grunddaten-V","index":12,"n_rows":40,"n_cols":22,"rows_kept":40,"cut":false,"hidden":true,"merged":[[1,17,1,18],[0,17,0,21],[1,19,1,21]]}
["Typ","DN",null,"Baulänge","Schlitzanzahl","Schlitzlänge","Soll-Volumenstrom","V° Auslegung min","V° Auslegung max","Durchmesser Anschluss","Anströmgeschwindigkeit","Druckverlust, Zuluft","Druckverlust, Abluft","Höhe Anschlusskasten","Breite Anschlusskasten","min. Abmessungen Frontblende quadratisch","min. Abmessungen Frontblende rund","Vorauswahlkriterien"]
[null,"Lochbild",null,"l","n","L","V°","V°min","V°max","d","v","Dp","Dp","h","b","b1","x","Volumenstrom",null,"Schallleistungspegel"]
[null,null,null,"mm",1,"mm","m³/h","m³/h","m³/h","mm","m/s","Pa","Pa","mm","mm","mm","mm","größer als v°min?","kleiner als V°max?","K021","K022","dB"]
["VLV",250,{"$f":"CONCATENATE(A4,B4)","v":"VLV250"},null,null,null,{"$f":"Einheiten!$E$37","v":3000},300,1800,248,{"$f":"'Auslegung-V'!$D$37/(PI()/4*('Grunddaten-V'!J4/1000)^2*3600)","v":17.251446311556471},{"$f":"SUM('VLV-CAP'!$C$40,'VLD-CAP'!$C$40,'WKD380-CAP'!$C$40,'WKD381-CAP'!$C$40)*'Grunddaten-V'!G4^(SUM('VLV-CAP'!$C$41,'VLD-CAP'!$C$41,'WKD380-CAP'!$C$41,'WKD381-CAP'!$C$41))","v":35.456298319145546},null," -/-"," -/-",null,null,{"$f":"IF(G4>='Grunddaten-V'!$H4,\"x\",\"\")","v":"x"},{"$f":"IF(Vorauswahl!$D$8/Vorauswahl!$D$9<='Grunddaten-V'!$I4,\"x\",\"\")","v":{"$error":"#DIV/0!"}},-145.35,65.010000000000005,{"$f":"T4+U4*LOG(G4)","v":80.697652769325288}]
["VLV",315,{"$f":"CONCATENATE(A5,B5)","v":"VLV315"},null,null,null,{"$f":"Einheiten!$E$37","v":3000},400,2800,314,{"$f":"'Auslegung-V'!$D$37/(PI()/4*('Grunddaten-V'!J5/1000)^2*3600)","v":10.761419874497633},{"$f":"SUM('VLV-CAP'!$C$40,'VLD-CAP'!$C$40,'WKD380-CAP'!$C$40,'WKD381-CAP'!$C$40)*'Grunddaten-V'!G5^(SUM('VLV-CAP'!$C$41,'VLD-CAP'!$C$41,'WKD380-CAP'!$C$41,'WKD381-CAP'!$C$41))","v":35.456298319145546},null," -/-"," -/-",null,null,{"$f":"IF(G5>='Grunddaten-V'!$H5,\"x\",\"\")","v":"x"},{"$f":"IF(Vorauswahl!$D$8/Vorauswahl!$D$9<='Grunddaten-V'!$I5,\"x\",\"\")","v":{"$error":"#DIV/0!"}},-181.43,71.75,{"$f":"T5+U5*LOG(G5)","v":68.053450026135778}]
["VLV",400,"VLV400",null,null,null,{"$f":"Einheiten!$E$37","v":3000},700,4500,398,{"$f":"'Auslegung-V'!$D$37/(PI()/4*('Grunddaten-V'!J6/1000)^2*3600)","v":6.6982712175574406},{"$f":"SUM('VLV-CAP'!$C$40,'VLD-CAP'!$C$40,'WKD380-CAP'!$C$40,'WKD381-CAP'!$C$40)*'Grunddaten-V'!G6^(SUM('VLV-CAP'!$C$41,'VLD-CAP'!$C$41,'WKD380-CAP'!$C$41,'WKD381-CAP'!$C$41))","v":35.456298319145546},null," -/-"," -/-",null,null,{"$f":"IF(G6>='Grunddaten-V'!$H6,\"x\",\"\")","v":"x"},{"$f":"IF(Vorauswahl!$D$8/Vorauswahl!$D$9<='Grunddaten-V'!$I6,\"x\",\"\")","v":{"$error":"#DIV/0!"}},-192.27,70.53,{"$f":"T6+U6*LOG(G6)","v":52.971362095377799}]
["VLV",500,"VLV500",null,null,null,{"$f":"Einheiten!$E$37","v":3000},1000,7000,498,{"$f":"'Auslegung-V'!$D$37/(PI()/4*('Grunddaten-V'!J7/1000)^2*3600)","v":4.278289680593736},{"$f":"SUM('VLV-CAP'!$C$40,'VLD-CAP'!$C$40,'WKD380-CAP'!$C$40,'WKD381-CAP'!$C$40)*'Grunddaten-V'!G7^(SUM('VLV-CAP'!$C$41,'VLD-CAP'!$C$41,'WKD380-CAP'!$C$41,'WKD381-CAP'!$C$41))","v":35.456298319145546},null," -/-"," -/-",null,null,{"$f":"IF(G7>='Grunddaten-V'!$H7,\"x\",\"\")","v":"x"},{"$f":"IF(Vorauswahl!$D$8/Vorauswahl!$D$9<='Grunddaten-V'!$I7,\"x\",\"\")","v":{"$error":"#DIV/0!"}},-187.05,65.180000000000007,39.588763382627633]
["VLD",250,"VLD250",null,null,null,{"$f":"Einheiten!$E$37","v":3000},300,1800,248,{"$f":"'Auslegung-V'!$D$37/(PI()/4*('Grunddaten-V'!J8/1000)^2*3600)","v":17.251446311556471},{"$f":"SUM('VLV-CAP'!$C$40,'VLD-CAP'!$C$40,'WKD380-CAP'!$C$40,'WKD381-CAP'!$C$40)*'Grunddaten-V'!G8^(SUM('VLV-CAP'!$C$41,'VLD-CAP'!$C$41,'WKD380-CAP'!$C$41,'WKD381-CAP'!$C$41))","v":35.456298319145546},null," -/-"," -/-",null,null,{"$f":"IF(G8>='Grunddaten-V'!$H8,\"x\",\"\")","v":"x"},{"$f":"IF(Vorauswahl!$D$8/Vorauswahl!$D$9<='Grunddaten-V'!$I8,\"x\",\"\")","v":{"$error":"#DIV/0!"}},-143.35,65.010000000000005,82.697652769325288]
["VLD",315,"VLD315",null,null,null,{"$f":"Einheiten!$E$37","v":3000},400,2800,314,{"$f":"'Auslegung-V'!$D$37/(PI()/4*('Grunddaten-V'!J9/1000)^2*3600)","v":10.761419874497633},{"$f":"SUM('VLV-CAP'!$C$40,'VLD-CAP'!$C$40,'WKD380-CAP'!$C$40,'WKD381-CAP'!$C$40)*'Grunddaten-V'!G9^(SUM('VLV-CAP'!$C$41,'VLD-CAP'!$C$41,'WKD380-CAP'!$C$41,'WKD381-CAP'!$C$41))","v":35.456298319145546},null," -/-"," -/-",null,null,{"$f":"IF(G9>='Grunddaten-V'!$H9,\"x\",\"\")","v":"x"},{"$f":"IF(Vorauswahl!$D$8/Vorauswahl!$D$9<='Grunddaten-V'!$I9,\"x\",\"\")","v":{"$error":"#DIV/0!"}},-179.43,71.75,70.053450026135778]
["VLD",400,"VLD400",null,null,null,{"$f":"Einheiten!$E$37","v":3000},700,4500,398,{"$f":"'Auslegung-V'!$D$37/(PI()/4*('Grunddaten-V'!J10/1000)^2*3600)","v":6.6982712175574406},{"$f":"SUM('VLV-CAP'!$C$40,'VLD-CAP'!$C$40,'WKD380-CAP'!$C$40,'WKD381-CAP'!$C$40)*'Grunddaten-V'!G10^(SUM('VLV-CAP'!$C$41,'VLD-CAP'!$C$41,'WKD380-CAP'!$C$41,'WKD381-CAP'!$C$41))","v":35.456298319145546},null," -/-"," -/-",null,null,{"$f":"IF(G10>='Grunddaten-V'!$H10,\"x\",\"\")","v":"x"},{"$f":"IF(Vorauswahl!$D$8/Vorauswahl!$D$9<='Grunddaten-V'!$I10,\"x\",\"\")","v":{"$error":"#DIV/0!"}},-190.27,70.53,54.971362095377799]
["VLD",500,"VLD500",null,null,null,{"$f":"Einheiten!$E$37","v":3000},1000,7000,498,{"$f":"'Auslegung-V'!$D$37/(PI()/4*('Grunddaten-V'!J11/1000)^2*3600)","v":4.278289680593736},{"$f":"SUM('VLV-CAP'!$C$40,'VLD-CAP'!$C$40,'WKD380-CAP'!$C$40,'WKD381-CAP'!$C$40)*'Grunddaten-V'!G11^(SUM('VLV-CAP'!$C$41,'VLD-CAP'!$C$41,'WKD380-CAP'!$C$41,'WKD381-CAP'!$C$41))","v":35.456298319145546},null," -/-"," -/-",null,null,{"$f":"IF(G11>='Grunddaten-V'!$H11,\"x\",\"\")","v":"x"},{"$f":"IF(Vorauswahl!$D$8/Vorauswahl!$D$9<='Grunddaten-V'!$I11,\"x\",\"\")","v":{"$error":"#DIV/0!"}},-185.05,65.180000000000007,41.588763382627633]
["WKD 380",600,"WKD 380600",null,null,null,{"$f":"Einheiten!$E$37","v":3000},700,2000,350,{"$f":"'Auslegung-V'!$D$37/(PI()/4*('Grunddaten-V'!J12/1000)^2*3600)","v":8.6614935015997485},{"$f":"SUM('VLV-CAP'!$C$40,'VLD-CAP'!$C$40,'WKD380-CAP'!$C$40,'WKD381-CAP'!$C$40)*'Grunddaten-V'!G12^(SUM('VLV-CAP'!$C$41,'VLD-CAP'!$C$41,'WKD380-CAP'!$C$41,'WKD381-CAP'!$C$41))","v":35.456298319145546},null,500,554,null,null,{"$f":"IF(G12>='Grunddaten-V'!$H12,\"x\",\"\")","v":"x"},{"$f":"IF(Vorauswahl!$D$8/Vorauswahl!$D$9<='Grunddaten-V'!$I12,\"x\",\"\")","v":{"$error":"#DIV/0!"}},-169.7,71.17,77.766719698398418]
["WKD 380",800,"WKD 380800",null,null,null,{"$f":"Einheiten!$E$37","v":3000},1300,4500,500,{"$f":"'Auslegung-V'!$D$37/(PI()/4*('Grunddaten-V'!J13/1000)^2*3600)","v":4.2441318157838754},{"$f":"SUM('VLV-CAP'!$C$40,'VLD-CAP'!$C$40,'WKD380-CAP'!$C$40,'WKD381-CAP'!$C$40)*'Grunddaten-V'!G13^(SUM('VLV-CAP'!$C$41,'VLD-CAP'!$C$41,'WKD380-CAP'!$C$41,'WKD381-CAP'!$C$41))","v":35.456298319145546},null,700,794,null,null,{"$f":"IF(G13>='Grunddaten-V'!$H13,\"x\",\"\")","v":"x"},{"$f":"IF(Vorauswahl!$D$8/Vorauswahl!$D$9<='Grunddaten-V'!$I13,\"x\",\"\")","v":{"$error":"#DIV/0!"}},-136.19999999999999,55.19,55.702322047978186]
["WKD 380",1000,"WKD 3801000",null,null,null,{"$f":"Einheiten!$E$37","v":3000},3000,9000,600,{"$f":"'Auslegung-V'!$D$37/(PI()/4*('Grunddaten-V'!J14/1000)^2*3600)","v":2.9473137609610247},{"$f":"SUM('VLV-CAP'!$C$40,'VLD-CAP'!$C$40,'WKD380-CAP'!$C$40,'WKD381-CAP'!$C$40)*'Grunddaten-V'!G14^(SUM('VLV-CAP'!$C$41,'VLD-CAP'!$C$41,'WKD380-CAP'!$C$41,'WKD381-CAP'!$C$41))","v":35.456298319145546},null,800,1074,null,null,{"$f":"IF(G14>='Grunddaten-V'!$H14,\"x\",\"\")","v":"x"},{"$f":"IF(Vorauswahl!$D$8/Vorauswahl!$D$9<='Grunddaten-V'!$I14,\"x\",\"\")","v":{"$error":"#DIV/0!"}},-137.6,54.12,50.581802305428141]
["WKD 381-1",300,"WKD 381-1300",null,null,null,{"$f":"Einheiten!$E$37","v":3000},100,250,150,{"$f":"'Auslegung-V'!$D$37/(PI()/4*('Grunddaten-V'!J15/1000)^2*3600)","v":47.157020175376395},{"$f":"SUM('VLV-CAP'!$C$40,'VLD-CAP'!$C$40,'WKD380-CAP'!$C$40,'WKD381-CAP'!$C$40)*'Grunddaten-V'!G15^(SUM('VLV-CAP'!$C$41,'VLD-CAP'!$C$41,'WKD380-CAP'!$C$41,'WKD381-CAP'!$C$41))","v":35.456298319145546},null,300,300,null,null,{"$f":"IF(G15>='Grunddaten-V'!$H15,\"x\",\"\")","v":"x"},{"$f":"IF(Vorauswahl!$D$8/Vorauswahl!$D$9<='Grunddaten-V'!$I15,\"x\",\"\")","v":{"$error":"#DIV/0!"}},-81.569999999999993,53.17,103.30853711344449]
["WKD 381-1",500,"WKD 381-1500",null,null,null,{"$f":"Einheiten!$E$37","v":3000},200,500,200,{"$f":"'Auslegung-V'!$D$37/(PI()/4*('Grunddaten-V'!J16/1000)^2*3600)","v":26.525823848649221},{"$f":"SUM('VLV-CAP'!$C$40,'VLD-CAP'!$C$40,'WKD380-CAP'!$C$40,'WKD381-CAP'!$C$40)*'Grunddaten-V'!G16^(SUM('VLV-CAP'!$C$41,'VLD-CAP'!$C$41,'WKD380-CAP'!$C$41,'WKD381-CAP'!$C$41))","v":35.456298319145546},null,400,500,null,null,{"$f":"IF(G16>='Grunddaten-V'!$H16,\"x\",\"\")","v":"x"},{"$f":"IF(Vorauswahl!$D$8/Vorauswahl!$D$9<='Grunddaten-V'!$I16,\"x\",\"\")","v":{"$error":"#DIV/0!"}},-81.16,46.77,81.46496108323862]
["WKD 381-1",600,"WKD 381-1600",null,null,null,{"$f":"Einheiten!$E$37","v":3000},250,800,250,{"$f":"'Auslegung-V'!$D$37/(PI()/4*('Grunddaten-V'!J17/1000)^2*3600)","v":16.976527263135502},{"$f":"SUM('VLV-CAP'!$C$40,'VLD-CAP'!$C$40,'WKD380-CAP'!$C$40,'WKD381-CAP'!$C$40)*'Grunddaten-V'!G17^(SUM('VLV-CAP'!$C$41,'VLD-CAP'!$C$41,'WKD380-CAP'!$C$41,'WKD381-CAP'!$C$41))","v":35.456298319145546},null,400,595,null,null,{"$f":"IF(G17>='Grunddaten-V'!$H17,\"x\",\"\")","v":"x"},{"$f":"IF(Vorauswahl!$D$8/Vorauswahl!$D$9<='Grunddaten-V'!$I17,\"x\",\"\")","v":{"$error":"#DIV/0!"}},-80.87,44.54,74.000980685213761]
["WKD 381-2",600,"WKD 381-2600",null,null,null,{"$f":"Einheiten!$E$37","v":3000},400,1500,350,{"$f":"'Auslegung-V'!$D$37/(PI()/4*('Grunddaten-V'!J18/1000)^2*3600)","v":8.6614935015997485},{"$f":"SUM('VLV-CAP'!$C$40,'VLD-CAP'!$C$40,'WKD380-CAP'!$C$40,'WKD381-CAP'!$C$40)*'Grunddaten-V'!G18^(SUM('VLV-CAP'!$C$41,'VLD-CAP'!$C$41,'WKD380-CAP'!$C$41,'WKD381-CAP'!$C$41))","v":35.456298319145546},null,500,595,null,null,{"$f":"IF(G18>='Grunddaten-V'!$H18,\"x\",\"\")","v":"x"},{"$f":"IF(Vorauswahl!$D$8/Vorauswahl!$D$9<='Grunddaten-V'!$I18,\"x\",\"\")","v":{"$error":"#DIV/0!"}},-87.06,43.34,63.638435179550186]
["WKD 381-3",600,"WKD 381-3600",null,null,null,{"$f":"Einheiten!$E$37","v":3000},600,2000,400,{"$f":"'Auslegung-V'!$D$37/(PI()/4*('Grunddaten-V'!J19/1000)^2*3600)","v":6.6314559621623053},{"$f":"SUM('VLV-CAP'!$C$40,'VLD-CAP'!$C$40,'WKD380-CAP'!$C$40,'WKD381-CAP'!$C$40)*'Grunddaten-V'!G19^(SUM('VLV-CAP'!$C$41,'VLD-CAP'!$C$41,'WKD380-CAP'!$C$41,'WKD381-CAP'!$C$41))","v":35.456298319145546},null,600,595,null,null,{"$f":"IF(G19>='Grunddaten-V'!$H19,\"x\",\"\")","v":"x"},{"$f":"IF(Vorauswahl!$D$8/Vorauswahl!$D$9<='Grunddaten-V'!$I19,\"x\",\"\")","v":{"$error":"#DIV/0!"}},-126.12,53.81,60.983894716465045]
["IVA",250,"IVA250",null,null,null,{"$f":"Einheiten!$E$37","v":3000},500,1500,250,{"$f":"'Auslegung-V'!$D$37/(PI()/4*('Grunddaten-V'!J20/1000)^2*3600)","v":16.976527263135502},{"$f":"#REF!*'Grunddaten-V'!K20^#REF!","v":{"$error":"#REF!"}},null," -/-"," -/-",null,null,{"$f":"IF(G20>='Grunddaten-V'!$H20,\"x\",\"\")","v":"x"},{"$f":"IF(Vorauswahl!$D$8/Vorauswahl!$D$9<='Grunddaten-V'!$I20,\"x\",\"\")","v":{"$error":"#DIV/0!"}},8.2636539236659665,56.160486446999379,{"$f":"T20+U20*LOG(K20)","v":77.332563890349235}]
["IVA",315,"IVA315",null,null,null,{"$f":"Einheiten!$E$37","v":3000},800,2300,315,{"$f":"'Auslegung-V'!$D$37/(PI()/4*('Grunddaten-V'!J21/1000)^2*3600)","v":10.693201853826848},{"$f":"#REF!*'Grunddaten-V'!K21^#REF!","v":{"$error":"#REF!"}},null," -/-"," -/-",null,null,{"$f":"IF(G21>='Grunddaten-V'!$H21,\"x\",\"\")","v":"x"},{"$f":"IF(Vorauswahl!$D$8/Vorauswahl!$D$9<='Grunddaten-V'!$I21,\"x\",\"\")","v":{"$error":"#DIV/0!"}},8.2636539236659665,56.160486446999379,{"$f":"T21+U21*LOG(K21)","v":66.058846612843553}]
["IVA",355,"IVA355",null,null,null,{"$f":"Einheiten!$E$37","v":3000},1000,3000,355,{"$f":"'Auslegung-V'!$D$37/(PI()/4*('Grunddaten-V'!J22/1000)^2*3600)","v":8.4192259785436931},{"$f":"#REF!*'Grunddaten-V'!K22^#REF!","v":{"$error":"#REF!"}},null," -/-"," -/-",null,null,{"$f":"IF(G22>='Grunddaten-V'!$H22,\"x\",\"\")","v":"x"},{"$f":"IF(Vorauswahl!$D$8/Vorauswahl!$D$9<='Grunddaten-V'!$I22,\"x\",\"\")","v":{"$error":"#DIV/0!"}},8.2636539236659665,56.160486446999379,60.227388888827988]
["IVA",400,"IVA400",null,null,null,{"$f":"Einheiten!$E$37","v":3000},1500,3750,400,{"$f":"'Auslegung-V'!$D$37/(PI()/4*('Grunddaten-V'!J23/1000)^2*3600)","v":6.6314559621623053},{"$f":"#REF!*'Grunddaten-V'!K23^#REF!","v":{"$error":"#REF!"}},null," -/-"," -/-",null,null,{"$f":"IF(G23>='Grunddaten-V'!$H23,\"x\",\"\")","v":"x"},{"$f":"IF(Vorauswahl!$D$8/Vorauswahl!$D$9<='Grunddaten-V'!$I23,\"x\",\"\")","v":{"$error":"#DIV/0!"}},8.2636539236659665,56.160486446999379,54.405608851329603]
["IVA",450,"IVA450",null,null,null,{"$f":"Einheiten!$E$37","v":3000},1800,4750,450,{"$f":"'Auslegung-V'!$D$37/(PI()/4*('Grunddaten-V'!J24/1000)^2*3600)","v":5.2396689083751546},{"$f":"#REF!*'Grunddaten-V'!K24^#REF!","v":{"$error":"#REF!"}},null," -/-"," -/-",null,null,{"$f":"IF(G24>='Grunddaten-V'!$H24,\"x\",\"\")","v":"x"},{"$f":"IF(Vorauswahl!$D$8/Vorauswahl!$D$9<='Grunddaten-V'!$I24,\"x\",\"\")","v":{"$error":"#DIV/0!"}},8.2636539236659665,56.160486446999379,48.660107764057628]
["IVA",500,"IVA500",null,null,null,{"$f":"Einheiten!$E$37","v":3000},2300,5800,500,{"$f":"'Auslegung-V'!$D$37/(PI()/4*('Grunddaten-V'!J25/1000)^2*3600)","v":4.2441318157838754},{"$f":"#REF!*'Grunddaten-V'!K25^#REF!","v":{"$error":"#REF!"}},null," -/-"," -/-",null,null,{"$f":"IF(G25>='Grunddaten-V'!$H25,\"x\",\"\")","v":"x"},{"$f":"IF(Vorauswahl!$D$8/Vorauswahl!$D$9<='Grunddaten-V'!$I25,\"x\",\"\")","v":{"$error":"#DIV/0!"}},8.2636539236659665,56.160486446999379,43.520581907094623]
["IVA",560,"IVA560",null,null,null,{"$f":"Einheiten!$E$37","v":3000},2800,7400,560,{"$f":"'Auslegung-V'!$D$37/(PI()/4*('Grunddaten-V'!J26/1000)^2*3600)","v":3.3833958990624007},{"$f":"#REF!*'Grunddaten-V'!K26^#REF!","v":{"$error":"#REF!"}},null," -/-"," -/-",null,null,{"$f":"IF(G26>='Grunddaten-V'!$H26,\"x\",\"\")","v":"x"},{"$f":"IF(Vorauswahl!$D$8/Vorauswahl!$D$9<='Grunddaten-V'!$I26,\"x\",\"\")","v":{"$error":"#DIV/0!"}},8.2636539236659665,56.160486446999379,37.992365716860945]
["IVA",630,"IVA630",null,null,null,{"$f":"Einheiten!$E$37","v":3000},3600,9300,630,{"$f":"'Auslegung-V'!$D$37/(PI()/4*('Grunddaten-V'!J27/1000)^2*3600)","v":2.6733004634567119},{"$f":"#REF!*'Grunddaten-V'!K27^#REF!","v":{"$error":"#REF!"}},null," -/-"," -/-",null,null,{"$f":"IF(G27>='Grunddaten-V'!$H27,\"x\",\"\")","v":""},{"$f":"IF(Vorauswahl!$D$8/Vorauswahl!$D$9<='Grunddaten-V'!$I27,\"x\",\"\")","v":{"$error":"#DIV/0!"}},8.2636539236659665,56.160486446999379,32.24686462958897]
[]
[]
[]
[]
[]
[]
[]
[null,null,null,2,3,4,5,6,7,8,9,10,11,12,13,14,15,16,17,18,19,20]
[]
["Auswahl:","Zuluft",{"$f":"CONCATENATE('Auslegung-V'!$D$12,'Auslegung-V'!$D$20)","v":"VLD400"},{"$f":"VLOOKUP($C$37,$C$4:$L$34,D35,FALSE)","v":0},0,0,3000,{"$f":"IF(Einheiten!$F$2=3,VLOOKUP($C$37,$C$4:$L$34,H35,FALSE)/Einheiten!$F$11,VLOOKUP($C$37,$C$4:$L$34,H35,FALSE))","v":700},{"$f":"IF(Einheiten!$F$2=3,VLOOKUP($C$37,$C$4:$L$34,I35,FALSE)/Einheiten!$F$11,VLOOKUP($C$37,$C$4:$L$34,I35,FALSE))","v":4500},{"$f":"IF(Einheiten!$F$2=3,VLOOKUP($C$37,$C$4:$L$34,J35,FALSE)/Einheiten!$F$15,VLOOKUP($C$37,$C$4:$L$34,J35,FALSE))","v":398},{"$f":"IF(Einheiten!$F$2=3,VLOOKUP($C$37,$C$4:$L$34,K35,FALSE)/Einheiten!$F$9,VLOOKUP($C$37,$C$4:$L$34,K35,FALSE))","v":6.6982712175574406},{"$f":"VLOOKUP($C$37,$C$4:$L$34,L35,FALSE)","v":35.456298319145546},{"$f":"VLOOKUP($C$37,$C$4:$M$34,M35,FALSE)","v":0},{"$f":"IF(Einheiten!$F$2=3,VLOOKUP($C$37,$C$4:$Q$34,N35,FALSE)/Einheiten!$F$15,VLOOKUP($C$37,$C$4:$Q$34,N35,FALSE))","v":" -/-"},{"$f":"IF(Einheiten!$F$2=3,VLOOKUP($C$37,$C$4:$Q$34,O35,FALSE)/Einheiten!$F$15,VLOOKUP($C$37,$C$4:$Q$34,O35,FALSE))","v":" -/-"},{"$f":"VLOOKUP($C$37,$C$4:$Q$34,P35,FALSE)","v":0},{"$f":"VLOOKUP($C$37,$C$4:$Q$34,Q35,FALSE)","v":0},{"$f":"VLOOKUP($C$37,$C$4:$R$34,R35,FALSE)","v":"x"},{"$f":"VLOOKUP($C$37,$C$4:$V$34,S35,FALSE)","v":{"$error":"#DIV/0!"}},{"$f":"VLOOKUP($C$37,$C$4:$V$34,T35,FALSE)","v":-190.27},{"$f":"VLOOKUP($C$37,$C$4:$V$34,U35,FALSE)","v":70.53},{"$f":"VLOOKUP($C$37,$C$4:$V$34,V35,FALSE)","v":54.971362095377799}]
[null,"Abluft",{"$f":"CONCATENATE('Auslegung-V'!$D$12,'Auslegung-V'!$D$30)","v":"VLDdeckenbündig"},{"$f":"VLOOKUP($C$38,$C$4:$L$34,D35,FALSE)","v":{"$error":"#N/A"}},{"$error":"#N/A"},{"$error":"#N/A"},{"$error":"#N/A"},{"$error":"#N/A"},{"$error":"#N/A"},{"$error":"#N/A"},{"$error":"#N/A"},{"$f":"VLOOKUP($C$38,$C$4:$L$34,L35,FALSE)","v":{"$error":"#N/A"}},{"$f":"VLOOKUP($C$37,$C$4:$M$34,M35,FALSE)","v":0},{"$f":"VLOOKUP($C$38,$C$4:$N$34,N35,FALSE)","v":{"$error":"#N/A"}},{"$f":"VLOOKUP($C$38,$C$4:$Q$34,O35,FALSE)","v":{"$error":"#N/A"}},{"$f":"VLOOKUP($C$38,$C$4:$Q$34,P35,FALSE)","v":{"$error":"#N/A"}},{"$f":"VLOOKUP($C$38,$C$4:$Q$34,Q35,FALSE)","v":{"$error":"#N/A"}},{"$f":"VLOOKUP($C$38,$C$4:$R$34,R35,FALSE)","v":{"$error":"#N/A"}}]
[]
[null,null,null,"Stand:","2020-10-30"]

{"sheet":"Lw","index":13,"n_rows":128,"n_cols":23,"rows_kept":128,"cut":false,"hidden":true,"merged":[[127,0,127,1],[123,0,123,1],[124,0,124,1],[125,0,125,1],[126,0,126,1],[122,0,122,1],[111,0,111,1],[112,0,112,1],[113,0,113,1],[114,0,114,1],[115,0,115,1],[116,0,116,1],[117,0,117,1],[118,0,118,1],[119,0,119,1],[120,0,120,1],[121,0,121,1],[110,0,110,1],[54,1,54,7],[1,1,1,21],[21,1,21,21],[102,0,102,2],[103,0,103,1],[104,0,104,1],[105,0,105,1],[106,0,106,1],[107,0,107,1],[108,0,108,1],[109,0,109,1],[3,0,18,0]]}
[]
[null,"Terzfrequenzband fm [Hz]"]
[null,100,125,160,200,250,315,400,500,630,800,1000,1250,1600,2000,2500,3150,4000,5000,6300,8000,10000]
[]
[]
[]
[]
[]
[]
[]
[]
[]
[]
[]
[]
[]
[]
[]
[]
[null,2,3,4,5,6,7,8,9,10,11,12,13,14,15,16,17,18,19,20,21,22]
[]
[null,"Terzfrequenzband fm [Hz]"]
[null,100,125,160,200,250,315,400,500,630,800,1000,1250,1600,2000,2500,3150,4000,5000,6300,8000,10000]
[null,null,null,null,null,null,null,null,null,null,null,null,null,null,null,null,null,null,null,null,null,null,{"$f":"10*LOG(10^(0.1*B24)+10^(0.1*C24)+10^(0.1*D24)+10^(0.1*E24)+10^(0.1*F24)+10^(0.1*G24)+10^(0.1*H24)+10^(0.1*I24)+10^(0.1*J24)+10^(0.1*K24)+10^(0.1*L24)+10^(0.1*M24)+10^(0.1*N24)+10^(0.1*O24)+10^(0.1*P24)+10^(0.1*Q24)+10^(0.1*R24)+10^(0.1*S24)+10^(0.1*T24)+10^(0.1*U24)+10^(0.1*V24))","v":13.222192947339193}]
[null,null,null,null,null,null,null,null,null,null,null,null,null,null,null,null,null,null,null,null,null,null,{"$f":"10*LOG(10^(0.1*B25)+10^(0.1*C25)+10^(0.1*D25)+10^(0.1*E25)+10^(0.1*F25)+10^(0.1*G25)+10^(0.1*H25)+10^(0.1*I25)+10^(0.1*J25)+10^(0.1*K25)+10^(0.1*L25)+10^(0.1*M25)+10^(0.1*N25)+10^(0.1*O25)+10^(0.1*P25)+10^(0.1*Q25)+10^(0.1*R25)+10^(0.1*S25)+10^(0.1*T25)+10^(0.1*U25)+10^(0.1*V25))","v":13.222192947339193}]
[null,null,null,null,null,null,null,null,null,null,null,null,null,null,null,null,null,null,null,null,null,null,{"$f":"10*LOG(10^(0.1*B26)+10^(0.1*C26)+10^(0.1*D26)+10^(0.1*E26)+10^(0.1*F26)+10^(0.1*G26)+10^(0.1*H26)+10^(0.1*I26)+10^(0.1*J26)+10^(0.1*K26)+10^(0.1*L26)+10^(0.1*M26)+10^(0.1*N26)+10^(0.1*O26)+10^(0.1*P26)+10^(0.1*Q26)+10^(0.1*R26)+10^(0.1*S26)+10^(0.1*T26)+10^(0.1*U26)+10^(0.1*V26))","v":13.222192947339193}]
[null,null,null,null,null,null,null,null,null,null,null,null,null,null,null,null,null,null,null,null,null,null,{"$f":"10*LOG(10^(0.1*B27)+10^(0.1*C27)+10^(0.1*D27)+10^(0.1*E27)+10^(0.1*F27)+10^(0.1*G27)+10^(0.1*H27)+10^(0.1*I27)+10^(0.1*J27)+10^(0.1*K27)+10^(0.1*L27)+10^(0.1*M27)+10^(0.1*N27)+10^(0.1*O27)+10^(0.1*P27)+10^(0.1*Q27)+10^(0.1*R27)+10^(0.1*S27)+10^(0.1*T27)+10^(0.1*U27)+10^(0.1*V27))","v":13.222192947339193}]
[null,null,null,null,null,null,null,null,null,null,null,null,null,null,null,null,null,null,null,null,null,null,{"$f":"10*LOG(10^(0.1*B28)+10^(0.1*C28)+10^(0.1*D28)+10^(0.1*E28)+10^(0.1*F28)+10^(0.1*G28)+10^(0.1*H28)+10^(0.1*I28)+10^(0.1*J28)+10^(0.1*K28)+10^(0.1*L28)+10^(0.1*M28)+10^(0.1*N28)+10^(0.1*O28)+10^(0.1*P28)+10^(0.1*Q28)+10^(0.1*R28)+10^(0.1*S28)+10^(0.1*T28)+10^(0.1*U28)+10^(0.1*V28))","v":13.222192947339193}]
[null,null,null,null,null,null,null,null,null,null,null,null,null,null,null,null,null,null,null,null,null,null,13.222192947339193]
[null,null,null,null,null,null,null,null,null,null,null,null,null,null,null,null,null,null,null,null,null,null,13.222192947339193]
[null,null,null,null,null,null,null,null,null,null,null,null,null,null,null,null,null,null,null,null,null,null,13.222192947339193]
[null,null,null,null,null,null,null,null,null,null,null,null,null,null,null,null,null,null,null,null,null,null,13.222192947339193]
[null,null,null,null,null,null,null,null,null,null,null,null,null,null,null,null,null,null,null,null,null,null,13.222192947339193]
[null,null,null,null,null,null,null,null,null,null,null,null,null,null,null,null,null,null,null,null,null,null,13.222192947339193]
[null,null,null,null,null,null,null,null,null,null,null,null,null,null,null,null,null,null,null,null,null,null,13.222192947339193]
[null,null,null,null,null,null,null,null,null,null,null,null,null,null,null,null,null,null,null,null,null,null,13.222192947339193]
[null,null,null,null,null,null,null,null,null,null,null,null,null,null,null,null,null,null,null,null,null,null,13.222192947339193]
[null,null,null,null,null,null,null,null,null,null,null,null,null,null,null,null,null,null,null,null,null,null,13.222192947339193]
[null,null,null,null,null,null,null,null,null,null,null,null,null,null,null,null,null,null,null,null,null,null,13.222192947339193]
[null,null,null,null,null,null,null,null,null,null,null,null,null,null,null,null,null,null,null,null,null,null,13.222192947339193]
[null,null,null,null,null,null,null,null,null,null,null,null,null,null,null,null,null,null,null,null,null,null,13.222192947339193]
[null,null,null,null,null,null,null,null,null,null,null,null,null,null,null,null,null,null,null,null,null,null,13.222192947339193]
[null,null,null,null,null,null,null,null,null,null,null,null,null,null,null,null,null,null,null,null,null,null,13.222192947339193]
[null,null,null,null,null,null,null,null,null,null,null,null,null,null,null,null,null,null,null,null,null,null,13.222192947339193]
[null,null,null,null,null,null,null,null,null,null,null,null,null,null,null,null,null,null,null,null,null,null,13.222192947339193]
[null,null,null,null,null,null,null,null,null,null,null,null,null,null,null,null,null,null,null,null,null,null,13.222192947339193]
[null,null,null,null,null,null,null,null,null,null,null,null,null,null,null,null,null,null,null,null,null,null,13.222192947339193]
[null,null,null,null,null,null,null,null,null,null,null,null,null,null,null,null,null,null,null,null,null,null,13.222192947339193]
[null,null,null,null,null,null,null,null,null,null,null,null,null,null,null,null,null,null,null,null,null,null,13.222192947339193]
[]
[null,null,null,null,null,null,null,null,"Heizfallkonstanten aus Übergabetabelle Schallleistungspegel"]
["Werteübergabe für klassische CAP-Berechnung:",null,null,"Durchlass:",{"$f":"'Auslegung-V'!$D$12","v":"VLD"},"K021",{"$f":"SUM('VLV-CAP'!$C$42,'VLD-CAP'!$C$42,'WKD380-CAP'!$C$42,'WKD381-CAP'!$C$42)","v":-198.43},null,"K021",{"$f":"'LW Auswahl'!AH23","v":-198.43}]
[null,null,null,"Lochbild:",{"$f":"'Auslegung-V'!$D$30","v":"deckenbündig"},"K022",{"$f":"SUM('VLV-CAP'!$C$43,'VLD-CAP'!$C$43,'WKD380-CAP'!$C$43,'WKD381-CAP'!$C$43)","v":71.849999999999994},null,"K022",{"$f":"'LW Auswahl'!AI23","v":71.849999999999994}]
[]
[null,"Oktav-Relativspektrum fOkt [Hz] ZULUFT",null,null,null,null,null,null,"SLWA "]
[null,125,250,500,1000,2000,4000,8000,"Summe"]
["VLV250k",-5.3027071061683344,-6.2823567041357977,-5.7697004915911796,-10.162154057831831,-15.879624044821227,-19.296328717069549,-22.037019788349447,{"$f":"10*LOG(10^(0.1*B57)+10^(0.1*C57)+10^(0.1*D57)+10^(0.1*E57)+10^(0.1*F57)+10^(0.1*G57)+10^(0.1*H57))","v":-0.29022439752291607}]
["VLV250h",-4.9718020346801932,-6.1665353756674541,-6.2615433422194444,-9.7033461972496085,-15.812406465103425,-19.851981020715449,-21.302143978408886,{"$f":"10*LOG(10^(0.1*B58)+10^(0.1*C58)+10^(0.1*D58)+10^(0.1*E58)+10^(0.1*F58)+10^(0.1*G58)+10^(0.1*H58))","v":-0.23380623771456643}]
["VLV315k",-5.3027071061683344,-6.2823567041357977,-5.7697004915911796,-10.162154057831831,-15.879624044821227,-19.296328717069549,-22.037019788349447,-0.29022439752291607]
["VLV315h",-4.9718020346801932,-6.1665353756674541,-6.2615433422194444,-9.7033461972496085,-15.812406465103425,-19.851981020715449,-21.302143978408886,-0.23380623771456643]
["VLV400k",-5.3027071061683344,-6.2823567041357977,-5.7697004915911796,-10.162154057831831,-15.879624044821227,-19.296328717069549,-22.037019788349447,-0.29022439752291607]
["VLV400h",-4.9718020346801932,-6.1665353756674541,-6.2615433422194444,-9.7033461972496085,-15.812406465103425,-19.851981020715449,-21.302143978408886,{"$f":"10*LOG(10^(0.1*B62)+10^(0.1*C62)+10^(0.1*D62)+10^(0.1*E62)+10^(0.1*F62)+10^(0.1*G62)+10^(0.1*H62))","v":-0.23380623771456643}]
["VLV500k",-5.3027071061683344,-6.2823567041357977,-5.7697004915911796,-10.162154057831831,-15.879624044821227,-19.296328717069549,-22.037019788349447,{"$f":"10*LOG(10^(0.1*B63)+10^(0.1*C63)+10^(0.1*D63)+10^(0.1*E63)+10^(0.1*F63)+10^(0.1*G63)+10^(0.1*H63))","v":-0.29022439752291607}]
["VLV500h",-4.9718020346801932,-6.1665353756674541,-6.2615433422194444,-9.7033461972496085,-15.812406465103425,-19.851981020715449,-21.302143978408886,{"$f":"10*LOG(10^(0.1*B64)+10^(0.1*C64)+10^(0.1*D64)+10^(0.1*E64)+10^(0.1*F64)+10^(0.1*G64)+10^(0.1*H64))","v":-0.23380623771456643}]
["VLD250k",-3.735337894407567,-4.8342400247188042,-7.7935902374170167,-14.101570267506187,-20.466084741782151,-24.172188580878661,-23.986549142255029,{"$f":"10*LOG(10^(0.1*B65)+10^(0.1*C65)+10^(0.1*D65)+10^(0.1*E65)+10^(0.1*F65)+10^(0.1*G65)+10^(0.1*H65))","v":-0.11641872767629394}]
["VLD250h",-3.9739906256648099,-6.2166593730207325,-6.8416039188221616,-11.005114850644103,-16.451711204233497,-21.090380790572105,-22.241260308653985,-0.16767931721382831]
["VLD315k",-3.735337894407567,-4.8342400247188042,-7.7935902374170167,-14.101570267506187,-20.466084741782151,-24.172188580878661,-23.986549142255029,-0.11641872767629394]
["VLD315h",-3.9739906256648099,-6.2166593730207325,-6.8416039188221616,-11.005114850644103,-16.451711204233497,-21.090380790572105,-22.241260308653985,-0.16767931721382831]
["VLD400k",-3.735337894407567,-4.8342400247188042,-7.7935902374170167,-14.101570267506187,-20.466084741782151,-24.172188580878661,-23.986549142255029,-0.11641872767629394]
["VLD400h",-3.9739906256648099,-6.2166593730207325,-6.8416039188221616,-11.005114850644103,-16.451711204233497,-21.090380790572105,-22.241260308653985,-0.16767931721382831]
["VLD500k",-3.735337894407567,-4.8342400247188042,-7.7935902374170167,-14.101570267506187,-20.466084741782151,-24.172188580878661,-23.986549142255029,-0.11641872767629394]
["VLD500h",-3.9739906256648099,-6.2166593730207325,-6.8416039188221616,-11.005114850644103,-16.451711204233497,-21.090380790572105,-22.241260308653985,-0.16767931721382831]
["WKD 380600k",-5.3317898883058996,-3.0493278136619901,-9.20931545493419,-9.1070192248343105,-13.6822841110836,-17.056395487602099,-21.462978268714899,{"$f":"10*LOG(10^(0.1*B73)+10^(0.1*C73)+10^(0.1*D73)+10^(0.1*E73)+10^(0.1*F73)+10^(0.1*G73)+10^(0.1*H73))","v":0.41771564089826052}]
["WKD 380600h",-5.1218737215234,-4.2650136830476901,-8.7538194400667706,-10.3340335447035,-14.176209497393,-15.133776829647701,-19.132032220314802,{"$f":"10*LOG(10^(0.1*B74)+10^(0.1*C74)+10^(0.1*D74)+10^(0.1*E74)+10^(0.1*F74)+10^(0.1*G74)+10^(0.1*H74))","v":-4.8244262469694411E-2}]
["WKD 380800k",-5.3317898883058996,-3.0493278136619901,-9.20931545493419,-9.1070192248343105,-13.6822841110836,-17.056395487602099,-21.462978268714899,{"$f":"10*LOG(10^(0.1*B75)+10^(0.1*C75)+10^(0.1*D75)+10^(0.1*E75)+10^(0.1*F75)+10^(0.1*G75)+10^(0.1*H75))","v":0.41771564089826052}]
["WKD 380800h",-5.1218737215234,-4.2650136830476901,-8.7538194400667706,-10.3340335447035,-14.176209497393,-15.133776829647701,-19.132032220314802,{"$f":"10*LOG(10^(0.1*B76)+10^(0.1*C76)+10^(0.1*D76)+10^(0.1*E76)+10^(0.1*F76)+10^(0.1*G76)+10^(0.1*H76))","v":-4.8244262469694411E-2}]
["WKD 3801000k",-5.3317898883058996,-3.0493278136619901,-9.20931545493419,-9.1070192248343105,-13.6822841110836,-17.056395487602099,-21.462978268714899,{"$f":"10*LOG(10^(0.1*B77)+10^(0.1*C77)+10^(0.1*D77)+10^(0.1*E77)+10^(0.1*F77)+10^(0.1*G77)+10^(0.1*H77))","v":0.41771564089826052}]
["WKD 3801000h",-5.1218737215234,-4.2650136830476901,-8.7538194400667706,-10.3340335447035,-14.176209497393,-15.133776829647701,-19.132032220314802,-4.8244262469694411E-2]
["WKD 381-1300k",-4.7642186686392209,-3.8663526812412456,-9.3174623780195382,-14.584430969575232,-21.325627918116101,-24.372467335580691,-23.114572989251883,-0.39938234012876939]
["WKD 381-1300h",-4.2823324314503068,-3.7538743153353153,-11.1523224858019,-14.683964767449448,-21.018508284490341,-24.202490404686024,-22.871095128809127,{"$f":"10*LOG(10^(0.1*B80)+10^(0.1*C80)+10^(0.1*D80)+10^(0.1*E80)+10^(0.1*F80)+10^(0.1*G80)+10^(0.1*H80))","v":-0.35293954997685012}]
["WKD 381-1500k",-4.7642186686392209,-3.8663526812412456,-9.3174623780195382,-14.584430969575232,-21.325627918116101,-24.372467335580691,-23.114572989251883,-0.39938234012876939]
["WKD 381-1500h",-4.2823324314503068,-3.7538743153353153,-11.1523224858019,-14.683964767449448,-21.018508284490341,-24.202490404686024,-22.871095128809127,-0.35293954997685012]
["WKD 381-1600k",-4.7642186686392209,-3.8663526812412456,-9.3174623780195382,-14.584430969575232,-21.325627918116101,-24.372467335580691,-23.114572989251883,-0.39938234012876939]
["WKD 381-1600h",-4.2823324314503068,-3.7538743153353153,-11.1523224858019,-14.683964767449448,-21.018508284490341,-24.202490404686024,-22.871095128809127,-0.35293954997685012]
["WKD 381-2600k",-4.7642186686392209,-3.8663526812412456,-9.3174623780195382,-14.584430969575232,-21.325627918116101,-24.372467335580691,-23.114572989251883,-0.39938234012876939]
["WKD 381-2600h",-4.2823324314503068,-3.7538743153353153,-11.1523224858019,-14.683964767449448,-21.018508284490341,-24.202490404686024,-22.871095128809127,-0.35293954997685012]
["WKD 381-3600k",-4.7642186686392209,-3.8663526812412456,-9.3174623780195382,-14.584430969575232,-21.325627918116101,-24.372467335580691,-23.114572989251883,-0.39938234012876939]
["WKD 381-3600h",-4.2823324314503068,-3.7538743153353153,-11.1523224858019,-14.683964767449448,-21.018508284490341,-24.202490404686024,-22.871095128809127,-0.35293954997685012]
[]
[null,2,3,4,5,6,7,8,9,null,"k"]
["Gewählter Durchlass, Zuluft:"]
[{"$f":"CONCATENATE('Auslegung-V'!$D$12,'Auslegung-V'!$D$20,$K$90)","v":"VLD400k"},{"$f":"VLOOKUP($A$92,$A$57:$H$88,B90,FALSE)","v":-3.735337894407567},{"$f":"VLOOKUP($A$92,$A$57:$H$88,C90,FALSE)","v":-4.8342400247188042},-7.7935902374170167,{"$f":"VLOOKUP($A$92,$A$57:$H$88,E90,FALSE)","v":-14.101570267506187},-20.466084741782151,-24.172188580878661,-23.986549142255029]
["Gewählter Durchlass im Heizbetrieb:"]
[{"$f":"A97","v":"VLD400h"},{"$f":"VLOOKUP($A$94,$A$57:$H$88,B90,FALSE)","v":-3.9739906256648099},{"$f":"VLOOKUP($A$94,$A$57:$H$88,C90,FALSE)","v":-6.2166593730207325},-6.8416039188221616,{"$f":"VLOOKUP($A$94,$A$57:$H$88,E90,FALSE)","v":-11.005114850644103},-16.451711204233497,-21.090380790572105,-22.241260308653985]
["A-Bewertung:",-16.100000000000001,-8.6,-3.2,0,1.2,1,-1.1000000000000001]
[{"$f":"CONCATENATE('Auslegung-V'!$D$12,'Auslegung-V'!$D$20,$K$90)","v":"VLD400k"},{"$f":"$I$96+B92","v":47.665824257200171},{"$f":"$I$96+C92","v":46.566922126888933},43.607571914190721,37.299591884101545,30.935077409825585,27.228973570729075,{"$f":"$I$96+H92","v":27.414613009352706},{"$f":"IF($G$52+$G$53*LOG(Einheiten!$E$37)<25,\"<25\",$G$52+$G$53*LOG(Einheiten!$E$37))","v":51.401162151607735},{"$f":"10*LOG(10^(0.1*C96)+10^(0.1*D96)+10^(0.1*E96)+10^(0.1*F96)+10^(0.1*G96)+10^(0.1*H96)+10^(0.1*B96))","v":51.284743423931445}]
[{"$f":"CONCATENATE('Auslegung-V'!$D$12,'Auslegung-V'!$D$20,\"h\")","v":"VLD400h"},{"$f":"$I$97+B94","v":47.427171525942924},{"$f":"$I$97+C94","v":45.184502778587003},44.559558232785577,{"$f":"$I$97+E94","v":40.39604730096363},34.949450947374238,30.31078136103563,{"$f":"$I$97+H94","v":29.159901842953751},{"$f":"IF($J$52+$J$53*LOG(Einheiten!$E$37)<25,\"<25\",$J$52+$J$53*LOG(Einheiten!$E$37))","v":51.401162151607735},{"$f":"10*LOG(10^(0.1*C97)+10^(0.1*D97)+10^(0.1*E97)+10^(0.1*F97)+10^(0.1*G97)+10^(0.1*H97)+10^(0.1*B97))","v":51.233482834393911}]
["Rückgabe ZUL",{"$f":"IF($I$96=\"<25\",\"\",B96-B95)","v":63.765824257200173},{"$f":"IF($I$96=\"<25\",\"\",C96-C95)","v":55.166922126888934},{"$f":"IF($I$96=\"<25\",\"\",D96-D95)","v":46.807571914190724},{"$f":"IF($I$96=\"<25\",\"\",E96-E95)","v":37.299591884101545},29.735077409825585,26.228973570729075,{"$f":"IF($I$96=\"<25\",\"\",H96-H95)","v":28.514613009352708},{"$f":"10*LOG(10^(0.1*B98)+10^(0.1*C98)+10^(0.1*D98)+10^(0.1*E98)+10^(0.1*F98)+10^(0.1*G98)+10^(0.1*H98))","v":64.415436609429364}]
["Rückgabe Heizbetrieb",{"$f":"IF($I$97=\"<25\",\"\",B97-B95)","v":63.527171525942926},{"$f":"IF($I$97=\"<25\",\"\",C97-C95)","v":53.784502778587004},47.759558232785579,40.39604730096363,33.749450947374235,29.31078136103563,30.259901842953752,64.093816479641617]
[]
[]
[]
["T[s] nach VDI 2081",null,null,null,"Nachhallzeit","Richtungsfaktor","Raumvolumen","äqu. Absorptionsfläche"]
["Raumart",null,"s",null,"t","Q","V","A"]
["Einzelbüro",null,0.5,null,"s",null,"m³","m²Sabine"]
["Großraumbüro",null,0.5,{"$f":"'Auslegung-V'!D51","v":"Großraumbüro"},{"$f":"VLOOKUP(D106,Lw!$A$105:$C$128,3,FALSE)","v":0.5},4,{"$f":"'Auslegung-V'!D42*'Auslegung-V'!D44*'Auslegung-V'!D45","v":150000},{"$f":"0.163*G106/E106","v":48900}]
["Werkstätten",null,1.5]
["Ruheraum, Pausenraum",null,1]
["Untersuchungsraum Krankenhaus",null,2]
["Rundfunk-, Fernsehstudio",null,0.5]
["Chemielabor",null,2]
["Wasch- und WC-Raum, Umkleide",null,2]
["Schwimmbad",null,2]
["EDV-Raum",null,1.5]
["Konzertsaal",null,1.5]
["Lesesaal",null,1]
["Museum",null,1.5]
["Küche",null,1.5]
["Theater, Kino",null,1]
["Klassen- Seminarraum",null,1]
["Gaststätte",null,1]
["kein Typ",null,"x"]
["Konferenzraum",null,1]
["Hotelzimmer",null,0.5]
["Hörsaal",null,1]
["Bettenzimmer Krankenhaus",null,1]
["Verkaufsraum",null,1]
["Sporthalle",null,2]

{"sheet":"Akustikberechnung","index":14,"n_rows":99,"n_cols":10,"rows_kept":99,"cut":false,"hidden":true,"merged":[[92,0,92,9],[93,0,93,6],[94,0,94,6],[98,0,99,3]]}
[{"$f":"Übersetzung!F108","v":"Akustische Projektauslegung Kampmann Industrieluftdurchlässe"}]
[]
[]
[{"$f":"Übersetzung!F6","v":"Eingabefelder sind gelb gekennzeichnet"}]
[]
[]
[{"$f":"Übersetzung!F109","v":"Grunddaten Luftdurchlass"},{"$f":"Übersetzung!F10","v":"Symbol"},{"$f":"Übersetzung!F12","v":"Wert"},{"$f":"Übersetzung!F11","v":"Einheit"}]
[{"$f":"Übersetzung!F13","v":"Durchlass Typ"},null,{"$f":"'LW Auswahl'!$C$20","v":"VLD"}]
[{"$f":"'LW Auswahl'!$B$25","v":"Nenndurchmesser"},{"$f":"'LW Auswahl'!$C$25","v":"DN"},{"$f":"'LW Auswahl'!$D$20","v":400},{"$f":"'LW Auswahl'!$D$25","v":"-/-"}]
[{"$f":"Übersetzung!F16","v":"Luftvolumenstrom"},"V°",{"$f":"'LW Auswahl'!$G$20","v":3000},"m³/h"]
["maximale Temperaturdifferenz Kühlfall","DJK",-6,"K"]
["maximale Temperaturdifferenz Heizfall","DJH",20,"K"]
[]
["Grunddaten zu berechnende Halle","Symbol","Wert","Einheit"]
["Rastermaß in Längsrichtung","V°",5500,"m³/h"]
["Rastermaß in Querrichtung","DpStat",430,"Pa"]
["Breite VRJK","bR",600,"mm"]
["Höhe VRJK","hR",500,"mm"]
[]
[{"$f":"Übersetzung!F20","v":"Raumdaten"},{"$f":"B7","v":"Symbol"},{"$f":"C7","v":"Wert"},{"$f":"D7","v":"Einheit"}]
[{"$f":"Übersetzung!F21","v":"Montagehöhe"},"H´",{"$f":"'LW Auswahl'!$K$20","v":15},"m"]
[{"$f":"Übersetzung!F110","v":"Bezugshöhe zur Schalldruckpegelberechnung"},"h´",1.8,"m"]
[{"$f":"Übersetzung!F25","v":"Raumhöhe"},"H",{"$f":"'LW Auswahl'!$J$20","v":30},"m"]
[{"$f":"Übersetzung!F24","v":"Raumbreite"},"B",{"$f":"'LW Auswahl'!$I$20","v":100},"m"]
[{"$f":"Übersetzung!F23","v":"Raumlänge"},"L",{"$f":"'LW Auswahl'!$H$20","v":100},"m"]
[]
[{"$f":"Übersetzung!F111","v":"Angaben Montageraster"},{"$f":"B20","v":"Symbol"},{"$f":"C20","v":"Wert"},{"$f":"D20","v":"Einheit"}]
[{"$f":"Übersetzung!F112","v":"Durchlassabstand in Längsrichtung der Halle"},"DL",3.5,"m"]
[{"$f":"Übersetzung!F113","v":"Anzahl Durchlässe in Längsrichtung der Halle"},"NL",10,1]
[{"$f":"Übersetzung!F114","v":"Durchlassabstand in Querrichtung der Halle"},"DB",2,"m"]
[{"$f":"Übersetzung!F115","v":"Anzahl Durchlässe in Querrichtung der Halle"},"NB",10,1]
["Anzahl Stränge in Richtung Hallenbreite laufend","NB",8,1]
["Anzahl Durchlässe in Richtung Hallenbreite","nB",12,1]
["Akustische Vorgaben","Symbol","Wert","Einheit"]
["Schallabsorptionsgrad","a",0.2," -/-"]
["Richtungsfaktor","Q",{"$f":"#REF!","v":{"$error":"#REF!"}}," -/-"]
["Durchgangsdämpfung Anschlusskasten","Dt",0,"dB"]
[]
[{"$f":"Übersetzung!F116","v":"Zwischenergebnisse"},{"$f":"B27","v":"Symbol"},{"$f":"C27","v":"Wert"},{"$f":"D27","v":"Einheit"}]
[{"$f":"Übersetzung!F117","v":"Anzahl Durchlässe, gesamt"},"nges",{"$f":"C29*C31","v":100},1]
[{"$f":"Übersetzung!F118","v":"Gesamtvolumenstrom"},"V°ges",{"$f":"C40*C10","v":300000},"m³/h"]
["Thermische Leistung","Q°",{"$f":"ABS(C41*1.2*1.006*C11/3600)","v":603.6},"kW"]
["Heizleistung","Q°H",{"$f":"C41*1.2*1.006*C12/3600","v":2012},"kW"]
[{"$f":"Übersetzung!F121","v":"Grundfläche"},"AR",{"$f":"C24*C25","v":10000},"m²"]
[{"$f":"Übersetzung!F122","v":"Raumvolumen"},"VR",{"$f":"C23*C24*C25","v":300000},"m³"]
[{"$f":"Übersetzung!F123","v":"Raumoberfläche"},"AF",{"$f":"2*C25*C24+2*C25*C23+2*C24*C23","v":32000},"m²"]
[]
[{"$f":"CONCATENATE(Übersetzung!F133,\" emcoair \",'LW Auswahl'!$C$20,\", DN \",'LW Auswahl'!$D$20,\" \",Übersetzung!F16,\" \",'LW Auswahl'!$G$20,\" m³/h, \")","v":"Oktavspektrum emcoair VLD, DN 400 Luftvolumenstrom 3000 m³/h, "},null,null,null,null,null,null,null,"SLW,A"]
[{"$f":"Übersetzung!F124","v":"Oktavband, Mittenfrequenz f [Hz]"},125,250,500,1000,2000,4000,8000,"dB(A)"]
["Schallleistungspegel im Kühlfall [dB]",{"$f":"'LW Auswahl'!O20","v":63.765824257200173},{"$f":"'LW Auswahl'!P20","v":55.166922126888934},{"$f":"'LW Auswahl'!Q20","v":46.807571914190724},{"$f":"'LW Auswahl'!R20","v":37.299591884101545},{"$f":"'LW Auswahl'!S20","v":29.735077409825585},{"$f":"'LW Auswahl'!T20","v":26.228973570729075},{"$f":"'LW Auswahl'!U20","v":28.514613009352708},{"$f":"IF('LW Auswahl'!$L$20=\"<25\",\"<25\",'LW Auswahl'!$L$20)","v":51.401162151607735}]
["A-Bewertung",-16.100000000000001,-8.6,-3.2,0,1.2,1,-1.1000000000000001]
["Schallleistungspegel, bewertet",{"$f":"B50+B51","v":47.665824257200171},46.566922126888933,43.607571914190721,37.299591884101545,30.935077409825585,27.228973570729075,27.414613009352706]
[{"$f":"Übersetzung!F126","v":"Schallleistungspegel im Heizfall [dB]"},{"$f":"'LW Auswahl'!W20","v":63.527171525942926},{"$f":"'LW Auswahl'!X20","v":53.784502778587004},{"$f":"'LW Auswahl'!Y20","v":47.759558232785579},{"$f":"'LW Auswahl'!Z20","v":40.39604730096363},{"$f":"'LW Auswahl'!AA20","v":33.749450947374235},{"$f":"'LW Auswahl'!AB20","v":29.31078136103563},{"$f":"'LW Auswahl'!AC20","v":30.259901842953752},{"$f":"IF('LW Auswahl'!M20=\"<25\",\"<25\",'LW Auswahl'!$M$20)","v":51.401162151607735}]
["A-Bewertung",-16.100000000000001,-8.6,-3.2,0,1.2,1,-1.1000000000000001]
["Schallleistungspegel, bewertet",{"$f":"B53+B54","v":47.427171525942924},45.184502778587003,44.559558232785577,40.39604730096363,34.949450947374238,30.31078136103563,29.159901842953751]
[null,null,null,null,null,null,null,null,"Summe"]
[{"$f":"CONCATENATE(\"Oktavspektren emcoair LDI, DN \",C17,\", Volumenstrom \",$C$11,\" m³/h\")","v":"Oktavspektren emcoair LDI, DN 600, Volumenstrom -6 m³/h"},null,null,null,null,null,null,null,null,"SLW,A"]
["Oktavband, Mittenfrequenz f [Hz]",63,125,250,500,1000,2000,4000,8000,"dB(A)"]
["Schallleistungspegel, Aufheizfall [dB]",57,58,55,56,51,45,39,32,{"$f":"10*LOG(10^(B61/10)+10^(C61/10)+10^(D61/10)+10^(E61/10)+10^(F61/10)+10^(G61/10)+10^(H61/10)+10^(I61/10))","v":56.319473493624571}]
["A-Bewertung",null,-16.100000000000001,-8.6,-3.2,0,1.2,1,-1.1000000000000001]
["Schallleistungspegel, bewertet",null,{"$f":"C59+C60","v":41.9},46.4,52.8,51,46.2,40,30.9]
[]
[]
["Oktavspektren LDI mit VRJK unter angegebenen Betriebsbedingungen",null,null,null,null,null,null,null,null,"SLW,A"]
["Oktavband, Mittenfrequenz f [Hz]",63,125,250,500,1000,2000,4000,8000,"dB(A)"]
["Schallleistungspegel VRJK [dB]",{"$f":"B59","v":57},58,55,56,51,45,39,32,{"$f":"10*LOG(10^(B68/10)+10^(C68/10)+10^(D68/10)+10^(E68/10)+10^(F68/10)+10^(G68/10)+10^(H68/10)+10^(I68/10))","v":56.331631644595802}]
["A-Bewertung",-26.2,-16.100000000000001,-8.6,-3.2,0,1.2,1,-1.1000000000000001]
["Schallleistungspegel, bewertet",{"$f":"B66+B67","v":30.8},41.9,46.4,52.8,51,46.2,40,30.9]
["Durchgangsdämpfung [dB]",{"$f":"$C$38","v":0},0,0,0,0,0,0,0]
["Summe VRJK [dB]",{"$f":"B69-B66","v":-57},-58,-55,-56,-51,-45,-39,-32,{"$f":"10*LOG(10^(B72/10)+10^(C72/10)+10^(D72/10)+10^(E72/10)+10^(F72/10)+10^(G72/10)+10^(H72/10)+10^(I72/10))","v":-31.551620993783544}]
["A-Bewertung",-26.2,-16.100000000000001,-8.6,-3.2,0,1.2,1,-1.1000000000000001]
["Schallleistungspegel, bewertet",{"$f":"B70+B71","v":-83.2},-74.099999999999994,-63.6,-59.2,-51,-43.8,-38,-33.1]
["Schallleistungspegel LDI im Kühlfall [dB]",{"$f":"#REF!","v":{"$error":"#REF!"}},{"$f":"B50","v":63.765824257200173},55.166922126888934,46.807571914190724,37.299591884101545,29.735077409825585,26.228973570729075,28.514613009352708,{"$f":"10*LOG(10^(B75/10)+10^(C75/10)+10^(D75/10)+10^(E75/10)+10^(F75/10)+10^(G75/10)+10^(H75/10)+10^(I75/10))","v":{"$error":"#REF!"}}]
["A-Bewertung",-26.2,-16.100000000000001,-8.6,-3.2,0,1.2,1,-1.1000000000000001]
["Schallleistungspegel, bewertet",{"$f":"#REF!","v":{"$error":"#REF!"}},47.665824257200171,46.566922126888933,43.607571914190721,37.299591884101545,30.935077409825585,27.228973570729075,27.414613009352706]
["Schallleistungspegel LDI im Heizfall [dB]",{"$f":"#REF!","v":{"$error":"#REF!"}},63.527171525942926,53.784502778587004,47.759558232785579,40.39604730096363,33.749450947374235,29.31078136103563,30.259901842953752,{"$f":"10*LOG(10^(B78/10)+10^(C78/10)+10^(D78/10)+10^(E78/10)+10^(F78/10)+10^(G78/10)+10^(H78/10)+10^(I78/10))","v":51.233515525859687}]
["A-Bewertung",null,-16.100000000000001,-8.6,-3.2,0,1.2,1,-1.1000000000000001]
["Schallleistungspegel, bewertet",null,{"$f":"C76+C77","v":47.427171525942924},45.184502778587003,44.559558232785577,40.39604730096363,34.949450947374238,30.31078136103563,29.159901842953751]
["Schallleistungspegel LDI im Heizfall [dB]",{"$f":"B59","v":57},58,55,56,51,45,39,32,{"$f":"10*LOG(10^(B81/10)+10^(C81/10)+10^(D81/10)+10^(E81/10)+10^(F81/10)+10^(G81/10)+10^(H81/10)+10^(I81/10))","v":56.319473493624571}]
["A-Bewertung",null,-16.100000000000001,-8.6,-3.2,0,1.2,1,-1.1000000000000001]
["Schallleistungspegel, bewertet",null,{"$f":"C79+C80","v":41.9},46.4,52.8,51,46.2,40,30.9]
["Summe LDI im Kühlfall [dB]",{"$f":"10*LOG(10^(B$71/10)+10^(B$74/10))","v":-23.189700043360194},-13.089700043360191,-5.5897000433601898,-0.18970004336018834,3.0102999566398121,4.2102999566398127,4.0102999566398125,1.9102999566398118,{"$f":"10*LOG(10^(B84/10)+10^(C84/10)+10^(D84/10)+10^(E84/10)+10^(F84/10)+10^(G84/10)+10^(H84/10)+10^(I84/10))","v":10.148566965127852}]
["A-Bewertung",-26.2,-16.100000000000001,-8.6,-3.2,0,1.2,1,-1.1000000000000001]
["Schallleistungspegel, bewertet",{"$f":"B82+B83","v":-49.389700043360193},-29.18970004336019,-14.18970004336019,-3.3897000433601887,3.0102999566398121,5.4102999566398129,5.0102999566398125,0.81029995663981169]
["Summe LDI im Heizfall [dB]",{"$f":"B76","v":{"$error":"#REF!"}},63.527171525942926,53.784502778587004,47.759558232785579,40.39604730096363,33.749450947374235,29.31078136103563,30.259901842953752,{"$f":"10*LOG(10^(B87/10)+10^(C87/10)+10^(D87/10)+10^(E87/10)+10^(F87/10)+10^(G87/10)+10^(H87/10)+10^(I87/10))","v":{"$error":"#REF!"}}]
["A-Bewertung",-26.2,-16.100000000000001,-8.6,-3.2,0,1.2,1,-1.1000000000000001,{"$f":"10*LOG(10^(B88/10)+10^(C88/10)+10^(D88/10)+10^(E88/10)+10^(F88/10)+10^(G88/10)+10^(H88/10)+10^(I88/10))","v":63.039565965407917}]
["Schallleistungspegel, bewertet",{"$f":"B85+B86","v":{"$error":"#REF!"}},47.427171525942924,45.184502778587003,44.559558232785577,40.39604730096363,34.949450947374238,30.31078136103563,29.159901842953751,{"$f":"10*LOG(10^(B93/10)+10^(C93/10)+10^(D93/10)+10^(E93/10)+10^(F93/10)+10^(G93/10)+10^(H93/10)+10^(I93/10))","v":9.0308998699194358}]
["Summe LDI im Aufheizfall [dB]",{"$f":"B79","v":57},58,55,56,51,45,39,32,{"$f":"10*LOG(10^(B90/10)+10^(C90/10)+10^(D90/10)+10^(E90/10)+10^(F90/10)+10^(G90/10)+10^(H90/10)+10^(I90/10))","v":56.331631644595802}]
["A-Bewertung",-26.2,-16.100000000000001,-8.6,-3.2,0,1.2,1,-1.1000000000000001,{"$f":"10*LOG(10^(B91/10)+10^(C91/10)+10^(D91/10)+10^(E91/10)+10^(F91/10)+10^(G91/10)+10^(H91/10)+10^(I91/10))","v":9.0308998699194358}]
["Schallleistungspegel, bewertet",{"$f":"B88+B89","v":30.8},41.9,46.4,52.8,51,46.2,40,30.9,{"$f":"10*LOG(10^(#REF!/10)+10^(#REF!/10)+10^(#REF!/10)+10^(#REF!/10)+10^(#REF!/10)+10^(#REF!/10)+10^(#REF!/10)+10^(#REF!/10))","v":{"$error":"#REF!"}}]
[]
[]
[{"$f":"Übersetzung!F131","v":"Näherungsrechnung des Schalldruckpegels nach VDI 2081"}]
[{"$f":"CONCATENATE(Übersetzung!F127,\" \",$C$22,\" m\",\" \",Übersetzung!F128)","v":"Mit der Anzahl der gewälten Durchlässe berechneter Schalldruckpegel in einer Höhe von 1,8 m im Kühlfall"},null,null,null,null,null,null,"LP,AK",{"$f":"IF(I50=\"<25\",\"\",'LP-RechnerKühl'!$C$15)","v":42.271655037625578},"dB(A)"]
[{"$f":"CONCATENATE(Übersetzung!F127,\" \",$C$22,\" m\",\" \",Übersetzung!F129)","v":"Mit der Anzahl der gewälten Durchlässe berechneter Schalldruckpegel in einer Höhe von 1,8 m im Heizfall"},null,null,null,null,null,null,"LP,AH",{"$f":"IF(I53=\"<25\",\"\",'LP-RechnerHeiz'!$C$15)","v":42.271655037625578},"dB(A)"]
[]
[]
[]
[{"$f":"Übersetzung!F132","v":"Hinweis: Die in diesem Arbeitsblatt durchgeführten Berechnungen erfolgen anhand von VDI2081. Als Grundannahmen werden ein kubischer Raum sowie eine symmetrische Verteilung der Luftdurchlässe vorausgesetzt. Als Ergebnis liefert das Arbeitsblatt einen angenäherten Schalldruckpegel unterhalb eines zentral gelegenen Durchlasses in Höhe einer vorzugebenden Bezugshöhe. Es werden ausschließlich die durch die Durchlässe emittierten Geräuschemissionen berücksichtigt."}]

{"sheet":"xkr._vx","index":15,"n_rows":365,"n_cols":18,"rows_kept":365,"cut":false,"hidden":true,"merged":[]}
["Geschwindigkeit im Strahl und kritischer Strahlweg",null,null,null,null,null,"Annahme:","Winkel nach xkrit",45]
["Achtung: Automatisierte Konstantenauswahl aus den \"-CAP\" Arbeitsblättern"]
["Konstanten","K031",{"$f":"SUM('VLV-CAP'!C44,'VLD-CAP'!C44,'WKD380-CAP'!C44,'WKD381-CAP'!C44)","v":0},null,"Konstanten:","K041",{"$f":"SUM('VLV-CAP'!C48,'VLD-CAP'!C48,'WKD380-CAP'!C48,'WKD381-CAP'!C48)","v":0},null,"Konstanten","K071",{"$f":"SUM('VLV-CAP'!$C$53,'VLD-CAP'!$C$53,'WKD380-CAP'!$C$53,'WKD381-CAP'!$C$53)","v":1.06E-3},null,"Konstanten","K091",{"$f":"SUM('VLV-CAP'!$C$58,'VLD-CAP'!$C$58,'WKD380-CAP'!$C$58,'WKD381-CAP'!$C$58)","v":0}]
[null,"K032",{"$f":"SUM('VLV-CAP'!C45,'VLD-CAP'!C45,'WKD380-CAP'!C45,'WKD381-CAP'!C45)","v":0},null,null,"K042",{"$f":"SUM('VLV-CAP'!C49,'VLD-CAP'!C49,'WKD380-CAP'!C49,'WKD381-CAP'!C49)","v":0},null,null,"K072",{"$f":"SUM('VLV-CAP'!C54,'VLD-CAP'!C54,'WKD380-CAP'!C54,'WKD381-CAP'!C54)","v":1},null,null,"K092",{"$f":"SUM('VLV-CAP'!$C$59,'VLD-CAP'!$C$59,'WKD380-CAP'!$C$59,'WKD381-CAP'!$C$59)","v":0}]
[null,"K033",{"$f":"SUM('VLV-CAP'!C46,'VLD-CAP'!C46,'WKD380-CAP'!C46,'WKD381-CAP'!C46)","v":0},null,null,"K043",{"$f":"SUM('VLV-CAP'!C50,'VLD-CAP'!C50,'WKD380-CAP'!C50,'WKD381-CAP'!C50)","v":0},null,null,"K081",{"$f":"SUM('VLV-CAP'!C55,'VLD-CAP'!C55,'WKD380-CAP'!C55,'WKD381-CAP'!C55)","v":7.8300000000000002E-3},null,null,"K093",{"$f":"SUM('VLV-CAP'!$C$60,'VLD-CAP'!$C$60,'WKD380-CAP'!$C$60,'WKD381-CAP'!$C$60)","v":0}]
[null,"K034",{"$f":"SUM('VLV-CAP'!C47,'VLD-CAP'!C47,'WKD380-CAP'!C47,'WKD381-CAP'!C47)","v":0},null,null,"Dt0",{"$f":"IF('Auslegung-V'!$D$40-'Auslegung-V'!$D$39>0,'Auslegung-V'!$D$40-'Auslegung-V'!$D$39,ABS('Auslegung-V'!$D$40-'Auslegung-V'!$D$39))","v":10},null,null,"K082",{"$f":"SUM('VLV-CAP'!C56,'VLD-CAP'!C56,'WKD380-CAP'!C56,'WKD381-CAP'!C56)","v":0.5}]
[null,null,null,null,null,null,null,null,null,"K083",{"$f":"SUM('VLV-CAP'!C57,'VLD-CAP'!C57,'WKD380-CAP'!C57,'WKD381-CAP'!C57)","v":1}]
[null,"Lauflänge","Geschwindigkeit im Strahl horizontal","Geschwindigkeit im Strahl vertikal",null,"kritischer Strahlweg Anzeige","kritischer Strahlweg","vertikaler Strahlweg","Geschwindigkeit krit. Strahlweg Anzeige","Geschwindigkeit im Strahl an xKr"]
[null,"L","v0","v1",null,"xkr._Anzeige","xkr.","y",null,"v0",null,null,null,null,null,"Freier Wurf"]
[null,"m","m/s","m/s",null,"m","m","m",null,"m/s",null,null,null,null,null,"X","Y"]
[null,0.5,{"$f":"$C$3*'Auslegung-V'!$D$37*(1/xkr._vx!B11)^xkr._vx!$C$5","v":0},{"$f":"1/B11*$J$11","v":{"$error":"#DIV/0!"}},null,{"$f":"IF(G6=0,\"\",IF($J$27<Einheiten!$E$42,$J$27,\">Raumlänge\"))","v":0},{"$f":"IF(J27<Einheiten!$E$42,xkr._vx!J27,Einheiten!$E$42)","v":0},{"$f":"(Einheiten!$E$40-Einheiten!$E$41)/SIN(45/180*PI())","v":18.667619023324857},{"$f":"IF(OR('Auslegung-V'!D30=\"freihängend\",'Auslegung-V'!D30=\"hanging installed\"),xkr._vx!N33,xkr._vx!N28)","v":0},{"$f":"$C$3*Einheiten!$E$37*(1/xkr._vx!G11)^(xkr._vx!$C$5)","v":{"$error":"#DIV/0!"}},null,null,"Horizontalabweichung",null,null,0.5,{"$f":"ABS(P11*TAN($O$3*PI()/180)+$O$4*(-$G$6/'Auslegung-V'!$D$37^2)*((xkr._vx!P11/COS(xkr._vx!$O$3*PI()/180))^xkr._vx!$O$5))","v":0}]
[null,0.6,{"$f":"$C$3*'Auslegung-V'!$D$37*(1/xkr._vx!B12)^xkr._vx!$C$5","v":0},{"$f":"1/B12*$J$11","v":{"$error":"#DIV/0!"}},null,null,null,null,null,null,null,null,null,null,null,0.6,{"$f":"ABS(P12*TAN($O$3*PI()/180)+$O$4*(-$G$6/'Auslegung-V'!$D$37^2)*((xkr._vx!P12/COS(xkr._vx!$O$3*PI()/180))^xkr._vx!$O$5))","v":0},{"$f":"IF(Q12>('Auslegung-V'!$D$42-'Auslegung-V'!$D$43),xkr._vx!P11,\"\")","v":""}]
[null,0.7,{"$f":"$C$3*'Auslegung-V'!$D$37*(1/xkr._vx!B13)^xkr._vx!$C$5","v":0},{"$error":"#DIV/0!"},null,null,null,null,null,null,null,null,"X=",2.5,"m",0.7,{"$f":"ABS(P13*TAN($O$3*PI()/180)+$O$4*(-$G$6/'Auslegung-V'!$D$37^2)*((xkr._vx!P13/COS(xkr._vx!$O$3*PI()/180))^xkr._vx!$O$5))","v":0},{"$f":"IF(Q13>('Auslegung-V'!$D$42-'Auslegung-V'!$D$43),xkr._vx!P12,\"\")","v":""}]
[null,0.8,{"$f":"$C$3*'Auslegung-V'!$D$37*(1/xkr._vx!B14)^xkr._vx!$C$5","v":0},{"$error":"#DIV/0!"},null,null,null,null,null,null,null,null,"Y=",{"$f":"ABS($N$13*TAN($O$3*PI()/180)+$O$4*(-$G$6/'Auslegung-V'!$D$37^2)*((xkr._vx!$N$13/COS(xkr._vx!$O$3*PI()/180))^xkr._vx!$O$5))","v":0},null,0.8,{"$f":"ABS(P14*TAN($O$3*PI()/180)+$O$4*(-$G$6/'Auslegung-V'!$D$37^2)*((xkr._vx!P14/COS(xkr._vx!$O$3*PI()/180))^xkr._vx!$O$5))","v":0},{"$f":"IF(Q14>('Auslegung-V'!$D$42-'Auslegung-V'!$D$43),xkr._vx!P13,\"\")","v":""}]
[null,0.9,{"$f":"$C$3*'Auslegung-V'!$D$37*(1/xkr._vx!B15)^xkr._vx!$C$5","v":0},{"$f":"1/B15*$J$11","v":{"$error":"#DIV/0!"}},null,null,null,null,null,null,null,null,"Strahlweg, freier Wurf",{"$f":"MIN(R20:R365)","v":0},null,0.9,{"$f":"ABS(P15*TAN($O$3*PI()/180)+$O$4*(-$G$6/'Auslegung-V'!$D$37^2)*((xkr._vx!P15/COS(xkr._vx!$O$3*PI()/180))^xkr._vx!$O$5))","v":0},{"$f":"IF(Q15>('Auslegung-V'!$D$42-'Auslegung-V'!$D$43),xkr._vx!P14,\"\")","v":""}]
[null,1,{"$f":"$C$3*'Auslegung-V'!$D$37*(1/xkr._vx!B16)^xkr._vx!$C$5","v":0},{"$error":"#DIV/0!"},null,null,null,null,null,null,null,null,null,null,null,1,{"$f":"ABS(P16*TAN($O$3*PI()/180)+$O$4*(-$G$6/'Auslegung-V'!$D$37^2)*((xkr._vx!P16/COS(xkr._vx!$O$3*PI()/180))^xkr._vx!$O$5))","v":0},{"$f":"IF(Q16>('Auslegung-V'!$D$42-'Auslegung-V'!$D$43),xkr._vx!P15,\"\")","v":""}]
[null,1.1000000000000001,{"$f":"$C$3*'Auslegung-V'!$D$37*(1/xkr._vx!B17)^xkr._vx!$C$5","v":0},{"$error":"#DIV/0!"},null,null,null,null,null,null,null,null,null,null,null,1.1000000000000001,{"$f":"ABS(P17*TAN($O$3*PI()/180)+$O$4*(-$G$6/'Auslegung-V'!$D$37^2)*((xkr._vx!P17/COS(xkr._vx!$O$3*PI()/180))^xkr._vx!$O$5))","v":0},{"$f":"IF(Q17>('Auslegung-V'!$D$42-'Auslegung-V'!$D$43),xkr._vx!P16,\"\")","v":""}]
[null,1.2,{"$f":"$C$3*'Auslegung-V'!$D$37*(1/xkr._vx!B18)^xkr._vx!$C$5","v":0},{"$error":"#DIV/0!"},null,null,null,null,null,null,null,null,null,null,null,1.2,{"$f":"ABS(P18*TAN($O$3*PI()/180)+$O$4*(-$G$6/'Auslegung-V'!$D$37^2)*((xkr._vx!P18/COS(xkr._vx!$O$3*PI()/180))^xkr._vx!$O$5))","v":0},{"$f":"IF(Q18>('Auslegung-V'!$D$42-'Auslegung-V'!$D$43),xkr._vx!P17,\"\")","v":""}]
[null,1.3,{"$f":"$C$3*'Auslegung-V'!$D$37*(1/xkr._vx!B19)^xkr._vx!$C$5","v":0},{"$error":"#DIV/0!"},null,null,null,null,null,null,null,null,null,null,null,1.3,{"$f":"ABS(P19*TAN($O$3*PI()/180)+$O$4*(-$G$6/'Auslegung-V'!$D$37^2)*((xkr._vx!P19/COS(xkr._vx!$O$3*PI()/180))^xkr._vx!$O$5))","v":0},{"$f":"IF(Q19>('Auslegung-V'!$D$42-'Auslegung-V'!$D$43),xkr._vx!P18,\"\")","v":""}]
[null,1.4,{"$f":"$C$3*'Auslegung-V'!$D$37*(1/xkr._vx!B20)^xkr._vx!$C$5","v":0},{"$f":"1/B20*$J$11","v":{"$error":"#DIV/0!"}},null,null,null,null,null,null,null,null,null,null,null,1.4,{"$f":"ABS(P20*TAN($O$3*PI()/180)+$O$4*(-$G$6/'Auslegung-V'!$D$37^2)*((xkr._vx!P20/COS(xkr._vx!$O$3*PI()/180))^xkr._vx!$O$5))","v":0},{"$f":"IF(Q20>('Auslegung-V'!$D$42-'Auslegung-V'!$D$43),xkr._vx!P19,\"\")","v":""}]
[null,1.5,{"$f":"$C$3*'Auslegung-V'!$D$37*(1/xkr._vx!B21)^xkr._vx!$C$5","v":0},{"$error":"#DIV/0!"},null,null,null,null,null,null,null,null,null,null,null,1.5,{"$f":"ABS(P21*TAN($O$3*PI()/180)+$O$4*(-$G$6/'Auslegung-V'!$D$37^2)*((xkr._vx!P21/COS(xkr._vx!$O$3*PI()/180))^xkr._vx!$O$5))","v":0},{"$f":"IF(Q21>('Auslegung-V'!$D$42-'Auslegung-V'!$D$43),xkr._vx!P20,\"\")","v":""}]
[null,1.6,{"$f":"$C$3*'Auslegung-V'!$D$37*(1/xkr._vx!B22)^xkr._vx!$C$5","v":0},{"$error":"#DIV/0!"},null,null,null,null," 1/2 Durchlassabstand","hor. Lauflänge","ver. Lauflänge","ges. Lauflänge","Geschw. Endpunkt","Geschw. OK A-Ber.",null,1.6,{"$f":"ABS(P22*TAN($O$3*PI()/180)+$O$4*(-$G$6/'Auslegung-V'!$D$37^2)*((xkr._vx!P22/COS(xkr._vx!$O$3*PI()/180))^xkr._vx!$O$5))","v":0},{"$f":"IF(Q22>('Auslegung-V'!$D$42-'Auslegung-V'!$D$43),xkr._vx!P21,\"\")","v":""}]
[null,1.7,{"$f":"$C$3*'Auslegung-V'!$D$37*(1/xkr._vx!B23)^xkr._vx!$C$5","v":0},{"$error":"#DIV/0!"},"Betrachtung Strahlweg frei entlang der Decke bis Wandkante",null,null,null,null,{"$f":"Einheiten!$E$45","v":3},null,null,{"$f":"$C$3*Einheiten!$E$37*(1/xkr._vx!J23)^xkr._vx!$C$5","v":0},null,null,1.7,{"$f":"ABS(P23*TAN($O$3*PI()/180)+$O$4*(-$G$6/'Auslegung-V'!$D$37^2)*((xkr._vx!P23/COS(xkr._vx!$O$3*PI()/180))^xkr._vx!$O$5))","v":0},{"$f":"IF(Q23>('Auslegung-V'!$D$42-'Auslegung-V'!$D$43),xkr._vx!P22,\"\")","v":""}]
[null,1.8,{"$f":"$C$3*'Auslegung-V'!$D$37*(1/xkr._vx!B24)^xkr._vx!$C$5","v":0},{"$error":"#DIV/0!"},"Betrachtung Strahlweg von Wandkante bis Fußboden Aufenthaltsbereich",null,null,null,null,null,{"$f":"Einheiten!$E$40+0.5","v":15.5},{"$f":"K24+J23","v":18.5},null,{"$f":"$C$3*Einheiten!$E$37*(1/xkr._vx!L24)^xkr._vx!$C$5*$C$6","v":0},null,1.8,{"$f":"ABS(P24*TAN($O$3*PI()/180)+$O$4*(-$G$6/'Auslegung-V'!$D$37^2)*((xkr._vx!P24/COS(xkr._vx!$O$3*PI()/180))^xkr._vx!$O$5))","v":0},{"$f":"IF(Q24>('Auslegung-V'!$D$42-'Auslegung-V'!$D$43),xkr._vx!P23,\"\")","v":""}]
[null,1.9,{"$f":"$C$3*'Auslegung-V'!$D$37*(1/xkr._vx!B25)^xkr._vx!$C$5","v":0},{"$error":"#DIV/0!"},"Betrachtung Strahlweg von Durchlassmitte bis Stoßpunkt",null,null,null,{"$f":"Einheiten!$E$46/2","v":1.5},null,null,null,{"$f":"$C$3*Einheiten!$E$37*(1/xkr._vx!I25)^xkr._vx!$C$5","v":0},null,null,1.9,{"$f":"ABS(P25*TAN($O$3*PI()/180)+$O$4*(-$G$6/'Auslegung-V'!$D$37^2)*((xkr._vx!P25/COS(xkr._vx!$O$3*PI()/180))^xkr._vx!$O$5))","v":0},{"$f":"IF(Q25>('Auslegung-V'!$D$42-'Auslegung-V'!$D$43),xkr._vx!P24,\"\")","v":""}]
[null,2,{"$f":"$C$3*'Auslegung-V'!$D$37*(1/xkr._vx!B26)^xkr._vx!$C$5","v":0},{"$error":"#DIV/0!"},"Betrachtung Freistrahl ab Stoßpunkt bis Oberkante Aufenthaltsbereich",null,null,null,null,null,{"$f":"Einheiten!$E$40-Einheiten!$E$41","v":13.2},{"$f":"K26+I25","v":14.7},null,{"$f":"IF($C$3*Einheiten!$E$37*(1/((xkr._vx!I25+xkr._vx!K26)+xkr._vx!$C$4*xkr._vx!K26))^xkr._vx!$C$5*$C$6<N28,N28,$C$3*Einheiten!$E$37*(1/((xkr._vx!I25+xkr._vx!K26)+xkr._vx!$C$4*xkr._vx!K26))^xkr._vx!$C$5*$C$6)","v":0},null,2,{"$f":"ABS(P26*TAN($O$3*PI()/180)+$O$4*(-$G$6/'Auslegung-V'!$D$37^2)*((xkr._vx!P26/COS(xkr._vx!$O$3*PI()/180))^xkr._vx!$O$5))","v":0},{"$f":"IF(Q26>('Auslegung-V'!$D$42-'Auslegung-V'!$D$43),xkr._vx!P25,\"\")","v":""}]
[null,2.1,{"$f":"$C$3*'Auslegung-V'!$D$37*(1/xkr._vx!B27)^xkr._vx!$C$5","v":0},{"$error":"#DIV/0!"},"Betrachtung Strahlweg bis xkritisch",null,null,null,null,{"$f":"$G$3*'Auslegung-V'!$D$37^$G$5*(1/xkr._vx!$G$6^(xkr._vx!$G$4))","v":0},null,null,{"$f":"$C$3*'Auslegung-V'!$D$37*(1/xkr._vx!J27)^xkr._vx!$C$5","v":{"$error":"#DIV/0!"}},null,null,2.1,{"$f":"ABS(P27*TAN($O$3*PI()/180)+$O$4*(-$G$6/'Auslegung-V'!$D$37^2)*((xkr._vx!P27/COS(xkr._vx!$O$3*PI()/180))^xkr._vx!$O$5))","v":0},{"$f":"IF(Q27>('Auslegung-V'!$D$42-'Auslegung-V'!$D$43),xkr._vx!P26,\"\")","v":""}]
[null,2.2000000000000002,{"$f":"$C$3*'Auslegung-V'!$D$37*(1/xkr._vx!B28)^xkr._vx!$C$5","v":0},{"$error":"#DIV/0!"},"Betrachtung von xkritisch bis Oberkante Aufenthaltsbereich",null,null,null,null,null,{"$f":"(Einheiten!$E$40-Einheiten!$E$41)/SIN($I$1/180*PI())","v":18.667619023324857},{"$f":"IF(G6=0,\"\",J27+K28)","v":18.667619023324857},null,{"$f":"IF($G$6=0,\"\",$C$3*Einheiten!$E$37*(1/xkr._vx!L28)^xkr._vx!$C$5*$C$6)","v":0},null,2.2000000000000002,{"$f":"ABS(P28*TAN($O$3*PI()/180)+$O$4*(-$G$6/'Auslegung-V'!$D$37^2)*((xkr._vx!P28/COS(xkr._vx!$O$3*PI()/180))^xkr._vx!$O$5))","v":0},{"$f":"IF(Q28>('Auslegung-V'!$D$42-'Auslegung-V'!$D$43),xkr._vx!P27,\"\")","v":""}]
[null,2.2999999999999998,{"$f":"$C$3*'Auslegung-V'!$D$37*(1/xkr._vx!B29)^xkr._vx!$C$5","v":0},{"$error":"#DIV/0!"},null,null,null,null,null,null,null,null,null,null,null,2.2999999999999998,{"$f":"ABS(P29*TAN($O$3*PI()/180)+$O$4*(-$G$6/'Auslegung-V'!$D$37^2)*((xkr._vx!P29/COS(xkr._vx!$O$3*PI()/180))^xkr._vx!$O$5))","v":0},{"$f":"IF(Q29>('Auslegung-V'!$D$42-'Auslegung-V'!$D$43),xkr._vx!P28,\"\")","v":""}]
[null,2.4,{"$f":"$C$3*'Auslegung-V'!$D$37*(1/xkr._vx!B30)^xkr._vx!$C$5","v":0},{"$error":"#DIV/0!"},null,null,null,null,null,null,null,null,null,null,null,2.4,{"$f":"ABS(P30*TAN($O$3*PI()/180)+$O$4*(-$G$6/'Auslegung-V'!$D$37^2)*((xkr._vx!P30/COS(xkr._vx!$O$3*PI()/180))^xkr._vx!$O$5))","v":0},{"$f":"IF(Q30>('Auslegung-V'!$D$42-'Auslegung-V'!$D$43),xkr._vx!P29,\"\")","v":""}]
[null,2.5,{"$f":"$C$3*'Auslegung-V'!$D$37*(1/xkr._vx!B31)^xkr._vx!$C$5","v":0},{"$error":"#DIV/0!"},null,null,null,null,null,null,{"$f":"Einheiten!$E$40-Einheiten!$E$41","v":13.2},{"$f":"K31+I30","v":13.2},{"$f":"IF($K$5*(Einheiten!$E$37^xkr._vx!$K$7)/(xkr._vx!G6^xkr._vx!K6)>Einheiten!$E$40,\"> Montagehöhe\",$K$5*(Einheiten!$E$37^xkr._vx!$K$7)/(xkr._vx!G6^xkr._vx!K6))","v":7.4281902237355233},{"$f":"$C$3*Einheiten!$E$37*(1/((xkr._vx!I30+xkr._vx!K31)+xkr._vx!$C$4*xkr._vx!K31))^xkr._vx!$C$5*$C$6","v":0},null,2.5,{"$f":"ABS(P31*TAN($O$3*PI()/180)+$O$4*(-$G$6/'Auslegung-V'!$D$37^2)*((xkr._vx!P31/COS(xkr._vx!$O$3*PI()/180))^xkr._vx!$O$5))","v":0},{"$f":"IF(Q31>('Auslegung-V'!$D$42-'Auslegung-V'!$D$43),xkr._vx!P30,\"\")","v":""}]
[null,2.6,{"$f":"$C$3*'Auslegung-V'!$D$37*(1/xkr._vx!B32)^xkr._vx!$C$5","v":0},{"$error":"#DIV/0!"},null,null,null,null,null,null,null,null,null,null,null,2.6,{"$f":"ABS(P32*TAN($O$3*PI()/180)+$O$4*(-$G$6/'Auslegung-V'!$D$37^2)*((xkr._vx!P32/COS(xkr._vx!$O$3*PI()/180))^xkr._vx!$O$5))","v":0},{"$f":"IF(Q32>('Auslegung-V'!$D$42-'Auslegung-V'!$D$43),xkr._vx!P31,\"\")","v":""}]
[null,2.7,{"$f":"$C$3*'Auslegung-V'!$D$37*(1/xkr._vx!B33)^xkr._vx!$C$5","v":0},{"$error":"#DIV/0!"},"Betrachtung des schrägen Wurfs im fraihängend montierten Fall",null,null,null,null,null,null,null,{"$f":"N15","v":0},{"$f":"$C$3*Einheiten!$E$37*((1/xkr._vx!$N$15)^xkr._vx!$C$5)*xkr._vx!$C$6","v":{"$error":"#DIV/0!"}},null,2.7,{"$f":"ABS(P33*TAN($O$3*PI()/180)+$O$4*(-$G$6/'Auslegung-V'!$D$37^2)*((xkr._vx!P33/COS(xkr._vx!$O$3*PI()/180))^xkr._vx!$O$5))","v":0},{"$f":"IF(Q33>('Auslegung-V'!$D$42-'Auslegung-V'!$D$43),xkr._vx!P32,\"\")","v":""}]
[null,2.8,{"$f":"$C$3*'Auslegung-V'!$D$37*(1/xkr._vx!B34)^xkr._vx!$C$5","v":0},{"$error":"#DIV/0!"},null,null,null,null,null,null,null,null,null,null,null,2.8,{"$f":"ABS(P34*TAN($O$3*PI()/180)+$O$4*(-$G$6/'Auslegung-V'!$D$37^2)*((xkr._vx!P34/COS(xkr._vx!$O$3*PI()/180))^xkr._vx!$O$5))","v":0},{"$f":"IF(Q34>('Auslegung-V'!$D$42-'Auslegung-V'!$D$43),xkr._vx!P33,\"\")","v":""}]
[null,2.9,{"$f":"$C$3*'Auslegung-V'!$D$37*(1/xkr._vx!B35)^xkr._vx!$C$5","v":0},{"$error":"#DIV/0!"},null,null,null,null,null,null,null,null,null,null,null,2.9,{"$f":"ABS(P35*TAN($O$3*PI()/180)+$O$4*(-$G$6/'Auslegung-V'!$D$37^2)*((xkr._vx!P35/COS(xkr._vx!$O$3*PI()/180))^xkr._vx!$O$5))","v":0},{"$f":"IF(Q35>('Auslegung-V'!$D$42-'Auslegung-V'!$D$43),xkr._vx!P34,\"\")","v":""}]
[null,3,{"$f":"$C$3*'Auslegung-V'!$D$37*(1/xkr._vx!B36)^xkr._vx!$C$5","v":0},{"$error":"#DIV/0!"},null,null,null,null,null,"Maximalgeschw.","ges. Lauflänge bis vmax","Lauflänge vertikal","Wandabstand",null,null,3,{"$f":"ABS(P36*TAN($O$3*PI()/180)+$O$4*(-$G$6/'Auslegung-V'!$D$37^2)*((xkr._vx!P36/COS(xkr._vx!$O$3*PI()/180))^xkr._vx!$O$5))","v":0},{"$f":"IF(Q36>('Auslegung-V'!$D$42-'Auslegung-V'!$D$43),xkr._vx!P35,\"\")","v":""}]
[null,3.1,{"$f":"$C$3*'Auslegung-V'!$D$37*(1/xkr._vx!B37)^xkr._vx!$C$5","v":0},{"$error":"#DIV/0!"},null,null,null,null,null,null,null,null,null,null,null,3.1,{"$f":"ABS(P37*TAN($O$3*PI()/180)+$O$4*(-$G$6/'Auslegung-V'!$D$37^2)*((xkr._vx!P37/COS(xkr._vx!$O$3*PI()/180))^xkr._vx!$O$5))","v":0},{"$f":"IF(Q37>('Auslegung-V'!$D$42-'Auslegung-V'!$D$43),xkr._vx!P36,\"\")","v":""}]
[null,3.2,{"$f":"$C$3*'Auslegung-V'!$D$37*(1/xkr._vx!B38)^xkr._vx!$C$5","v":0},{"$error":"#DIV/0!"},null,"Berechnung Wandabstand bei vorgegebener Max. Geschw.",null,null,null,{"$f":"'Auslegung-V'!$D$38","v":0.2},{"$f":"1/(J38/($C$3*'Auslegung-V'!$D$37))^(1/xkr._vx!$C$5)","v":{"$error":"#DIV/0!"}},{"$f":"'Auslegung-V'!$D$42-'Auslegung-V'!$D$43","v":13.2},{"$f":"K38-L38","v":{"$error":"#DIV/0!"}},null,null,3.2,{"$f":"ABS(P38*TAN($O$3*PI()/180)+$O$4*(-$G$6/'Auslegung-V'!$D$37^2)*((xkr._vx!P38/COS(xkr._vx!$O$3*PI()/180))^xkr._vx!$O$5))","v":0},{"$f":"IF(Q38>('Auslegung-V'!$D$42-'Auslegung-V'!$D$43),xkr._vx!P37,\"\")","v":""}]
[null,3.3,{"$f":"$C$3*'Auslegung-V'!$D$37*(1/xkr._vx!B39)^xkr._vx!$C$5","v":0},{"$error":"#DIV/0!"},null,null,null,null,null,null,null,null,null,null,null,3.3,{"$f":"ABS(P39*TAN($O$3*PI()/180)+$O$4*(-$G$6/'Auslegung-V'!$D$37^2)*((xkr._vx!P39/COS(xkr._vx!$O$3*PI()/180))^xkr._vx!$O$5))","v":0},{"$f":"IF(Q39>('Auslegung-V'!$D$42-'Auslegung-V'!$D$43),xkr._vx!P38,\"\")","v":""}]
[null,3.4,{"$f":"$C$3*'Auslegung-V'!$D$37*(1/xkr._vx!B40)^xkr._vx!$C$5","v":0},{"$error":"#DIV/0!"},null,null,null,null,null,null,null,null,null,null,null,3.4,{"$f":"ABS(P40*TAN($O$3*PI()/180)+$O$4*(-$G$6/'Auslegung-V'!$D$37^2)*((xkr._vx!P40/COS(xkr._vx!$O$3*PI()/180))^xkr._vx!$O$5))","v":0},{"$f":"IF(Q40>('Auslegung-V'!$D$42-'Auslegung-V'!$D$43),xkr._vx!P39,\"\")","v":""}]
[null,3.5,{"$f":"$C$3*'Auslegung-V'!$D$37*(1/xkr._vx!B41)^xkr._vx!$C$5","v":0},{"$error":"#DIV/0!"},null,null,null,null,null,null,null,null,null,null,null,3.5,{"$f":"ABS(P41*TAN($O$3*PI()/180)+$O$4*(-$G$6/'Auslegung-V'!$D$37^2)*((xkr._vx!P41/COS(xkr._vx!$O$3*PI()/180))^xkr._vx!$O$5))","v":0},{"$f":"IF(Q41>('Auslegung-V'!$D$42-'Auslegung-V'!$D$43),xkr._vx!P40,\"\")","v":""}]
[null,3.6,{"$f":"$C$3*'Auslegung-V'!$D$37*(1/xkr._vx!B42)^xkr._vx!$C$5","v":0},{"$error":"#DIV/0!"},null,null,null,null,null,null,null,null,null,null,null,3.6,{"$f":"ABS(P42*TAN($O$3*PI()/180)+$O$4*(-$G$6/'Auslegung-V'!$D$37^2)*((xkr._vx!P42/COS(xkr._vx!$O$3*PI()/180))^xkr._vx!$O$5))","v":0},{"$f":"IF(Q42>('Auslegung-V'!$D$42-'Auslegung-V'!$D$43),xkr._vx!P41,\"\")","v":""}]
[null,3.7,{"$f":"$C$3*'Auslegung-V'!$D$37*(1/xkr._vx!B43)^xkr._vx!$C$5","v":0},{"$error":"#DIV/0!"},null,null,null,null,null,null,null,null,null,null,null,3.7,{"$f":"ABS(P43*TAN($O$3*PI()/180)+$O$4*(-$G$6/'Auslegung-V'!$D$37^2)*((xkr._vx!P43/COS(xkr._vx!$O$3*PI()/180))^xkr._vx!$O$5))","v":0},{"$f":"IF(Q43>('Auslegung-V'!$D$42-'Auslegung-V'!$D$43),xkr._vx!P42,\"\")","v":""}]
[null,3.8,{"$f":"$C$3*'Auslegung-V'!$D$37*(1/xkr._vx!B44)^xkr._vx!$C$5","v":0},{"$error":"#DIV/0!"},null,null,null,null,null,null,null,null,null,null,null,3.8,{"$f":"ABS(P44*TAN($O$3*PI()/180)+$O$4*(-$G$6/'Auslegung-V'!$D$37^2)*((xkr._vx!P44/COS(xkr._vx!$O$3*PI()/180))^xkr._vx!$O$5))","v":0},{"$f":"IF(Q44>('Auslegung-V'!$D$42-'Auslegung-V'!$D$43),xkr._vx!P43,\"\")","v":""}]
[null,3.9,{"$f":"$C$3*'Auslegung-V'!$D$37*(1/xkr._vx!B45)^xkr._vx!$C$5","v":0},{"$error":"#DIV/0!"},null,null,null,null,null,null,null,null,null,null,null,3.9,{"$f":"ABS(P45*TAN($O$3*PI()/180)+$O$4*(-$G$6/'Auslegung-V'!$D$37^2)*((xkr._vx!P45/COS(xkr._vx!$O$3*PI()/180))^xkr._vx!$O$5))","v":0},{"$f":"IF(Q45>('Auslegung-V'!$D$42-'Auslegung-V'!$D$43),xkr._vx!P44,\"\")","v":""}]
[null,4,{"$f":"$C$3*'Auslegung-V'!$D$37*(1/xkr._vx!B46)^xkr._vx!$C$5","v":0},{"$error":"#DIV/0!"},null,null,null,null,null,null,null,null,null,null,null,4,{"$f":"ABS(P46*TAN($O$3*PI()/180)+$O$4*(-$G$6/'Auslegung-V'!$D$37^2)*((xkr._vx!P46/COS(xkr._vx!$O$3*PI()/180))^xkr._vx!$O$5))","v":0},{"$f":"IF(Q46>('Auslegung-V'!$D$42-'Auslegung-V'!$D$43),xkr._vx!P45,\"\")","v":""}]
[null,4.0999999999999996,{"$f":"$C$3*'Auslegung-V'!$D$37*(1/xkr._vx!B47)^xkr._vx!$C$5","v":0},{"$error":"#DIV/0!"},null,null,null,null,null,null,null,null,null,null,null,4.0999999999999996,{"$f":"ABS(P47*TAN($O$3*PI()/180)+$O$4*(-$G$6/'Auslegung-V'!$D$37^2)*((xkr._vx!P47/COS(xkr._vx!$O$3*PI()/180))^xkr._vx!$O$5))","v":0},{"$f":"IF(Q47>('Auslegung-V'!$D$42-'Auslegung-V'!$D$43),xkr._vx!P46,\"\")","v":""}]
[null,4.2,{"$f":"$C$3*'Auslegung-V'!$D$37*(1/xkr._vx!B48)^xkr._vx!$C$5","v":0},{"$error":"#DIV/0!"},null,null,null,null,null,null,null,null,null,null,null,4.2,{"$f":"ABS(P48*TAN($O$3*PI()/180)+$O$4*(-$G$6/'Auslegung-V'!$D$37^2)*((xkr._vx!P48/COS(xkr._vx!$O$3*PI()/180))^xkr._vx!$O$5))","v":0},{"$f":"IF(Q48>('Auslegung-V'!$D$42-'Auslegung-V'!$D$43),xkr._vx!P47,\"\")","v":""}]
[null,4.3,{"$f":"$C$3*'Auslegung-V'!$D$37*(1/xkr._vx!B49)^xkr._vx!$C$5","v":0},{"$error":"#DIV/0!"},null,null,null,null,null,null,null,null,null,null,null,4.3,{"$f":"ABS(P49*TAN($O$3*PI()/180)+$O$4*(-$G$6/'Auslegung-V'!$D$37^2)*((xkr._vx!P49/COS(xkr._vx!$O$3*PI()/180))^xkr._vx!$O$5))","v":0},{"$f":"IF(Q49>('Auslegung-V'!$D$42-'Auslegung-V'!$D$43),xkr._vx!P48,\"\")","v":""}]
[null,4.4000000000000004,{"$f":"$C$3*'Auslegung-V'!$D$37*(1/xkr._vx!B50)^xkr._vx!$C$5","v":0},{"$error":"#DIV/0!"},null,null,null,null,null,null,null,null,null,null,null,4.4000000000000004,{"$f":"ABS(P50*TAN($O$3*PI()/180)+$O$4*(-$G$6/'Auslegung-V'!$D$37^2)*((xkr._vx!P50/COS(xkr._vx!$O$3*PI()/180))^xkr._vx!$O$5))","v":0},{"$f":"IF(Q50>('Auslegung-V'!$D$42-'Auslegung-V'!$D$43),xkr._vx!P49,\"\")","v":""}]
[null,4.5,{"$f":"$C$3*'Auslegung-V'!$D$37*(1/xkr._vx!B51)^xkr._vx!$C$5","v":0},{"$error":"#DIV/0!"},null,null,null,null,null,null,null,null,null,null,null,4.5,{"$f":"ABS(P51*TAN($O$3*PI()/180)+$O$4*(-$G$6/'Auslegung-V'!$D$37^2)*((xkr._vx!P51/COS(xkr._vx!$O$3*PI()/180))^xkr._vx!$O$5))","v":0},{"$f":"IF(Q51>('Auslegung-V'!$D$42-'Auslegung-V'!$D$43),xkr._vx!P50,\"\")","v":""}]
[null,4.5999999999999996,{"$f":"$C$3*'Auslegung-V'!$D$37*(1/xkr._vx!B52)^xkr._vx!$C$5","v":0},{"$error":"#DIV/0!"},null,null,null,null,null,null,null,null,null,null,null,4.5999999999999996,{"$f":"ABS(P52*TAN($O$3*PI()/180)+$O$4*(-$G$6/'Auslegung-V'!$D$37^2)*((xkr._vx!P52/COS(xkr._vx!$O$3*PI()/180))^xkr._vx!$O$5))","v":0},{"$f":"IF(Q52>('Auslegung-V'!$D$42-'Auslegung-V'!$D$43),xkr._vx!P51,\"\")","v":""}]
[null,4.7,{"$f":"$C$3*'Auslegung-V'!$D$37*(1/xkr._vx!B53)^xkr._vx!$C$5","v":0},{"$error":"#DIV/0!"},null,null,null,null,null,null,null,null,null,null,null,4.7,{"$f":"ABS(P53*TAN($O$3*PI()/180)+$O$4*(-$G$6/'Auslegung-V'!$D$37^2)*((xkr._vx!P53/COS(xkr._vx!$O$3*PI()/180))^xkr._vx!$O$5))","v":0},{"$f":"IF(Q53>('Auslegung-V'!$D$42-'Auslegung-V'!$D$43),xkr._vx!P52,\"\")","v":""}]
[null,4.8,{"$f":"$C$3*'Auslegung-V'!$D$37*(1/xkr._vx!B54)^xkr._vx!$C$5","v":0},{"$error":"#DIV/0!"},null,null,null,null,null,null,null,null,null,null,null,4.8,{"$f":"ABS(P54*TAN($O$3*PI()/180)+$O$4*(-$G$6/'Auslegung-V'!$D$37^2)*((xkr._vx!P54/COS(xkr._vx!$O$3*PI()/180))^xkr._vx!$O$5))","v":0},{"$f":"IF(Q54>('Auslegung-V'!$D$42-'Auslegung-V'!$D$43),xkr._vx!P53,\"\")","v":""}]
[null,4.9000000000000004,{"$f":"$C$3*'Auslegung-V'!$D$37*(1/xkr._vx!B55)^xkr._vx!$C$5","v":0},{"$error":"#DIV/0!"},null,null,null,null,null,null,null,null,null,null,null,4.9000000000000004,{"$f":"ABS(P55*TAN($O$3*PI()/180)+$O$4*(-$G$6/'Auslegung-V'!$D$37^2)*((xkr._vx!P55/COS(xkr._vx!$O$3*PI()/180))^xkr._vx!$O$5))","v":0},{"$f":"IF(Q55>('Auslegung-V'!$D$42-'Auslegung-V'!$D$43),xkr._vx!P54,\"\")","v":""}]
[null,5,{"$f":"$C$3*'Auslegung-V'!$D$37*(1/xkr._vx!B56)^xkr._vx!$C$5","v":0},{"$error":"#DIV/0!"},null,null,null,null,null,null,null,null,null,null,null,5,{"$f":"ABS(P56*TAN($O$3*PI()/180)+$O$4*(-$G$6/'Auslegung-V'!$D$37^2)*((xkr._vx!P56/COS(xkr._vx!$O$3*PI()/180))^xkr._vx!$O$5))","v":0},{"$f":"IF(Q56>('Auslegung-V'!$D$42-'Auslegung-V'!$D$43),xkr._vx!P55,\"\")","v":""}]
[null,5.0999999999999996,{"$f":"$C$3*'Auslegung-V'!$D$37*(1/xkr._vx!B57)^xkr._vx!$C$5","v":0},{"$error":"#DIV/0!"},null,null,null,null,null,null,null,null,null,null,null,5.0999999999999996,{"$f":"ABS(P57*TAN($O$3*PI()/180)+$O$4*(-$G$6/'Auslegung-V'!$D$37^2)*((xkr._vx!P57/COS(xkr._vx!$O$3*PI()/180))^xkr._vx!$O$5))","v":0},{"$f":"IF(Q57>('Auslegung-V'!$D$42-'Auslegung-V'!$D$43),xkr._vx!P56,\"\")","v":""}]
[null,5.2,{"$f":"$C$3*'Auslegung-V'!$D$37*(1/xkr._vx!B58)^xkr._vx!$C$5","v":0},{"$error":"#DIV/0!"},null,null,null,null,null,null,null,null,null,null,null,5.2,{"$f":"ABS(P58*TAN($O$3*PI()/180)+$O$4*(-$G$6/'Auslegung-V'!$D$37^2)*((xkr._vx!P58/COS(xkr._vx!$O$3*PI()/180))^xkr._vx!$O$5))","v":0},{"$f":"IF(Q58>('Auslegung-V'!$D$42-'Auslegung-V'!$D$43),xkr._vx!P57,\"\")","v":""}]
[null,5.3,{"$f":"$C$3*'Auslegung-V'!$D$37*(1/xkr._vx!B59)^xkr._vx!$C$5","v":0},{"$error":"#DIV/0!"},null,null,null,null,null,null,null,null,null,null,null,5.3,{"$f":"ABS(P59*TAN($O$3*PI()/180)+$O$4*(-$G$6/'Auslegung-V'!$D$37^2)*((xkr._vx!P59/COS(xkr._vx!$O$3*PI()/180))^xkr._vx!$O$5))","v":0},{"$f":"IF(Q59>('Auslegung-V'!$D$42-'Auslegung-V'!$D$43),xkr._vx!P58,\"\")","v":""}]
[null,5.4,{"$f":"$C$3*'Auslegung-V'!$D$37*(1/xkr._vx!B60)^xkr._vx!$C$5","v":0},{"$error":"#DIV/0!"},null,null,null,null,null,null,null,null,null,null,null,5.4,{"$f":"ABS(P60*TAN($O$3*PI()/180)+$O$4*(-$G$6/'Auslegung-V'!$D$37^2)*((xkr._vx!P60/COS(xkr._vx!$O$3*PI()/180))^xkr._vx!$O$5))","v":0},{"$f":"IF(Q60>('Auslegung-V'!$D$42-'Auslegung-V'!$D$43),xkr._vx!P59,\"\")","v":""}]
[null,5.5,{"$f":"$C$3*'Auslegung-V'!$D$37*(1/xkr._vx!B61)^xkr._vx!$C$5","v":0},{"$error":"#DIV/0!"},null,null,null,null,null,null,null,null,null,null,null,5.5,{"$f":"ABS(P61*TAN($O$3*PI()/180)+$O$4*(-$G$6/'Auslegung-V'!$D$37^2)*((xkr._vx!P61/COS(xkr._vx!$O$3*PI()/180))^xkr._vx!$O$5))","v":0},{"$f":"IF(Q61>('Auslegung-V'!$D$42-'Auslegung-V'!$D$43),xkr._vx!P60,\"\")","v":""}]
[null,5.6,{"$f":"$C$3*'Auslegung-V'!$D$37*(1/xkr._vx!B62)^xkr._vx!$C$5","v":0},{"$error":"#DIV/0!"},null,null,null,null,null,null,null,null,null,null,null,5.6,{"$f":"ABS(P62*TAN($O$3*PI()/180)+$O$4*(-$G$6/'Auslegung-V'!$D$37^2)*((xkr._vx!P62/COS(xkr._vx!$O$3*PI()/180))^xkr._vx!$O$5))","v":0},{"$f":"IF(Q62>('Auslegung-V'!$D$42-'Auslegung-V'!$D$43),xkr._vx!P61,\"\")","v":""}]
[null,5.7,{"$f":"$C$3*'Auslegung-V'!$D$37*(1/xkr._vx!B63)^xkr._vx!$C$5","v":0},{"$error":"#DIV/0!"},null,null,null,null,null,null,null,null,null,null,null,5.7,{"$f":"ABS(P63*TAN($O$3*PI()/180)+$O$4*(-$G$6/'Auslegung-V'!$D$37^2)*((xkr._vx!P63/COS(xkr._vx!$O$3*PI()/180))^xkr._vx!$O$5))","v":0},{"$f":"IF(Q63>('Auslegung-V'!$D$42-'Auslegung-V'!$D$43),xkr._vx!P62,\"\")","v":""}]
[null,5.8,{"$f":"$C$3*'Auslegung-V'!$D$37*(1/xkr._vx!B64)^xkr._vx!$C$5","v":0},{"$error":"#DIV/0!"},null,null,null,null,null,null,null,null,null,null,null,5.8,{"$f":"ABS(P64*TAN($O$3*PI()/180)+$O$4*(-$G$6/'Auslegung-V'!$D$37^2)*((xkr._vx!P64/COS(xkr._vx!$O$3*PI()/180))^xkr._vx!$O$5))","v":0},{"$f":"IF(Q64>('Auslegung-V'!$D$42-'Auslegung-V'!$D$43),xkr._vx!P63,\"\")","v":""}]
[null,5.8999999999999897,{"$f":"$C$3*'Auslegung-V'!$D$37*(1/xkr._vx!B65)^xkr._vx!$C$5","v":0},{"$error":"#DIV/0!"},null,null,null,null,null,null,null,null,null,null,null,5.9,{"$f":"ABS(P65*TAN($O$3*PI()/180)+$O$4*(-$G$6/'Auslegung-V'!$D$37^2)*((xkr._vx!P65/COS(xkr._vx!$O$3*PI()/180))^xkr._vx!$O$5))","v":0},{"$f":"IF(Q65>('Auslegung-V'!$D$42-'Auslegung-V'!$D$43),xkr._vx!P64,\"\")","v":""}]
[null,6,{"$f":"$C$3*'Auslegung-V'!$D$37*(1/xkr._vx!B66)^xkr._vx!$C$5","v":0},{"$error":"#DIV/0!"},null,null,null,null,null,null,null,null,null,null,null,6,{"$f":"ABS(P66*TAN($O$3*PI()/180)+$O$4*(-$G$6/'Auslegung-V'!$D$37^2)*((xkr._vx!P66/COS(xkr._vx!$O$3*PI()/180))^xkr._vx!$O$5))","v":0},{"$f":"IF(Q66>('Auslegung-V'!$D$42-'Auslegung-V'!$D$43),xkr._vx!P65,\"\")","v":""}]
[null,null,null,null,null,null,null,null,null,null,null,null,null,null,null,6.1,{"$f":"ABS(P67*TAN($O$3*PI()/180)+$O$4*(-$G$6/'Auslegung-V'!$D$37^2)*((xkr._vx!P67/COS(xkr._vx!$O$3*PI()/180))^xkr._vx!$O$5))","v":0},{"$f":"IF(Q67>('Auslegung-V'!$D$42-'Auslegung-V'!$D$43),xkr._vx!P66,\"\")","v":""}]
[null,null,null,null,null,null,null,null,null,null,null,null,null,null,null,6.2,{"$f":"ABS(P68*TAN($O$3*PI()/180)+$O$4*(-$G$6/'Auslegung-V'!$D$37^2)*((xkr._vx!P68/COS(xkr._vx!$O$3*PI()/180))^xkr._vx!$O$5))","v":0},{"$f":"IF(Q68>('Auslegung-V'!$D$42-'Auslegung-V'!$D$43),xkr._vx!P67,\"\")","v":""}]
[null,null,null,null,null,null,null,null,null,null,null,null,null,null,null,6.3,{"$f":"ABS(P69*TAN($O$3*PI()/180)+$O$4*(-$G$6/'Auslegung-V'!$D$37^2)*((xkr._vx!P69/COS(xkr._vx!$O$3*PI()/180))^xkr._vx!$O$5))","v":0},{"$f":"IF(Q69>('Auslegung-V'!$D$42-'Auslegung-V'!$D$43),xkr._vx!P68,\"\")","v":""}]
[null,null,null,null,null,null,null,null,null,null,null,null,null,null,null,6.4,{"$f":"ABS(P70*TAN($O$3*PI()/180)+$O$4*(-$G$6/'Auslegung-V'!$D$37^2)*((xkr._vx!P70/COS(xkr._vx!$O$3*PI()/180))^xkr._vx!$O$5))","v":0},{"$f":"IF(Q70>('Auslegung-V'!$D$42-'Auslegung-V'!$D$43),xkr._vx!P69,\"\")","v":""}]
[null,null,null,null,null,null,null,null,null,null,null,null,null,null,null,6.5,{"$f":"ABS(P71*TAN($O$3*PI()/180)+$O$4*(-$G$6/'Auslegung-V'!$D$37^2)*((xkr._vx!P71/COS(xkr._vx!$O$3*PI()/180))^xkr._vx!$O$5))","v":0},{"$f":"IF(Q71>('Auslegung-V'!$D$42-'Auslegung-V'!$D$43),xkr._vx!P70,\"\")","v":""}]
[null,null,null,null,null,null,null,null,null,null,null,null,null,null,null,6.6,{"$f":"ABS(P72*TAN($O$3*PI()/180)+$O$4*(-$G$6/'Auslegung-V'!$D$37^2)*((xkr._vx!P72/COS(xkr._vx!$O$3*PI()/180))^xkr._vx!$O$5))","v":0},{"$f":"IF(Q72>('Auslegung-V'!$D$42-'Auslegung-V'!$D$43),xkr._vx!P71,\"\")","v":""}]
[null,null,null,null,null,null,null,null,null,null,null,null,null,null,null,6.7,{"$f":"ABS(P73*TAN($O$3*PI()/180)+$O$4*(-$G$6/'Auslegung-V'!$D$37^2)*((xkr._vx!P73/COS(xkr._vx!$O$3*PI()/180))^xkr._vx!$O$5))","v":0},{"$f":"IF(Q73>('Auslegung-V'!$D$42-'Auslegung-V'!$D$43),xkr._vx!P72,\"\")","v":""}]
[null,null,null,null,null,null,null,null,null,null,null,null,null,null,null,6.8,{"$f":"ABS(P74*TAN($O$3*PI()/180)+$O$4*(-$G$6/'Auslegung-V'!$D$37^2)*((xkr._vx!P74/COS(xkr._vx!$O$3*PI()/180))^xkr._vx!$O$5))","v":0},{"$f":"IF(Q74>('Auslegung-V'!$D$42-'Auslegung-V'!$D$43),xkr._vx!P73,\"\")","v":""}]
[null,null,null,null,null,null,null,null,null,null,null,null,null,null,null,6.9,{"$f":"ABS(P75*TAN($O$3*PI()/180)+$O$4*(-$G$6/'Auslegung-V'!$D$37^2)*((xkr._vx!P75/COS(xkr._vx!$O$3*PI()/180))^xkr._vx!$O$5))","v":0},{"$f":"IF(Q75>('Auslegung-V'!$D$42-'Auslegung-V'!$D$43),xkr._vx!P74,\"\")","v":""}]
[null,null,null,null,null,null,null,null,null,null,null,null,null,null,null,7,{"$f":"ABS(P76*TAN($O$3*PI()/180)+$O$4*(-$G$6/'Auslegung-V'!$D$37^2)*((xkr._vx!P76/COS(xkr._vx!$O$3*PI()/180))^xkr._vx!$O$5))","v":0},{"$f":"IF(Q76>('Auslegung-V'!$D$42-'Auslegung-V'!$D$43),xkr._vx!P75,\"\")","v":""}]
[null,null,null,null,null,null,null,null,null,null,null,null,null,null,null,7.1,{"$f":"ABS(P77*TAN($O$3*PI()/180)+$O$4*(-$G$6/'Auslegung-V'!$D$37^2)*((xkr._vx!P77/COS(xkr._vx!$O$3*PI()/180))^xkr._vx!$O$5))","v":0},{"$f":"IF(Q77>('Auslegung-V'!$D$42-'Auslegung-V'!$D$43),xkr._vx!P76,\"\")","v":""}]
[null,null,null,null,null,null,null,null,null,null,null,null,null,null,null,7.2,{"$f":"ABS(P78*TAN($O$3*PI()/180)+$O$4*(-$G$6/'Auslegung-V'!$D$37^2)*((xkr._vx!P78/COS(xkr._vx!$O$3*PI()/180))^xkr._vx!$O$5))","v":0},{"$f":"IF(Q78>('Auslegung-V'!$D$42-'Auslegung-V'!$D$43),xkr._vx!P77,\"\")","v":""}]
[null,null,null,null,null,null,null,null,null,null,null,null,null,null,null,7.3,{"$f":"ABS(P79*TAN($O$3*PI()/180)+$O$4*(-$G$6/'Auslegung-V'!$D$37^2)*((xkr._vx!P79/COS(xkr._vx!$O$3*PI()/180))^xkr._vx!$O$5))","v":0},{"$f":"IF(Q79>('Auslegung-V'!$D$42-'Auslegung-V'!$D$43),xkr._vx!P78,\"\")","v":""}]
[null,null,null,null,null,null,null,null,null,null,null,null,null,null,null,7.4,{"$f":"ABS(P80*TAN($O$3*PI()/180)+$O$4*(-$G$6/'Auslegung-V'!$D$37^2)*((xkr._vx!P80/COS(xkr._vx!$O$3*PI()/180))^xkr._vx!$O$5))","v":0},{"$f":"IF(Q80>('Auslegung-V'!$D$42-'Auslegung-V'!$D$43),xkr._vx!P79,\"\")","v":""}]
[null,null,null,null,null,null,null,null,null,null,null,null,null,null,null,7.5,{"$f":"ABS(P81*TAN($O$3*PI()/180)+$O$4*(-$G$6/'Auslegung-V'!$D$37^2)*((xkr._vx!P81/COS(xkr._vx!$O$3*PI()/180))^xkr._vx!$O$5))","v":0},{"$f":"IF(Q81>('Auslegung-V'!$D$42-'Auslegung-V'!$D$43),xkr._vx!P80,\"\")","v":""}]
[null,null,null,null,null,null,null,null,null,null,null,null,null,null,null,7.6,{"$f":"ABS(P82*TAN($O$3*PI()/180)+$O$4*(-$G$6/'Auslegung-V'!$D$37^2)*((xkr._vx!P82/COS(xkr._vx!$O$3*PI()/180))^xkr._vx!$O$5))","v":0},{"$f":"IF(Q82>('Auslegung-V'!$D$42-'Auslegung-V'!$D$43),xkr._vx!P81,\"\")","v":""}]
[null,null,null,null,null,null,null,null,null,null,null,null,null,null,null,7.7,{"$f":"ABS(P83*TAN($O$3*PI()/180)+$O$4*(-$G$6/'Auslegung-V'!$D$37^2)*((xkr._vx!P83/COS(xkr._vx!$O$3*PI()/180))^xkr._vx!$O$5))","v":0},{"$f":"IF(Q83>('Auslegung-V'!$D$42-'Auslegung-V'!$D$43),xkr._vx!P82,\"\")","v":""}]
[null,null,null,null,null,null,null,null,null,null,null,null,null,null,null,7.8,{"$f":"ABS(P84*TAN($O$3*PI()/180)+$O$4*(-$G$6/'Auslegung-V'!$D$37^2)*((xkr._vx!P84/COS(xkr._vx!$O$3*PI()/180))^xkr._vx!$O$5))","v":0},{"$f":"IF(Q84>('Auslegung-V'!$D$42-'Auslegung-V'!$D$43),xkr._vx!P83,\"\")","v":""}]
[null,null,null,null,null,null,null,null,null,null,null,null,null,null,null,7.9,{"$f":"ABS(P85*TAN($O$3*PI()/180)+$O$4*(-$G$6/'Auslegung-V'!$D$37^2)*((xkr._vx!P85/COS(xkr._vx!$O$3*PI()/180))^xkr._vx!$O$5))","v":0},{"$f":"IF(Q85>('Auslegung-V'!$D$42-'Auslegung-V'!$D$43),xkr._vx!P84,\"\")","v":""}]
[null,null,null,null,null,null,null,null,null,null,null,null,null,null,null,8,{"$f":"ABS(P86*TAN($O$3*PI()/180)+$O$4*(-$G$6/'Auslegung-V'!$D$37^2)*((xkr._vx!P86/COS(xkr._vx!$O$3*PI()/180))^xkr._vx!$O$5))","v":0},{"$f":"IF(Q86>('Auslegung-V'!$D$42-'Auslegung-V'!$D$43),xkr._vx!P85,\"\")","v":""}]
[null,null,null,null,null,null,null,null,null,null,null,null,null,null,null,8.1,{"$f":"ABS(P87*TAN($O$3*PI()/180)+$O$4*(-$G$6/'Auslegung-V'!$D$37^2)*((xkr._vx!P87/COS(xkr._vx!$O$3*PI()/180))^xkr._vx!$O$5))","v":0},{"$f":"IF(Q87>('Auslegung-V'!$D$42-'Auslegung-V'!$D$43),xkr._vx!P86,\"\")","v":""}]
[null,null,null,null,null,null,null,null,null,null,null,null,null,null,null,8.1999999999999993,{"$f":"ABS(P88*TAN($O$3*PI()/180)+$O$4*(-$G$6/'Auslegung-V'!$D$37^2)*((xkr._vx!P88/COS(xkr._vx!$O$3*PI()/180))^xkr._vx!$O$5))","v":0},{"$f":"IF(Q88>('Auslegung-V'!$D$42-'Auslegung-V'!$D$43),xkr._vx!P87,\"\")","v":""}]
[null,null,null,null,null,null,null,null,null,null,null,null,null,null,null,8.3000000000000007,{"$f":"ABS(P89*TAN($O$3*PI()/180)+$O$4*(-$G$6/'Auslegung-V'!$D$37^2)*((xkr._vx!P89/COS(xkr._vx!$O$3*PI()/180))^xkr._vx!$O$5))","v":0},{"$f":"IF(Q89>('Auslegung-V'!$D$42-'Auslegung-V'!$D$43),xkr._vx!P88,\"\")","v":""}]
[null,null,null,null,null,null,null,null,null,null,null,null,null,null,null,8.4,{"$f":"ABS(P90*TAN($O$3*PI()/180)+$O$4*(-$G$6/'Auslegung-V'!$D$37^2)*((xkr._vx!P90/COS(xkr._vx!$O$3*PI()/180))^xkr._vx!$O$5))","v":0},{"$f":"IF(Q90>('Auslegung-V'!$D$42-'Auslegung-V'!$D$43),xkr._vx!P89,\"\")","v":""}]
[null,null,null,null,null,null,null,null,null,null,null,null,null,null,null,8.5,{"$f":"ABS(P91*TAN($O$3*PI()/180)+$O$4*(-$G$6/'Auslegung-V'!$D$37^2)*((xkr._vx!P91/COS(xkr._vx!$O$3*PI()/180))^xkr._vx!$O$5))","v":0},{"$f":"IF(Q91>('Auslegung-V'!$D$42-'Auslegung-V'!$D$43),xkr._vx!P90,\"\")","v":""}]
[null,null,null,null,null,null,null,null,null,null,null,null,null,null,null,8.6,{"$f":"ABS(P92*TAN($O$3*PI()/180)+$O$4*(-$G$6/'Auslegung-V'!$D$37^2)*((xkr._vx!P92/COS(xkr._vx!$O$3*PI()/180))^xkr._vx!$O$5))","v":0},{"$f":"IF(Q92>('Auslegung-V'!$D$42-'Auslegung-V'!$D$43),xkr._vx!P91,\"\")","v":""}]
[null,null,null,null,null,null,null,null,null,null,null,null,null,null,null,8.6999999999999993,{"$f":"ABS(P93*TAN($O$3*PI()/180)+$O$4*(-$G$6/'Auslegung-V'!$D$37^2)*((xkr._vx!P93/COS(xkr._vx!$O$3*PI()/180))^xkr._vx!$O$5))","v":0},{"$f":"IF(Q93>('Auslegung-V'!$D$42-'Auslegung-V'!$D$43),xkr._vx!P92,\"\")","v":""}]
[null,null,null,null,null,null,null,null,null,null,null,null,null,null,null,8.8000000000000007,{"$f":"ABS(P94*TAN($O$3*PI()/180)+$O$4*(-$G$6/'Auslegung-V'!$D$37^2)*((xkr._vx!P94/COS(xkr._vx!$O$3*PI()/180))^xkr._vx!$O$5))","v":0},{"$f":"IF(Q94>('Auslegung-V'!$D$42-'Auslegung-V'!$D$43),xkr._vx!P93,\"\")","v":""}]
[null,null,null,null,null,null,null,null,null,null,null,null,null,null,null,8.9,{"$f":"ABS(P95*TAN($O$3*PI()/180)+$O$4*(-$G$6/'Auslegung-V'!$D$37^2)*((xkr._vx!P95/COS(xkr._vx!$O$3*PI()/180))^xkr._vx!$O$5))","v":0},{"$f":"IF(Q95>('Auslegung-V'!$D$42-'Auslegung-V'!$D$43),xkr._vx!P94,\"\")","v":""}]
[null,null,null,null,null,null,null,null,null,null,null,null,null,null,null,9,{"$f":"ABS(P96*TAN($O$3*PI()/180)+$O$4*(-$G$6/'Auslegung-V'!$D$37^2)*((xkr._vx!P96/COS(xkr._vx!$O$3*PI()/180))^xkr._vx!$O$5))","v":0},{"$f":"IF(Q96>('Auslegung-V'!$D$42-'Auslegung-V'!$D$43),xkr._vx!P95,\"\")","v":""}]
[null,null,null,null,null,null,null,null,null,null,null,null,null,null,null,9.1,{"$f":"ABS(P97*TAN($O$3*PI()/180)+$O$4*(-$G$6/'Auslegung-V'!$D$37^2)*((xkr._vx!P97/COS(xkr._vx!$O$3*PI()/180))^xkr._vx!$O$5))","v":0},{"$f":"IF(Q97>('Auslegung-V'!$D$42-'Auslegung-V'!$D$43),xkr._vx!P96,\"\")","v":""}]
[null,null,null,null,null,null,null,null,null,null,null,null,null,null,null,9.1999999999999993,{"$f":"ABS(P98*TAN($O$3*PI()/180)+$O$4*(-$G$6/'Auslegung-V'!$D$37^2)*((xkr._vx!P98/COS(xkr._vx!$O$3*PI()/180))^xkr._vx!$O$5))","v":0},{"$f":"IF(Q98>('Auslegung-V'!$D$42-'Auslegung-V'!$D$43),xkr._vx!P97,\"\")","v":""}]
[null,null,null,null,null,null,null,null,null,null,null,null,null,null,null,9.3000000000000007,{"$f":"ABS(P99*TAN($O$3*PI()/180)+$O$4*(-$G$6/'Auslegung-V'!$D$37^2)*((xkr._vx!P99/COS(xkr._vx!$O$3*PI()/180))^xkr._vx!$O$5))","v":0},{"$f":"IF(Q99>('Auslegung-V'!$D$42-'Auslegung-V'!$D$43),xkr._vx!P98,\"\")","v":""}]
[null,null,null,null,null,null,null,null,null,null,null,null,null,null,null,9.4,{"$f":"ABS(P100*TAN($O$3*PI()/180)+$O$4*(-$G$6/'Auslegung-V'!$D$37^2)*((xkr._vx!P100/COS(xkr._vx!$O$3*PI()/180))^xkr._vx!$O$5))","v":0},{"$f":"IF(Q100>('Auslegung-V'!$D$42-'Auslegung-V'!$D$43),xkr._vx!P99,\"\")","v":""}]
[null,null,null,null,null,null,null,null,null,null,null,null,null,null,null,9.5,{"$f":"ABS(P101*TAN($O$3*PI()/180)+$O$4*(-$G$6/'Auslegung-V'!$D$37^2)*((xkr._vx!P101/COS(xkr._vx!$O$3*PI()/180))^xkr._vx!$O$5))","v":0},{"$f":"IF(Q101>('Auslegung-V'!$D$42-'Auslegung-V'!$D$43),xkr._vx!P100,\"\")","v":""}]
[null,null,null,null,null,null,null,null,null,null,null,null,null,null,null,9.6,{"$f":"ABS(P102*TAN($O$3*PI()/180)+$O$4*(-$G$6/'Auslegung-V'!$D$37^2)*((xkr._vx!P102/COS(xkr._vx!$O$3*PI()/180))^xkr._vx!$O$5))","v":0},{"$f":"IF(Q102>('Auslegung-V'!$D$42-'Auslegung-V'!$D$43),xkr._vx!P101,\"\")","v":""}]
[null,null,null,null,null,null,null,null,null,null,null,null,null,null,null,9.6999999999999993,{"$f":"ABS(P103*TAN($O$3*PI()/180)+$O$4*(-$G$6/'Auslegung-V'!$D$37^2)*((xkr._vx!P103/COS(xkr._vx!$O$3*PI()/180))^xkr._vx!$O$5))","v":0},{"$f":"IF(Q103>('Auslegung-V'!$D$42-'Auslegung-V'!$D$43),xkr._vx!P102,\"\")","v":""}]
[null,null,null,null,null,null,null,null,null,null,null,null,null,null,null,9.8000000000000007,{"$f":"ABS(P104*TAN($O$3*PI()/180)+$O$4*(-$G$6/'Auslegung-V'!$D$37^2)*((xkr._vx!P104/COS(xkr._vx!$O$3*PI()/180))^xkr._vx!$O$5))","v":0},{"$f":"IF(Q104>('Auslegung-V'!$D$42-'Auslegung-V'!$D$43),xkr._vx!P103,\"\")","v":""}]
[null,null,null,null,null,null,null,null,null,null,null,null,null,null,null,9.9,{"$f":"ABS(P105*TAN($O$3*PI()/180)+$O$4*(-$G$6/'Auslegung-V'!$D$37^2)*((xkr._vx!P105/COS(xkr._vx!$O$3*PI()/180))^xkr._vx!$O$5))","v":0},{"$f":"IF(Q105>('Auslegung-V'!$D$42-'Auslegung-V'!$D$43),xkr._vx!P104,\"\")","v":""}]
[null,null,null,null,null,null,null,null,null,null,null,null,null,null,null,10,{"$f":"ABS(P106*TAN($O$3*PI()/180)+$O$4*(-$G$6/'Auslegung-V'!$D$37^2)*((xkr._vx!P106/COS(xkr._vx!$O$3*PI()/180))^xkr._vx!$O$5))","v":0},{"$f":"IF(Q106>('Auslegung-V'!$D$42-'Auslegung-V'!$D$43),xkr._vx!P105,\"\")","v":""}]
[null,null,null,null,null,null,null,null,null,null,null,null,null,null,null,10.1,{"$f":"ABS(P107*TAN($O$3*PI()/180)+$O$4*(-$G$6/'Auslegung-V'!$D$37^2)*((xkr._vx!P107/COS(xkr._vx!$O$3*PI()/180))^xkr._vx!$O$5))","v":0},{"$f":"IF(Q107>('Auslegung-V'!$D$42-'Auslegung-V'!$D$43),xkr._vx!P106,\"\")","v":""}]
[null,null,null,null,null,null,null,null,null,null,null,null,null,null,null,10.199999999999999,{"$f":"ABS(P108*TAN($O$3*PI()/180)+$O$4*(-$G$6/'Auslegung-V'!$D$37^2)*((xkr._vx!P108/COS(xkr._vx!$O$3*PI()/180))^xkr._vx!$O$5))","v":0},{"$f":"IF(Q108>('Auslegung-V'!$D$42-'Auslegung-V'!$D$43),xkr._vx!P107,\"\")","v":""}]
[null,null,null,null,null,null,null,null,null,null,null,null,null,null,null,10.3,{"$f":"ABS(P109*TAN($O$3*PI()/180)+$O$4*(-$G$6/'Auslegung-V'!$D$37^2)*((xkr._vx!P109/COS(xkr._vx!$O$3*PI()/180))^xkr._vx!$O$5))","v":0},{"$f":"IF(Q109>('Auslegung-V'!$D$42-'Auslegung-V'!$D$43),xkr._vx!P108,\"\")","v":""}]
[null,null,null,null,null,null,null,null,null,null,null,null,null,null,null,10.4,{"$f":"ABS(P110*TAN($O$3*PI()/180)+$O$4*(-$G$6/'Auslegung-V'!$D$37^2)*((xkr._vx!P110/COS(xkr._vx!$O$3*PI()/180))^xkr._vx!$O$5))","v":0},{"$f":"IF(Q110>('Auslegung-V'!$D$42-'Auslegung-V'!$D$43),xkr._vx!P109,\"\")","v":""}]
[null,null,null,null,null,null,null,null,null,null,null,null,null,null,null,10.5,{"$f":"ABS(P111*TAN($O$3*PI()/180)+$O$4*(-$G$6/'Auslegung-V'!$D$37^2)*((xkr._vx!P111/COS(xkr._vx!$O$3*PI()/180))^xkr._vx!$O$5))","v":0},{"$f":"IF(Q111>('Auslegung-V'!$D$42-'Auslegung-V'!$D$43),xkr._vx!P110,\"\")","v":""}]
[null,null,null,null,null,null,null,null,null,null,null,null,null,null,null,10.6,{"$f":"ABS(P112*TAN($O$3*PI()/180)+$O$4*(-$G$6/'Auslegung-V'!$D$37^2)*((xkr._vx!P112/COS(xkr._vx!$O$3*PI()/180))^xkr._vx!$O$5))","v":0},{"$f":"IF(Q112>('Auslegung-V'!$D$42-'Auslegung-V'!$D$43),xkr._vx!P111,\"\")","v":""}]
[null,null,null,null,null,null,null,null,null,null,null,null,null,null,null,10.7,{"$f":"ABS(P113*TAN($O$3*PI()/180)+$O$4*(-$G$6/'Auslegung-V'!$D$37^2)*((xkr._vx!P113/COS(xkr._vx!$O$3*PI()/180))^xkr._vx!$O$5))","v":0},{"$f":"IF(Q113>('Auslegung-V'!$D$42-'Auslegung-V'!$D$43),xkr._vx!P112,\"\")","v":""}]
[null,null,null,null,null,null,null,null,null,null,null,null,null,null,null,10.8,{"$f":"ABS(P114*TAN($O$3*PI()/180)+$O$4*(-$G$6/'Auslegung-V'!$D$37^2)*((xkr._vx!P114/COS(xkr._vx!$O$3*PI()/180))^xkr._vx!$O$5))","v":0},{"$f":"IF(Q114>('Auslegung-V'!$D$42-'Auslegung-V'!$D$43),xkr._vx!P113,\"\")","v":""}]
[null,null,null,null,null,null,null,null,null,null,null,null,null,null,null,10.9,{"$f":"ABS(P115*TAN($O$3*PI()/180)+$O$4*(-$G$6/'Auslegung-V'!$D$37^2)*((xkr._vx!P115/COS(xkr._vx!$O$3*PI()/180))^xkr._vx!$O$5))","v":0},{"$f":"IF(Q115>('Auslegung-V'!$D$42-'Auslegung-V'!$D$43),xkr._vx!P114,\"\")","v":""}]
[null,null,null,null,null,null,null,null,null,null,null,null,null,null,null,11,{"$f":"ABS(P116*TAN($O$3*PI()/180)+$O$4*(-$G$6/'Auslegung-V'!$D$37^2)*((xkr._vx!P116/COS(xkr._vx!$O$3*PI()/180))^xkr._vx!$O$5))","v":0},{"$f":"IF(Q116>('Auslegung-V'!$D$42-'Auslegung-V'!$D$43),xkr._vx!P115,\"\")","v":""}]
[null,null,null,null,null,null,null,null,null,null,null,null,null,null,null,11.1,{"$f":"ABS(P117*TAN($O$3*PI()/180)+$O$4*(-$G$6/'Auslegung-V'!$D$37^2)*((xkr._vx!P117/COS(xkr._vx!$O$3*PI()/180))^xkr._vx!$O$5))","v":0},{"$f":"IF(Q117>('Auslegung-V'!$D$42-'Auslegung-V'!$D$43),xkr._vx!P116,\"\")","v":""}]
[null,null,null,null,null,null,null,null,null,null,null,null,null,null,null,11.2,{"$f":"ABS(P118*TAN($O$3*PI()/180)+$O$4*(-$G$6/'Auslegung-V'!$D$37^2)*((xkr._vx!P118/COS(xkr._vx!$O$3*PI()/180))^xkr._vx!$O$5))","v":0},{"$f":"IF(Q118>('Auslegung-V'!$D$42-'Auslegung-V'!$D$43),xkr._vx!P117,\"\")","v":""}]
[null,null,null,null,null,null,null,null,null,null,null,null,null,null,null,11.3,{"$f":"ABS(P119*TAN($O$3*PI()/180)+$O$4*(-$G$6/'Auslegung-V'!$D$37^2)*((xkr._vx!P119/COS(xkr._vx!$O$3*PI()/180))^xkr._vx!$O$5))","v":0},{"$f":"IF(Q119>('Auslegung-V'!$D$42-'Auslegung-V'!$D$43),xkr._vx!P118,\"\")","v":""}]
[null,null,null,null,null,null,null,null,null,null,null,null,null,null,null,11.4,{"$f":"ABS(P120*TAN($O$3*PI()/180)+$O$4*(-$G$6/'Auslegung-V'!$D$37^2)*((xkr._vx!P120/COS(xkr._vx!$O$3*PI()/180))^xkr._vx!$O$5))","v":0},{"$f":"IF(Q120>('Auslegung-V'!$D$42-'Auslegung-V'!$D$43),xkr._vx!P119,\"\")","v":""}]
[null,null,null,null,null,null,null,null,null,null,null,null,null,null,null,11.5,{"$f":"ABS(P121*TAN($O$3*PI()/180)+$O$4*(-$G$6/'Auslegung-V'!$D$37^2)*((xkr._vx!P121/COS(xkr._vx!$O$3*PI()/180))^xkr._vx!$O$5))","v":0},{"$f":"IF(Q121>('Auslegung-V'!$D$42-'Auslegung-V'!$D$43),xkr._vx!P120,\"\")","v":""}]
[null,null,null,null,null,null,null,null,null,null,null,null,null,null,null,11.6,{"$f":"ABS(P122*TAN($O$3*PI()/180)+$O$4*(-$G$6/'Auslegung-V'!$D$37^2)*((xkr._vx!P122/COS(xkr._vx!$O$3*PI()/180))^xkr._vx!$O$5))","v":0},{"$f":"IF(Q122>('Auslegung-V'!$D$42-'Auslegung-V'!$D$43),xkr._vx!P121,\"\")","v":""}]
[null,null,null,null,null,null,null,null,null,null,null,null,null,null,null,11.7,{"$f":"ABS(P123*TAN($O$3*PI()/180)+$O$4*(-$G$6/'Auslegung-V'!$D$37^2)*((xkr._vx!P123/COS(xkr._vx!$O$3*PI()/180))^xkr._vx!$O$5))","v":0},{"$f":"IF(Q123>('Auslegung-V'!$D$42-'Auslegung-V'!$D$43),xkr._vx!P122,\"\")","v":""}]
[null,null,null,null,null,null,null,null,null,null,null,null,null,null,null,11.8,{"$f":"ABS(P124*TAN($O$3*PI()/180)+$O$4*(-$G$6/'Auslegung-V'!$D$37^2)*((xkr._vx!P124/COS(xkr._vx!$O$3*PI()/180))^xkr._vx!$O$5))","v":0},{"$f":"IF(Q124>('Auslegung-V'!$D$42-'Auslegung-V'!$D$43),xkr._vx!P123,\"\")","v":""}]
[null,null,null,null,null,null,null,null,null,null,null,null,null,null,null,11.9,{"$f":"ABS(P125*TAN($O$3*PI()/180)+$O$4*(-$G$6/'Auslegung-V'!$D$37^2)*((xkr._vx!P125/COS(xkr._vx!$O$3*PI()/180))^xkr._vx!$O$5))","v":0},{"$f":"IF(Q125>('Auslegung-V'!$D$42-'Auslegung-V'!$D$43),xkr._vx!P124,\"\")","v":""}]
[null,null,null,null,null,null,null,null,null,null,null,null,null,null,null,12,{"$f":"ABS(P126*TAN($O$3*PI()/180)+$O$4*(-$G$6/'Auslegung-V'!$D$37^2)*((xkr._vx!P126/COS(xkr._vx!$O$3*PI()/180))^xkr._vx!$O$5))","v":0},{"$f":"IF(Q126>('Auslegung-V'!$D$42-'Auslegung-V'!$D$43),xkr._vx!P125,\"\")","v":""}]
[null,null,null,null,null,null,null,null,null,null,null,null,null,null,null,12.1,{"$f":"ABS(P127*TAN($O$3*PI()/180)+$O$4*(-$G$6/'Auslegung-V'!$D$37^2)*((xkr._vx!P127/COS(xkr._vx!$O$3*PI()/180))^xkr._vx!$O$5))","v":0},{"$f":"IF(Q127>('Auslegung-V'!$D$42-'Auslegung-V'!$D$43),xkr._vx!P126,\"\")","v":""}]
[null,null,null,null,null,null,null,null,null,null,null,null,null,null,null,12.2,{"$f":"ABS(P128*TAN($O$3*PI()/180)+$O$4*(-$G$6/'Auslegung-V'!$D$37^2)*((xkr._vx!P128/COS(xkr._vx!$O$3*PI()/180))^xkr._vx!$O$5))","v":0},{"$f":"IF(Q128>('Auslegung-V'!$D$42-'Auslegung-V'!$D$43),xkr._vx!P127,\"\")","v":""}]
[null,null,null,null,null,null,null,null,null,null,null,null,null,null,null,12.3,{"$f":"ABS(P129*TAN($O$3*PI()/180)+$O$4*(-$G$6/'Auslegung-V'!$D$37^2)*((xkr._vx!P129/COS(xkr._vx!$O$3*PI()/180))^xkr._vx!$O$5))","v":0},{"$f":"IF(Q129>('Auslegung-V'!$D$42-'Auslegung-V'!$D$43),xkr._vx!P128,\"\")","v":""}]
[null,null,null,null,null,null,null,null,null,null,null,null,null,null,null,12.4,{"$f":"ABS(P130*TAN($O$3*PI()/180)+$O$4*(-$G$6/'Auslegung-V'!$D$37^2)*((xkr._vx!P130/COS(xkr._vx!$O$3*PI()/180))^xkr._vx!$O$5))","v":0},{"$f":"IF(Q130>('Auslegung-V'!$D$42-'Auslegung-V'!$D$43),xkr._vx!P129,\"\")","v":""}]
[null,null,null,null,null,null,null,null,null,null,null,null,null,null,null,12.5,{"$f":"ABS(P131*TAN($O$3*PI()/180)+$O$4*(-$G$6/'Auslegung-V'!$D$37^2)*((xkr._vx!P131/COS(xkr._vx!$O$3*PI()/180))^xkr._vx!$O$5))","v":0},{"$f":"IF(Q131>('Auslegung-V'!$D$42-'Auslegung-V'!$D$43),xkr._vx!P130,\"\")","v":""}]
[null,null,null,null,null,null,null,null,null,null,null,null,null,null,null,12.6,{"$f":"ABS(P132*TAN($O$3*PI()/180)+$O$4*(-$G$6/'Auslegung-V'!$D$37^2)*((xkr._vx!P132/COS(xkr._vx!$O$3*PI()/180))^xkr._vx!$O$5))","v":0},{"$f":"IF(Q132>('Auslegung-V'!$D$42-'Auslegung-V'!$D$43),xkr._vx!P131,\"\")","v":""}]
[null,null,null,null,null,null,null,null,null,null,null,null,null,null,null,12.7,{"$f":"ABS(P133*TAN($O$3*PI()/180)+$O$4*(-$G$6/'Auslegung-V'!$D$37^2)*((xkr._vx!P133/COS(xkr._vx!$O$3*PI()/180))^xkr._vx!$O$5))","v":0},{"$f":"IF(Q133>('Auslegung-V'!$D$42-'Auslegung-V'!$D$43),xkr._vx!P132,\"\")","v":""}]
[null,null,null,null,null,null,null,null,null,null,null,null,null,null,null,12.8,{"$f":"ABS(P134*TAN($O$3*PI()/180)+$O$4*(-$G$6/'Auslegung-V'!$D$37^2)*((xkr._vx!P134/COS(xkr._vx!$O$3*PI()/180))^xkr._vx!$O$5))","v":0},{"$f":"IF(Q134>('Auslegung-V'!$D$42-'Auslegung-V'!$D$43),xkr._vx!P133,\"\")","v":""}]
[null,null,null,null,null,null,null,null,null,null,null,null,null,null,null,12.9,{"$f":"ABS(P135*TAN($O$3*PI()/180)+$O$4*(-$G$6/'Auslegung-V'!$D$37^2)*((xkr._vx!P135/COS(xkr._vx!$O$3*PI()/180))^xkr._vx!$O$5))","v":0},{"$f":"IF(Q135>('Auslegung-V'!$D$42-'Auslegung-V'!$D$43),xkr._vx!P134,\"\")","v":""}]
[null,null,null,null,null,null,null,null,null,null,null,null,null,null,null,13,{"$f":"ABS(P136*TAN($O$3*PI()/180)+$O$4*(-$G$6/'Auslegung-V'!$D$37^2)*((xkr._vx!P136/COS(xkr._vx!$O$3*PI()/180))^xkr._vx!$O$5))","v":0},{"$f":"IF(Q136>('Auslegung-V'!$D$42-'Auslegung-V'!$D$43),xkr._vx!P135,\"\")","v":""}]
[null,null,null,null,null,null,null,null,null,null,null,null,null,null,null,13.1,{"$f":"ABS(P137*TAN($O$3*PI()/180)+$O$4*(-$G$6/'Auslegung-V'!$D$37^2)*((xkr._vx!P137/COS(xkr._vx!$O$3*PI()/180))^xkr._vx!$O$5))","v":0},{"$f":"IF(Q137>('Auslegung-V'!$D$42-'Auslegung-V'!$D$43),xkr._vx!P136,\"\")","v":""}]
[null,null,null,null,null,null,null,null,null,null,null,null,null,null,null,13.2,{"$f":"ABS(P138*TAN($O$3*PI()/180)+$O$4*(-$G$6/'Auslegung-V'!$D$37^2)*((xkr._vx!P138/COS(xkr._vx!$O$3*PI()/180))^xkr._vx!$O$5))","v":0},{"$f":"IF(Q138>('Auslegung-V'!$D$42-'Auslegung-V'!$D$43),xkr._vx!P137,\"\")","v":""}]
[null,null,null,null,null,null,null,null,null,null,null,null,null,null,null,13.3,{"$f":"ABS(P139*TAN($O$3*PI()/180)+$O$4*(-$G$6/'Auslegung-V'!$D$37^2)*((xkr._vx!P139/COS(xkr._vx!$O$3*PI()/180))^xkr._vx!$O$5))","v":0},{"$f":"IF(Q139>('Auslegung-V'!$D$42-'Auslegung-V'!$D$43),xkr._vx!P138,\"\")","v":""}]
[null,null,null,null,null,null,null,null,null,null,null,null,null,null,null,13.4,{"$f":"ABS(P140*TAN($O$3*PI()/180)+$O$4*(-$G$6/'Auslegung-V'!$D$37^2)*((xkr._vx!P140/COS(xkr._vx!$O$3*PI()/180))^xkr._vx!$O$5))","v":0},{"$f":"IF(Q140>('Auslegung-V'!$D$42-'Auslegung-V'!$D$43),xkr._vx!P139,\"\")","v":""}]
[null,null,null,null,null,null,null,null,null,null,null,null,null,null,null,13.5,{"$f":"ABS(P141*TAN($O$3*PI()/180)+$O$4*(-$G$6/'Auslegung-V'!$D$37^2)*((xkr._vx!P141/COS(xkr._vx!$O$3*PI()/180))^xkr._vx!$O$5))","v":0},{"$f":"IF(Q141>('Auslegung-V'!$D$42-'Auslegung-V'!$D$43),xkr._vx!P140,\"\")","v":""}]
[null,null,null,null,null,null,null,null,null,null,null,null,null,null,null,13.6,{"$f":"ABS(P142*TAN($O$3*PI()/180)+$O$4*(-$G$6/'Auslegung-V'!$D$37^2)*((xkr._vx!P142/COS(xkr._vx!$O$3*PI()/180))^xkr._vx!$O$5))","v":0},{"$f":"IF(Q142>('Auslegung-V'!$D$42-'Auslegung-V'!$D$43),xkr._vx!P141,\"\")","v":""}]
[null,null,null,null,null,null,null,null,null,null,null,null,null,null,null,13.7,{"$f":"ABS(P143*TAN($O$3*PI()/180)+$O$4*(-$G$6/'Auslegung-V'!$D$37^2)*((xkr._vx!P143/COS(xkr._vx!$O$3*PI()/180))^xkr._vx!$O$5))","v":0},{"$f":"IF(Q143>('Auslegung-V'!$D$42-'Auslegung-V'!$D$43),xkr._vx!P142,\"\")","v":""}]
[null,null,null,null,null,null,null,null,null,null,null,null,null,null,null,13.8,{"$f":"ABS(P144*TAN($O$3*PI()/180)+$O$4*(-$G$6/'Auslegung-V'!$D$37^2)*((xkr._vx!P144/COS(xkr._vx!$O$3*PI()/180))^xkr._vx!$O$5))","v":0},{"$f":"IF(Q144>('Auslegung-V'!$D$42-'Auslegung-V'!$D$43),xkr._vx!P143,\"\")","v":""}]
[null,null,null,null,null,null,null,null,null,null,null,null,null,null,null,13.9,{"$f":"ABS(P145*TAN($O$3*PI()/180)+$O$4*(-$G$6/'Auslegung-V'!$D$37^2)*((xkr._vx!P145/COS(xkr._vx!$O$3*PI()/180))^xkr._vx!$O$5))","v":0},{"$f":"IF(Q145>('Auslegung-V'!$D$42-'Auslegung-V'!$D$43),xkr._vx!P144,\"\")","v":""}]
[null,null,null,null,null,null,null,null,null,null,null,null,null,null,null,14,{"$f":"ABS(P146*TAN($O$3*PI()/180)+$O$4*(-$G$6/'Auslegung-V'!$D$37^2)*((xkr._vx!P146/COS(xkr._vx!$O$3*PI()/180))^xkr._vx!$O$5))","v":0},{"$f":"IF(Q146>('Auslegung-V'!$D$42-'Auslegung-V'!$D$43),xkr._vx!P145,\"\")","v":""}]
[null,null,null,null,null,null,null,null,null,null,null,null,null,null,null,14.1,{"$f":"ABS(P147*TAN($O$3*PI()/180)+$O$4*(-$G$6/'Auslegung-V'!$D$37^2)*((xkr._vx!P147/COS(xkr._vx!$O$3*PI()/180))^xkr._vx!$O$5))","v":0},{"$f":"IF(Q147>('Auslegung-V'!$D$42-'Auslegung-V'!$D$43),xkr._vx!P146,\"\")","v":""}]
[null,null,null,null,null,null,null,null,null,null,null,null,null,null,null,14.2,{"$f":"ABS(P148*TAN($O$3*PI()/180)+$O$4*(-$G$6/'Auslegung-V'!$D$37^2)*((xkr._vx!P148/COS(xkr._vx!$O$3*PI()/180))^xkr._vx!$O$5))","v":0},{"$f":"IF(Q148>('Auslegung-V'!$D$42-'Auslegung-V'!$D$43),xkr._vx!P147,\"\")","v":""}]
[null,null,null,null,null,null,null,null,null,null,null,null,null,null,null,14.3,{"$f":"ABS(P149*TAN($O$3*PI()/180)+$O$4*(-$G$6/'Auslegung-V'!$D$37^2)*((xkr._vx!P149/COS(xkr._vx!$O$3*PI()/180))^xkr._vx!$O$5))","v":0},{"$f":"IF(Q149>('Auslegung-V'!$D$42-'Auslegung-V'!$D$43),xkr._vx!P148,\"\")","v":""}]
[null,null,null,null,null,null,null,null,null,null,null,null,null,null,null,14.4,{"$f":"ABS(P150*TAN($O$3*PI()/180)+$O$4*(-$G$6/'Auslegung-V'!$D$37^2)*((xkr._vx!P150/COS(xkr._vx!$O$3*PI()/180))^xkr._vx!$O$5))","v":0},{"$f":"IF(Q150>('Auslegung-V'!$D$42-'Auslegung-V'!$D$43),xkr._vx!P149,\"\")","v":""}]
[null,null,null,null,null,null,null,null,null,null,null,null,null,null,null,14.5,{"$f":"ABS(P151*TAN($O$3*PI()/180)+$O$4*(-$G$6/'Auslegung-V'!$D$37^2)*((xkr._vx!P151/COS(xkr._vx!$O$3*PI()/180))^xkr._vx!$O$5))","v":0},{"$f":"IF(Q151>('Auslegung-V'!$D$42-'Auslegung-V'!$D$43),xkr._vx!P150,\"\")","v":""}]
[null,null,null,null,null,null,null,null,null,null,null,null,null,null,null,14.6,{"$f":"ABS(P152*TAN($O$3*PI()/180)+$O$4*(-$G$6/'Auslegung-V'!$D$37^2)*((xkr._vx!P152/COS(xkr._vx!$O$3*PI()/180))^xkr._vx!$O$5))","v":0},{"$f":"IF(Q152>('Auslegung-V'!$D$42-'Auslegung-V'!$D$43),xkr._vx!P151,\"\")","v":""}]
[null,null,null,null,null,null,null,null,null,null,null,null,null,null,null,14.7,{"$f":"ABS(P153*TAN($O$3*PI()/180)+$O$4*(-$G$6/'Auslegung-V'!$D$37^2)*((xkr._vx!P153/COS(xkr._vx!$O$3*PI()/180))^xkr._vx!$O$5))","v":0},{"$f":"IF(Q153>('Auslegung-V'!$D$42-'Auslegung-V'!$D$43),xkr._vx!P152,\"\")","v":""}]
[null,null,null,null,null,null,null,null,null,null,null,null,null,null,null,14.8,{"$f":"ABS(P154*TAN($O$3*PI()/180)+$O$4*(-$G$6/'Auslegung-V'!$D$37^2)*((xkr._vx!P154/COS(xkr._vx!$O$3*PI()/180))^xkr._vx!$O$5))","v":0},{"$f":"IF(Q154>('Auslegung-V'!$D$42-'Auslegung-V'!$D$43),xkr._vx!P153,\"\")","v":""}]
[null,null,null,null,null,null,null,null,null,null,null,null,null,null,null,14.9,{"$f":"ABS(P155*TAN($O$3*PI()/180)+$O$4*(-$G$6/'Auslegung-V'!$D$37^2)*((xkr._vx!P155/COS(xkr._vx!$O$3*PI()/180))^xkr._vx!$O$5))","v":0},{"$f":"IF(Q155>('Auslegung-V'!$D$42-'Auslegung-V'!$D$43),xkr._vx!P154,\"\")","v":""}]
[null,null,null,null,null,null,null,null,null,null,null,null,null,null,null,15,{"$f":"ABS(P156*TAN($O$3*PI()/180)+$O$4*(-$G$6/'Auslegung-V'!$D$37^2)*((xkr._vx!P156/COS(xkr._vx!$O$3*PI()/180))^xkr._vx!$O$5))","v":0},{"$f":"IF(Q156>('Auslegung-V'!$D$42-'Auslegung-V'!$D$43),xkr._vx!P155,\"\")","v":""}]
[null,null,null,null,null,null,null,null,null,null,null,null,null,null,null,15.1,{"$f":"ABS(P157*TAN($O$3*PI()/180)+$O$4*(-$G$6/'Auslegung-V'!$D$37^2)*((xkr._vx!P157/COS(xkr._vx!$O$3*PI()/180))^xkr._vx!$O$5))","v":0},{"$f":"IF(Q157>('Auslegung-V'!$D$42-'Auslegung-V'!$D$43),xkr._vx!P156,\"\")","v":""}]
[null,null,null,null,null,null,null,null,null,null,null,null,null,null,null,15.2,{"$f":"ABS(P158*TAN($O$3*PI()/180)+$O$4*(-$G$6/'Auslegung-V'!$D$37^2)*((xkr._vx!P158/COS(xkr._vx!$O$3*PI()/180))^xkr._vx!$O$5))","v":0},{"$f":"IF(Q158>('Auslegung-V'!$D$42-'Auslegung-V'!$D$43),xkr._vx!P157,\"\")","v":""}]
[null,null,null,null,null,null,null,null,null,null,null,null,null,null,null,15.3,{"$f":"ABS(P159*TAN($O$3*PI()/180)+$O$4*(-$G$6/'Auslegung-V'!$D$37^2)*((xkr._vx!P159/COS(xkr._vx!$O$3*PI()/180))^xkr._vx!$O$5))","v":0},{"$f":"IF(Q159>('Auslegung-V'!$D$42-'Auslegung-V'!$D$43),xkr._vx!P158,\"\")","v":""}]
[null,null,null,null,null,null,null,null,null,null,null,null,null,null,null,15.4,{"$f":"ABS(P160*TAN($O$3*PI()/180)+$O$4*(-$G$6/'Auslegung-V'!$D$37^2)*((xkr._vx!P160/COS(xkr._vx!$O$3*PI()/180))^xkr._vx!$O$5))","v":0},{"$f":"IF(Q160>('Auslegung-V'!$D$42-'Auslegung-V'!$D$43),xkr._vx!P159,\"\")","v":""}]
[null,null,null,null,null,null,null,null,null,null,null,null,null,null,null,15.5,{"$f":"ABS(P161*TAN($O$3*PI()/180)+$O$4*(-$G$6/'Auslegung-V'!$D$37^2)*((xkr._vx!P161/COS(xkr._vx!$O$3*PI()/180))^xkr._vx!$O$5))","v":0},{"$f":"IF(Q161>('Auslegung-V'!$D$42-'Auslegung-V'!$D$43),xkr._vx!P160,\"\")","v":""}]
[null,null,null,null,null,null,null,null,null,null,null,null,null,null,null,15.6,{"$f":"ABS(P162*TAN($O$3*PI()/180)+$O$4*(-$G$6/'Auslegung-V'!$D$37^2)*((xkr._vx!P162/COS(xkr._vx!$O$3*PI()/180))^xkr._vx!$O$5))","v":0},{"$f":"IF(Q162>('Auslegung-V'!$D$42-'Auslegung-V'!$D$43),xkr._vx!P161,\"\")","v":""}]
[null,null,null,null,null,null,null,null,null,null,null,null,null,null,null,15.7,{"$f":"ABS(P163*TAN($O$3*PI()/180)+$O$4*(-$G$6/'Auslegung-V'!$D$37^2)*((xkr._vx!P163/COS(xkr._vx!$O$3*PI()/180))^xkr._vx!$O$5))","v":0},{"$f":"IF(Q163>('Auslegung-V'!$D$42-'Auslegung-V'!$D$43),xkr._vx!P162,\"\")","v":""}]
[null,null,null,null,null,null,null,null,null,null,null,null,null,null,null,15.8,{"$f":"ABS(P164*TAN($O$3*PI()/180)+$O$4*(-$G$6/'Auslegung-V'!$D$37^2)*((xkr._vx!P164/COS(xkr._vx!$O$3*PI()/180))^xkr._vx!$O$5))","v":0},{"$f":"IF(Q164>('Auslegung-V'!$D$42-'Auslegung-V'!$D$43),xkr._vx!P163,\"\")","v":""}]
[null,null,null,null,null,null,null,null,null,null,null,null,null,null,null,15.9,{"$f":"ABS(P165*TAN($O$3*PI()/180)+$O$4*(-$G$6/'Auslegung-V'!$D$37^2)*((xkr._vx!P165/COS(xkr._vx!$O$3*PI()/180))^xkr._vx!$O$5))","v":0},{"$f":"IF(Q165>('Auslegung-V'!$D$42-'Auslegung-V'!$D$43),xkr._vx!P164,\"\")","v":""}]
[null,null,null,null,null,null,null,null,null,null,null,null,null,null,null,16,{"$f":"ABS(P166*TAN($O$3*PI()/180)+$O$4*(-$G$6/'Auslegung-V'!$D$37^2)*((xkr._vx!P166/COS(xkr._vx!$O$3*PI()/180))^xkr._vx!$O$5))","v":0},{"$f":"IF(Q166>('Auslegung-V'!$D$42-'Auslegung-V'!$D$43),xkr._vx!P165,\"\")","v":""}]
[null,null,null,null,null,null,null,null,null,null,null,null,null,null,null,16.100000000000001,{"$f":"ABS(P167*TAN($O$3*PI()/180)+$O$4*(-$G$6/'Auslegung-V'!$D$37^2)*((xkr._vx!P167/COS(xkr._vx!$O$3*PI()/180))^xkr._vx!$O$5))","v":0},{"$f":"IF(Q167>('Auslegung-V'!$D$42-'Auslegung-V'!$D$43),xkr._vx!P166,\"\")","v":""}]
[null,null,null,null,null,null,null,null,null,null,null,null,null,null,null,16.2,{"$f":"ABS(P168*TAN($O$3*PI()/180)+$O$4*(-$G$6/'Auslegung-V'!$D$37^2)*((xkr._vx!P168/COS(xkr._vx!$O$3*PI()/180))^xkr._vx!$O$5))","v":0},{"$f":"IF(Q168>('Auslegung-V'!$D$42-'Auslegung-V'!$D$43),xkr._vx!P167,\"\")","v":""}]
[null,null,null,null,null,null,null,null,null,null,null,null,null,null,null,16.3,{"$f":"ABS(P169*TAN($O$3*PI()/180)+$O$4*(-$G$6/'Auslegung-V'!$D$37^2)*((xkr._vx!P169/COS(xkr._vx!$O$3*PI()/180))^xkr._vx!$O$5))","v":0},{"$f":"IF(Q169>('Auslegung-V'!$D$42-'Auslegung-V'!$D$43),xkr._vx!P168,\"\")","v":""}]
[null,null,null,null,null,null,null,null,null,null,null,null,null,null,null,16.399999999999999,{"$f":"ABS(P170*TAN($O$3*PI()/180)+$O$4*(-$G$6/'Auslegung-V'!$D$37^2)*((xkr._vx!P170/COS(xkr._vx!$O$3*PI()/180))^xkr._vx!$O$5))","v":0},{"$f":"IF(Q170>('Auslegung-V'!$D$42-'Auslegung-V'!$D$43),xkr._vx!P169,\"\")","v":""}]
[null,null,null,null,null,null,null,null,null,null,null,null,null,null,null,16.5,{"$f":"ABS(P171*TAN($O$3*PI()/180)+$O$4*(-$G$6/'Auslegung-V'!$D$37^2)*((xkr._vx!P171/COS(xkr._vx!$O$3*PI()/180))^xkr._vx!$O$5))","v":0},{"$f":"IF(Q171>('Auslegung-V'!$D$42-'Auslegung-V'!$D$43),xkr._vx!P170,\"\")","v":""}]
[null,null,null,null,null,null,null,null,null,null,null,null,null,null,null,16.600000000000001,{"$f":"ABS(P172*TAN($O$3*PI()/180)+$O$4*(-$G$6/'Auslegung-V'!$D$37^2)*((xkr._vx!P172/COS(xkr._vx!$O$3*PI()/180))^xkr._vx!$O$5))","v":0},{"$f":"IF(Q172>('Auslegung-V'!$D$42-'Auslegung-V'!$D$43),xkr._vx!P171,\"\")","v":""}]
[null,null,null,null,null,null,null,null,null,null,null,null,null,null,null,16.7,{"$f":"ABS(P173*TAN($O$3*PI()/180)+$O$4*(-$G$6/'Auslegung-V'!$D$37^2)*((xkr._vx!P173/COS(xkr._vx!$O$3*PI()/180))^xkr._vx!$O$5))","v":0},{"$f":"IF(Q173>('Auslegung-V'!$D$42-'Auslegung-V'!$D$43),xkr._vx!P172,\"\")","v":""}]
[null,null,null,null,null,null,null,null,null,null,null,null,null,null,null,16.8,{"$f":"ABS(P174*TAN($O$3*PI()/180)+$O$4*(-$G$6/'Auslegung-V'!$D$37^2)*((xkr._vx!P174/COS(xkr._vx!$O$3*PI()/180))^xkr._vx!$O$5))","v":0},{"$f":"IF(Q174>('Auslegung-V'!$D$42-'Auslegung-V'!$D$43),xkr._vx!P173,\"\")","v":""}]
[null,null,null,null,null,null,null,null,null,null,null,null,null,null,null,16.899999999999999,{"$f":"ABS(P175*TAN($O$3*PI()/180)+$O$4*(-$G$6/'Auslegung-V'!$D$37^2)*((xkr._vx!P175/COS(xkr._vx!$O$3*PI()/180))^xkr._vx!$O$5))","v":0},{"$f":"IF(Q175>('Auslegung-V'!$D$42-'Auslegung-V'!$D$43),xkr._vx!P174,\"\")","v":""}]
[null,null,null,null,null,null,null,null,null,null,null,null,null,null,null,17,{"$f":"ABS(P176*TAN($O$3*PI()/180)+$O$4*(-$G$6/'Auslegung-V'!$D$37^2)*((xkr._vx!P176/COS(xkr._vx!$O$3*PI()/180))^xkr._vx!$O$5))","v":0},{"$f":"IF(Q176>('Auslegung-V'!$D$42-'Auslegung-V'!$D$43),xkr._vx!P175,\"\")","v":""}]
[null,null,null,null,null,null,null,null,null,null,null,null,null,null,null,17.100000000000001,{"$f":"ABS(P177*TAN($O$3*PI()/180)+$O$4*(-$G$6/'Auslegung-V'!$D$37^2)*((xkr._vx!P177/COS(xkr._vx!$O$3*PI()/180))^xkr._vx!$O$5))","v":0},{"$f":"IF(Q177>('Auslegung-V'!$D$42-'Auslegung-V'!$D$43),xkr._vx!P176,\"\")","v":""}]
[null,null,null,null,null,null,null,null,null,null,null,null,null,null,null,17.2,{"$f":"ABS(P178*TAN($O$3*PI()/180)+$O$4*(-$G$6/'Auslegung-V'!$D$37^2)*((xkr._vx!P178/COS(xkr._vx!$O$3*PI()/180))^xkr._vx!$O$5))","v":0},{"$f":"IF(Q178>('Auslegung-V'!$D$42-'Auslegung-V'!$D$43),xkr._vx!P177,\"\")","v":""}]
[null,null,null,null,null,null,null,null,null,null,null,null,null,null,null,17.3,{"$f":"ABS(P179*TAN($O$3*PI()/180)+$O$4*(-$G$6/'Auslegung-V'!$D$37^2)*((xkr._vx!P179/COS(xkr._vx!$O$3*PI()/180))^xkr._vx!$O$5))","v":0},{"$f":"IF(Q179>('Auslegung-V'!$D$42-'Auslegung-V'!$D$43),xkr._vx!P178,\"\")","v":""}]
[null,null,null,null,null,null,null,null,null,null,null,null,null,null,null,17.399999999999999,{"$f":"ABS(P180*TAN($O$3*PI()/180)+$O$4*(-$G$6/'Auslegung-V'!$D$37^2)*((xkr._vx!P180/COS(xkr._vx!$O$3*PI()/180))^xkr._vx!$O$5))","v":0},{"$f":"IF(Q180>('Auslegung-V'!$D$42-'Auslegung-V'!$D$43),xkr._vx!P179,\"\")","v":""}]
[null,null,null,null,null,null,null,null,null,null,null,null,null,null,null,17.5,{"$f":"ABS(P181*TAN($O$3*PI()/180)+$O$4*(-$G$6/'Auslegung-V'!$D$37^2)*((xkr._vx!P181/COS(xkr._vx!$O$3*PI()/180))^xkr._vx!$O$5))","v":0},{"$f":"IF(Q181>('Auslegung-V'!$D$42-'Auslegung-V'!$D$43),xkr._vx!P180,\"\")","v":""}]
[null,null,null,null,null,null,null,null,null,null,null,null,null,null,null,17.600000000000001,{"$f":"ABS(P182*TAN($O$3*PI()/180)+$O$4*(-$G$6/'Auslegung-V'!$D$37^2)*((xkr._vx!P182/COS(xkr._vx!$O$3*PI()/180))^xkr._vx!$O$5))","v":0},{"$f":"IF(Q182>('Auslegung-V'!$D$42-'Auslegung-V'!$D$43),xkr._vx!P181,\"\")","v":""}]
[null,null,null,null,null,null,null,null,null,null,null,null,null,null,null,17.7,{"$f":"ABS(P183*TAN($O$3*PI()/180)+$O$4*(-$G$6/'Auslegung-V'!$D$37^2)*((xkr._vx!P183/COS(xkr._vx!$O$3*PI()/180))^xkr._vx!$O$5))","v":0},{"$f":"IF(Q183>('Auslegung-V'!$D$42-'Auslegung-V'!$D$43),xkr._vx!P182,\"\")","v":""}]
[null,null,null,null,null,null,null,null,null,null,null,null,null,null,null,17.8,{"$f":"ABS(P184*TAN($O$3*PI()/180)+$O$4*(-$G$6/'Auslegung-V'!$D$37^2)*((xkr._vx!P184/COS(xkr._vx!$O$3*PI()/180))^xkr._vx!$O$5))","v":0},{"$f":"IF(Q184>('Auslegung-V'!$D$42-'Auslegung-V'!$D$43),xkr._vx!P183,\"\")","v":""}]
[null,null,null,null,null,null,null,null,null,null,null,null,null,null,null,17.899999999999999,{"$f":"ABS(P185*TAN($O$3*PI()/180)+$O$4*(-$G$6/'Auslegung-V'!$D$37^2)*((xkr._vx!P185/COS(xkr._vx!$O$3*PI()/180))^xkr._vx!$O$5))","v":0},{"$f":"IF(Q185>('Auslegung-V'!$D$42-'Auslegung-V'!$D$43),xkr._vx!P184,\"\")","v":""}]
[null,null,null,null,null,null,null,null,null,null,null,null,null,null,null,18,{"$f":"ABS(P186*TAN($O$3*PI()/180)+$O$4*(-$G$6/'Auslegung-V'!$D$37^2)*((xkr._vx!P186/COS(xkr._vx!$O$3*PI()/180))^xkr._vx!$O$5))","v":0},{"$f":"IF(Q186>('Auslegung-V'!$D$42-'Auslegung-V'!$D$43),xkr._vx!P185,\"\")","v":""}]
[null,null,null,null,null,null,null,null,null,null,null,null,null,null,null,18.100000000000001,{"$f":"ABS(P187*TAN($O$3*PI()/180)+$O$4*(-$G$6/'Auslegung-V'!$D$37^2)*((xkr._vx!P187/COS(xkr._vx!$O$3*PI()/180))^xkr._vx!$O$5))","v":0},{"$f":"IF(Q187>('Auslegung-V'!$D$42-'Auslegung-V'!$D$43),xkr._vx!P186,\"\")","v":""}]
[null,null,null,null,null,null,null,null,null,null,null,null,null,null,null,18.2,{"$f":"ABS(P188*TAN($O$3*PI()/180)+$O$4*(-$G$6/'Auslegung-V'!$D$37^2)*((xkr._vx!P188/COS(xkr._vx!$O$3*PI()/180))^xkr._vx!$O$5))","v":0},{"$f":"IF(Q188>('Auslegung-V'!$D$42-'Auslegung-V'!$D$43),xkr._vx!P187,\"\")","v":""}]
[null,null,null,null,null,null,null,null,null,null,null,null,null,null,null,18.3,{"$f":"ABS(P189*TAN($O$3*PI()/180)+$O$4*(-$G$6/'Auslegung-V'!$D$37^2)*((xkr._vx!P189/COS(xkr._vx!$O$3*PI()/180))^xkr._vx!$O$5))","v":0},{"$f":"IF(Q189>('Auslegung-V'!$D$42-'Auslegung-V'!$D$43),xkr._vx!P188,\"\")","v":""}]
[null,null,null,null,null,null,null,null,null,null,null,null,null,null,null,18.399999999999999,{"$f":"ABS(P190*TAN($O$3*PI()/180)+$O$4*(-$G$6/'Auslegung-V'!$D$37^2)*((xkr._vx!P190/COS(xkr._vx!$O$3*PI()/180))^xkr._vx!$O$5))","v":0},{"$f":"IF(Q190>('Auslegung-V'!$D$42-'Auslegung-V'!$D$43),xkr._vx!P189,\"\")","v":""}]
[null,null,null,null,null,null,null,null,null,null,null,null,null,null,null,18.5,{"$f":"ABS(P191*TAN($O$3*PI()/180)+$O$4*(-$G$6/'Auslegung-V'!$D$37^2)*((xkr._vx!P191/COS(xkr._vx!$O$3*PI()/180))^xkr._vx!$O$5))","v":0},{"$f":"IF(Q191>('Auslegung-V'!$D$42-'Auslegung-V'!$D$43),xkr._vx!P190,\"\")","v":""}]
[null,null,null,null,null,null,null,null,null,null,null,null,null,null,null,18.600000000000001,{"$f":"ABS(P192*TAN($O$3*PI()/180)+$O$4*(-$G$6/'Auslegung-V'!$D$37^2)*((xkr._vx!P192/COS(xkr._vx!$O$3*PI()/180))^xkr._vx!$O$5))","v":0},{"$f":"IF(Q192>('Auslegung-V'!$D$42-'Auslegung-V'!$D$43),xkr._vx!P191,\"\")","v":""}]
[null,null,null,null,null,null,null,null,null,null,null,null,null,null,null,18.7,{"$f":"ABS(P193*TAN($O$3*PI()/180)+$O$4*(-$G$6/'Auslegung-V'!$D$37^2)*((xkr._vx!P193/COS(xkr._vx!$O$3*PI()/180))^xkr._vx!$O$5))","v":0},{"$f":"IF(Q193>('Auslegung-V'!$D$42-'Auslegung-V'!$D$43),xkr._vx!P192,\"\")","v":""}]
[null,null,null,null,null,null,null,null,null,null,null,null,null,null,null,18.8,{"$f":"ABS(P194*TAN($O$3*PI()/180)+$O$4*(-$G$6/'Auslegung-V'!$D$37^2)*((xkr._vx!P194/COS(xkr._vx!$O$3*PI()/180))^xkr._vx!$O$5))","v":0},{"$f":"IF(Q194>('Auslegung-V'!$D$42-'Auslegung-V'!$D$43),xkr._vx!P193,\"\")","v":""}]
[null,null,null,null,null,null,null,null,null,null,null,null,null,null,null,18.899999999999999,{"$f":"ABS(P195*TAN($O$3*PI()/180)+$O$4*(-$G$6/'Auslegung-V'!$D$37^2)*((xkr._vx!P195/COS(xkr._vx!$O$3*PI()/180))^xkr._vx!$O$5))","v":0},{"$f":"IF(Q195>('Auslegung-V'!$D$42-'Auslegung-V'!$D$43),xkr._vx!P194,\"\")","v":""}]
[null,null,null,null,null,null,null,null,null,null,null,null,null,null,null,19,{"$f":"ABS(P196*TAN($O$3*PI()/180)+$O$4*(-$G$6/'Auslegung-V'!$D$37^2)*((xkr._vx!P196/COS(xkr._vx!$O$3*PI()/180))^xkr._vx!$O$5))","v":0},{"$f":"IF(Q196>('Auslegung-V'!$D$42-'Auslegung-V'!$D$43),xkr._vx!P195,\"\")","v":""}]
[null,null,null,null,null,null,null,null,null,null,null,null,null,null,null,19.100000000000001,{"$f":"ABS(P197*TAN($O$3*PI()/180)+$O$4*(-$G$6/'Auslegung-V'!$D$37^2)*((xkr._vx!P197/COS(xkr._vx!$O$3*PI()/180))^xkr._vx!$O$5))","v":0},{"$f":"IF(Q197>('Auslegung-V'!$D$42-'Auslegung-V'!$D$43),xkr._vx!P196,\"\")","v":""}]
[null,null,null,null,null,null,null,null,null,null,null,null,null,null,null,19.2,{"$f":"ABS(P198*TAN($O$3*PI()/180)+$O$4*(-$G$6/'Auslegung-V'!$D$37^2)*((xkr._vx!P198/COS(xkr._vx!$O$3*PI()/180))^xkr._vx!$O$5))","v":0},{"$f":"IF(Q198>('Auslegung-V'!$D$42-'Auslegung-V'!$D$43),xkr._vx!P197,\"\")","v":""}]
[null,null,null,null,null,null,null,null,null,null,null,null,null,null,null,19.3,{"$f":"ABS(P199*TAN($O$3*PI()/180)+$O$4*(-$G$6/'Auslegung-V'!$D$37^2)*((xkr._vx!P199/COS(xkr._vx!$O$3*PI()/180))^xkr._vx!$O$5))","v":0},{"$f":"IF(Q199>('Auslegung-V'!$D$42-'Auslegung-V'!$D$43),xkr._vx!P198,\"\")","v":""}]
[null,null,null,null,null,null,null,null,null,null,null,null,null,null,null,19.399999999999999,{"$f":"ABS(P200*TAN($O$3*PI()/180)+$O$4*(-$G$6/'Auslegung-V'!$D$37^2)*((xkr._vx!P200/COS(xkr._vx!$O$3*PI()/180))^xkr._vx!$O$5))","v":0},{"$f":"IF(Q200>('Auslegung-V'!$D$42-'Auslegung-V'!$D$43),xkr._vx!P199,\"\")","v":""}]
[null,null,null,null,null,null,null,null,null,null,null,null,null,null,null,19.5,{"$f":"ABS(P201*TAN($O$3*PI()/180)+$O$4*(-$G$6/'Auslegung-V'!$D$37^2)*((xkr._vx!P201/COS(xkr._vx!$O$3*PI()/180))^xkr._vx!$O$5))","v":0},{"$f":"IF(Q201>('Auslegung-V'!$D$42-'Auslegung-V'!$D$43),xkr._vx!P200,\"\")","v":""}]
[null,null,null,null,null,null,null,null,null,null,null,null,null,null,null,19.600000000000001,{"$f":"ABS(P202*TAN($O$3*PI()/180)+$O$4*(-$G$6/'Auslegung-V'!$D$37^2)*((xkr._vx!P202/COS(xkr._vx!$O$3*PI()/180))^xkr._vx!$O$5))","v":0},{"$f":"IF(Q202>('Auslegung-V'!$D$42-'Auslegung-V'!$D$43),xkr._vx!P201,\"\")","v":""}]
[null,null,null,null,null,null,null,null,null,null,null,null,null,null,null,19.7,{"$f":"ABS(P203*TAN($O$3*PI()/180)+$O$4*(-$G$6/'Auslegung-V'!$D$37^2)*((xkr._vx!P203/COS(xkr._vx!$O$3*PI()/180))^xkr._vx!$O$5))","v":0},{"$f":"IF(Q203>('Auslegung-V'!$D$42-'Auslegung-V'!$D$43),xkr._vx!P202,\"\")","v":""}]
[null,null,null,null,null,null,null,null,null,null,null,null,null,null,null,19.8,{"$f":"ABS(P204*TAN($O$3*PI()/180)+$O$4*(-$G$6/'Auslegung-V'!$D$37^2)*((xkr._vx!P204/COS(xkr._vx!$O$3*PI()/180))^xkr._vx!$O$5))","v":0},{"$f":"IF(Q204>('Auslegung-V'!$D$42-'Auslegung-V'!$D$43),xkr._vx!P203,\"\")","v":""}]
[null,null,null,null,null,null,null,null,null,null,null,null,null,null,null,19.899999999999999,{"$f":"ABS(P205*TAN($O$3*PI()/180)+$O$4*(-$G$6/'Auslegung-V'!$D$37^2)*((xkr._vx!P205/COS(xkr._vx!$O$3*PI()/180))^xkr._vx!$O$5))","v":0},{"$f":"IF(Q205>('Auslegung-V'!$D$42-'Auslegung-V'!$D$43),xkr._vx!P204,\"\")","v":""}]
[null,null,null,null,null,null,null,null,null,null,null,null,null,null,null,20,{"$f":"ABS(P206*TAN($O$3*PI()/180)+$O$4*(-$G$6/'Auslegung-V'!$D$37^2)*((xkr._vx!P206/COS(xkr._vx!$O$3*PI()/180))^xkr._vx!$O$5))","v":0},{"$f":"IF(Q206>('Auslegung-V'!$D$42-'Auslegung-V'!$D$43),xkr._vx!P205,\"\")","v":""}]
[null,null,null,null,null,null,null,null,null,null,null,null,null,null,null,20.100000000000001,{"$f":"ABS(P207*TAN($O$3*PI()/180)+$O$4*(-$G$6/'Auslegung-V'!$D$37^2)*((xkr._vx!P207/COS(xkr._vx!$O$3*PI()/180))^xkr._vx!$O$5))","v":0},{"$f":"IF(Q207>('Auslegung-V'!$D$42-'Auslegung-V'!$D$43),xkr._vx!P206,\"\")","v":""}]
[null,null,null,null,null,null,null,null,null,null,null,null,null,null,null,20.2,{"$f":"ABS(P208*TAN($O$3*PI()/180)+$O$4*(-$G$6/'Auslegung-V'!$D$37^2)*((xkr._vx!P208/COS(xkr._vx!$O$3*PI()/180))^xkr._vx!$O$5))","v":0},{"$f":"IF(Q208>('Auslegung-V'!$D$42-'Auslegung-V'!$D$43),xkr._vx!P207,\"\")","v":""}]
[null,null,null,null,null,null,null,null,null,null,null,null,null,null,null,20.3,{"$f":"ABS(P209*TAN($O$3*PI()/180)+$O$4*(-$G$6/'Auslegung-V'!$D$37^2)*((xkr._vx!P209/COS(xkr._vx!$O$3*PI()/180))^xkr._vx!$O$5))","v":0},{"$f":"IF(Q209>('Auslegung-V'!$D$42-'Auslegung-V'!$D$43),xkr._vx!P208,\"\")","v":""}]
[null,null,null,null,null,null,null,null,null,null,null,null,null,null,null,20.399999999999999,{"$f":"ABS(P210*TAN($O$3*PI()/180)+$O$4*(-$G$6/'Auslegung-V'!$D$37^2)*((xkr._vx!P210/COS(xkr._vx!$O$3*PI()/180))^xkr._vx!$O$5))","v":0},{"$f":"IF(Q210>('Auslegung-V'!$D$42-'Auslegung-V'!$D$43),xkr._vx!P209,\"\")","v":""}]
[null,null,null,null,null,null,null,null,null,null,null,null,null,null,null,20.5,{"$f":"ABS(P211*TAN($O$3*PI()/180)+$O$4*(-$G$6/'Auslegung-V'!$D$37^2)*((xkr._vx!P211/COS(xkr._vx!$O$3*PI()/180))^xkr._vx!$O$5))","v":0},{"$f":"IF(Q211>('Auslegung-V'!$D$42-'Auslegung-V'!$D$43),xkr._vx!P210,\"\")","v":""}]
[null,null,null,null,null,null,null,null,null,null,null,null,null,null,null,20.6,{"$f":"ABS(P212*TAN($O$3*PI()/180)+$O$4*(-$G$6/'Auslegung-V'!$D$37^2)*((xkr._vx!P212/COS(xkr._vx!$O$3*PI()/180))^xkr._vx!$O$5))","v":0},{"$f":"IF(Q212>('Auslegung-V'!$D$42-'Auslegung-V'!$D$43),xkr._vx!P211,\"\")","v":""}]
[null,null,null,null,null,null,null,null,null,null,null,null,null,null,null,20.7,{"$f":"ABS(P213*TAN($O$3*PI()/180)+$O$4*(-$G$6/'Auslegung-V'!$D$37^2)*((xkr._vx!P213/COS(xkr._vx!$O$3*PI()/180))^xkr._vx!$O$5))","v":0},{"$f":"IF(Q213>('Auslegung-V'!$D$42-'Auslegung-V'!$D$43),xkr._vx!P212,\"\")","v":""}]
[null,null,null,null,null,null,null,null,null,null,null,null,null,null,null,20.8,{"$f":"ABS(P214*TAN($O$3*PI()/180)+$O$4*(-$G$6/'Auslegung-V'!$D$37^2)*((xkr._vx!P214/COS(xkr._vx!$O$3*PI()/180))^xkr._vx!$O$5))","v":0},{"$f":"IF(Q214>('Auslegung-V'!$D$42-'Auslegung-V'!$D$43),xkr._vx!P213,\"\")","v":""}]
[null,null,null,null,null,null,null,null,null,null,null,null,null,null,null,20.9,{"$f":"ABS(P215*TAN($O$3*PI()/180)+$O$4*(-$G$6/'Auslegung-V'!$D$37^2)*((xkr._vx!P215/COS(xkr._vx!$O$3*PI()/180))^xkr._vx!$O$5))","v":0},{"$f":"IF(Q215>('Auslegung-V'!$D$42-'Auslegung-V'!$D$43),xkr._vx!P214,\"\")","v":""}]
[null,null,null,null,null,null,null,null,null,null,null,null,null,null,null,21,{"$f":"ABS(P216*TAN($O$3*PI()/180)+$O$4*(-$G$6/'Auslegung-V'!$D$37^2)*((xkr._vx!P216/COS(xkr._vx!$O$3*PI()/180))^xkr._vx!$O$5))","v":0},{"$f":"IF(Q216>('Auslegung-V'!$D$42-'Auslegung-V'!$D$43),xkr._vx!P215,\"\")","v":""}]
[null,null,null,null,null,null,null,null,null,null,null,null,null,null,null,21.1,{"$f":"ABS(P217*TAN($O$3*PI()/180)+$O$4*(-$G$6/'Auslegung-V'!$D$37^2)*((xkr._vx!P217/COS(xkr._vx!$O$3*PI()/180))^xkr._vx!$O$5))","v":0},{"$f":"IF(Q217>('Auslegung-V'!$D$42-'Auslegung-V'!$D$43),xkr._vx!P216,\"\")","v":""}]
[null,null,null,null,null,null,null,null,null,null,null,null,null,null,null,21.2,{"$f":"ABS(P218*TAN($O$3*PI()/180)+$O$4*(-$G$6/'Auslegung-V'!$D$37^2)*((xkr._vx!P218/COS(xkr._vx!$O$3*PI()/180))^xkr._vx!$O$5))","v":0},{"$f":"IF(Q218>('Auslegung-V'!$D$42-'Auslegung-V'!$D$43),xkr._vx!P217,\"\")","v":""}]
[null,null,null,null,null,null,null,null,null,null,null,null,null,null,null,21.3,{"$f":"ABS(P219*TAN($O$3*PI()/180)+$O$4*(-$G$6/'Auslegung-V'!$D$37^2)*((xkr._vx!P219/COS(xkr._vx!$O$3*PI()/180))^xkr._vx!$O$5))","v":0},{"$f":"IF(Q219>('Auslegung-V'!$D$42-'Auslegung-V'!$D$43),xkr._vx!P218,\"\")","v":""}]
[null,null,null,null,null,null,null,null,null,null,null,null,null,null,null,21.4,{"$f":"ABS(P220*TAN($O$3*PI()/180)+$O$4*(-$G$6/'Auslegung-V'!$D$37^2)*((xkr._vx!P220/COS(xkr._vx!$O$3*PI()/180))^xkr._vx!$O$5))","v":0},{"$f":"IF(Q220>('Auslegung-V'!$D$42-'Auslegung-V'!$D$43),xkr._vx!P219,\"\")","v":""}]
[null,null,null,null,null,null,null,null,null,null,null,null,null,null,null,21.5,{"$f":"ABS(P221*TAN($O$3*PI()/180)+$O$4*(-$G$6/'Auslegung-V'!$D$37^2)*((xkr._vx!P221/COS(xkr._vx!$O$3*PI()/180))^xkr._vx!$O$5))","v":0},{"$f":"IF(Q221>('Auslegung-V'!$D$42-'Auslegung-V'!$D$43),xkr._vx!P220,\"\")","v":""}]
[null,null,null,null,null,null,null,null,null,null,null,null,null,null,null,21.6,{"$f":"ABS(P222*TAN($O$3*PI()/180)+$O$4*(-$G$6/'Auslegung-V'!$D$37^2)*((xkr._vx!P222/COS(xkr._vx!$O$3*PI()/180))^xkr._vx!$O$5))","v":0},{"$f":"IF(Q222>('Auslegung-V'!$D$42-'Auslegung-V'!$D$43),xkr._vx!P221,\"\")","v":""}]
[null,null,null,null,null,null,null,null,null,null,null,null,null,null,null,21.7,{"$f":"ABS(P223*TAN($O$3*PI()/180)+$O$4*(-$G$6/'Auslegung-V'!$D$37^2)*((xkr._vx!P223/COS(xkr._vx!$O$3*PI()/180))^xkr._vx!$O$5))","v":0},{"$f":"IF(Q223>('Auslegung-V'!$D$42-'Auslegung-V'!$D$43),xkr._vx!P222,\"\")","v":""}]
[null,null,null,null,null,null,null,null,null,null,null,null,null,null,null,21.8,{"$f":"ABS(P224*TAN($O$3*PI()/180)+$O$4*(-$G$6/'Auslegung-V'!$D$37^2)*((xkr._vx!P224/COS(xkr._vx!$O$3*PI()/180))^xkr._vx!$O$5))","v":0},{"$f":"IF(Q224>('Auslegung-V'!$D$42-'Auslegung-V'!$D$43),xkr._vx!P223,\"\")","v":""}]
[null,null,null,null,null,null,null,null,null,null,null,null,null,null,null,21.9,{"$f":"ABS(P225*TAN($O$3*PI()/180)+$O$4*(-$G$6/'Auslegung-V'!$D$37^2)*((xkr._vx!P225/COS(xkr._vx!$O$3*PI()/180))^xkr._vx!$O$5))","v":0},{"$f":"IF(Q225>('Auslegung-V'!$D$42-'Auslegung-V'!$D$43),xkr._vx!P224,\"\")","v":""}]
[null,null,null,null,null,null,null,null,null,null,null,null,null,null,null,22,{"$f":"ABS(P226*TAN($O$3*PI()/180)+$O$4*(-$G$6/'Auslegung-V'!$D$37^2)*((xkr._vx!P226/COS(xkr._vx!$O$3*PI()/180))^xkr._vx!$O$5))","v":0},{"$f":"IF(Q226>('Auslegung-V'!$D$42-'Auslegung-V'!$D$43),xkr._vx!P225,\"\")","v":""}]
[null,null,null,null,null,null,null,null,null,null,null,null,null,null,null,22.1,{"$f":"ABS(P227*TAN($O$3*PI()/180)+$O$4*(-$G$6/'Auslegung-V'!$D$37^2)*((xkr._vx!P227/COS(xkr._vx!$O$3*PI()/180))^xkr._vx!$O$5))","v":0},{"$f":"IF(Q227>('Auslegung-V'!$D$42-'Auslegung-V'!$D$43),xkr._vx!P226,\"\")","v":""}]
[null,null,null,null,null,null,null,null,null,null,null,null,null,null,null,22.2,{"$f":"ABS(P228*TAN($O$3*PI()/180)+$O$4*(-$G$6/'Auslegung-V'!$D$37^2)*((xkr._vx!P228/COS(xkr._vx!$O$3*PI()/180))^xkr._vx!$O$5))","v":0},{"$f":"IF(Q228>('Auslegung-V'!$D$42-'Auslegung-V'!$D$43),xkr._vx!P227,\"\")","v":""}]
[null,null,null,null,null,null,null,null,null,null,null,null,null,null,null,22.3,{"$f":"ABS(P229*TAN($O$3*PI()/180)+$O$4*(-$G$6/'Auslegung-V'!$D$37^2)*((xkr._vx!P229/COS(xkr._vx!$O$3*PI()/180))^xkr._vx!$O$5))","v":0},{"$f":"IF(Q229>('Auslegung-V'!$D$42-'Auslegung-V'!$D$43),xkr._vx!P228,\"\")","v":""}]
[null,null,null,null,null,null,null,null,null,null,null,null,null,null,null,22.4,{"$f":"ABS(P230*TAN($O$3*PI()/180)+$O$4*(-$G$6/'Auslegung-V'!$D$37^2)*((xkr._vx!P230/COS(xkr._vx!$O$3*PI()/180))^xkr._vx!$O$5))","v":0},{"$f":"IF(Q230>('Auslegung-V'!$D$42-'Auslegung-V'!$D$43),xkr._vx!P229,\"\")","v":""}]
[null,null,null,null,null,null,null,null,null,null,null,null,null,null,null,22.5,{"$f":"ABS(P231*TAN($O$3*PI()/180)+$O$4*(-$G$6/'Auslegung-V'!$D$37^2)*((xkr._vx!P231/COS(xkr._vx!$O$3*PI()/180))^xkr._vx!$O$5))","v":0},{"$f":"IF(Q231>('Auslegung-V'!$D$42-'Auslegung-V'!$D$43),xkr._vx!P230,\"\")","v":""}]
[null,null,null,null,null,null,null,null,null,null,null,null,null,null,null,22.6,{"$f":"ABS(P232*TAN($O$3*PI()/180)+$O$4*(-$G$6/'Auslegung-V'!$D$37^2)*((xkr._vx!P232/COS(xkr._vx!$O$3*PI()/180))^xkr._vx!$O$5))","v":0},{"$f":"IF(Q232>('Auslegung-V'!$D$42-'Auslegung-V'!$D$43),xkr._vx!P231,\"\")","v":""}]
[null,null,null,null,null,null,null,null,null,null,null,null,null,null,null,22.7,{"$f":"ABS(P233*TAN($O$3*PI()/180)+$O$4*(-$G$6/'Auslegung-V'!$D$37^2)*((xkr._vx!P233/COS(xkr._vx!$O$3*PI()/180))^xkr._vx!$O$5))","v":0},{"$f":"IF(Q233>('Auslegung-V'!$D$42-'Auslegung-V'!$D$43),xkr._vx!P232,\"\")","v":""}]
[null,null,null,null,null,null,null,null,null,null,null,null,null,null,null,22.8,{"$f":"ABS(P234*TAN($O$3*PI()/180)+$O$4*(-$G$6/'Auslegung-V'!$D$37^2)*((xkr._vx!P234/COS(xkr._vx!$O$3*PI()/180))^xkr._vx!$O$5))","v":0},{"$f":"IF(Q234>('Auslegung-V'!$D$42-'Auslegung-V'!$D$43),xkr._vx!P233,\"\")","v":""}]
[null,null,null,null,null,null,null,null,null,null,null,null,null,null,null,22.9,{"$f":"ABS(P235*TAN($O$3*PI()/180)+$O$4*(-$G$6/'Auslegung-V'!$D$37^2)*((xkr._vx!P235/COS(xkr._vx!$O$3*PI()/180))^xkr._vx!$O$5))","v":0},{"$f":"IF(Q235>('Auslegung-V'!$D$42-'Auslegung-V'!$D$43),xkr._vx!P234,\"\")","v":""}]
[null,null,null,null,null,null,null,null,null,null,null,null,null,null,null,23,{"$f":"ABS(P236*TAN($O$3*PI()/180)+$O$4*(-$G$6/'Auslegung-V'!$D$37^2)*((xkr._vx!P236/COS(xkr._vx!$O$3*PI()/180))^xkr._vx!$O$5))","v":0},{"$f":"IF(Q236>('Auslegung-V'!$D$42-'Auslegung-V'!$D$43),xkr._vx!P235,\"\")","v":""}]
[null,null,null,null,null,null,null,null,null,null,null,null,null,null,null,23.1,{"$f":"ABS(P237*TAN($O$3*PI()/180)+$O$4*(-$G$6/'Auslegung-V'!$D$37^2)*((xkr._vx!P237/COS(xkr._vx!$O$3*PI()/180))^xkr._vx!$O$5))","v":0},{"$f":"IF(Q237>('Auslegung-V'!$D$42-'Auslegung-V'!$D$43),xkr._vx!P236,\"\")","v":""}]
[null,null,null,null,null,null,null,null,null,null,null,null,null,null,null,23.2,{"$f":"ABS(P238*TAN($O$3*PI()/180)+$O$4*(-$G$6/'Auslegung-V'!$D$37^2)*((xkr._vx!P238/COS(xkr._vx!$O$3*PI()/180))^xkr._vx!$O$5))","v":0},{"$f":"IF(Q238>('Auslegung-V'!$D$42-'Auslegung-V'!$D$43),xkr._vx!P237,\"\")","v":""}]
[null,null,null,null,null,null,null,null,null,null,null,null,null,null,null,23.3,{"$f":"ABS(P239*TAN($O$3*PI()/180)+$O$4*(-$G$6/'Auslegung-V'!$D$37^2)*((xkr._vx!P239/COS(xkr._vx!$O$3*PI()/180))^xkr._vx!$O$5))","v":0},{"$f":"IF(Q239>('Auslegung-V'!$D$42-'Auslegung-V'!$D$43),xkr._vx!P238,\"\")","v":""}]
[null,null,null,null,null,null,null,null,null,null,null,null,null,null,null,23.4,{"$f":"ABS(P240*TAN($O$3*PI()/180)+$O$4*(-$G$6/'Auslegung-V'!$D$37^2)*((xkr._vx!P240/COS(xkr._vx!$O$3*PI()/180))^xkr._vx!$O$5))","v":0},{"$f":"IF(Q240>('Auslegung-V'!$D$42-'Auslegung-V'!$D$43),xkr._vx!P239,\"\")","v":""}]
[null,null,null,null,null,null,null,null,null,null,null,null,null,null,null,23.5,{"$f":"ABS(P241*TAN($O$3*PI()/180)+$O$4*(-$G$6/'Auslegung-V'!$D$37^2)*((xkr._vx!P241/COS(xkr._vx!$O$3*PI()/180))^xkr._vx!$O$5))","v":0},{"$f":"IF(Q241>('Auslegung-V'!$D$42-'Auslegung-V'!$D$43),xkr._vx!P240,\"\")","v":""}]
[null,null,null,null,null,null,null,null,null,null,null,null,null,null,null,23.6,{"$f":"ABS(P242*TAN($O$3*PI()/180)+$O$4*(-$G$6/'Auslegung-V'!$D$37^2)*((xkr._vx!P242/COS(xkr._vx!$O$3*PI()/180))^xkr._vx!$O$5))","v":0},{"$f":"IF(Q242>('Auslegung-V'!$D$42-'Auslegung-V'!$D$43),xkr._vx!P241,\"\")","v":""}]
[null,null,null,null,null,null,null,null,null,null,null,null,null,null,null,23.7,{"$f":"ABS(P243*TAN($O$3*PI()/180)+$O$4*(-$G$6/'Auslegung-V'!$D$37^2)*((xkr._vx!P243/COS(xkr._vx!$O$3*PI()/180))^xkr._vx!$O$5))","v":0},{"$f":"IF(Q243>('Auslegung-V'!$D$42-'Auslegung-V'!$D$43),xkr._vx!P242,\"\")","v":""}]
[null,null,null,null,null,null,null,null,null,null,null,null,null,null,null,23.8,{"$f":"ABS(P244*TAN($O$3*PI()/180)+$O$4*(-$G$6/'Auslegung-V'!$D$37^2)*((xkr._vx!P244/COS(xkr._vx!$O$3*PI()/180))^xkr._vx!$O$5))","v":0},{"$f":"IF(Q244>('Auslegung-V'!$D$42-'Auslegung-V'!$D$43),xkr._vx!P243,\"\")","v":""}]
[null,null,null,null,null,null,null,null,null,null,null,null,null,null,null,23.9,{"$f":"ABS(P245*TAN($O$3*PI()/180)+$O$4*(-$G$6/'Auslegung-V'!$D$37^2)*((xkr._vx!P245/COS(xkr._vx!$O$3*PI()/180))^xkr._vx!$O$5))","v":0},{"$f":"IF(Q245>('Auslegung-V'!$D$42-'Auslegung-V'!$D$43),xkr._vx!P244,\"\")","v":""}]
[null,null,null,null,null,null,null,null,null,null,null,null,null,null,null,24,{"$f":"ABS(P246*TAN($O$3*PI()/180)+$O$4*(-$G$6/'Auslegung-V'!$D$37^2)*((xkr._vx!P246/COS(xkr._vx!$O$3*PI()/180))^xkr._vx!$O$5))","v":0},{"$f":"IF(Q246>('Auslegung-V'!$D$42-'Auslegung-V'!$D$43),xkr._vx!P245,\"\")","v":""}]
[null,null,null,null,null,null,null,null,null,null,null,null,null,null,null,24.1,{"$f":"ABS(P247*TAN($O$3*PI()/180)+$O$4*(-$G$6/'Auslegung-V'!$D$37^2)*((xkr._vx!P247/COS(xkr._vx!$O$3*PI()/180))^xkr._vx!$O$5))","v":0},{"$f":"IF(Q247>('Auslegung-V'!$D$42-'Auslegung-V'!$D$43),xkr._vx!P246,\"\")","v":""}]
[null,null,null,null,null,null,null,null,null,null,null,null,null,null,null,24.2,{"$f":"ABS(P248*TAN($O$3*PI()/180)+$O$4*(-$G$6/'Auslegung-V'!$D$37^2)*((xkr._vx!P248/COS(xkr._vx!$O$3*PI()/180))^xkr._vx!$O$5))","v":0},{"$f":"IF(Q248>('Auslegung-V'!$D$42-'Auslegung-V'!$D$43),xkr._vx!P247,\"\")","v":""}]
[null,null,null,null,null,null,null,null,null,null,null,null,null,null,null,24.3,{"$f":"ABS(P249*TAN($O$3*PI()/180)+$O$4*(-$G$6/'Auslegung-V'!$D$37^2)*((xkr._vx!P249/COS(xkr._vx!$O$3*PI()/180))^xkr._vx!$O$5))","v":0},{"$f":"IF(Q249>('Auslegung-V'!$D$42-'Auslegung-V'!$D$43),xkr._vx!P248,\"\")","v":""}]
[null,null,null,null,null,null,null,null,null,null,null,null,null,null,null,24.4,{"$f":"ABS(P250*TAN($O$3*PI()/180)+$O$4*(-$G$6/'Auslegung-V'!$D$37^2)*((xkr._vx!P250/COS(xkr._vx!$O$3*PI()/180))^xkr._vx!$O$5))","v":0},{"$f":"IF(Q250>('Auslegung-V'!$D$42-'Auslegung-V'!$D$43),xkr._vx!P249,\"\")","v":""}]
[null,null,null,null,null,null,null,null,null,null,null,null,null,null,null,24.5,{"$f":"ABS(P251*TAN($O$3*PI()/180)+$O$4*(-$G$6/'Auslegung-V'!$D$37^2)*((xkr._vx!P251/COS(xkr._vx!$O$3*PI()/180))^xkr._vx!$O$5))","v":0},{"$f":"IF(Q251>('Auslegung-V'!$D$42-'Auslegung-V'!$D$43),xkr._vx!P250,\"\")","v":""}]
[null,null,null,null,null,null,null,null,null,null,null,null,null,null,null,24.6,{"$f":"ABS(P252*TAN($O$3*PI()/180)+$O$4*(-$G$6/'Auslegung-V'!$D$37^2)*((xkr._vx!P252/COS(xkr._vx!$O$3*PI()/180))^xkr._vx!$O$5))","v":0},{"$f":"IF(Q252>('Auslegung-V'!$D$42-'Auslegung-V'!$D$43),xkr._vx!P251,\"\")","v":""}]
[null,null,null,null,null,null,null,null,null,null,null,null,null,null,null,24.7,{"$f":"ABS(P253*TAN($O$3*PI()/180)+$O$4*(-$G$6/'Auslegung-V'!$D$37^2)*((xkr._vx!P253/COS(xkr._vx!$O$3*PI()/180))^xkr._vx!$O$5))","v":0},{"$f":"IF(Q253>('Auslegung-V'!$D$42-'Auslegung-V'!$D$43),xkr._vx!P252,\"\")","v":""}]
[null,null,null,null,null,null,null,null,null,null,null,null,null,null,null,24.8,{"$f":"ABS(P254*TAN($O$3*PI()/180)+$O$4*(-$G$6/'Auslegung-V'!$D$37^2)*((xkr._vx!P254/COS(xkr._vx!$O$3*PI()/180))^xkr._vx!$O$5))","v":0},{"$f":"IF(Q254>('Auslegung-V'!$D$42-'Auslegung-V'!$D$43),xkr._vx!P253,\"\")","v":""}]
[null,null,null,null,null,null,null,null,null,null,null,null,null,null,null,24.9,{"$f":"ABS(P255*TAN($O$3*PI()/180)+$O$4*(-$G$6/'Auslegung-V'!$D$37^2)*((xkr._vx!P255/COS(xkr._vx!$O$3*PI()/180))^xkr._vx!$O$5))","v":0},{"$f":"IF(Q255>('Auslegung-V'!$D$42-'Auslegung-V'!$D$43),xkr._vx!P254,\"\")","v":""}]
[null,null,null,null,null,null,null,null,null,null,null,null,null,null,null,25,{"$f":"ABS(P256*TAN($O$3*PI()/180)+$O$4*(-$G$6/'Auslegung-V'!$D$37^2)*((xkr._vx!P256/COS(xkr._vx!$O$3*PI()/180))^xkr._vx!$O$5))","v":0},{"$f":"IF(Q256>('Auslegung-V'!$D$42-'Auslegung-V'!$D$43),xkr._vx!P255,\"\")","v":""}]
[null,null,null,null,null,null,null,null,null,null,null,null,null,null,null,25.1,{"$f":"ABS(P257*TAN($O$3*PI()/180)+$O$4*(-$G$6/'Auslegung-V'!$D$37^2)*((xkr._vx!P257/COS(xkr._vx!$O$3*PI()/180))^xkr._vx!$O$5))","v":0},{"$f":"IF(Q257>('Auslegung-V'!$D$42-'Auslegung-V'!$D$43),xkr._vx!P256,\"\")","v":""}]
[null,null,null,null,null,null,null,null,null,null,null,null,null,null,null,25.2,{"$f":"ABS(P258*TAN($O$3*PI()/180)+$O$4*(-$G$6/'Auslegung-V'!$D$37^2)*((xkr._vx!P258/COS(xkr._vx!$O$3*PI()/180))^xkr._vx!$O$5))","v":0},{"$f":"IF(Q258>('Auslegung-V'!$D$42-'Auslegung-V'!$D$43),xkr._vx!P257,\"\")","v":""}]
[null,null,null,null,null,null,null,null,null,null,null,null,null,null,null,25.3,{"$f":"ABS(P259*TAN($O$3*PI()/180)+$O$4*(-$G$6/'Auslegung-V'!$D$37^2)*((xkr._vx!P259/COS(xkr._vx!$O$3*PI()/180))^xkr._vx!$O$5))","v":0},{"$f":"IF(Q259>('Auslegung-V'!$D$42-'Auslegung-V'!$D$43),xkr._vx!P258,\"\")","v":""}]
[null,null,null,null,null,null,null,null,null,null,null,null,null,null,null,25.4,{"$f":"ABS(P260*TAN($O$3*PI()/180)+$O$4*(-$G$6/'Auslegung-V'!$D$37^2)*((xkr._vx!P260/COS(xkr._vx!$O$3*PI()/180))^xkr._vx!$O$5))","v":0},{"$f":"IF(Q260>('Auslegung-V'!$D$42-'Auslegung-V'!$D$43),xkr._vx!P259,\"\")","v":""}]
[null,null,null,null,null,null,null,null,null,null,null,null,null,null,null,25.5,{"$f":"ABS(P261*TAN($O$3*PI()/180)+$O$4*(-$G$6/'Auslegung-V'!$D$37^2)*((xkr._vx!P261/COS(xkr._vx!$O$3*PI()/180))^xkr._vx!$O$5))","v":0},{"$f":"IF(Q261>('Auslegung-V'!$D$42-'Auslegung-V'!$D$43),xkr._vx!P260,\"\")","v":""}]
[null,null,null,null,null,null,null,null,null,null,null,null,null,null,null,25.6,{"$f":"ABS(P262*TAN($O$3*PI()/180)+$O$4*(-$G$6/'Auslegung-V'!$D$37^2)*((xkr._vx!P262/COS(xkr._vx!$O$3*PI()/180))^xkr._vx!$O$5))","v":0},{"$f":"IF(Q262>('Auslegung-V'!$D$42-'Auslegung-V'!$D$43),xkr._vx!P261,\"\")","v":""}]
[null,null,null,null,null,null,null,null,null,null,null,null,null,null,null,25.7,{"$f":"ABS(P263*TAN($O$3*PI()/180)+$O$4*(-$G$6/'Auslegung-V'!$D$37^2)*((xkr._vx!P263/COS(xkr._vx!$O$3*PI()/180))^xkr._vx!$O$5))","v":0},{"$f":"IF(Q263>('Auslegung-V'!$D$42-'Auslegung-V'!$D$43),xkr._vx!P262,\"\")","v":""}]
[null,null,null,null,null,null,null,null,null,null,null,null,null,null,null,25.8,{"$f":"ABS(P264*TAN($O$3*PI()/180)+$O$4*(-$G$6/'Auslegung-V'!$D$37^2)*((xkr._vx!P264/COS(xkr._vx!$O$3*PI()/180))^xkr._vx!$O$5))","v":0},{"$f":"IF(Q264>('Auslegung-V'!$D$42-'Auslegung-V'!$D$43),xkr._vx!P263,\"\")","v":""}]
[null,null,null,null,null,null,null,null,null,null,null,null,null,null,null,25.9,{"$f":"ABS(P265*TAN($O$3*PI()/180)+$O$4*(-$G$6/'Auslegung-V'!$D$37^2)*((xkr._vx!P265/COS(xkr._vx!$O$3*PI()/180))^xkr._vx!$O$5))","v":0},{"$f":"IF(Q265>('Auslegung-V'!$D$42-'Auslegung-V'!$D$43),xkr._vx!P264,\"\")","v":""}]
[null,null,null,null,null,null,null,null,null,null,null,null,null,null,null,26,{"$f":"ABS(P266*TAN($O$3*PI()/180)+$O$4*(-$G$6/'Auslegung-V'!$D$37^2)*((xkr._vx!P266/COS(xkr._vx!$O$3*PI()/180))^xkr._vx!$O$5))","v":0},{"$f":"IF(Q266>('Auslegung-V'!$D$42-'Auslegung-V'!$D$43),xkr._vx!P265,\"\")","v":""}]
[null,null,null,null,null,null,null,null,null,null,null,null,null,null,null,26.1,{"$f":"ABS(P267*TAN($O$3*PI()/180)+$O$4*(-$G$6/'Auslegung-V'!$D$37^2)*((xkr._vx!P267/COS(xkr._vx!$O$3*PI()/180))^xkr._vx!$O$5))","v":0},{"$f":"IF(Q267>('Auslegung-V'!$D$42-'Auslegung-V'!$D$43),xkr._vx!P266,\"\")","v":""}]
[null,null,null,null,null,null,null,null,null,null,null,null,null,null,null,26.2,{"$f":"ABS(P268*TAN($O$3*PI()/180)+$O$4*(-$G$6/'Auslegung-V'!$D$37^2)*((xkr._vx!P268/COS(xkr._vx!$O$3*PI()/180))^xkr._vx!$O$5))","v":0},{"$f":"IF(Q268>('Auslegung-V'!$D$42-'Auslegung-V'!$D$43),xkr._vx!P267,\"\")","v":""}]
[null,null,null,null,null,null,null,null,null,null,null,null,null,null,null,26.3,{"$f":"ABS(P269*TAN($O$3*PI()/180)+$O$4*(-$G$6/'Auslegung-V'!$D$37^2)*((xkr._vx!P269/COS(xkr._vx!$O$3*PI()/180))^xkr._vx!$O$5))","v":0},{"$f":"IF(Q269>('Auslegung-V'!$D$42-'Auslegung-V'!$D$43),xkr._vx!P268,\"\")","v":""}]
[null,null,null,null,null,null,null,null,null,null,null,null,null,null,null,26.4,{"$f":"ABS(P270*TAN($O$3*PI()/180)+$O$4*(-$G$6/'Auslegung-V'!$D$37^2)*((xkr._vx!P270/COS(xkr._vx!$O$3*PI()/180))^xkr._vx!$O$5))","v":0},{"$f":"IF(Q270>('Auslegung-V'!$D$42-'Auslegung-V'!$D$43),xkr._vx!P269,\"\")","v":""}]
[null,null,null,null,null,null,null,null,null,null,null,null,null,null,null,26.5,{"$f":"ABS(P271*TAN($O$3*PI()/180)+$O$4*(-$G$6/'Auslegung-V'!$D$37^2)*((xkr._vx!P271/COS(xkr._vx!$O$3*PI()/180))^xkr._vx!$O$5))","v":0},{"$f":"IF(Q271>('Auslegung-V'!$D$42-'Auslegung-V'!$D$43),xkr._vx!P270,\"\")","v":""}]
[null,null,null,null,null,null,null,null,null,null,null,null,null,null,null,26.6,{"$f":"ABS(P272*TAN($O$3*PI()/180)+$O$4*(-$G$6/'Auslegung-V'!$D$37^2)*((xkr._vx!P272/COS(xkr._vx!$O$3*PI()/180))^xkr._vx!$O$5))","v":0},{"$f":"IF(Q272>('Auslegung-V'!$D$42-'Auslegung-V'!$D$43),xkr._vx!P271,\"\")","v":""}]
[null,null,null,null,null,null,null,null,null,null,null,null,null,null,null,26.7,{"$f":"ABS(P273*TAN($O$3*PI()/180)+$O$4*(-$G$6/'Auslegung-V'!$D$37^2)*((xkr._vx!P273/COS(xkr._vx!$O$3*PI()/180))^xkr._vx!$O$5))","v":0},{"$f":"IF(Q273>('Auslegung-V'!$D$42-'Auslegung-V'!$D$43),xkr._vx!P272,\"\")","v":""}]
[null,null,null,null,null,null,null,null,null,null,null,null,null,null,null,26.8,{"$f":"ABS(P274*TAN($O$3*PI()/180)+$O$4*(-$G$6/'Auslegung-V'!$D$37^2)*((xkr._vx!P274/COS(xkr._vx!$O$3*PI()/180))^xkr._vx!$O$5))","v":0},{"$f":"IF(Q274>('Auslegung-V'!$D$42-'Auslegung-V'!$D$43),xkr._vx!P273,\"\")","v":""}]
[null,null,null,null,null,null,null,null,null,null,null,null,null,null,null,26.9,{"$f":"ABS(P275*TAN($O$3*PI()/180)+$O$4*(-$G$6/'Auslegung-V'!$D$37^2)*((xkr._vx!P275/COS(xkr._vx!$O$3*PI()/180))^xkr._vx!$O$5))","v":0},{"$f":"IF(Q275>('Auslegung-V'!$D$42-'Auslegung-V'!$D$43),xkr._vx!P274,\"\")","v":""}]
[null,null,null,null,null,null,null,null,null,null,null,null,null,null,null,27,{"$f":"ABS(P276*TAN($O$3*PI()/180)+$O$4*(-$G$6/'Auslegung-V'!$D$37^2)*((xkr._vx!P276/COS(xkr._vx!$O$3*PI()/180))^xkr._vx!$O$5))","v":0},{"$f":"IF(Q276>('Auslegung-V'!$D$42-'Auslegung-V'!$D$43),xkr._vx!P275,\"\")","v":""}]
[null,null,null,null,null,null,null,null,null,null,null,null,null,null,null,27.1,{"$f":"ABS(P277*TAN($O$3*PI()/180)+$O$4*(-$G$6/'Auslegung-V'!$D$37^2)*((xkr._vx!P277/COS(xkr._vx!$O$3*PI()/180))^xkr._vx!$O$5))","v":0},{"$f":"IF(Q277>('Auslegung-V'!$D$42-'Auslegung-V'!$D$43),xkr._vx!P276,\"\")","v":""}]
[null,null,null,null,null,null,null,null,null,null,null,null,null,null,null,27.2,{"$f":"ABS(P278*TAN($O$3*PI()/180)+$O$4*(-$G$6/'Auslegung-V'!$D$37^2)*((xkr._vx!P278/COS(xkr._vx!$O$3*PI()/180))^xkr._vx!$O$5))","v":0},{"$f":"IF(Q278>('Auslegung-V'!$D$42-'Auslegung-V'!$D$43),xkr._vx!P277,\"\")","v":""}]
[null,null,null,null,null,null,null,null,null,null,null,null,null,null,null,27.3,{"$f":"ABS(P279*TAN($O$3*PI()/180)+$O$4*(-$G$6/'Auslegung-V'!$D$37^2)*((xkr._vx!P279/COS(xkr._vx!$O$3*PI()/180))^xkr._vx!$O$5))","v":0},{"$f":"IF(Q279>('Auslegung-V'!$D$42-'Auslegung-V'!$D$43),xkr._vx!P278,\"\")","v":""}]
[null,null,null,null,null,null,null,null,null,null,null,null,null,null,null,27.4,{"$f":"ABS(P280*TAN($O$3*PI()/180)+$O$4*(-$G$6/'Auslegung-V'!$D$37^2)*((xkr._vx!P280/COS(xkr._vx!$O$3*PI()/180))^xkr._vx!$O$5))","v":0},{"$f":"IF(Q280>('Auslegung-V'!$D$42-'Auslegung-V'!$D$43),xkr._vx!P279,\"\")","v":""}]
[null,null,null,null,null,null,null,null,null,null,null,null,null,null,null,27.5,{"$f":"ABS(P281*TAN($O$3*PI()/180)+$O$4*(-$G$6/'Auslegung-V'!$D$37^2)*((xkr._vx!P281/COS(xkr._vx!$O$3*PI()/180))^xkr._vx!$O$5))","v":0},{"$f":"IF(Q281>('Auslegung-V'!$D$42-'Auslegung-V'!$D$43),xkr._vx!P280,\"\")","v":""}]
[null,null,null,null,null,null,null,null,null,null,null,null,null,null,null,27.6,{"$f":"ABS(P282*TAN($O$3*PI()/180)+$O$4*(-$G$6/'Auslegung-V'!$D$37^2)*((xkr._vx!P282/COS(xkr._vx!$O$3*PI()/180))^xkr._vx!$O$5))","v":0},{"$f":"IF(Q282>('Auslegung-V'!$D$42-'Auslegung-V'!$D$43),xkr._vx!P281,\"\")","v":""}]
[null,null,null,null,null,null,null,null,null,null,null,null,null,null,null,27.7,{"$f":"ABS(P283*TAN($O$3*PI()/180)+$O$4*(-$G$6/'Auslegung-V'!$D$37^2)*((xkr._vx!P283/COS(xkr._vx!$O$3*PI()/180))^xkr._vx!$O$5))","v":0},{"$f":"IF(Q283>('Auslegung-V'!$D$42-'Auslegung-V'!$D$43),xkr._vx!P282,\"\")","v":""}]
[null,null,null,null,null,null,null,null,null,null,null,null,null,null,null,27.8,{"$f":"ABS(P284*TAN($O$3*PI()/180)+$O$4*(-$G$6/'Auslegung-V'!$D$37^2)*((xkr._vx!P284/COS(xkr._vx!$O$3*PI()/180))^xkr._vx!$O$5))","v":0},{"$f":"IF(Q284>('Auslegung-V'!$D$42-'Auslegung-V'!$D$43),xkr._vx!P283,\"\")","v":""}]
[null,null,null,null,null,null,null,null,null,null,null,null,null,null,null,27.9,{"$f":"ABS(P285*TAN($O$3*PI()/180)+$O$4*(-$G$6/'Auslegung-V'!$D$37^2)*((xkr._vx!P285/COS(xkr._vx!$O$3*PI()/180))^xkr._vx!$O$5))","v":0},{"$f":"IF(Q285>('Auslegung-V'!$D$42-'Auslegung-V'!$D$43),xkr._vx!P284,\"\")","v":""}]
[null,null,null,null,null,null,null,null,null,null,null,null,null,null,null,28,{"$f":"ABS(P286*TAN($O$3*PI()/180)+$O$4*(-$G$6/'Auslegung-V'!$D$37^2)*((xkr._vx!P286/COS(xkr._vx!$O$3*PI()/180))^xkr._vx!$O$5))","v":0},{"$f":"IF(Q286>('Auslegung-V'!$D$42-'Auslegung-V'!$D$43),xkr._vx!P285,\"\")","v":""}]
[null,null,null,null,null,null,null,null,null,null,null,null,null,null,null,28.1,{"$f":"ABS(P287*TAN($O$3*PI()/180)+$O$4*(-$G$6/'Auslegung-V'!$D$37^2)*((xkr._vx!P287/COS(xkr._vx!$O$3*PI()/180))^xkr._vx!$O$5))","v":0},{"$f":"IF(Q287>('Auslegung-V'!$D$42-'Auslegung-V'!$D$43),xkr._vx!P286,\"\")","v":""}]
[null,null,null,null,null,null,null,null,null,null,null,null,null,null,null,28.2,{"$f":"ABS(P288*TAN($O$3*PI()/180)+$O$4*(-$G$6/'Auslegung-V'!$D$37^2)*((xkr._vx!P288/COS(xkr._vx!$O$3*PI()/180))^xkr._vx!$O$5))","v":0},{"$f":"IF(Q288>('Auslegung-V'!$D$42-'Auslegung-V'!$D$43),xkr._vx!P287,\"\")","v":""}]
[null,null,null,null,null,null,null,null,null,null,null,null,null,null,null,28.3,{"$f":"ABS(P289*TAN($O$3*PI()/180)+$O$4*(-$G$6/'Auslegung-V'!$D$37^2)*((xkr._vx!P289/COS(xkr._vx!$O$3*PI()/180))^xkr._vx!$O$5))","v":0},{"$f":"IF(Q289>('Auslegung-V'!$D$42-'Auslegung-V'!$D$43),xkr._vx!P288,\"\")","v":""}]
[null,null,null,null,null,null,null,null,null,null,null,null,null,null,null,28.4,{"$f":"ABS(P290*TAN($O$3*PI()/180)+$O$4*(-$G$6/'Auslegung-V'!$D$37^2)*((xkr._vx!P290/COS(xkr._vx!$O$3*PI()/180))^xkr._vx!$O$5))","v":0},{"$f":"IF(Q290>('Auslegung-V'!$D$42-'Auslegung-V'!$D$43),xkr._vx!P289,\"\")","v":""}]
[null,null,null,null,null,null,null,null,null,null,null,null,null,null,null,28.5,{"$f":"ABS(P291*TAN($O$3*PI()/180)+$O$4*(-$G$6/'Auslegung-V'!$D$37^2)*((xkr._vx!P291/COS(xkr._vx!$O$3*PI()/180))^xkr._vx!$O$5))","v":0},{"$f":"IF(Q291>('Auslegung-V'!$D$42-'Auslegung-V'!$D$43),xkr._vx!P290,\"\")","v":""}]
[null,null,null,null,null,null,null,null,null,null,null,null,null,null,null,28.6,{"$f":"ABS(P292*TAN($O$3*PI()/180)+$O$4*(-$G$6/'Auslegung-V'!$D$37^2)*((xkr._vx!P292/COS(xkr._vx!$O$3*PI()/180))^xkr._vx!$O$5))","v":0},{"$f":"IF(Q292>('Auslegung-V'!$D$42-'Auslegung-V'!$D$43),xkr._vx!P291,\"\")","v":""}]
[null,null,null,null,null,null,null,null,null,null,null,null,null,null,null,28.7,{"$f":"ABS(P293*TAN($O$3*PI()/180)+$O$4*(-$G$6/'Auslegung-V'!$D$37^2)*((xkr._vx!P293/COS(xkr._vx!$O$3*PI()/180))^xkr._vx!$O$5))","v":0},{"$f":"IF(Q293>('Auslegung-V'!$D$42-'Auslegung-V'!$D$43),xkr._vx!P292,\"\")","v":""}]
[null,null,null,null,null,null,null,null,null,null,null,null,null,null,null,28.8,{"$f":"ABS(P294*TAN($O$3*PI()/180)+$O$4*(-$G$6/'Auslegung-V'!$D$37^2)*((xkr._vx!P294/COS(xkr._vx!$O$3*PI()/180))^xkr._vx!$O$5))","v":0},{"$f":"IF(Q294>('Auslegung-V'!$D$42-'Auslegung-V'!$D$43),xkr._vx!P293,\"\")","v":""}]
[null,null,null,null,null,null,null,null,null,null,null,null,null,null,null,28.9,{"$f":"ABS(P295*TAN($O$3*PI()/180)+$O$4*(-$G$6/'Auslegung-V'!$D$37^2)*((xkr._vx!P295/COS(xkr._vx!$O$3*PI()/180))^xkr._vx!$O$5))","v":0},{"$f":"IF(Q295>('Auslegung-V'!$D$42-'Auslegung-V'!$D$43),xkr._vx!P294,\"\")","v":""}]
[null,null,null,null,null,null,null,null,null,null,null,null,null,null,null,29,{"$f":"ABS(P296*TAN($O$3*PI()/180)+$O$4*(-$G$6/'Auslegung-V'!$D$37^2)*((xkr._vx!P296/COS(xkr._vx!$O$3*PI()/180))^xkr._vx!$O$5))","v":0},{"$f":"IF(Q296>('Auslegung-V'!$D$42-'Auslegung-V'!$D$43),xkr._vx!P295,\"\")","v":""}]
[null,null,null,null,null,null,null,null,null,null,null,null,null,null,null,29.1,{"$f":"ABS(P297*TAN($O$3*PI()/180)+$O$4*(-$G$6/'Auslegung-V'!$D$37^2)*((xkr._vx!P297/COS(xkr._vx!$O$3*PI()/180))^xkr._vx!$O$5))","v":0},{"$f":"IF(Q297>('Auslegung-V'!$D$42-'Auslegung-V'!$D$43),xkr._vx!P296,\"\")","v":""}]
[null,null,null,null,null,null,null,null,null,null,null,null,null,null,null,29.2,{"$f":"ABS(P298*TAN($O$3*PI()/180)+$O$4*(-$G$6/'Auslegung-V'!$D$37^2)*((xkr._vx!P298/COS(xkr._vx!$O$3*PI()/180))^xkr._vx!$O$5))","v":0},{"$f":"IF(Q298>('Auslegung-V'!$D$42-'Auslegung-V'!$D$43),xkr._vx!P297,\"\")","v":""}]
[null,null,null,null,null,null,null,null,null,null,null,null,null,null,null,29.3,{"$f":"ABS(P299*TAN($O$3*PI()/180)+$O$4*(-$G$6/'Auslegung-V'!$D$37^2)*((xkr._vx!P299/COS(xkr._vx!$O$3*PI()/180))^xkr._vx!$O$5))","v":0},{"$f":"IF(Q299>('Auslegung-V'!$D$42-'Auslegung-V'!$D$43),xkr._vx!P298,\"\")","v":""}]
[null,null,null,null,null,null,null,null,null,null,null,null,null,null,null,29.4,{"$f":"ABS(P300*TAN($O$3*PI()/180)+$O$4*(-$G$6/'Auslegung-V'!$D$37^2)*((xkr._vx!P300/COS(xkr._vx!$O$3*PI()/180))^xkr._vx!$O$5))","v":0},{"$f":"IF(Q300>('Auslegung-V'!$D$42-'Auslegung-V'!$D$43),xkr._vx!P299,\"\")","v":""}]
[null,null,null,null,null,null,null,null,null,null,null,null,null,null,null,29.5,{"$f":"ABS(P301*TAN($O$3*PI()/180)+$O$4*(-$G$6/'Auslegung-V'!$D$37^2)*((xkr._vx!P301/COS(xkr._vx!$O$3*PI()/180))^xkr._vx!$O$5))","v":0},{"$f":"IF(Q301>('Auslegung-V'!$D$42-'Auslegung-V'!$D$43),xkr._vx!P300,\"\")","v":""}]
[null,null,null,null,null,null,null,null,null,null,null,null,null,null,null,29.6,{"$f":"ABS(P302*TAN($O$3*PI()/180)+$O$4*(-$G$6/'Auslegung-V'!$D$37^2)*((xkr._vx!P302/COS(xkr._vx!$O$3*PI()/180))^xkr._vx!$O$5))","v":0},{"$f":"IF(Q302>('Auslegung-V'!$D$42-'Auslegung-V'!$D$43),xkr._vx!P301,\"\")","v":""}]
[null,null,null,null,null,null,null,null,null,null,null,null,null,null,null,29.7,{"$f":"ABS(P303*TAN($O$3*PI()/180)+$O$4*(-$G$6/'Auslegung-V'!$D$37^2)*((xkr._vx!P303/COS(xkr._vx!$O$3*PI()/180))^xkr._vx!$O$5))","v":0},{"$f":"IF(Q303>('Auslegung-V'!$D$42-'Auslegung-V'!$D$43),xkr._vx!P302,\"\")","v":""}]
[null,null,null,null,null,null,null,null,null,null,null,null,null,null,null,29.8,{"$f":"ABS(P304*TAN($O$3*PI()/180)+$O$4*(-$G$6/'Auslegung-V'!$D$37^2)*((xkr._vx!P304/COS(xkr._vx!$O$3*PI()/180))^xkr._vx!$O$5))","v":0},{"$f":"IF(Q304>('Auslegung-V'!$D$42-'Auslegung-V'!$D$43),xkr._vx!P303,\"\")","v":""}]
[null,null,null,null,null,null,null,null,null,null,null,null,null,null,null,29.9,{"$f":"ABS(P305*TAN($O$3*PI()/180)+$O$4*(-$G$6/'Auslegung-V'!$D$37^2)*((xkr._vx!P305/COS(xkr._vx!$O$3*PI()/180))^xkr._vx!$O$5))","v":0},{"$f":"IF(Q305>('Auslegung-V'!$D$42-'Auslegung-V'!$D$43),xkr._vx!P304,\"\")","v":""}]
[null,null,null,null,null,null,null,null,null,null,null,null,null,null,null,30,{"$f":"ABS(P306*TAN($O$3*PI()/180)+$O$4*(-$G$6/'Auslegung-V'!$D$37^2)*((xkr._vx!P306/COS(xkr._vx!$O$3*PI()/180))^xkr._vx!$O$5))","v":0},{"$f":"IF(Q306>('Auslegung-V'!$D$42-'Auslegung-V'!$D$43),xkr._vx!P305,\"\")","v":""}]
[null,null,null,null,null,null,null,null,null,null,null,null,null,null,null,30.1,{"$f":"ABS(P307*TAN($O$3*PI()/180)+$O$4*(-$G$6/'Auslegung-V'!$D$37^2)*((xkr._vx!P307/COS(xkr._vx!$O$3*PI()/180))^xkr._vx!$O$5))","v":0},{"$f":"IF(Q307>('Auslegung-V'!$D$42-'Auslegung-V'!$D$43),xkr._vx!P306,\"\")","v":""}]
[null,null,null,null,null,null,null,null,null,null,null,null,null,null,null,30.2,{"$f":"ABS(P308*TAN($O$3*PI()/180)+$O$4*(-$G$6/'Auslegung-V'!$D$37^2)*((xkr._vx!P308/COS(xkr._vx!$O$3*PI()/180))^xkr._vx!$O$5))","v":0},{"$f":"IF(Q308>('Auslegung-V'!$D$42-'Auslegung-V'!$D$43),xkr._vx!P307,\"\")","v":""}]
[null,null,null,null,null,null,null,null,null,null,null,null,null,null,null,30.3,{"$f":"ABS(P309*TAN($O$3*PI()/180)+$O$4*(-$G$6/'Auslegung-V'!$D$37^2)*((xkr._vx!P309/COS(xkr._vx!$O$3*PI()/180))^xkr._vx!$O$5))","v":0},{"$f":"IF(Q309>('Auslegung-V'!$D$42-'Auslegung-V'!$D$43),xkr._vx!P308,\"\")","v":""}]
[null,null,null,null,null,null,null,null,null,null,null,null,null,null,null,30.4,{"$f":"ABS(P310*TAN($O$3*PI()/180)+$O$4*(-$G$6/'Auslegung-V'!$D$37^2)*((xkr._vx!P310/COS(xkr._vx!$O$3*PI()/180))^xkr._vx!$O$5))","v":0},{"$f":"IF(Q310>('Auslegung-V'!$D$42-'Auslegung-V'!$D$43),xkr._vx!P309,\"\")","v":""}]
[null,null,null,null,null,null,null,null,null,null,null,null,null,null,null,30.5,{"$f":"ABS(P311*TAN($O$3*PI()/180)+$O$4*(-$G$6/'Auslegung-V'!$D$37^2)*((xkr._vx!P311/COS(xkr._vx!$O$3*PI()/180))^xkr._vx!$O$5))","v":0},{"$f":"IF(Q311>('Auslegung-V'!$D$42-'Auslegung-V'!$D$43),xkr._vx!P310,\"\")","v":""}]
[null,null,null,null,null,null,null,null,null,null,null,null,null,null,null,30.6,{"$f":"ABS(P312*TAN($O$3*PI()/180)+$O$4*(-$G$6/'Auslegung-V'!$D$37^2)*((xkr._vx!P312/COS(xkr._vx!$O$3*PI()/180))^xkr._vx!$O$5))","v":0},{"$f":"IF(Q312>('Auslegung-V'!$D$42-'Auslegung-V'!$D$43),xkr._vx!P311,\"\")","v":""}]
[null,null,null,null,null,null,null,null,null,null,null,null,null,null,null,30.7,{"$f":"ABS(P313*TAN($O$3*PI()/180)+$O$4*(-$G$6/'Auslegung-V'!$D$37^2)*((xkr._vx!P313/COS(xkr._vx!$O$3*PI()/180))^xkr._vx!$O$5))","v":0},{"$f":"IF(Q313>('Auslegung-V'!$D$42-'Auslegung-V'!$D$43),xkr._vx!P312,\"\")","v":""}]
[null,null,null,null,null,null,null,null,null,null,null,null,null,null,null,30.8,{"$f":"ABS(P314*TAN($O$3*PI()/180)+$O$4*(-$G$6/'Auslegung-V'!$D$37^2)*((xkr._vx!P314/COS(xkr._vx!$O$3*PI()/180))^xkr._vx!$O$5))","v":0},{"$f":"IF(Q314>('Auslegung-V'!$D$42-'Auslegung-V'!$D$43),xkr._vx!P313,\"\")","v":""}]
[null,null,null,null,null,null,null,null,null,null,null,null,null,null,null,30.9,{"$f":"ABS(P315*TAN($O$3*PI()/180)+$O$4*(-$G$6/'Auslegung-V'!$D$37^2)*((xkr._vx!P315/COS(xkr._vx!$O$3*PI()/180))^xkr._vx!$O$5))","v":0},{"$f":"IF(Q315>('Auslegung-V'!$D$42-'Auslegung-V'!$D$43),xkr._vx!P314,\"\")","v":""}]
[null,null,null,null,null,null,null,null,null,null,null,null,null,null,null,31,{"$f":"ABS(P316*TAN($O$3*PI()/180)+$O$4*(-$G$6/'Auslegung-V'!$D$37^2)*((xkr._vx!P316/COS(xkr._vx!$O$3*PI()/180))^xkr._vx!$O$5))","v":0},{"$f":"IF(Q316>('Auslegung-V'!$D$42-'Auslegung-V'!$D$43),xkr._vx!P315,\"\")","v":""}]
[null,null,null,null,null,null,null,null,null,null,null,null,null,null,null,31.1,{"$f":"ABS(P317*TAN($O$3*PI()/180)+$O$4*(-$G$6/'Auslegung-V'!$D$37^2)*((xkr._vx!P317/COS(xkr._vx!$O$3*PI()/180))^xkr._vx!$O$5))","v":0},{"$f":"IF(Q317>('Auslegung-V'!$D$42-'Auslegung-V'!$D$43),xkr._vx!P316,\"\")","v":""}]
[null,null,null,null,null,null,null,null,null,null,null,null,null,null,null,31.2,{"$f":"ABS(P318*TAN($O$3*PI()/180)+$O$4*(-$G$6/'Auslegung-V'!$D$37^2)*((xkr._vx!P318/COS(xkr._vx!$O$3*PI()/180))^xkr._vx!$O$5))","v":0},{"$f":"IF(Q318>('Auslegung-V'!$D$42-'Auslegung-V'!$D$43),xkr._vx!P317,\"\")","v":""}]
[null,null,null,null,null,null,null,null,null,null,null,null,null,null,null,31.3,{"$f":"ABS(P319*TAN($O$3*PI()/180)+$O$4*(-$G$6/'Auslegung-V'!$D$37^2)*((xkr._vx!P319/COS(xkr._vx!$O$3*PI()/180))^xkr._vx!$O$5))","v":0},{"$f":"IF(Q319>('Auslegung-V'!$D$42-'Auslegung-V'!$D$43),xkr._vx!P318,\"\")","v":""}]
[null,null,null,null,null,null,null,null,null,null,null,null,null,null,null,31.4,{"$f":"ABS(P320*TAN($O$3*PI()/180)+$O$4*(-$G$6/'Auslegung-V'!$D$37^2)*((xkr._vx!P320/COS(xkr._vx!$O$3*PI()/180))^xkr._vx!$O$5))","v":0},{"$f":"IF(Q320>('Auslegung-V'!$D$42-'Auslegung-V'!$D$43),xkr._vx!P319,\"\")","v":""}]
[null,null,null,null,null,null,null,null,null,null,null,null,null,null,null,31.5,{"$f":"ABS(P321*TAN($O$3*PI()/180)+$O$4*(-$G$6/'Auslegung-V'!$D$37^2)*((xkr._vx!P321/COS(xkr._vx!$O$3*PI()/180))^xkr._vx!$O$5))","v":0},{"$f":"IF(Q321>('Auslegung-V'!$D$42-'Auslegung-V'!$D$43),xkr._vx!P320,\"\")","v":""}]
[null,null,null,null,null,null,null,null,null,null,null,null,null,null,null,31.6,{"$f":"ABS(P322*TAN($O$3*PI()/180)+$O$4*(-$G$6/'Auslegung-V'!$D$37^2)*((xkr._vx!P322/COS(xkr._vx!$O$3*PI()/180))^xkr._vx!$O$5))","v":0},{"$f":"IF(Q322>('Auslegung-V'!$D$42-'Auslegung-V'!$D$43),xkr._vx!P321,\"\")","v":""}]
[null,null,null,null,null,null,null,null,null,null,null,null,null,null,null,31.7,{"$f":"ABS(P323*TAN($O$3*PI()/180)+$O$4*(-$G$6/'Auslegung-V'!$D$37^2)*((xkr._vx!P323/COS(xkr._vx!$O$3*PI()/180))^xkr._vx!$O$5))","v":0},{"$f":"IF(Q323>('Auslegung-V'!$D$42-'Auslegung-V'!$D$43),xkr._vx!P322,\"\")","v":""}]
[null,null,null,null,null,null,null,null,null,null,null,null,null,null,null,31.8,{"$f":"ABS(P324*TAN($O$3*PI()/180)+$O$4*(-$G$6/'Auslegung-V'!$D$37^2)*((xkr._vx!P324/COS(xkr._vx!$O$3*PI()/180))^xkr._vx!$O$5))","v":0},{"$f":"IF(Q324>('Auslegung-V'!$D$42-'Auslegung-V'!$D$43),xkr._vx!P323,\"\")","v":""}]
[null,null,null,null,null,null,null,null,null,null,null,null,null,null,null,31.9,{"$f":"ABS(P325*TAN($O$3*PI()/180)+$O$4*(-$G$6/'Auslegung-V'!$D$37^2)*((xkr._vx!P325/COS(xkr._vx!$O$3*PI()/180))^xkr._vx!$O$5))","v":0},{"$f":"IF(Q325>('Auslegung-V'!$D$42-'Auslegung-V'!$D$43),xkr._vx!P324,\"\")","v":""}]
[null,null,null,null,null,null,null,null,null,null,null,null,null,null,null,32,{"$f":"ABS(P326*TAN($O$3*PI()/180)+$O$4*(-$G$6/'Auslegung-V'!$D$37^2)*((xkr._vx!P326/COS(xkr._vx!$O$3*PI()/180))^xkr._vx!$O$5))","v":0},{"$f":"IF(Q326>('Auslegung-V'!$D$42-'Auslegung-V'!$D$43),xkr._vx!P325,\"\")","v":""}]
[null,null,null,null,null,null,null,null,null,null,null,null,null,null,null,32.1,{"$f":"ABS(P327*TAN($O$3*PI()/180)+$O$4*(-$G$6/'Auslegung-V'!$D$37^2)*((xkr._vx!P327/COS(xkr._vx!$O$3*PI()/180))^xkr._vx!$O$5))","v":0},{"$f":"IF(Q327>('Auslegung-V'!$D$42-'Auslegung-V'!$D$43),xkr._vx!P326,\"\")","v":""}]
[null,null,null,null,null,null,null,null,null,null,null,null,null,null,null,32.200000000000003,{"$f":"ABS(P328*TAN($O$3*PI()/180)+$O$4*(-$G$6/'Auslegung-V'!$D$37^2)*((xkr._vx!P328/COS(xkr._vx!$O$3*PI()/180))^xkr._vx!$O$5))","v":0},{"$f":"IF(Q328>('Auslegung-V'!$D$42-'Auslegung-V'!$D$43),xkr._vx!P327,\"\")","v":""}]
[null,null,null,null,null,null,null,null,null,null,null,null,null,null,null,32.299999999999997,{"$f":"ABS(P329*TAN($O$3*PI()/180)+$O$4*(-$G$6/'Auslegung-V'!$D$37^2)*((xkr._vx!P329/COS(xkr._vx!$O$3*PI()/180))^xkr._vx!$O$5))","v":0},{"$f":"IF(Q329>('Auslegung-V'!$D$42-'Auslegung-V'!$D$43),xkr._vx!P328,\"\")","v":""}]
[null,null,null,null,null,null,null,null,null,null,null,null,null,null,null,32.4,{"$f":"ABS(P330*TAN($O$3*PI()/180)+$O$4*(-$G$6/'Auslegung-V'!$D$37^2)*((xkr._vx!P330/COS(xkr._vx!$O$3*PI()/180))^xkr._vx!$O$5))","v":0},{"$f":"IF(Q330>('Auslegung-V'!$D$42-'Auslegung-V'!$D$43),xkr._vx!P329,\"\")","v":""}]
[null,null,null,null,null,null,null,null,null,null,null,null,null,null,null,32.5,{"$f":"ABS(P331*TAN($O$3*PI()/180)+$O$4*(-$G$6/'Auslegung-V'!$D$37^2)*((xkr._vx!P331/COS(xkr._vx!$O$3*PI()/180))^xkr._vx!$O$5))","v":0},{"$f":"IF(Q331>('Auslegung-V'!$D$42-'Auslegung-V'!$D$43),xkr._vx!P330,\"\")","v":""}]
[null,null,null,null,null,null,null,null,null,null,null,null,null,null,null,32.6,{"$f":"ABS(P332*TAN($O$3*PI()/180)+$O$4*(-$G$6/'Auslegung-V'!$D$37^2)*((xkr._vx!P332/COS(xkr._vx!$O$3*PI()/180))^xkr._vx!$O$5))","v":0},{"$f":"IF(Q332>('Auslegung-V'!$D$42-'Auslegung-V'!$D$43),xkr._vx!P331,\"\")","v":""}]
[null,null,null,null,null,null,null,null,null,null,null,null,null,null,null,32.700000000000003,{"$f":"ABS(P333*TAN($O$3*PI()/180)+$O$4*(-$G$6/'Auslegung-V'!$D$37^2)*((xkr._vx!P333/COS(xkr._vx!$O$3*PI()/180))^xkr._vx!$O$5))","v":0},{"$f":"IF(Q333>('Auslegung-V'!$D$42-'Auslegung-V'!$D$43),xkr._vx!P332,\"\")","v":""}]
[null,null,null,null,null,null,null,null,null,null,null,null,null,null,null,32.799999999999997,{"$f":"ABS(P334*TAN($O$3*PI()/180)+$O$4*(-$G$6/'Auslegung-V'!$D$37^2)*((xkr._vx!P334/COS(xkr._vx!$O$3*PI()/180))^xkr._vx!$O$5))","v":0},{"$f":"IF(Q334>('Auslegung-V'!$D$42-'Auslegung-V'!$D$43),xkr._vx!P333,\"\")","v":""}]
[null,null,null,null,null,null,null,null,null,null,null,null,null,null,null,32.9,{"$f":"ABS(P335*TAN($O$3*PI()/180)+$O$4*(-$G$6/'Auslegung-V'!$D$37^2)*((xkr._vx!P335/COS(xkr._vx!$O$3*PI()/180))^xkr._vx!$O$5))","v":0},{"$f":"IF(Q335>('Auslegung-V'!$D$42-'Auslegung-V'!$D$43),xkr._vx!P334,\"\")","v":""}]
[null,null,null,null,null,null,null,null,null,null,null,null,null,null,null,33,{"$f":"ABS(P336*TAN($O$3*PI()/180)+$O$4*(-$G$6/'Auslegung-V'!$D$37^2)*((xkr._vx!P336/COS(xkr._vx!$O$3*PI()/180))^xkr._vx!$O$5))","v":0},{"$f":"IF(Q336>('Auslegung-V'!$D$42-'Auslegung-V'!$D$43),xkr._vx!P335,\"\")","v":""}]
[null,null,null,null,null,null,null,null,null,null,null,null,null,null,null,33.1,{"$f":"ABS(P337*TAN($O$3*PI()/180)+$O$4*(-$G$6/'Auslegung-V'!$D$37^2)*((xkr._vx!P337/COS(xkr._vx!$O$3*PI()/180))^xkr._vx!$O$5))","v":0},{"$f":"IF(Q337>('Auslegung-V'!$D$42-'Auslegung-V'!$D$43),xkr._vx!P336,\"\")","v":""}]
[null,null,null,null,null,null,null,null,null,null,null,null,null,null,null,33.200000000000003,{"$f":"ABS(P338*TAN($O$3*PI()/180)+$O$4*(-$G$6/'Auslegung-V'!$D$37^2)*((xkr._vx!P338/COS(xkr._vx!$O$3*PI()/180))^xkr._vx!$O$5))","v":0},{"$f":"IF(Q338>('Auslegung-V'!$D$42-'Auslegung-V'!$D$43),xkr._vx!P337,\"\")","v":""}]
[null,null,null,null,null,null,null,null,null,null,null,null,null,null,null,33.299999999999997,{"$f":"ABS(P339*TAN($O$3*PI()/180)+$O$4*(-$G$6/'Auslegung-V'!$D$37^2)*((xkr._vx!P339/COS(xkr._vx!$O$3*PI()/180))^xkr._vx!$O$5))","v":0},{"$f":"IF(Q339>('Auslegung-V'!$D$42-'Auslegung-V'!$D$43),xkr._vx!P338,\"\")","v":""}]
[null,null,null,null,null,null,null,null,null,null,null,null,null,null,null,33.4,{"$f":"ABS(P340*TAN($O$3*PI()/180)+$O$4*(-$G$6/'Auslegung-V'!$D$37^2)*((xkr._vx!P340/COS(xkr._vx!$O$3*PI()/180))^xkr._vx!$O$5))","v":0},{"$f":"IF(Q340>('Auslegung-V'!$D$42-'Auslegung-V'!$D$43),xkr._vx!P339,\"\")","v":""}]
[null,null,null,null,null,null,null,null,null,null,null,null,null,null,null,33.5,{"$f":"ABS(P341*TAN($O$3*PI()/180)+$O$4*(-$G$6/'Auslegung-V'!$D$37^2)*((xkr._vx!P341/COS(xkr._vx!$O$3*PI()/180))^xkr._vx!$O$5))","v":0},{"$f":"IF(Q341>('Auslegung-V'!$D$42-'Auslegung-V'!$D$43),xkr._vx!P340,\"\")","v":""}]
[null,null,null,null,null,null,null,null,null,null,null,null,null,null,null,33.6,{"$f":"ABS(P342*TAN($O$3*PI()/180)+$O$4*(-$G$6/'Auslegung-V'!$D$37^2)*((xkr._vx!P342/COS(xkr._vx!$O$3*PI()/180))^xkr._vx!$O$5))","v":0},{"$f":"IF(Q342>('Auslegung-V'!$D$42-'Auslegung-V'!$D$43),xkr._vx!P341,\"\")","v":""}]
[null,null,null,null,null,null,null,null,null,null,null,null,null,null,null,33.700000000000003,{"$f":"ABS(P343*TAN($O$3*PI()/180)+$O$4*(-$G$6/'Auslegung-V'!$D$37^2)*((xkr._vx!P343/COS(xkr._vx!$O$3*PI()/180))^xkr._vx!$O$5))","v":0},{"$f":"IF(Q343>('Auslegung-V'!$D$42-'Auslegung-V'!$D$43),xkr._vx!P342,\"\")","v":""}]
[null,null,null,null,null,null,null,null,null,null,null,null,null,null,null,33.799999999999997,{"$f":"ABS(P344*TAN($O$3*PI()/180)+$O$4*(-$G$6/'Auslegung-V'!$D$37^2)*((xkr._vx!P344/COS(xkr._vx!$O$3*PI()/180))^xkr._vx!$O$5))","v":0},{"$f":"IF(Q344>('Auslegung-V'!$D$42-'Auslegung-V'!$D$43),xkr._vx!P343,\"\")","v":""}]
[null,null,null,null,null,null,null,null,null,null,null,null,null,null,null,33.9,{"$f":"ABS(P345*TAN($O$3*PI()/180)+$O$4*(-$G$6/'Auslegung-V'!$D$37^2)*((xkr._vx!P345/COS(xkr._vx!$O$3*PI()/180))^xkr._vx!$O$5))","v":0},{"$f":"IF(Q345>('Auslegung-V'!$D$42-'Auslegung-V'!$D$43),xkr._vx!P344,\"\")","v":""}]
[null,null,null,null,null,null,null,null,null,null,null,null,null,null,null,34,{"$f":"ABS(P346*TAN($O$3*PI()/180)+$O$4*(-$G$6/'Auslegung-V'!$D$37^2)*((xkr._vx!P346/COS(xkr._vx!$O$3*PI()/180))^xkr._vx!$O$5))","v":0},{"$f":"IF(Q346>('Auslegung-V'!$D$42-'Auslegung-V'!$D$43),xkr._vx!P345,\"\")","v":""}]
[null,null,null,null,null,null,null,null,null,null,null,null,null,null,null,34.1,{"$f":"ABS(P347*TAN($O$3*PI()/180)+$O$4*(-$G$6/'Auslegung-V'!$D$37^2)*((xkr._vx!P347/COS(xkr._vx!$O$3*PI()/180))^xkr._vx!$O$5))","v":0},{"$f":"IF(Q347>('Auslegung-V'!$D$42-'Auslegung-V'!$D$43),xkr._vx!P346,\"\")","v":""}]
[null,null,null,null,null,null,null,null,null,null,null,null,null,null,null,34.200000000000003,{"$f":"ABS(P348*TAN($O$3*PI()/180)+$O$4*(-$G$6/'Auslegung-V'!$D$37^2)*((xkr._vx!P348/COS(xkr._vx!$O$3*PI()/180))^xkr._vx!$O$5))","v":0},{"$f":"IF(Q348>('Auslegung-V'!$D$42-'Auslegung-V'!$D$43),xkr._vx!P347,\"\")","v":""}]
[null,null,null,null,null,null,null,null,null,null,null,null,null,null,null,34.299999999999997,{"$f":"ABS(P349*TAN($O$3*PI()/180)+$O$4*(-$G$6/'Auslegung-V'!$D$37^2)*((xkr._vx!P349/COS(xkr._vx!$O$3*PI()/180))^xkr._vx!$O$5))","v":0},{"$f":"IF(Q349>('Auslegung-V'!$D$42-'Auslegung-V'!$D$43),xkr._vx!P348,\"\")","v":""}]
[null,null,null,null,null,null,null,null,null,null,null,null,null,null,null,34.4,{"$f":"ABS(P350*TAN($O$3*PI()/180)+$O$4*(-$G$6/'Auslegung-V'!$D$37^2)*((xkr._vx!P350/COS(xkr._vx!$O$3*PI()/180))^xkr._vx!$O$5))","v":0},{"$f":"IF(Q350>('Auslegung-V'!$D$42-'Auslegung-V'!$D$43),xkr._vx!P349,\"\")","v":""}]
[null,null,null,null,null,null,null,null,null,null,null,null,null,null,null,34.5,{"$f":"ABS(P351*TAN($O$3*PI()/180)+$O$4*(-$G$6/'Auslegung-V'!$D$37^2)*((xkr._vx!P351/COS(xkr._vx!$O$3*PI()/180))^xkr._vx!$O$5))","v":0},{"$f":"IF(Q351>('Auslegung-V'!$D$42-'Auslegung-V'!$D$43),xkr._vx!P350,\"\")","v":""}]
[null,null,null,null,null,null,null,null,null,null,null,null,null,null,null,34.6,{"$f":"ABS(P352*TAN($O$3*PI()/180)+$O$4*(-$G$6/'Auslegung-V'!$D$37^2)*((xkr._vx!P352/COS(xkr._vx!$O$3*PI()/180))^xkr._vx!$O$5))","v":0},{"$f":"IF(Q352>('Auslegung-V'!$D$42-'Auslegung-V'!$D$43),xkr._vx!P351,\"\")","v":""}]
[null,null,null,null,null,null,null,null,null,null,null,null,null,null,null,34.700000000000003,{"$f":"ABS(P353*TAN($O$3*PI()/180)+$O$4*(-$G$6/'Auslegung-V'!$D$37^2)*((xkr._vx!P353/COS(xkr._vx!$O$3*PI()/180))^xkr._vx!$O$5))","v":0},{"$f":"IF(Q353>('Auslegung-V'!$D$42-'Auslegung-V'!$D$43),xkr._vx!P352,\"\")","v":""}]
[null,null,null,null,null,null,null,null,null,null,null,null,null,null,null,34.799999999999997,{"$f":"ABS(P354*TAN($O$3*PI()/180)+$O$4*(-$G$6/'Auslegung-V'!$D$37^2)*((xkr._vx!P354/COS(xkr._vx!$O$3*PI()/180))^xkr._vx!$O$5))","v":0},{"$f":"IF(Q354>('Auslegung-V'!$D$42-'Auslegung-V'!$D$43),xkr._vx!P353,\"\")","v":""}]
[null,null,null,null,null,null,null,null,null,null,null,null,null,null,null,34.9,{"$f":"ABS(P355*TAN($O$3*PI()/180)+$O$4*(-$G$6/'Auslegung-V'!$D$37^2)*((xkr._vx!P355/COS(xkr._vx!$O$3*PI()/180))^xkr._vx!$O$5))","v":0},{"$f":"IF(Q355>('Auslegung-V'!$D$42-'Auslegung-V'!$D$43),xkr._vx!P354,\"\")","v":""}]
[null,null,null,null,null,null,null,null,null,null,null,null,null,null,null,35,{"$f":"ABS(P356*TAN($O$3*PI()/180)+$O$4*(-$G$6/'Auslegung-V'!$D$37^2)*((xkr._vx!P356/COS(xkr._vx!$O$3*PI()/180))^xkr._vx!$O$5))","v":0},{"$f":"IF(Q356>('Auslegung-V'!$D$42-'Auslegung-V'!$D$43),xkr._vx!P355,\"\")","v":""}]
[null,null,null,null,null,null,null,null,null,null,null,null,null,null,null,35.1,{"$f":"ABS(P357*TAN($O$3*PI()/180)+$O$4*(-$G$6/'Auslegung-V'!$D$37^2)*((xkr._vx!P357/COS(xkr._vx!$O$3*PI()/180))^xkr._vx!$O$5))","v":0},{"$f":"IF(Q357>('Auslegung-V'!$D$42-'Auslegung-V'!$D$43),xkr._vx!P356,\"\")","v":""}]
[null,null,null,null,null,null,null,null,null,null,null,null,null,null,null,35.200000000000003,{"$f":"ABS(P358*TAN($O$3*PI()/180)+$O$4*(-$G$6/'Auslegung-V'!$D$37^2)*((xkr._vx!P358/COS(xkr._vx!$O$3*PI()/180))^xkr._vx!$O$5))","v":0},{"$f":"IF(Q358>('Auslegung-V'!$D$42-'Auslegung-V'!$D$43),xkr._vx!P357,\"\")","v":""}]
[null,null,null,null,null,null,null,null,null,null,null,null,null,null,null,35.299999999999997,{"$f":"ABS(P359*TAN($O$3*PI()/180)+$O$4*(-$G$6/'Auslegung-V'!$D$37^2)*((xkr._vx!P359/COS(xkr._vx!$O$3*PI()/180))^xkr._vx!$O$5))","v":0},{"$f":"IF(Q359>('Auslegung-V'!$D$42-'Auslegung-V'!$D$43),xkr._vx!P358,\"\")","v":""}]
[null,null,null,null,null,null,null,null,null,null,null,null,null,null,null,35.4,{"$f":"ABS(P360*TAN($O$3*PI()/180)+$O$4*(-$G$6/'Auslegung-V'!$D$37^2)*((xkr._vx!P360/COS(xkr._vx!$O$3*PI()/180))^xkr._vx!$O$5))","v":0},{"$f":"IF(Q360>('Auslegung-V'!$D$42-'Auslegung-V'!$D$43),xkr._vx!P359,\"\")","v":""}]
[null,null,null,null,null,null,null,null,null,null,null,null,null,null,null,35.5,{"$f":"ABS(P361*TAN($O$3*PI()/180)+$O$4*(-$G$6/'Auslegung-V'!$D$37^2)*((xkr._vx!P361/COS(xkr._vx!$O$3*PI()/180))^xkr._vx!$O$5))","v":0},{"$f":"IF(Q361>('Auslegung-V'!$D$42-'Auslegung-V'!$D$43),xkr._vx!P360,\"\")","v":""}]
[null,null,null,null,null,null,null,null,null,null,null,null,null,null,null,35.6,{"$f":"ABS(P362*TAN($O$3*PI()/180)+$O$4*(-$G$6/'Auslegung-V'!$D$37^2)*((xkr._vx!P362/COS(xkr._vx!$O$3*PI()/180))^xkr._vx!$O$5))","v":0},{"$f":"IF(Q362>('Auslegung-V'!$D$42-'Auslegung-V'!$D$43),xkr._vx!P361,\"\")","v":""}]
[null,null,null,null,null,null,null,null,null,null,null,null,null,null,null,35.700000000000003,{"$f":"ABS(P363*TAN($O$3*PI()/180)+$O$4*(-$G$6/'Auslegung-V'!$D$37^2)*((xkr._vx!P363/COS(xkr._vx!$O$3*PI()/180))^xkr._vx!$O$5))","v":0},{"$f":"IF(Q363>('Auslegung-V'!$D$42-'Auslegung-V'!$D$43),xkr._vx!P362,\"\")","v":""}]
[null,null,null,null,null,null,null,null,null,null,null,null,null,null,null,35.799999999999997,{"$f":"ABS(P364*TAN($O$3*PI()/180)+$O$4*(-$G$6/'Auslegung-V'!$D$37^2)*((xkr._vx!P364/COS(xkr._vx!$O$3*PI()/180))^xkr._vx!$O$5))","v":0},{"$f":"IF(Q364>('Auslegung-V'!$D$42-'Auslegung-V'!$D$43),xkr._vx!P363,\"\")","v":""}]
[null,null,null,null,null,null,null,null,null,null,null,null,null,null,null,35.9,{"$f":"ABS(P365*TAN($O$3*PI()/180)+$O$4*(-$G$6/'Auslegung-V'!$D$37^2)*((xkr._vx!P365/COS(xkr._vx!$O$3*PI()/180))^xkr._vx!$O$5))","v":0},{"$f":"IF(Q365>('Auslegung-V'!$D$42-'Auslegung-V'!$D$43),xkr._vx!P364,\"\")","v":""}]

{"sheet":"DR","index":16,"n_rows":32,"n_cols":4,"rows_kept":32,"cut":false,"hidden":true,"merged":[[0,0,0,10]]}
["Berechnung des Zugluftrisikos"]
["Achtung: Automatisierte Konstantenauswahl aus den \"-CAP\" Arbeitsblättern"]
["Annahme:","Turbulenzgrad =",40,"%"]
[]
["Konstanten Temperaturverhältnis",null,"K051",{"$f":"SUM('VLV-CAP'!$C$51,'VLD-CAP'!$C$51,'WKD380-CAP'!$C$51,'WKD381-CAP'!$C$51)","v":0}]
[null,null,"K052",{"$f":"SUM('VLV-CAP'!$C$52,'VLD-CAP'!$C$52,'WKD380-CAP'!$C$52,'WKD381-CAP'!$C$52)","v":0}]
["Temperaturen","Zuluft",{"$f":"Einheiten!$E$38","v":30}]
[null,"Raum",{"$f":"Einheiten!$E$39","v":20}]
[]
["1. Zugluftrisiko im Fußbodenbereich"]
[null,"Lauflänge",{"$f":"xkr._vx!$L$24","v":18.5}]
[null,"Luftgeschwindigkeit, errechnet",{"$f":"xkr._vx!$N$24","v":0}]
[null,"Luftgeschwindigkeit, gesetzt",{"$f":"IF(C12<0.05,0.05,C12)","v":0.05}]
[null,"lok. Temperaturdifferenz",{"$f":"($C$8-$C$7)*$D$5*(1/C11)^$D$6","v":0}]
[null,"Absolute Temperatur",{"$f":"C8-C14","v":20}]
[null,"Zugluftrisiko",{"$f":"IF((34-C15)*((C13-0.05)^0.62)*(0.37*C13*$C$3+3.14)>100,100,IF((34-C15)*((C13-0.05)^0.62)*(0.37*C13*$C$3+3.14)<0,0,(34-C15)*((C13-0.05)^0.62)*(0.37*C13*$C$3+3.14)))","v":0}]
[]
["2. Zugluftrisiko nach Stoßpunkt"]
[null,"Lauflänge",{"$f":"xkr._vx!$L$26","v":14.7}]
[null,"Luftgeschwindigkeit, errechnet",{"$f":"xkr._vx!$N$26","v":0}]
[null,"Luftgeschwindigkeit, gesetzt",{"$f":"IF(C20<0.05,0.05,C20)","v":0.05}]
[null,"lok. Temperaturdifferenz",{"$f":"($C$8-$C$7)*$D$5*(1/C19)^$D$6","v":0}]
[null,"Absolute Temperatur",{"$f":"C8-C22","v":20}]
[null,"Zugluftrisiko",{"$f":"IF((34-C23)*((C21-0.05)^0.62)*(0.37*C21*$C$3+3.14)>100,100,IF((34-C23)*((C21-0.05)^0.62)*(0.37*C21*$C$3+3.14)<0,0,(34-C23)*((C21-0.05)^0.62)*(0.37*C21*$C$3+3.14)))","v":0}]
[]
["3. Zugluftrisiko nach Ablösen an X_kritisch"]
[null,"Lauflänge",{"$f":"xkr._vx!$L$28","v":18.667619023324857}]
[null,"Luftgeschwindigkeit, errechnet",{"$f":"IF(xkr._vx!I11=\"\",0.05,xkr._vx!I11)","v":0}]
[null,"Luftgeschwindigkeit, gesetzt",{"$f":"IF(C28<0.05,0.05,C28)","v":0.05}]
[null,"lok. Temperaturdifferenz",{"$f":"IF(C8-C7=0,0,($C$8-$C$7)*$D$5*(1/C27)^$D$6)","v":0}]
[null,"Absolute Temperatur",{"$f":"C8-C30","v":20}]
[null,"Zugluftrisiko",{"$f":"IF(C8-C7=0,\"\",IF((34-C31)*((C29-0.05)^0.62)*(0.37*C29*$C$3+3.14)>100,100,IF((34-C31)*((C29-0.05)^0.62)*(0.37*C29*$C$3+3.14)<0,0,(34-C31)*((C29-0.05)^0.62)*(0.37*C29*$C$3+3.14))))","v":0}]

{"sheet":"VLV-CAP","index":17,"n_rows":69,"n_cols":12,"rows_kept":69,"cut":false,"hidden":true,"merged":[]}
["Übergabedaten:",null,"Gewählter Durchlass",null,{"$f":"CONCATENATE('Auslegung-V'!$D$12,'Auslegung-V'!$D$20,$G$1)","v":"VLD400h"},null,{"$f":"IF('Auslegung-V'!$D$39<='Auslegung-V'!$D$40,\"k\",\"h\")","v":"h"}]
[null,null,"Volumenstrom",null,{"$f":"'Auslegung-V'!$D$37","v":3000}]
[null,null,"Temperaturdifferenz",null,{"$f":"'Auslegung-V'!$D$40-'Auslegung-V'!$D$39","v":-10}]
[null,null,"VLV","VLV","VLV","VLV","VLV","VLV","VLV","VLV"]
[null,null,250,250,315,315,400,400,500,500]
[null,null,{"$f":"CONCATENATE(C4,C5,\"k\")","v":"VLV250k"},{"$f":"CONCATENATE(D4,D5,\"h\")","v":"VLV250h"},{"$f":"CONCATENATE(E4,E5,\"k\")","v":"VLV315k"},{"$f":"CONCATENATE(F4,F5,\"h\")","v":"VLV315h"},{"$f":"CONCATENATE(G4,G5,\"k\")","v":"VLV400k"},{"$f":"CONCATENATE(H4,H5,\"h\")","v":"VLV400h"},{"$f":"CONCATENATE(I4,I5,\"k\")","v":"VLV500k"},{"$f":"CONCATENATE(J4,J5,\"h\")","v":"VLV500h"},null,1]
[null,null,"Kühlfall","Heizfall","Kühlfall","Heizfall","Kühlfall","Heizfall","Kühlfall","Heizfall",null,2]
["Konstante","K011",3.9440000000000002E-5,3.8399999999999998E-5,5.3199999999999999E-6,9.6099999999999995E-6,5.6400000000000002E-6,2.8600000000000001E-6,2.8000000000000002E-7,1.9199999999999998E-6,null,3]
[null,"K012",2,2,2.13,2.04,1.96,2.04,2.2200000000000002,2,null,4]
[null,"K021",-145.35,-155.47999999999999,-181.43,-193.75,-192.27,-198.43,-187.05,-220.98,null,5]
[null,"K022",65.010000000000005,67.599999999999994,71.75,74.430000000000007,70.53,71.849999999999994,65.180000000000007,73.97,null,6]
[null,"K031",8.9280000000000002E-4,null,6.7139999999999995E-4,null,5.5860000000000003E-4,null,3.903E-4,null,null,7]
[null,"K032",1,null,1,null,1,null,1,null,null,8]
[null,"K033",1,null,1,null,1,null,1,null,null,9]
[null,"K034",{"$f":"IF('Auslegung-V'!$D$30=\"freihängend\",0.707,1)","v":1},null,{"$f":"IF('Auslegung-V'!$D$30=\"freihängend\",0.707,1)","v":1},null,{"$f":"IF('Auslegung-V'!$D$30=\"freihängend\",0.707,1)","v":1},null,{"$f":"IF('Auslegung-V'!$D$30=\"freihängend\",0.707,1)","v":1},null,null,10]
[null,"K041",0.15848000000000001,null,8.0079999999999998E-2,null,9.4159999999999994E-2,null,5.1608000000000001E-3,null,null,11]
[null,"K042",0.49,null,0.5111,null,0.47770000000000001,null,0.49,null,null,12]
[null,"K043",0.98002999999999996,null,1.054,null,0.98299999999999998,null,0.98,null,null,13]
[null,"K051",0.29239999999999999,null,0.2475,null,0.46929999999999999,null,0.58550000000000002,null,null,14]
[null,"K052",1,null,1,null,1,null,1,null,null,15]
[null,"K071",null,2.8159999999999999E-3,null,1.7899999999999999E-3,null,1.06E-3,null,9.6210000000000002E-4,null,16]
[null,"K072",null,1,null,1,null,1,null,1,null,17]
[null,"K081",null,1.8950000000000002E-2,null,9.1380000000000003E-3,null,7.8300000000000002E-3,null,5.2100000000000002E-3,null,18]
[null,"K082",null,0.5,null,0.5,null,0.5,null,0.5,null,19]
[null,"K083",null,1,null,1,null,1,null,1,null,20]
[null,"K091",5,null,5,null,6,null,5,null,null,21]
[null,"K092",9823.92,null,14746.68,null,18058.080000000002,null,123866.87,null,null,22]
[null,"K093",3,null,3,null,3,null,3,null,null,23]
[null,"K094",0,null,0,null,0,null,0,null,null,24]
[null,"K101",-0.69299999999999995,-0.69299999999999995,-0.69299999999999995,-0.69299999999999995,-0.69299999999999995,-0.69299999999999995,-0.69299999999999995,-0.69299999999999995,null,25]
[null,"K102",33,24,33,24,33,24,33,24,null,26]
[null,"K103",0.34100000000000003,0.1,0.38500000000000001,0.5,0.41799999999999998,0.55000000000000004,0.495,0.65,null,27]
[null,"K104",0.01,0.01,0.01,0.01,1.4E-2,0.01,0.01,0.01,null,28]
[null,"K021Abluft",null,null,null,null,null,null,null,null,null,29]
[null,"K022Abluft",null,null,null,null,null,null,null,null,null,30]
[null,"K011Abluft",null,null,null,null,null,null,null,null,null,31]
[null,"K012Abluft",null,null,null,null,null,null,null,null,null,32]
[null,null,{"$f":"IFERROR(HLOOKUP($E$1,$C$6:$K$33,L6,FALSE),\"\")","v":""}]
[null,null,{"$f":"IFERROR(HLOOKUP($E$1,$C$6:$K$33,L7,FALSE),\"\")","v":""}]
["Rückgabe","K011",{"$f":"IFERROR(HLOOKUP($E$1,$C$6:$K$33,L8,FALSE),\"\")","v":""}]
[null,"K012",""]
[null,"K021",""]
[null,"K022",""]
[null,"K031",""]
[null,"K032",""]
[null,"K033",""]
[null,"K034",""]
[null,"K041",""]
[null,"K042",""]
[null,"K043",""]
[null,"K051",""]
[null,"K052",""]
[null,"K071",""]
[null,"K072",""]
[null,"K081",""]
[null,"K082",""]
[null,"K083",""]
[null,"K091",""]
[null,"K092",""]
[null,"K093",""]
[null,"K094",""]
[null,"K101",""]
[null,"K102",""]
[null,"K103",""]
[null,"K104",""]
[null,"K021Abluft",{"$f":"IFERROR(HLOOKUP($E$1,$C$6:$K$35,L34,FALSE),\"\")","v":""}]
[null,"K022Abluft",{"$f":"IFERROR(HLOOKUP($E$1,$C$6:$K$35,L35,FALSE),\"\")","v":""}]
[null,"K011Abluft",{"$f":"IFERROR(HLOOKUP($E$1,$C$6:$K$37,L36,FALSE),\"\")","v":""}]
[null,"K012Abluft",{"$f":"IFERROR(HLOOKUP($E$1,$C$6:$K$37,L37,FALSE),\"\")","v":""}]

{"sheet":"VLD-CAP","index":18,"n_rows":69,"n_cols":12,"rows_kept":69,"cut":false,"hidden":true,"merged":[[20,14,24,14]]}
["Übergabedaten:",null,"Gewählter Durchlass",null,{"$f":"CONCATENATE('Auslegung-V'!$D$12,'Auslegung-V'!$D$20,$G$1)","v":"VLD400h"},null,{"$f":"IF('Auslegung-V'!$D$39<='Auslegung-V'!$D$40,\"k\",\"h\")","v":"h"}]
[null,null,"Volumenstrom",null,{"$f":"'Auslegung-V'!$D$37","v":3000}]
[null,null,"Temperaturdifferenz",null,{"$f":"'Auslegung-V'!$D$40-'Auslegung-V'!$D$39","v":-10}]
[null,null,"VLD","VLD","VLD","VLD","VLD","VLD","VLD","VLD"]
[null,null,250,250,315,315,400,400,500,500]
[null,null,{"$f":"CONCATENATE(C4,C5,\"k\")","v":"VLD250k"},{"$f":"CONCATENATE(D4,D5,\"h\")","v":"VLD250h"},{"$f":"CONCATENATE(E4,E5,\"k\")","v":"VLD315k"},{"$f":"CONCATENATE(F4,F5,\"h\")","v":"VLD315h"},{"$f":"CONCATENATE(G4,G5,\"k\")","v":"VLD400k"},{"$f":"CONCATENATE(H4,H5,\"h\")","v":"VLD400h"},{"$f":"CONCATENATE(I4,I5,\"k\")","v":"VLD500k"},{"$f":"CONCATENATE(J4,J5,\"h\")","v":"VLD500h"},null,1]
[null,null,"Kühlfall","Heizfall","Kühlfall","Heizfall","Kühlfall","Heizfall","Kühlfall","Heizfall",null,2]
["Konstante","K011",4.6400000000000003E-5,3.8399999999999998E-5,6.1500000000000004E-6,9.6099999999999995E-6,6.63E-6,2.8600000000000001E-6,3.3000000000000002E-7,1.9199999999999998E-6,null,3]
[null,"K012",2,2,2.13,2.04,1.96,2.04,2.2200000000000002,2,null,4]
[null,"K021",-143.35,-155.47999999999999,-179.43,-193.75,-190.27,-198.43,-185.05,-220.98,null,5]
[null,"K022",65.010000000000005,67.599999999999994,71.75,74.430000000000007,70.53,71.849999999999994,65.180000000000007,73.97,null,6]
[null,"K031",1.116E-3,null,8.3929999999999996E-4,null,6.9819999999999995E-4,null,4.8789999999999999E-4,null,null,7]
[null,"K032",1,null,1,null,1,null,1,null,null,8]
[null,"K033",1,null,1,null,1,null,1,null,null,9]
[null,"K034",0.70699999999999996,null,0.70699999999999996,null,0.7077,null,0.70699999999999996,null,null,10]
[null,"K041",0.1981,null,1.001E-2,null,1.1769999999999999E-2,null,6.4510000000000001E-3,null,null,11]
[null,"K042",0.50390000000000001,null,0.5111,null,0.47770000000000001,null,0.49,null,null,12]
[null,"K043",0.98029999999999995,null,1.054,null,0.98299999999999998,null,0.98,null,null,13]
[null,"K051",0.22489999999999999,null,0.19040000000000001,null,0.36099999999999999,null,0.45040000000000002,null,null,14]
[null,"K052",1,null,1,null,1,null,1,null,null,15]
[null,"K071",null,2.8159999999999999E-3,null,1.7899999999999999E-3,null,1.06E-3,null,9.6210000000000002E-4,null,16]
[null,"K072",null,1,null,1,null,1,null,1,null,17]
[null,"K081",null,1.8950000000000002E-2,null,9.1380000000000003E-3,null,7.8300000000000002E-3,null,5.2100000000000002E-3,null,18]
[null,"K082",null,0.5,null,0.5,null,0.5,null,0.5,null,19]
[null,"K083",null,1,null,1,null,1,null,1,null,20]
[null,"K091",5,0,7,null,6,null,5,null,null,21]
[null,"K092",8186.6,0,12288.9,null,15048.4,null,103222.39,null,null,22]
[null,"K093",3,2.5,3,null,3,null,3,null,null,23]
[null,"K094",0,0,0,null,0,null,0,null,null,24]
[null,"K101",-0.69299999999999995,-0.69299999999999995,-0.69299999999999995,-0.69299999999999995,-0.69299999999999995,-0.69299999999999995,-0.69299999999999995,-0.69299999999999995,null,25]
[null,"K102",33,24,33,24,33,24,33,24,null,26]
[null,"K103",0.31,0.4,0.35,0.5,0.38,0.55000000000000004,0.45,0.65,null,27]
[null,"K104",0.01,0.01,0.01,0.01,0.01,0.01,0.01,0.01,null,28]
[null,"K021Abluft",null,null,null,null,null,null,null,null,null,29]
[null,"K022Abluft",null,null,null,null,null,null,null,null,null,30]
[null,"K011Abluft",null,null,null,null,null,null,null,null,null,31]
[null,"K012Abluft",null,null,null,null,null,null,null,null,null,32]
[]
[]
["Rückgabe","K011",{"$f":"IFERROR(HLOOKUP($E$1,$C$6:$K$33,L8,FALSE),\"\")","v":2.8600000000000001E-6}]
[null,"K012",2.04]
[null,"K021",-198.43]
[null,"K022",71.849999999999994]
[null,"K031",0]
[null,"K032",0]
[null,"K033",0]
[null,"K034",0]
[null,"K041",0]
[null,"K042",0]
[null,"K043",0]
[null,"K051",0]
[null,"K052",0]
[null,"K071",1.06E-3]
[null,"K072",1]
[null,"K081",7.8300000000000002E-3]
[null,"K082",0.5]
[null,"K083",1]
[null,"K091",0]
[null,"K092",0]
[null,"K093",0]
[null,"K094",0]
[null,"K101",-0.69299999999999995]
[null,"K102",24]
[null,"K103",0.55000000000000004]
[null,"K104",0.01]
[null,"K021Abluft",{"$f":"IFERROR(HLOOKUP($E$1,$C$6:$K$35,L34,FALSE),\"\")","v":0}]
[null,"K022Abluft",{"$f":"IFERROR(HLOOKUP($E$1,$C$6:$K$35,L35,FALSE),\"\")","v":0}]
[null,"K011Abluft",{"$f":"IFERROR(HLOOKUP($E$1,$C$6:$K$37,L36,FALSE),\"\")","v":0}]
[null,"K012Abluft",{"$f":"IFERROR(HLOOKUP($E$1,$C$6:$K$37,L37,FALSE),\"\")","v":0}]

{"sheet":"WKD380-CAP","index":19,"n_rows":69,"n_cols":15,"rows_kept":69,"cut":false,"hidden":true,"merged":[]}
["Übergabedaten:",null,"Gewählter Durchlass",null,{"$f":"CONCATENATE('Auslegung-V'!$D$12,'Auslegung-V'!$D$20,$G$1)","v":"VLD400h"},null,{"$f":"IF('Auslegung-V'!$D$39<='Auslegung-V'!$D$40,\"k\",\"h\")","v":"h"}]
[null,null,"Volumenstrom",null,{"$f":"'Auslegung-V'!$D$37","v":3000}]
[null,null,"Temperaturdifferenz",null,{"$f":"'Auslegung-V'!$D$40-'Auslegung-V'!$D$39","v":-10}]
[null,null,"WKD 380","WKD 380","WKD 380","WKD 380","WKD 380","WKD 380",null,null,null,null,null,null,1]
[null,null,600,600,800,800,1000,1000,null,null,null,null,null,null,2]
[null,null,{"$f":"CONCATENATE(C4,C5,\"k\")","v":"WKD 380600k"},{"$f":"CONCATENATE(D4,D5,\"h\")","v":"WKD 380600h"},{"$f":"CONCATENATE(E4,E5,\"k\")","v":"WKD 380800k"},{"$f":"CONCATENATE(F4,F5,\"h\")","v":"WKD 380800h"},{"$f":"CONCATENATE(G4,G5,\"k\")","v":"WKD 3801000k"},{"$f":"CONCATENATE(H4,H5,\"h\")","v":"WKD 3801000h"},null,null,null,null,null,null,1]
[null,null,"Kühlfall","Heizfall","Kühlfall","Heizfall","Kühlfall","Heizfall",null,null,null,null,null,null,2]
["Konstante","K011",3.3470000000000003E-5,6.5980000000000002E-5,4.9300000000000002E-6,7.8800000000000008E-6,2.5100000000000001E-6,4.4100000000000001E-6,null,null,null,null,null,null,3]
[null,"K012",2,2,2,2,2,2,null,null,null,null,null,null,4]
[null,"K021",-169.7,-167.5,-136.19999999999999,-132,-137.6,-131.30000000000001,null,null,null,null,null,null,5]
[null,"K022",71.17,71.349999999999994,55.19,54.98,54.12,53.2,null,null,null,null,null,null,6]
[null,"K031",1.1609999999999999E-3,null,5.9610000000000002E-4,null,5.9080000000000005E-4,null,null,null,null,null,null,null,7]
[null,"K032",1.58,null,1.58,null,0.158,null,null,null,null,null,null,null,8]
[null,"K033",1,null,1,null,1,null,null,null,null,null,null,null,9]
[null,"K034",0.70699999999999996,null,0.70699999999999996,null,0.70699999999999996,null,null,null,null,null,null,null,10]
[null,"K041",1.0999999999999999E-2,null,5.6990000000000001E-3,null,5.5999999999999999E-3,null,null,null,null,null,null,null,11]
[null,"K042",0.5,null,0.5,null,0.5,null,null,null,null,null,null,null,12]
[null,"K043",1,null,1,null,1,null,null,null,null,null,null,null,13]
[null,"K051",0.5,null,0.4,null,0.3,null,null,null,null,null,null,null,14]
[null,"K052",1,null,1,null,1,null,null,null,null,null,null,null,15]
[null,"K071",null,4.0000000000000001E-3,null,2.5000000000000001E-3,null,2.2200000000000002E-3,null,null,null,null,null,null,16]
[null,"K072",null,1,null,1,null,1,null,null,null,null,null,null,17]
[null,"K081",null,2.0799999999999999E-2,null,1.4E-2,null,7.9000000000000008E-3,null,null,null,null,null,null,18]
[null,"K082",null,0.5,null,0.5,null,0.5,null,null,null,null,null,null,19]
[null,"K083",null,1,null,1,null,1,null,null,null,null,null,null,20]
[null,"K091",0,null,0,null,0,null,null,null,null,null,null,null,21]
[null,"K092",16351,null,18963,null,37222,null,null,null,null,null,null,null,22]
[null,"K093",2.5,null,2.5,null,2.5,null,null,null,null,null,null,null,23]
[null,"K094",0,null,0,null,0,null,null,null,null,null,null,null,24]
[null,"K101",-0.69299999999999995,-0.69299999999999995,-0.69299999999999995,-0.69299999999999995,-0.69299999999999995,-0.69299999999999995,null,null,null,null,null,null,25]
[null,"K102",33,24,33,24,33,24,null,null,null,null,null,null,26]
[null,"K103",0.13300000000000001,0.3,0.17699999999999999,0.4,0.2213,0.5,null,null,null,null,null,null,27]
[null,"K104",0.01,0.01,0.01,0.01,0.01,0.01,null,null,null,null,null,null,28]
[null,"K021Abluft",null,null,null,null,null,null,null,null,null,null,null,null,29]
[null,"K022Abluft",null,null,null,null,null,null,null,null,null,null,null,null,30]
[null,"K011Abluft"]
[null,"K012Abluft"]
[null,null,{"$f":"IFERROR(HLOOKUP($E$1,$C$6:$N$33,O6,FALSE),\"\")","v":""}]
[null,null,""]
["Rückgabe","K011",{"$f":"IFERROR(HLOOKUP($E$1,$C$6:$N$33,O8,FALSE),\"\")","v":""}]
[null,"K012",{"$f":"IFERROR(HLOOKUP($E$1,$C$6:$N$33,O9,FALSE),\"\")","v":""}]
[null,"K021",""]
[null,"K022",""]
[null,"K031",""]
[null,"K032",""]
[null,"K033",""]
[null,"K034",""]
[null,"K041",""]
[null,"K042",""]
[null,"K043",""]
[null,"K051",""]
[null,"K052",""]
[null,"K071",""]
[null,"K072",""]
[null,"K081",""]
[null,"K082",""]
[null,"K083",""]
[null,"K091",""]
[null,"K092",""]
[null,"K093",{"$f":"IFERROR(HLOOKUP($E$1,$C$6:$N$33,O28,FALSE),\"\")","v":""}]
[null,"K094",""]
[null,"K101",""]
[null,"K102",""]
[null,"K103",""]
[null,"K104",""]
[null,"K021Abluft",{"$f":"IFERROR(HLOOKUP($E$1,$C$6:$N$35,O34,FALSE),\"\")","v":""}]
[null,"K022Abluft",{"$f":"IFERROR(HLOOKUP($E$1,$C$6:$N$37,O35,FALSE),\"\")","v":""}]
[null,"K011Abluft",{"$f":"IFERROR(HLOOKUP($E$1,$C$6:$N$37,O36,FALSE),\"\")","v":""}]
[null,"K012Abluft",""]

{"sheet":"WKD381-CAP","index":20,"n_rows":69,"n_cols":21,"rows_kept":69,"cut":false,"hidden":true,"merged":[]}
["Übergabedaten:",null,"Gewählter Durchlass",null,{"$f":"CONCATENATE('Auslegung-V'!$D$12,'Auslegung-V'!$D$20,$G$1)","v":"VLD400h"},null,{"$f":"IF('Auslegung-V'!$D$39<='Auslegung-V'!$D$40,\"k\",\"h\")","v":"h"}]
[null,null,"Volumenstrom",null,{"$f":"'Auslegung-V'!$D$37","v":3000}]
[null,null,"Temperaturdifferenz",null,{"$f":"'Auslegung-V'!$D$40-'Auslegung-V'!$D$39","v":-10}]
[null,null,"WKD 381-1","WKD 381-1","WKD 381-1","WKD 381-1","WKD 381-1","WKD 381-1","WKD 381-2","WKD 381-2","WKD 381-3","WKD 381-3"]
[null,null,300,300,500,500,600,600,600,600,600,600]
[null,null,{"$f":"CONCATENATE(C4,C5,\"k\")","v":"WKD 381-1300k"},{"$f":"CONCATENATE(D4,D5,\"h\")","v":"WKD 381-1300h"},{"$f":"CONCATENATE(E4,E5,\"k\")","v":"WKD 381-1500k"},{"$f":"CONCATENATE(F4,F5,\"h\")","v":"WKD 381-1500h"},{"$f":"CONCATENATE(G4,G5,\"k\")","v":"WKD 381-1600k"},{"$f":"CONCATENATE(H4,H5,\"h\")","v":"WKD 381-1600h"},{"$f":"CONCATENATE(I4,I5,\"k\")","v":"WKD 381-2600k"},{"$f":"CONCATENATE(J4,J5,\"h\")","v":"WKD 381-2600h"},{"$f":"CONCATENATE(K4,K5,\"k\")","v":"WKD 381-3600k"},{"$f":"CONCATENATE(L4,L5,\"h\")","v":"WKD 381-3600h"},null,null,null,null,null,null,null,null,1]
[null,null,"Kühlfall","Heizfall","Kühlfall","Heizfall","Kühlfall","Heizfall","Kühlfall","Heizfall","Kühlfall","Heizfall",null,null,null,null,null,null,null,null,2]
["Konstante","K011",1.072E-3,5.4000000000000003E-3,2.3000000000000001E-4,5.6999999999999998E-4,1.225E-4,2.9E-4,4.422E-5,1.2999999999999999E-4,4.5240000000000001E-5,7.3999999999999996E-5,null,null,null,null,null,null,null,null,3]
[null,"K012",2.1440000000000001,2,2.0409999999999999,2,2.04,2,2.0390000000000001,2,1.954,2,null,null,null,null,null,null,null,null,4]
[null,"K021",-81.569999999999993,-107,-81.16,-97,-80.87,-90,-87.06,-75,-126.12,-76,null,null,null,null,null,null,null,null,5]
[null,"K022",53.17,68,46.77,53,44.54,48,43.34,40,53.81,37,null,null,null,null,null,null,null,null,6]
[null,"K031",1.7669999999999999E-3,null,1.4040000000000001E-3,null,1.3140000000000001E-3,null,1.1999999999999999E-3,null,1.121E-3,null,null,null,null,null,null,null,null,null,7]
[null,"K032",1.96,null,1.96,null,1.96,null,1.96,null,1.96,null,null,null,null,null,null,null,null,null,8]
[null,"K033",1,null,1,null,1,null,1,null,1,null,null,null,null,null,null,null,null,null,9]
[null,"K034",0.70699999999999996,null,0.70699999999999996,null,0.70699999999999996,null,0.70699999999999996,null,0.70699999999999996,null,null,null,null,null,null,null,null,null,10]
[null,"K041",3.7069999999999999E-2,null,1.8419999999999999E-2,null,1.008E-2,null,1.008E-2,null,6.8110000000000002E-3,null,null,null,null,null,null,null,null,null,11]
[null,"K042",0.52839999999999998,null,0.48139999999999999,null,0.4803,null,0.4803,null,0.49980000000000002,null,null,null,null,null,null,null,null,null,12]
[null,"K043",0.9667,null,0.999,null,1.018,null,1.018,null,1.0029999999999999,null,null,null,null,null,null,null,null,null,13]
[null,"K051",0.36,null,0.3,null,0.5,null,0.5,null,0.5,null,null,null,null,null,null,null,null,null,14]
[null,"K052",1,null,1,null,1,null,1,null,1,null,null,null,null,null,null,null,null,null,15]
[null,"K071",null,9.5999999999999992E-3,null,5.5999999999999999E-3,null,4.8999999999999998E-3,null,4.0000000000000001E-3,null,3.5000000000000001E-3,null,null,null,null,null,null,null,null,16]
[null,"K072",null,1,null,1,null,1,null,1,null,1,null,null,null,null,null,null,null,null,17]
[null,"K081",null,0.155,null,0.04,null,2.9000000000000001E-2,null,2.9000000000000001E-2,null,2.9000000000000001E-2,null,null,null,null,null,null,null,null,18]
[null,"K082",null,0.5,null,0.5,null,0.5,null,0.5,null,0.5,null,null,null,null,null,null,null,null,19]
[null,"K083",null,1,null,1,null,1,null,1,null,1,null,null,null,null,null,null,null,null,20]
[null,"K091",0,null,0,null,0,null,0,null,0,null,null,null,null,null,null,null,null,null,21]
[null,"K092",427,null,2667,null,4450,null,10667,null,16667,null,null,null,null,null,null,null,null,null,22]
[null,"K093",3,null,3,null,3,null,3,null,3,null,null,null,null,null,null,null,null,null,23]
[null,"K094",0,null,0,null,0,null,0,null,0,null,null,null,null,null,null,null,null,null,24]
[null,"K101",-0.69299999999999995,-0.69299999999999995,-0.69299999999999995,-0.69299999999999995,-0.69299999999999995,-0.69299999999999995,-0.69299999999999995,-0.69299999999999995,-0.69299999999999995,-0.69299999999999995,null,null,null,null,null,null,null,null,25]
[null,"K102",33,24,33,24,33,24,33,24,33,24,null,null,null,null,null,null,null,null,26]
[null,"K103",4.3999999999999997E-2,0.15,7.4999999999999997E-2,0.25,9.5000000000000001E-2,0.3,0.114,0.3,0.13300000000000001,0.3,null,null,null,null,null,null,null,null,27]
[null,"K104",0.01,0.01,0.01,0.01,0.01,0.01,0.01,0.01,0.01,0.01,null,null,null,null,null,null,null,null,28]
[null,"K021Abluft",null,null,null,null,null,null,null,null,null,null,null,null,null,null,null,null,null,null,29]
[null,"K022Abluft",null,null,null,null,null,null,null,null,null,null,null,null,null,null,null,null,null,null,30]
[null,"K011Abluft"]
[null,"K012Abluft"]
[null,null,{"$f":"IFERROR(HLOOKUP($E$1,$C$6:$N$37,U6,FALSE),\"\")","v":""}]
[null,null,{"$f":"IFERROR(HLOOKUP($E$1,$C$6:$N$37,U7,FALSE),\"\")","v":""}]
["Rückgabe","K011",""]
[null,"K012",""]
[null,"K021",""]
[null,"K022",""]
[null,"K031",""]
[null,"K032",""]
[null,"K033",""]
[null,"K034",""]
[null,"K041",""]
[null,"K042",""]
[null,"K043",""]
[null,"K051",""]
[null,"K052",""]
[null,"K071",""]
[null,"K072",""]
[null,"K081",""]
[null,"K082",""]
[null,"K083",""]
[null,"K091",""]
[null,"K092",""]
[null,"K093",""]
[null,"K094",""]
[null,"K101",""]
[null,"K102",""]
[null,"K103",""]
[null,"K104",""]
[null,"K021Abluft",""]
[null,"K022Abluft",{"$f":"IFERROR(HLOOKUP($E$1,$C$6:$N$37,U35,FALSE),\"\")","v":""}]
[null,"K011Abluft",{"$f":"IFERROR(HLOOKUP($E$1,$C$6:$N$37,U36,FALSE),\"\")","v":""}]
[null,"K012Abluft",""]

{"sheet":"Funktion-W0","index":21,"n_rows":55,"n_cols":4,"rows_kept":55,"cut":false,"hidden":true,"merged":[]}
[]
[]
[]
[]
[]
[]
[]
[]
[]
[]
[]
[]
[]
[]
[]
[]
[]
[]
[]
[]
[]
[]
[]
[]
[]
[]
[]
[]
[]
[]
[]
[]
[]
[]
[]
[]
[]
[]
[]
[]
[]
[]
[]
[]
[]
[]
[]
[]
[]
[]
[]
[]
[]
[]
[null,"Stand:",{"$f":"'Grunddaten-L'!E36","v":"2020-10-30"},"Änderungen vorbehalten"]

{"sheet":"Funktion-W1","index":22,"n_rows":55,"n_cols":4,"rows_kept":55,"cut":false,"hidden":true,"merged":[]}
[]
[]
[]
[]
[]
[]
[]
[]
[]
[]
[]
[]
[]
[]
[]
[]
[]
[]
[]
[]
[]
[]
[]
[]
[]
[]
[]
[]
[]
[]
[]
[]
[]
[]
[]
[]
[]
[]
[]
[]
[]
[]
[]
[]
[]
[]
[]
[]
[]
[]
[]
[]
[]
[]
[null,"Stand:",{"$f":"'Grunddaten-L'!E36","v":"2020-10-30"},"Änderungen vorbehalten"]

{"sheet":"Funktion-V","index":23,"n_rows":55,"n_cols":4,"rows_kept":55,"cut":false,"hidden":true,"merged":[]}
[]
[]
[]
[]
[]
[]
[]
[]
[]
[]
[]
[]
[]
[]
[]
[]
[]
[]
[]
[]
[]
[]
[]
[]
[]
[]
[]
[]
[]
[]
[]
[]
[]
[]
[]
[]
[]
[]
[]
[]
[]
[]
[]
[]
[]
[]
[]
[]
[]
[]
[]
[]
[]
[]
[null,"Stand:",{"$f":"'Grunddaten-L'!E36","v":"2020-10-30"},"Änderungen vorbehalten"]

{"sheet":"LW-IVA","index":24,"n_rows":64,"n_cols":27,"rows_kept":64,"cut":false,"hidden":true,"merged":[[4,3,8,3],[9,3,12,3]]}
[]
["Übergabewerte:",null,"Nenndurchmesser",{"$f":"'Auslegung-IVA'!$D$20","v":400}]
[null,null,"Düsengeschwindigkeit",{"$f":"'Grunddaten-IVA'!$N$33","v":23.001928415408624}]
[null,null,"Druckverlust",{"$f":"'Grunddaten-IVA'!$O$33","v":81.819687571960102}]
[null,null,null,"IVA Heizfall","Hz",100,125,160,200,250,315,400,500,630,800,1000,1250,1600,2000,2500,3150,4000,5000,6300,8000,10000]
[null,null,null,null,"K1",-24.838652123967908,10.381839087646147,18.235896127591058,0.1400552618378218,23.747735415268611,13.497048000762948,12.028180332515914,3.5640919446564818,-3.3836284492645321,-20.091336632609966,-39.169053635663765,-42.468767448774912,-42.547451330079141,6.3783107648263302,-36.458494648611378,-23.373397961597007,-68.497808212400301,-67.773644472228767,-60.278570310574864,-37.240276220367441,-175.34829622626131]
[null,null,null,null,"K2",0.21985662743657594,13.684434895379901,13.974312114695984,11.024299270229449,19.052774812834777,16.371274288157032,16.443954615092142,14.063168371272434,12.345247824024062,8.4821340710702398,1.7423393540494796,1.4867683827574047,0.89713140122858281,15.741305209059686,6.3695642774723199E-2,3.3961546438962347,-15.628347926063281,-16.815218121268696,-14.926458668765942,-8.4855500286733143,1136.6024321429829]
[null,null,null,null,"K3",21.082666422933656,18.743399647905246,12.747392949379826,21.955760421212684,18.37895690228833,21.557366834877307,22.935263785661064,25.223242950026862,27.569476670780109,33.782901559857294,36.1671272152714,38.416301720828841,37.291794874973689,26.25156958514895,30.506473457173911,26.266890808590542,25.683973811716793,22.681333627683188,20.21209530932035,13.90498998754888,-540.10143351020838]
[null,null,null,null,"K4",6.1916630740534551,-12.698747905957241,-10.392820902060784,-7.1366292241303224,-17.548006035663871,-13.617266146043701,-13.383234712002942,-9.821717404288048,-7.4395029610853554,-2.9135141146227896,6.4860584409784998,6.0331423193258376,6.3456669247390227,-13.350528667443463,7.6510377740726501,3.3183487389048891,29.818266507945925,31.406212881797092,28.410780128282987,19.539586534584284,-119.98398268249684]
[null,null,null,"IVA Kühlfall","K1",4.4348122428215655,31.611901461707109,43.666201161739906,20.748076558845089,21.209282852971604,11.508507847849948,9.0026915818483833,6.8480769934644146,6.1858898663392701,-10.610084634828604,-20.748815411849773,-29.13406216584638,-28.545136435560966,4.575193395791187,-48.476707661939223,-19.875997792442078,-65.18393827475434,-46.757510109237373,-53.952404018167229,-41.769472086354988,1894.950557568721]
[null,null,null,null,"K2",10.597624696212208,20.61648589501095,24.759202390578885,17.674511949549842,17.900067655176116,15.332506924718301,14.855052503283229,14.810448864475701,14.994704450491222,10.928288333979797,8.2590678711164554,5.8861831183927702,6.2661273593873794,15.875480562605796,-4.561287005225882,4.97102947892256,-14.521230892402878,-8.9811022644868164,-13.283569597199961,-10.939028632961827,-3765.7897814831681]
[null,null,null,null,"K3",17.494176945559246,14.940450839518821,13.200699145908146,18.107795662607813,18.176929506082953,21.124398925978461,22.260703332471618,23.976574046555712,24.903302033247044,30.770982633506318,33.879540660243542,36.116709214545466,36.3895110002994,28.029367583709519,31.239581691076314,26.511425528077211,25.140090772630721,20.879493633579351,18.225705187787547,12.748235078125017,1886.2131769084888]
[null,null,null,null,"K4",-8.0169108122947126,-21.628239055623681,-26.03421699152733,-15.596464885070645,-15.215272523678292,-10.996578770582763,-9.7325614446589874,-9.3525557870417195,-9.4784583050827873,-4.5471002296012211,-1.3706670058553452,1.1915714501936792,-0.1747631980111819,-13.064798339929322,15.351787320980844,1.5423903156455729,29.00318097417793,20.349920950371104,26.266957965003176,22.963862566336243,-135.2239288678731]
[]
[null,null,null,null,"LW,A Heiz",{"$f":"F$6+F$7*LOG($D$3)+F$8*LOG($D$4)+F$9*LOG($D$2)","v":31.899962802035926},{"$f":"G$6+G$7*LOG($D$3)+G$8*LOG($D$4)+G$9*LOG($D$2)","v":31.827367940111657},34.606821530314221,38.580862431009074,39.188489914311035,41.594098243224678,43.4688888299995,45.406591378358925,46.806144609314806,48.500079099845827,49.263286979902887,48.739381870131901,46.519937490249013,43.290900984138254,41.891249300491815,40.13073390898461,36.938774697416925,34.435009019947294,31.984530732736268,28.645850288996318,27.093489634459161,{"$f":"10*LOG(10^(0.1*F15)+10^(0.1*G15)+10^(0.1*H15)+10^(0.1*I15)+10^(0.1*J15)+10^(0.1*K15)+10^(0.1*L15)+10^(0.1*M15)+10^(0.1*N15)+10^(0.1*O15)+10^(0.1*P15)+10^(0.1*Q15)+10^(0.1*R15)+10^(0.1*S15)+10^(0.1*T15)+10^(0.1*U15)+10^(0.1*V15)+10^(0.1*W15)+10^(0.1*X15)+10^(0.1*Y15)+10^(0.1*Z15))","v":56.75136963934446}]
[null,null,null,null,"LW,A Kühl",{"$f":"F$10+F$11*LOG($D$3)+F$12*LOG($D$4)+F$13*LOG($D$2)","v":31.469668903322241},{"$f":"G$10+G$11*LOG($D$3)+G$12*LOG($D$4)+G$13*LOG($D$2)","v":31.987677509077436},34.890863884349571,38.871296219399937,40.763784814754153,44.181981553765532,46.488622605195459,48.544282602415883,49.578101113137635,51.300354782774207,51.738274337717414,51.068201495278807,49.141068014471472,45.814661066260612,45.015044386652221,{"$f":"U$10+U$11*LOG($D$3)+U$12*LOG($D$4)+U$13*LOG($D$2)","v":41.619352113059726},38.599004649670007,33.90356366323067,31.169888874670633,27.473058968434465,23.029513836056765,{"$f":"10*LOG(10^(0.1*F16)+10^(0.1*G16)+10^(0.1*H16)+10^(0.1*I16)+10^(0.1*J16)+10^(0.1*K16)+10^(0.1*L16)+10^(0.1*M16)+10^(0.1*N16)+10^(0.1*O16)+10^(0.1*P16)+10^(0.1*Q16)+10^(0.1*R16)+10^(0.1*S16)+10^(0.1*T16)+10^(0.1*U16)+10^(0.1*V16)+10^(0.1*W16)+10^(0.1*X16)+10^(0.1*Y16)+10^(0.1*Z16))","v":59.288790630188359}]
[]
[null,null,null,null,"LW,A Heiz Okt",null,{"$f":"10*LOG(10^(0.1*F15)+10^(0.1*G15)+10^(0.1*H15))","v":37.752825308186416},{"$f":"10*LOG(10^(0.1*I15)+10^(0.1*J15)+10^(0.1*K15))","v":44.76293833264041},{"$f":"10*LOG(10^(0.1*L15)+10^(0.1*M15)+10^(0.1*N15))","v":50.207114662537464},{"$f":"10*LOG(10^(0.1*O15)+10^(0.1*P15)+10^(0.1*Q15))","v":53.617268884165775},{"$f":"10*LOG(10^(0.1*R15)+10^(0.1*S15)+10^(0.1*T15))","v":49.120399976194982},{"$f":"10*LOG(10^(0.1*U15)+10^(0.1*V15)+10^(0.1*W15))","v":42.558472183329854},{"$f":"10*LOG(10^(0.1*X15)+10^(0.1*Y15)+10^(0.1*Z15))","v":34.507840621816371}]
[null,null,null,null,"LW,A Kühl Okt",null,{"$f":"10*LOG(10^(0.1*F16)+10^(0.1*G16)+10^(0.1*H16))","v":37.829676044021724},{"$f":"10*LOG(10^(0.1*I16)+10^(0.1*J16)+10^(0.1*K16))","v":46.611301539383867},{"$f":"10*LOG(10^(0.1*L16)+10^(0.1*M16)+10^(0.1*N16))","v":53.155799042667027},{"$f":"10*LOG(10^(0.1*O16)+10^(0.1*P16)+10^(0.1*Q16))","v":56.149105028480093},{"$f":"10*LOG(10^(0.1*R16)+10^(0.1*S16)+10^(0.1*T16))","v":51.816588137631292},{"$f":"10*LOG(10^(0.1*U16)+10^(0.1*V16)+10^(0.1*W16))","v":43.841449729439802},{"$f":"10*LOG(10^(0.1*X16)+10^(0.1*Y16)+10^(0.1*Z16))","v":33.15739270898009}]
[null,null,null,null,"A-Bewertung",null,-16.100000000000001,-8.6,-3.2,0,1.2,1,-1.1000000000000001]
[null,null,null,null,"LW,Z Heiz Okt",null,{"$f":"G18-G$20","v":53.852825308186418},{"$f":"H18-H$20","v":53.362938332640411},53.407114662537467,53.617268884165775,47.920399976194979,41.558472183329854,35.607840621816372]
[null,null,null,null,"LW,Z Kühl Okt",null,{"$f":"G19-G$20","v":53.929676044021726},{"$f":"H19-H$20","v":55.211301539383868},56.35579904266703,56.149105028480093,50.61658813763129,42.841449729439802,{"$f":"M19-M$20","v":34.257392708980092}]
[]
[]
[]
[]
[null,"Rechentabelle für Schnellauswahl:",null,null,null,{"$f":"F$10+F$11*LOG('Grunddaten-IVA'!$N54)+F$12*LOG('Grunddaten-IVA'!$G54)+F$13*LOG('Grunddaten-IVA'!$L54)","v":13.89561736723228},{"$f":"G$10+G$11*LOG('Grunddaten-IVA'!$N54)+G$12*LOG('Grunddaten-IVA'!$G54)+G$13*LOG('Grunddaten-IVA'!$L54)","v":15.160788842914833},{"$f":"H$10+H$11*LOG('Grunddaten-IVA'!$N54)+H$12*LOG('Grunddaten-IVA'!$G54)+H$13*LOG('Grunddaten-IVA'!$L54)","v":18.701155639620012},{"$f":"I$10+I$11*LOG('Grunddaten-IVA'!$N54)+I$12*LOG('Grunddaten-IVA'!$G54)+I$13*LOG('Grunddaten-IVA'!$L54)","v":19.367273432802165},{"$f":"J$10+J$11*LOG('Grunddaten-IVA'!$N54)+J$12*LOG('Grunddaten-IVA'!$G54)+J$13*LOG('Grunddaten-IVA'!$L54)","v":21.02924573689981},{"$f":"K$10+K$11*LOG('Grunddaten-IVA'!$N54)+K$12*LOG('Grunddaten-IVA'!$G54)+K$13*LOG('Grunddaten-IVA'!$L54)","v":22.169619957256835},{"$f":"L$10+L$11*LOG('Grunddaten-IVA'!$N54)+L$12*LOG('Grunddaten-IVA'!$G54)+L$13*LOG('Grunddaten-IVA'!$L54)","v":23.457865702128025},{"$f":"M$10+M$11*LOG('Grunddaten-IVA'!$N54)+M$12*LOG('Grunddaten-IVA'!$G54)+M$13*LOG('Grunddaten-IVA'!$L54)","v":24.00496693452784},{"$f":"N$10+N$11*LOG('Grunddaten-IVA'!$N54)+N$12*LOG('Grunddaten-IVA'!$G54)+N$13*LOG('Grunddaten-IVA'!$L54)","v":24.204512408033164},{"$f":"O$10+O$11*LOG('Grunddaten-IVA'!$N54)+O$12*LOG('Grunddaten-IVA'!$G54)+O$13*LOG('Grunddaten-IVA'!$L54)","v":21.66299723244709},{"$f":"P$10+P$11*LOG('Grunddaten-IVA'!$N54)+P$12*LOG('Grunddaten-IVA'!$G54)+P$13*LOG('Grunddaten-IVA'!$L54)","v":19.942247839285312},{"$f":"Q$10+Q$11*LOG('Grunddaten-IVA'!$N54)+Q$12*LOG('Grunddaten-IVA'!$G54)+Q$13*LOG('Grunddaten-IVA'!$L54)","v":17.851170239578614},{"$f":"R$10+R$11*LOG('Grunddaten-IVA'!$N54)+R$12*LOG('Grunddaten-IVA'!$G54)+R$13*LOG('Grunddaten-IVA'!$L54)","v":15.813611770443629},{"$f":"S$10+S$11*LOG('Grunddaten-IVA'!$N54)+S$12*LOG('Grunddaten-IVA'!$G54)+S$13*LOG('Grunddaten-IVA'!$L54)","v":18.16385005661607},{"$f":"T$10+T$11*LOG('Grunddaten-IVA'!$N54)+T$12*LOG('Grunddaten-IVA'!$G54)+T$13*LOG('Grunddaten-IVA'!$L54)","v":17.39590196478688},{"$f":"U$10+U$11*LOG('Grunddaten-IVA'!$N54)+U$12*LOG('Grunddaten-IVA'!$G54)+U$13*LOG('Grunddaten-IVA'!$L54)","v":16.828266654321109},{"$f":"V$10+V$11*LOG('Grunddaten-IVA'!$N54)+V$12*LOG('Grunddaten-IVA'!$G54)+V$13*LOG('Grunddaten-IVA'!$L54)","v":17.510491399297848},{"$f":"W$10+W$11*LOG('Grunddaten-IVA'!$N54)+W$12*LOG('Grunddaten-IVA'!$G54)+W$13*LOG('Grunddaten-IVA'!$L54)","v":15.864673585935712},{"$f":"X$10+X$11*LOG('Grunddaten-IVA'!$N54)+X$12*LOG('Grunddaten-IVA'!$G54)+X$13*LOG('Grunddaten-IVA'!$L54)","v":15.964017314641886},{"$f":"Y$10+Y$11*LOG('Grunddaten-IVA'!$N54)+Y$12*LOG('Grunddaten-IVA'!$G54)+Y$13*LOG('Grunddaten-IVA'!$L54)","v":16.58880908105489},{"$f":"Z$10+Z$11*LOG('Grunddaten-IVA'!$N54)+Z$12*LOG('Grunddaten-IVA'!$G54)+Z$13*LOG('Grunddaten-IVA'!$L54)","v":31.477120279677706},{"$f":"10*LOG(10^(0.1*F27)+10^(0.1*G27)+10^(0.1*H27)+10^(0.1*I27)+10^(0.1*J27)+10^(0.1*K27)+10^(0.1*L27)+10^(0.1*M27)+10^(0.1*N27)+10^(0.1*O27)+10^(0.1*P27)+10^(0.1*Q27)+10^(0.1*R27)+10^(0.1*S27)+10^(0.1*T27)+10^(0.1*U27)+10^(0.1*V27)+10^(0.1*W27)+10^(0.1*X27)+10^(0.1*Y27)+10^(0.1*Z27))","v":35.242863099846652}]
[null,null,null,null,null,{"$f":"F$10+F$11*LOG('Grunddaten-IVA'!$N55)+F$12*LOG('Grunddaten-IVA'!$G55)+F$13*LOG('Grunddaten-IVA'!$L55)","v":21.986896131465553},{"$f":"G$10+G$11*LOG('Grunddaten-IVA'!$N55)+G$12*LOG('Grunddaten-IVA'!$G55)+G$13*LOG('Grunddaten-IVA'!$L55)","v":24.107583334849188},{"$f":"H$10+H$11*LOG('Grunddaten-IVA'!$N55)+H$12*LOG('Grunddaten-IVA'!$G55)+H$13*LOG('Grunddaten-IVA'!$L55)","v":27.758372877073015},{"$f":"I$10+I$11*LOG('Grunddaten-IVA'!$N55)+I$12*LOG('Grunddaten-IVA'!$G55)+I$13*LOG('Grunddaten-IVA'!$L55)","v":28.923080329824629},{"$f":"J$10+J$11*LOG('Grunddaten-IVA'!$N55)+J$12*LOG('Grunddaten-IVA'!$G55)+J$13*LOG('Grunddaten-IVA'!$L55)","v":30.649371615947082},{"$f":"K$10+K$11*LOG('Grunddaten-IVA'!$N55)+K$12*LOG('Grunddaten-IVA'!$G55)+K$13*LOG('Grunddaten-IVA'!$L55)","v":32.386448650183915},{"$f":"L$10+L$11*LOG('Grunddaten-IVA'!$N55)+L$12*LOG('Grunddaten-IVA'!$G55)+L$13*LOG('Grunddaten-IVA'!$L55)","v":33.994961519438071},{"$f":"M$10+M$11*LOG('Grunddaten-IVA'!$N55)+M$12*LOG('Grunddaten-IVA'!$G55)+M$13*LOG('Grunddaten-IVA'!$L55)","v":35.144784048855485},{"$f":"N$10+N$11*LOG('Grunddaten-IVA'!$N55)+N$12*LOG('Grunddaten-IVA'!$G55)+N$13*LOG('Grunddaten-IVA'!$L55)","v":35.706542300728842},{"$f":"O$10+O$11*LOG('Grunddaten-IVA'!$N55)+O$12*LOG('Grunddaten-IVA'!$G55)+O$13*LOG('Grunddaten-IVA'!$L55)","v":34.536922847854278},{"$f":"P$10+P$11*LOG('Grunddaten-IVA'!$N55)+P$12*LOG('Grunddaten-IVA'!$G55)+P$13*LOG('Grunddaten-IVA'!$L55)","v":33.452296664401018},{"$f":"Q$10+Q$11*LOG('Grunddaten-IVA'!$N55)+Q$12*LOG('Grunddaten-IVA'!$G55)+Q$13*LOG('Grunddaten-IVA'!$L55)","v":31.739449084959354},{"$f":"R$10+R$11*LOG('Grunddaten-IVA'!$N55)+R$12*LOG('Grunddaten-IVA'!$G55)+R$13*LOG('Grunddaten-IVA'!$L55)","v":29.865869290544961},{"$f":"S$10+S$11*LOG('Grunddaten-IVA'!$N55)+S$12*LOG('Grunddaten-IVA'!$G55)+S$13*LOG('Grunddaten-IVA'!$L55)","v":30.933356404559397},{"$f":"T$10+T$11*LOG('Grunddaten-IVA'!$N55)+T$12*LOG('Grunddaten-IVA'!$G55)+T$13*LOG('Grunddaten-IVA'!$L55)","v":27.70899509237627},{"$f":"U$10+U$11*LOG('Grunddaten-IVA'!$N55)+U$12*LOG('Grunddaten-IVA'!$G55)+U$13*LOG('Grunddaten-IVA'!$L55)","v":27.137449827477138},{"$f":"V$10+V$11*LOG('Grunddaten-IVA'!$N55)+V$12*LOG('Grunddaten-IVA'!$G55)+V$13*LOG('Grunddaten-IVA'!$L55)","v":23.899282004158067},{"$f":"W$10+W$11*LOG('Grunddaten-IVA'!$N55)+W$12*LOG('Grunddaten-IVA'!$G55)+W$13*LOG('Grunddaten-IVA'!$L55)","v":21.71294110060354},{"$f":"X$10+X$11*LOG('Grunddaten-IVA'!$N55)+X$12*LOG('Grunddaten-IVA'!$G55)+X$13*LOG('Grunddaten-IVA'!$L55)","v":20.110333591479069},{"$f":"Y$10+Y$11*LOG('Grunddaten-IVA'!$N55)+Y$12*LOG('Grunddaten-IVA'!$G55)+Y$13*LOG('Grunddaten-IVA'!$L55)","v":19.198875012004123},{"$f":"Z$10+Z$11*LOG('Grunddaten-IVA'!$N55)+Z$12*LOG('Grunddaten-IVA'!$G55)+Z$13*LOG('Grunddaten-IVA'!$L55)","v":39.544743402296149},{"$f":"10*LOG(10^(0.1*F28)+10^(0.1*G28)+10^(0.1*H28)+10^(0.1*I28)+10^(0.1*J28)+10^(0.1*K28)+10^(0.1*L28)+10^(0.1*M28)+10^(0.1*N28)+10^(0.1*O28)+10^(0.1*P28)+10^(0.1*Q28)+10^(0.1*R28)+10^(0.1*S28)+10^(0.1*T28)+10^(0.1*U28)+10^(0.1*V28)+10^(0.1*W28)+10^(0.1*X28)+10^(0.1*Y28)+10^(0.1*Z28))","v":45.268057684047193}]
[null,null,null,null,null,{"$f":"F$10+F$11*LOG('Grunddaten-IVA'!$N56)+F$12*LOG('Grunddaten-IVA'!$G56)+F$13*LOG('Grunddaten-IVA'!$L56)","v":29.423835985185566},{"$f":"G$10+G$11*LOG('Grunddaten-IVA'!$N56)+G$12*LOG('Grunddaten-IVA'!$G56)+G$13*LOG('Grunddaten-IVA'!$L56)","v":32.330853655756776},{"$f":"H$10+H$11*LOG('Grunddaten-IVA'!$N56)+H$12*LOG('Grunddaten-IVA'!$G56)+H$13*LOG('Grunddaten-IVA'!$L56)","v":36.083136094324104},{"$f":"I$10+I$11*LOG('Grunddaten-IVA'!$N56)+I$12*LOG('Grunddaten-IVA'!$G56)+I$13*LOG('Grunddaten-IVA'!$L56)","v":37.7061124336077},{"$f":"J$10+J$11*LOG('Grunddaten-IVA'!$N56)+J$12*LOG('Grunddaten-IVA'!$G56)+J$13*LOG('Grunddaten-IVA'!$L56)","v":39.491521247961323},{"$f":"K$10+K$11*LOG('Grunddaten-IVA'!$N56)+K$12*LOG('Grunddaten-IVA'!$G56)+K$13*LOG('Grunddaten-IVA'!$L56)","v":41.777045946241806},{"$f":"L$10+L$11*LOG('Grunddaten-IVA'!$N56)+L$12*LOG('Grunddaten-IVA'!$G56)+L$13*LOG('Grunddaten-IVA'!$L56)","v":43.679926048483715},{"$f":"M$10+M$11*LOG('Grunddaten-IVA'!$N56)+M$12*LOG('Grunddaten-IVA'!$G56)+M$13*LOG('Grunddaten-IVA'!$L56)","v":45.383728012436265},{"$f":"N$10+N$11*LOG('Grunddaten-IVA'!$N56)+N$12*LOG('Grunddaten-IVA'!$G56)+N$13*LOG('Grunddaten-IVA'!$L56)","v":46.27840702077637},{"$f":"O$10+O$11*LOG('Grunddaten-IVA'!$N56)+O$12*LOG('Grunddaten-IVA'!$G56)+O$13*LOG('Grunddaten-IVA'!$L56)","v":46.369738558798481},{"$f":"P$10+P$11*LOG('Grunddaten-IVA'!$N56)+P$12*LOG('Grunddaten-IVA'!$G56)+P$13*LOG('Grunddaten-IVA'!$L56)","v":45.869792521463737},{"$f":"Q$10+Q$11*LOG('Grunddaten-IVA'!$N56)+Q$12*LOG('Grunddaten-IVA'!$G56)+Q$13*LOG('Grunddaten-IVA'!$L56)","v":44.504587631582623},{"$f":"R$10+R$11*LOG('Grunddaten-IVA'!$N56)+R$12*LOG('Grunddaten-IVA'!$G56)+R$13*LOG('Grunddaten-IVA'!$L56)","v":42.781725613273103},{"$f":"S$10+S$11*LOG('Grunddaten-IVA'!$N56)+S$12*LOG('Grunddaten-IVA'!$G56)+S$13*LOG('Grunddaten-IVA'!$L56)","v":42.670197198024425},{"$f":"T$10+T$11*LOG('Grunddaten-IVA'!$N56)+T$12*LOG('Grunddaten-IVA'!$G56)+T$13*LOG('Grunddaten-IVA'!$L56)","v":37.188071951615271},{"$f":"U$10+U$11*LOG('Grunddaten-IVA'!$N56)+U$12*LOG('Grunddaten-IVA'!$G56)+U$13*LOG('Grunddaten-IVA'!$L56)","v":36.612932928943223},{"$f":"V$10+V$11*LOG('Grunddaten-IVA'!$N56)+V$12*LOG('Grunddaten-IVA'!$G56)+V$13*LOG('Grunddaten-IVA'!$L56)","v":29.771413326141911},{"$f":"W$10+W$11*LOG('Grunddaten-IVA'!$N56)+W$12*LOG('Grunddaten-IVA'!$G56)+W$13*LOG('Grunddaten-IVA'!$L56)","v":27.088261247439519},{"$f":"X$10+X$11*LOG('Grunddaten-IVA'!$N56)+X$12*LOG('Grunddaten-IVA'!$G56)+X$13*LOG('Grunddaten-IVA'!$L56)","v":23.921338707462176},{"$f":"Y$10+Y$11*LOG('Grunddaten-IVA'!$N56)+Y$12*LOG('Grunddaten-IVA'!$G56)+Y$13*LOG('Grunddaten-IVA'!$L56)","v":21.597865815351199},{"$f":"Z$10+Z$11*LOG('Grunddaten-IVA'!$N56)+Z$12*LOG('Grunddaten-IVA'!$G56)+Z$13*LOG('Grunddaten-IVA'!$L56)","v":46.959940637942395},55.388369977952941]
[null,null,null,null,null,{"$f":"F$10+F$11*LOG('Grunddaten-IVA'!$N57)+F$12*LOG('Grunddaten-IVA'!$G57)+F$13*LOG('Grunddaten-IVA'!$L57)","v":14.597239792615493},{"$f":"G$10+G$11*LOG('Grunddaten-IVA'!$N57)+G$12*LOG('Grunddaten-IVA'!$G57)+G$13*LOG('Grunddaten-IVA'!$L57)","v":14.655498875468744},{"$f":"H$10+H$11*LOG('Grunddaten-IVA'!$N57)+H$12*LOG('Grunddaten-IVA'!$G57)+H$13*LOG('Grunddaten-IVA'!$L57)","v":17.774191722662238},{"$f":"I$10+I$11*LOG('Grunddaten-IVA'!$N57)+I$12*LOG('Grunddaten-IVA'!$G57)+I$13*LOG('Grunddaten-IVA'!$L57)","v":19.580770555265552},{"$f":"J$10+J$11*LOG('Grunddaten-IVA'!$N57)+J$12*LOG('Grunddaten-IVA'!$G57)+J$13*LOG('Grunddaten-IVA'!$L57)","v":21.292977059003121},{"$f":"K$10+K$11*LOG('Grunddaten-IVA'!$N57)+K$12*LOG('Grunddaten-IVA'!$G57)+K$13*LOG('Grunddaten-IVA'!$L57)","v":22.967866928160316},{"$f":"L$10+L$11*LOG('Grunddaten-IVA'!$N57)+L$12*LOG('Grunddaten-IVA'!$G57)+L$13*LOG('Grunddaten-IVA'!$L57)","v":24.442604171224016},{"$f":"M$10+M$11*LOG('Grunddaten-IVA'!$N57)+M$12*LOG('Grunddaten-IVA'!$G57)+M$13*LOG('Grunddaten-IVA'!$L57)","v":25.14005024525262},{"$f":"N$10+N$11*LOG('Grunddaten-IVA'!$N57)+N$12*LOG('Grunddaten-IVA'!$G57)+N$13*LOG('Grunddaten-IVA'!$L57)","v":25.394388868032571},{"$f":"O$10+O$11*LOG('Grunddaten-IVA'!$N57)+O$12*LOG('Grunddaten-IVA'!$G57)+O$13*LOG('Grunddaten-IVA'!$L57)","v":23.603230878598719},{"$f":"P$10+P$11*LOG('Grunddaten-IVA'!$N57)+P$12*LOG('Grunddaten-IVA'!$G57)+P$13*LOG('Grunddaten-IVA'!$L57)","v":22.319723434538997},{"$f":"Q$10+Q$11*LOG('Grunddaten-IVA'!$N57)+Q$12*LOG('Grunddaten-IVA'!$G57)+Q$13*LOG('Grunddaten-IVA'!$L57)","v":20.556230951900172},{"$f":"R$10+R$11*LOG('Grunddaten-IVA'!$N57)+R$12*LOG('Grunddaten-IVA'!$G57)+R$13*LOG('Grunddaten-IVA'!$L57)","v":18.41205923608608},{"$f":"S$10+S$11*LOG('Grunddaten-IVA'!$N57)+S$12*LOG('Grunddaten-IVA'!$G57)+S$13*LOG('Grunddaten-IVA'!$L57)","v":19.229718858736483},{"$f":"T$10+T$11*LOG('Grunddaten-IVA'!$N57)+T$12*LOG('Grunddaten-IVA'!$G57)+T$13*LOG('Grunddaten-IVA'!$L57)","v":20.856669529363373},{"$f":"U$10+U$11*LOG('Grunddaten-IVA'!$N57)+U$12*LOG('Grunddaten-IVA'!$G57)+U$13*LOG('Grunddaten-IVA'!$L57)","v":18.902249630966285},{"$f":"V$10+V$11*LOG('Grunddaten-IVA'!$N57)+V$12*LOG('Grunddaten-IVA'!$G57)+V$13*LOG('Grunddaten-IVA'!$L57)","v":21.610902964456372},{"$f":"W$10+W$11*LOG('Grunddaten-IVA'!$N57)+W$12*LOG('Grunddaten-IVA'!$G57)+W$13*LOG('Grunddaten-IVA'!$L57)","v":18.995928166794762},{"$f":"X$10+X$11*LOG('Grunddaten-IVA'!$N57)+X$12*LOG('Grunddaten-IVA'!$G57)+X$13*LOG('Grunddaten-IVA'!$L57)","v":19.372330427094525},{"$f":"Y$10+Y$11*LOG('Grunddaten-IVA'!$N57)+Y$12*LOG('Grunddaten-IVA'!$G57)+Y$13*LOG('Grunddaten-IVA'!$L57)","v":19.379598125940326},{"$f":"Z$10+Z$11*LOG('Grunddaten-IVA'!$N57)+Z$12*LOG('Grunddaten-IVA'!$G57)+Z$13*LOG('Grunddaten-IVA'!$L57)","v":19.406501191655252},34.538255695232934]
[null,null,null,null,null,{"$f":"F$10+F$11*LOG('Grunddaten-IVA'!$N58)+F$12*LOG('Grunddaten-IVA'!$G58)+F$13*LOG('Grunddaten-IVA'!$L58)","v":22.369222963792691},{"$f":"G$10+G$11*LOG('Grunddaten-IVA'!$N58)+G$12*LOG('Grunddaten-IVA'!$G58)+G$13*LOG('Grunddaten-IVA'!$L58)","v":23.249237671697664},{"$f":"H$10+H$11*LOG('Grunddaten-IVA'!$N58)+H$12*LOG('Grunddaten-IVA'!$G58)+H$13*LOG('Grunddaten-IVA'!$L58)","v":26.473995795455309},{"$f":"I$10+I$11*LOG('Grunddaten-IVA'!$N58)+I$12*LOG('Grunddaten-IVA'!$G58)+I$13*LOG('Grunddaten-IVA'!$L58)","v":28.759489093424243},{"$f":"J$10+J$11*LOG('Grunddaten-IVA'!$N58)+J$12*LOG('Grunddaten-IVA'!$G58)+J$13*LOG('Grunddaten-IVA'!$L58)","v":30.533476442989738},{"$f":"K$10+K$11*LOG('Grunddaten-IVA'!$N58)+K$12*LOG('Grunddaten-IVA'!$G58)+K$13*LOG('Grunddaten-IVA'!$L58)","v":32.781522220230087},{"$f":"L$10+L$11*LOG('Grunddaten-IVA'!$N58)+L$12*LOG('Grunddaten-IVA'!$G58)+L$13*LOG('Grunddaten-IVA'!$L58)","v":34.5638883033714},{"$f":"M$10+M$11*LOG('Grunddaten-IVA'!$N58)+M$12*LOG('Grunddaten-IVA'!$G58)+M$13*LOG('Grunddaten-IVA'!$L58)","v":35.840271269061375},{"$f":"N$10+N$11*LOG('Grunddaten-IVA'!$N58)+N$12*LOG('Grunddaten-IVA'!$G58)+N$13*LOG('Grunddaten-IVA'!$L58)","v":36.442529139204993},{"$f":"O$10+O$11*LOG('Grunddaten-IVA'!$N58)+O$12*LOG('Grunddaten-IVA'!$G58)+O$13*LOG('Grunddaten-IVA'!$L58)","v":35.969129538798057},{"$f":"P$10+P$11*LOG('Grunddaten-IVA'!$N58)+P$12*LOG('Grunddaten-IVA'!$G58)+P$13*LOG('Grunddaten-IVA'!$L58)","v":35.296642802924055},{"$f":"Q$10+Q$11*LOG('Grunddaten-IVA'!$N58)+Q$12*LOG('Grunddaten-IVA'!$G58)+Q$13*LOG('Grunddaten-IVA'!$L58)","v":33.896454741995193},{"$f":"R$10+R$11*LOG('Grunddaten-IVA'!$N58)+R$12*LOG('Grunddaten-IVA'!$G58)+R$13*LOG('Grunddaten-IVA'!$L58)","v":31.909790824082457},{"$f":"S$10+S$11*LOG('Grunddaten-IVA'!$N58)+S$12*LOG('Grunddaten-IVA'!$G58)+S$13*LOG('Grunddaten-IVA'!$L58)","v":31.495318812992942},{"$f":"T$10+T$11*LOG('Grunddaten-IVA'!$N58)+T$12*LOG('Grunddaten-IVA'!$G58)+T$13*LOG('Grunddaten-IVA'!$L58)","v":30.762790498117724},{"$f":"U$10+U$11*LOG('Grunddaten-IVA'!$N58)+U$12*LOG('Grunddaten-IVA'!$G58)+U$13*LOG('Grunddaten-IVA'!$L58)","v":28.804614938725415},{"$f":"V$10+V$11*LOG('Grunddaten-IVA'!$N58)+V$12*LOG('Grunddaten-IVA'!$G58)+V$13*LOG('Grunddaten-IVA'!$L58)","v":27.747581048597723},{"$f":"W$10+W$11*LOG('Grunddaten-IVA'!$N58)+W$12*LOG('Grunddaten-IVA'!$G58)+W$13*LOG('Grunddaten-IVA'!$L58)","v":24.613413119291966},{"$f":"X$10+X$11*LOG('Grunddaten-IVA'!$N58)+X$12*LOG('Grunddaten-IVA'!$G58)+X$13*LOG('Grunddaten-IVA'!$L58)","v":23.355026026262934},{"$f":"Y$10+Y$11*LOG('Grunddaten-IVA'!$N58)+Y$12*LOG('Grunddaten-IVA'!$G58)+Y$13*LOG('Grunddaten-IVA'!$L58)","v":21.886666425288752},{"$f":"Z$10+Z$11*LOG('Grunddaten-IVA'!$N58)+Z$12*LOG('Grunddaten-IVA'!$G58)+Z$13*LOG('Grunddaten-IVA'!$L58)","v":27.155762212983973},45.077780615830598]
[null,null,null,null,null,{"$f":"F$10+F$11*LOG('Grunddaten-IVA'!$N59)+F$12*LOG('Grunddaten-IVA'!$G59)+F$13*LOG('Grunddaten-IVA'!$L59)","v":28.89893619163799},{"$f":"G$10+G$11*LOG('Grunddaten-IVA'!$N59)+G$12*LOG('Grunddaten-IVA'!$G59)+G$13*LOG('Grunddaten-IVA'!$L59)","v":30.469357512215005},{"$f":"H$10+H$11*LOG('Grunddaten-IVA'!$N59)+H$12*LOG('Grunddaten-IVA'!$G59)+H$13*LOG('Grunddaten-IVA'!$L59)","v":33.783227491227862},{"$f":"I$10+I$11*LOG('Grunddaten-IVA'!$N59)+I$12*LOG('Grunddaten-IVA'!$G59)+I$13*LOG('Grunddaten-IVA'!$L59)","v":36.471085803457463},{"$f":"J$10+J$11*LOG('Grunddaten-IVA'!$N59)+J$12*LOG('Grunddaten-IVA'!$G59)+J$13*LOG('Grunddaten-IVA'!$L59)","v":38.296978979032247},{"$f":"K$10+K$11*LOG('Grunddaten-IVA'!$N59)+K$12*LOG('Grunddaten-IVA'!$G59)+K$13*LOG('Grunddaten-IVA'!$L59)","v":41.026567707691683},{"$f":"L$10+L$11*LOG('Grunddaten-IVA'!$N59)+L$12*LOG('Grunddaten-IVA'!$G59)+L$13*LOG('Grunddaten-IVA'!$L59)","v":43.067391389373739},{"$f":"M$10+M$11*LOG('Grunddaten-IVA'!$N59)+M$12*LOG('Grunddaten-IVA'!$G59)+M$13*LOG('Grunddaten-IVA'!$L59)","v":44.830174260507192},{"$f":"N$10+N$11*LOG('Grunddaten-IVA'!$N59)+N$12*LOG('Grunddaten-IVA'!$G59)+N$13*LOG('Grunddaten-IVA'!$L59)","v":45.724740137718783},{"$f":"O$10+O$11*LOG('Grunddaten-IVA'!$N59)+O$12*LOG('Grunddaten-IVA'!$G59)+O$13*LOG('Grunddaten-IVA'!$L59)","v":46.358469077662235},{"$f":"P$10+P$11*LOG('Grunddaten-IVA'!$N59)+P$12*LOG('Grunddaten-IVA'!$G59)+P$13*LOG('Grunddaten-IVA'!$L59)","v":46.199337802402695},{"$f":"Q$10+Q$11*LOG('Grunddaten-IVA'!$N59)+Q$12*LOG('Grunddaten-IVA'!$G59)+Q$13*LOG('Grunddaten-IVA'!$L59)","v":45.104383764235479},{"$f":"R$10+R$11*LOG('Grunddaten-IVA'!$N59)+R$12*LOG('Grunddaten-IVA'!$G59)+R$13*LOG('Grunddaten-IVA'!$L59)","v":43.250051675766159},{"$f":"S$10+S$11*LOG('Grunddaten-IVA'!$N59)+S$12*LOG('Grunddaten-IVA'!$G59)+S$13*LOG('Grunddaten-IVA'!$L59)","v":41.800391341429211},{"$f":"T$10+T$11*LOG('Grunddaten-IVA'!$N59)+T$12*LOG('Grunddaten-IVA'!$G59)+T$13*LOG('Grunddaten-IVA'!$L59)","v":39.085521994268589},{"$f":"U$10+U$11*LOG('Grunddaten-IVA'!$N59)+U$12*LOG('Grunddaten-IVA'!$G59)+U$13*LOG('Grunddaten-IVA'!$L59)","v":37.124191076875675},{"$f":"V$10+V$11*LOG('Grunddaten-IVA'!$N59)+V$12*LOG('Grunddaten-IVA'!$G59)+V$13*LOG('Grunddaten-IVA'!$L59)","v":32.90337554512346},{"$f":"W$10+W$11*LOG('Grunddaten-IVA'!$N59)+W$12*LOG('Grunddaten-IVA'!$G59)+W$13*LOG('Grunddaten-IVA'!$L59)","v":29.333002057360538},{"$f":"X$10+X$11*LOG('Grunddaten-IVA'!$N59)+X$12*LOG('Grunddaten-IVA'!$G59)+X$13*LOG('Grunddaten-IVA'!$L59)","v":26.701129532098534},{"$f":"Y$10+Y$11*LOG('Grunddaten-IVA'!$N59)+Y$12*LOG('Grunddaten-IVA'!$G59)+Y$13*LOG('Grunddaten-IVA'!$L59)","v":23.993006168544724},{"$f":"Z$10+Z$11*LOG('Grunddaten-IVA'!$N59)+Z$12*LOG('Grunddaten-IVA'!$G59)+Z$13*LOG('Grunddaten-IVA'!$L59)","v":33.666385188168533},54.607073826938041]
[null,null,null,null,null,{"$f":"F$10+F$11*LOG('Grunddaten-IVA'!$N60)+F$12*LOG('Grunddaten-IVA'!$G60)+F$13*LOG('Grunddaten-IVA'!$L60)","v":14.450518050661682},{"$f":"G$10+G$11*LOG('Grunddaten-IVA'!$N60)+G$12*LOG('Grunddaten-IVA'!$G60)+G$13*LOG('Grunddaten-IVA'!$L60)","v":13.830601842410225},{"$f":"H$10+H$11*LOG('Grunddaten-IVA'!$N60)+H$12*LOG('Grunddaten-IVA'!$G60)+H$13*LOG('Grunddaten-IVA'!$L60)","v":16.724223894731878},{"$f":"I$10+I$11*LOG('Grunddaten-IVA'!$N60)+I$12*LOG('Grunddaten-IVA'!$G60)+I$13*LOG('Grunddaten-IVA'!$L60)","v":19.089314519817755},{"$f":"J$10+J$11*LOG('Grunddaten-IVA'!$N60)+J$12*LOG('Grunddaten-IVA'!$G60)+J$13*LOG('Grunddaten-IVA'!$L60)","v":20.823453983488029},{"$f":"K$10+K$11*LOG('Grunddaten-IVA'!$N60)+K$12*LOG('Grunddaten-IVA'!$G60)+K$13*LOG('Grunddaten-IVA'!$L60)","v":22.737243705880768},{"$f":"L$10+L$11*LOG('Grunddaten-IVA'!$N60)+L$12*LOG('Grunddaten-IVA'!$G60)+L$13*LOG('Grunddaten-IVA'!$L60)","v":24.288273178948018},{"$f":"M$10+M$11*LOG('Grunddaten-IVA'!$N60)+M$12*LOG('Grunddaten-IVA'!$G60)+M$13*LOG('Grunddaten-IVA'!$L60)","v":25.025523327633191},{"$f":"N$10+N$11*LOG('Grunddaten-IVA'!$N60)+N$12*LOG('Grunddaten-IVA'!$G60)+N$13*LOG('Grunddaten-IVA'!$L60)","v":25.285389697314717},{"$f":"O$10+O$11*LOG('Grunddaten-IVA'!$N60)+O$12*LOG('Grunddaten-IVA'!$G60)+O$13*LOG('Grunddaten-IVA'!$L60)","v":23.795951104740716},{"$f":"P$10+P$11*LOG('Grunddaten-IVA'!$N60)+P$12*LOG('Grunddaten-IVA'!$G60)+P$13*LOG('Grunddaten-IVA'!$L60)","v":22.698544627800288},{"$f":"Q$10+Q$11*LOG('Grunddaten-IVA'!$N60)+Q$12*LOG('Grunddaten-IVA'!$G60)+Q$13*LOG('Grunddaten-IVA'!$L60)","v":21.080675746585033},{"$f":"R$10+R$11*LOG('Grunddaten-IVA'!$N60)+R$12*LOG('Grunddaten-IVA'!$G60)+R$13*LOG('Grunddaten-IVA'!$L60)","v":18.87102862918475},{"$f":"S$10+S$11*LOG('Grunddaten-IVA'!$N60)+S$12*LOG('Grunddaten-IVA'!$G60)+S$13*LOG('Grunddaten-IVA'!$L60)","v":18.976741020635963},{"$f":"T$10+T$11*LOG('Grunddaten-IVA'!$N60)+T$12*LOG('Grunddaten-IVA'!$G60)+T$13*LOG('Grunddaten-IVA'!$L60)","v":21.997201796908286},{"$f":"U$10+U$11*LOG('Grunddaten-IVA'!$N60)+U$12*LOG('Grunddaten-IVA'!$G60)+U$13*LOG('Grunddaten-IVA'!$L60)","v":19.325698166797395},{"$f":"V$10+V$11*LOG('Grunddaten-IVA'!$N60)+V$12*LOG('Grunddaten-IVA'!$G60)+V$13*LOG('Grunddaten-IVA'!$L60)","v":23.32947763802202},{"$f":"W$10+W$11*LOG('Grunddaten-IVA'!$N60)+W$12*LOG('Grunddaten-IVA'!$G60)+W$13*LOG('Grunddaten-IVA'!$L60)","v":20.247241260390741},{"$f":"X$10+X$11*LOG('Grunddaten-IVA'!$N60)+X$12*LOG('Grunddaten-IVA'!$G60)+X$13*LOG('Grunddaten-IVA'!$L60)","v":20.874155665427097},{"$f":"Y$10+Y$11*LOG('Grunddaten-IVA'!$N60)+Y$12*LOG('Grunddaten-IVA'!$G60)+Y$13*LOG('Grunddaten-IVA'!$L60)","v":20.658765573983779},{"$f":"Z$10+Z$11*LOG('Grunddaten-IVA'!$N60)+Z$12*LOG('Grunddaten-IVA'!$G60)+Z$13*LOG('Grunddaten-IVA'!$L60)","v":12.654683115651039},34.691521326653017]
[null,null,null,null,null,{"$f":"F$10+F$11*LOG('Grunddaten-IVA'!$N61)+F$12*LOG('Grunddaten-IVA'!$G61)+F$13*LOG('Grunddaten-IVA'!$L61)","v":22.293898610456186},{"$f":"G$10+G$11*LOG('Grunddaten-IVA'!$N61)+G$12*LOG('Grunddaten-IVA'!$G61)+G$13*LOG('Grunddaten-IVA'!$L61)","v":22.503287092201397},{"$f":"H$10+H$11*LOG('Grunddaten-IVA'!$N61)+H$12*LOG('Grunddaten-IVA'!$G61)+H$13*LOG('Grunddaten-IVA'!$L61)","v":25.503948790640365},{"$f":"I$10+I$11*LOG('Grunddaten-IVA'!$N61)+I$12*LOG('Grunddaten-IVA'!$G61)+I$13*LOG('Grunddaten-IVA'!$L61)","v":28.352353432846542},{"$f":"J$10+J$11*LOG('Grunddaten-IVA'!$N61)+J$12*LOG('Grunddaten-IVA'!$G61)+J$13*LOG('Grunddaten-IVA'!$L61)","v":30.148841292603365},{"$f":"K$10+K$11*LOG('Grunddaten-IVA'!$N61)+K$12*LOG('Grunddaten-IVA'!$G61)+K$13*LOG('Grunddaten-IVA'!$L61)","v":32.641052224638244},{"$f":"L$10+L$11*LOG('Grunddaten-IVA'!$N61)+L$12*LOG('Grunddaten-IVA'!$G61)+L$13*LOG('Grunddaten-IVA'!$L61)","v":34.502536572703818},{"$f":"M$10+M$11*LOG('Grunddaten-IVA'!$N61)+M$12*LOG('Grunddaten-IVA'!$G61)+M$13*LOG('Grunddaten-IVA'!$L61)","v":35.824042021663516},{"$f":"N$10+N$11*LOG('Grunddaten-IVA'!$N61)+N$12*LOG('Grunddaten-IVA'!$G61)+N$13*LOG('Grunddaten-IVA'!$L61)","v":36.435023801794031},{"$f":"O$10+O$11*LOG('Grunddaten-IVA'!$N61)+O$12*LOG('Grunddaten-IVA'!$G61)+O$13*LOG('Grunddaten-IVA'!$L61)","v":36.275449196745164},{"$f":"P$10+P$11*LOG('Grunddaten-IVA'!$N61)+P$12*LOG('Grunddaten-IVA'!$G61)+P$13*LOG('Grunddaten-IVA'!$L61)","v":35.794676574853298},{"$f":"Q$10+Q$11*LOG('Grunddaten-IVA'!$N61)+Q$12*LOG('Grunddaten-IVA'!$G61)+Q$13*LOG('Grunddaten-IVA'!$L61)","v":34.54344961446656},{"$f":"R$10+R$11*LOG('Grunddaten-IVA'!$N61)+R$12*LOG('Grunddaten-IVA'!$G61)+R$13*LOG('Grunddaten-IVA'!$L61)","v":32.492757241674724},{"$f":"S$10+S$11*LOG('Grunddaten-IVA'!$N61)+S$12*LOG('Grunddaten-IVA'!$G61)+S$13*LOG('Grunddaten-IVA'!$L61)","v":31.355019011793757},{"$f":"T$10+T$11*LOG('Grunddaten-IVA'!$N61)+T$12*LOG('Grunddaten-IVA'!$G61)+T$13*LOG('Grunddaten-IVA'!$L61)","v":31.994325429065086},{"$f":"U$10+U$11*LOG('Grunddaten-IVA'!$N61)+U$12*LOG('Grunddaten-IVA'!$G61)+U$13*LOG('Grunddaten-IVA'!$L61)","v":29.319031636547734},{"$f":"V$10+V$11*LOG('Grunddaten-IVA'!$N61)+V$12*LOG('Grunddaten-IVA'!$G61)+V$13*LOG('Grunddaten-IVA'!$L61)","v":29.522530366876644},{"$f":"W$10+W$11*LOG('Grunddaten-IVA'!$N61)+W$12*LOG('Grunddaten-IVA'!$G61)+W$13*LOG('Grunddaten-IVA'!$L61)","v":25.916331285540792},{"$f":"X$10+X$11*LOG('Grunddaten-IVA'!$N61)+X$12*LOG('Grunddaten-IVA'!$G61)+X$13*LOG('Grunddaten-IVA'!$L61)","v":24.89343833113638},{"$f":"Y$10+Y$11*LOG('Grunddaten-IVA'!$N61)+Y$12*LOG('Grunddaten-IVA'!$G61)+Y$13*LOG('Grunddaten-IVA'!$L61)","v":23.188865077301166},{"$f":"Z$10+Z$11*LOG('Grunddaten-IVA'!$N61)+Z$12*LOG('Grunddaten-IVA'!$G61)+Z$13*LOG('Grunddaten-IVA'!$L61)","v":20.475132788378403},45.273997873574984]
[null,null,null,null,null,{"$f":"F$10+F$11*LOG('Grunddaten-IVA'!$N62)+F$12*LOG('Grunddaten-IVA'!$G62)+F$13*LOG('Grunddaten-IVA'!$L62)","v":29.008386758721269},{"$f":"G$10+G$11*LOG('Grunddaten-IVA'!$N62)+G$12*LOG('Grunddaten-IVA'!$G62)+G$13*LOG('Grunddaten-IVA'!$L62)","v":29.927718672362026},{"$f":"H$10+H$11*LOG('Grunddaten-IVA'!$N62)+H$12*LOG('Grunddaten-IVA'!$G62)+H$13*LOG('Grunddaten-IVA'!$L62)","v":33.020013873698119},{"$f":"I$10+I$11*LOG('Grunddaten-IVA'!$N62)+I$12*LOG('Grunddaten-IVA'!$G62)+I$13*LOG('Grunddaten-IVA'!$L62)","v":36.28216947636129},{"$f":"J$10+J$11*LOG('Grunddaten-IVA'!$N62)+J$12*LOG('Grunddaten-IVA'!$G62)+J$13*LOG('Grunddaten-IVA'!$L62)","v":38.132031970103412},{"$f":"K$10+K$11*LOG('Grunddaten-IVA'!$N62)+K$12*LOG('Grunddaten-IVA'!$G62)+K$13*LOG('Grunddaten-IVA'!$L62)","v":41.119412341800043},{"$f":"L$10+L$11*LOG('Grunddaten-IVA'!$N62)+L$12*LOG('Grunddaten-IVA'!$G62)+L$13*LOG('Grunddaten-IVA'!$L62)","v":43.246668006564533},{"$f":"M$10+M$11*LOG('Grunddaten-IVA'!$N62)+M$12*LOG('Grunddaten-IVA'!$G62)+M$13*LOG('Grunddaten-IVA'!$L62)","v":45.068337289134931},{"$f":"N$10+N$11*LOG('Grunddaten-IVA'!$N62)+N$12*LOG('Grunddaten-IVA'!$G62)+N$13*LOG('Grunddaten-IVA'!$L62)","v":45.979898678294987},{"$f":"O$10+O$11*LOG('Grunddaten-IVA'!$N62)+O$12*LOG('Grunddaten-IVA'!$G62)+O$13*LOG('Grunddaten-IVA'!$L62)","v":46.958781644566116},{"$f":"P$10+P$11*LOG('Grunddaten-IVA'!$N62)+P$12*LOG('Grunddaten-IVA'!$G62)+P$13*LOG('Grunddaten-IVA'!$L62)","v":47.005891187765982},{"$f":"Q$10+Q$11*LOG('Grunddaten-IVA'!$N62)+Q$12*LOG('Grunddaten-IVA'!$G62)+Q$13*LOG('Grunddaten-IVA'!$L62)","v":46.068535626744904},{"$f":"R$10+R$11*LOG('Grunddaten-IVA'!$N62)+R$12*LOG('Grunddaten-IVA'!$G62)+R$13*LOG('Grunddaten-IVA'!$L62)","v":44.153919750643134},{"$f":"S$10+S$11*LOG('Grunddaten-IVA'!$N62)+S$12*LOG('Grunddaten-IVA'!$G62)+S$13*LOG('Grunddaten-IVA'!$L62)","v":41.951699898808783},{"$f":"T$10+T$11*LOG('Grunddaten-IVA'!$N62)+T$12*LOG('Grunddaten-IVA'!$G62)+T$13*LOG('Grunddaten-IVA'!$L62)","v":40.552569879034294},{"$f":"U$10+U$11*LOG('Grunddaten-IVA'!$N62)+U$12*LOG('Grunddaten-IVA'!$G62)+U$13*LOG('Grunddaten-IVA'!$L62)","v":37.874031439599186},{"$f":"V$10+V$11*LOG('Grunddaten-IVA'!$N62)+V$12*LOG('Grunddaten-IVA'!$G62)+V$13*LOG('Grunddaten-IVA'!$L62)","v":34.824221242700304},{"$f":"W$10+W$11*LOG('Grunddaten-IVA'!$N62)+W$12*LOG('Grunddaten-IVA'!$G62)+W$13*LOG('Grunddaten-IVA'!$L62)","v":30.769473052043992},{"$f":"X$10+X$11*LOG('Grunddaten-IVA'!$N62)+X$12*LOG('Grunddaten-IVA'!$G62)+X$13*LOG('Grunddaten-IVA'!$L62)","v":28.334228385589533},{"$f":"Y$10+Y$11*LOG('Grunddaten-IVA'!$N62)+Y$12*LOG('Grunddaten-IVA'!$G62)+Y$13*LOG('Grunddaten-IVA'!$L62)","v":25.354809085684352},{"$f":"Z$10+Z$11*LOG('Grunddaten-IVA'!$N62)+Z$12*LOG('Grunddaten-IVA'!$G62)+Z$13*LOG('Grunddaten-IVA'!$L62)","v":27.169990476502051},55.126627439276099]
[null,null,null,null,null,{"$f":"F$10+F$11*LOG('Grunddaten-IVA'!$N63)+F$12*LOG('Grunddaten-IVA'!$G63)+F$13*LOG('Grunddaten-IVA'!$L63)","v":14.394382060792761},{"$f":"G$10+G$11*LOG('Grunddaten-IVA'!$N63)+G$12*LOG('Grunddaten-IVA'!$G63)+G$13*LOG('Grunddaten-IVA'!$L63)","v":13.106968201885728},{"$f":"H$10+H$11*LOG('Grunddaten-IVA'!$N63)+H$12*LOG('Grunddaten-IVA'!$G63)+H$13*LOG('Grunddaten-IVA'!$L63)","v":15.7771258917534},{"$f":"I$10+I$11*LOG('Grunddaten-IVA'!$N63)+I$12*LOG('Grunddaten-IVA'!$G63)+I$13*LOG('Grunddaten-IVA'!$L63)","v":18.705368368817233},{"$f":"J$10+J$11*LOG('Grunddaten-IVA'!$N63)+J$12*LOG('Grunddaten-IVA'!$G63)+J$13*LOG('Grunddaten-IVA'!$L63)","v":20.462122539552716},{"$f":"K$10+K$11*LOG('Grunddaten-IVA'!$N63)+K$12*LOG('Grunddaten-IVA'!$G63)+K$13*LOG('Grunddaten-IVA'!$L63)","v":22.621078062975144},{"$f":"L$10+L$11*LOG('Grunddaten-IVA'!$N63)+L$12*LOG('Grunddaten-IVA'!$G63)+L$13*LOG('Grunddaten-IVA'!$L63)","v":24.251849060434754},{"$f":"M$10+M$11*LOG('Grunddaten-IVA'!$N63)+M$12*LOG('Grunddaten-IVA'!$G63)+M$13*LOG('Grunddaten-IVA'!$L63)","v":25.035566842764474},{"$f":"N$10+N$11*LOG('Grunddaten-IVA'!$N63)+N$12*LOG('Grunddaten-IVA'!$G63)+N$13*LOG('Grunddaten-IVA'!$L63)","v":25.304996031491363},{"$f":"O$10+O$11*LOG('Grunddaten-IVA'!$N63)+O$12*LOG('Grunddaten-IVA'!$G63)+O$13*LOG('Grunddaten-IVA'!$L63)","v":24.132093859150466},{"$f":"P$10+P$11*LOG('Grunddaten-IVA'!$N63)+P$12*LOG('Grunddaten-IVA'!$G63)+P$13*LOG('Grunddaten-IVA'!$L63)","v":23.227582064307803},{"$f":"Q$10+Q$11*LOG('Grunddaten-IVA'!$N63)+Q$12*LOG('Grunddaten-IVA'!$G63)+Q$13*LOG('Grunddaten-IVA'!$L63)","v":21.759318197104371},{"$f":"R$10+R$11*LOG('Grunddaten-IVA'!$N63)+R$12*LOG('Grunddaten-IVA'!$G63)+R$13*LOG('Grunddaten-IVA'!$L63)","v":19.486135224183506},{"$f":"S$10+S$11*LOG('Grunddaten-IVA'!$N63)+S$12*LOG('Grunddaten-IVA'!$G63)+S$13*LOG('Grunddaten-IVA'!$L63)","v":18.866759494450804},{"$f":"T$10+T$11*LOG('Grunddaten-IVA'!$N63)+T$12*LOG('Grunddaten-IVA'!$G63)+T$13*LOG('Grunddaten-IVA'!$L63)","v":23.250990951027525},{"$f":"U$10+U$11*LOG('Grunddaten-IVA'!$N63)+U$12*LOG('Grunddaten-IVA'!$G63)+U$13*LOG('Grunddaten-IVA'!$L63)","v":19.863549980527715},{"$f":"V$10+V$11*LOG('Grunddaten-IVA'!$N63)+V$12*LOG('Grunddaten-IVA'!$G63)+V$13*LOG('Grunddaten-IVA'!$L63)","v":25.116533542992855},{"$f":"W$10+W$11*LOG('Grunddaten-IVA'!$N63)+W$12*LOG('Grunddaten-IVA'!$G63)+W$13*LOG('Grunddaten-IVA'!$L63)","v":21.561775887208739},{"$f":"X$10+X$11*LOG('Grunddaten-IVA'!$N63)+X$12*LOG('Grunddaten-IVA'!$G63)+X$13*LOG('Grunddaten-IVA'!$L63)","v":22.41978375163292},{"$f":"Y$10+Y$11*LOG('Grunddaten-IVA'!$N63)+Y$12*LOG('Grunddaten-IVA'!$G63)+Y$13*LOG('Grunddaten-IVA'!$L63)","v":21.96495255565349},{"$f":"Z$10+Z$11*LOG('Grunddaten-IVA'!$N63)+Z$12*LOG('Grunddaten-IVA'!$G63)+Z$13*LOG('Grunddaten-IVA'!$L63)","v":6.0041482578653245},35.152827459172975]
[null,null,null,null,null,{"$f":"F$10+F$11*LOG('Grunddaten-IVA'!$N64)+F$12*LOG('Grunddaten-IVA'!$G64)+F$13*LOG('Grunddaten-IVA'!$L64)","v":22.090488529029468},{"$f":"G$10+G$11*LOG('Grunddaten-IVA'!$N64)+G$12*LOG('Grunddaten-IVA'!$G64)+G$13*LOG('Grunddaten-IVA'!$L64)","v":21.61680761858333},{"$f":"H$10+H$11*LOG('Grunddaten-IVA'!$N64)+H$12*LOG('Grunddaten-IVA'!$G64)+H$13*LOG('Grunddaten-IVA'!$L64)","v":24.391995085670274},{"$f":"I$10+I$11*LOG('Grunddaten-IVA'!$N64)+I$12*LOG('Grunddaten-IVA'!$G64)+I$13*LOG('Grunddaten-IVA'!$L64)","v":27.794476458194055},{"$f":"J$10+J$11*LOG('Grunddaten-IVA'!$N64)+J$12*LOG('Grunddaten-IVA'!$G64)+J$13*LOG('Grunddaten-IVA'!$L64)","v":29.612408317650342},{"$f":"K$10+K$11*LOG('Grunddaten-IVA'!$N64)+K$12*LOG('Grunddaten-IVA'!$G64)+K$13*LOG('Grunddaten-IVA'!$L64)","v":32.338924114217129},{"$f":"L$10+L$11*LOG('Grunddaten-IVA'!$N64)+L$12*LOG('Grunddaten-IVA'!$G64)+L$13*LOG('Grunddaten-IVA'!$L64)","v":34.274320617650247},{"$f":"M$10+M$11*LOG('Grunddaten-IVA'!$N64)+M$12*LOG('Grunddaten-IVA'!$G64)+M$13*LOG('Grunddaten-IVA'!$L64)","v":35.631323217829255},{"$f":"N$10+N$11*LOG('Grunddaten-IVA'!$N64)+N$12*LOG('Grunddaten-IVA'!$G64)+N$13*LOG('Grunddaten-IVA'!$L64)","v":36.245274970628287},{"$f":"O$10+O$11*LOG('Grunddaten-IVA'!$N64)+O$12*LOG('Grunddaten-IVA'!$G64)+O$13*LOG('Grunddaten-IVA'!$L64)","v":36.377266110328257},{"$f":"P$10+P$11*LOG('Grunddaten-IVA'!$N64)+P$12*LOG('Grunddaten-IVA'!$G64)+P$13*LOG('Grunddaten-IVA'!$L64)","v":36.077809720383279},{"$f":"Q$10+Q$11*LOG('Grunddaten-IVA'!$N64)+Q$12*LOG('Grunddaten-IVA'!$G64)+Q$13*LOG('Grunddaten-IVA'!$L64)","v":34.96930338845479},{"$f":"R$10+R$11*LOG('Grunddaten-IVA'!$N64)+R$12*LOG('Grunddaten-IVA'!$G64)+R$13*LOG('Grunddaten-IVA'!$L64)","v":32.852090488490575},{"$f":"S$10+S$11*LOG('Grunddaten-IVA'!$N64)+S$12*LOG('Grunddaten-IVA'!$G64)+S$13*LOG('Grunddaten-IVA'!$L64)","v":31.012612240868791},{"$f":"T$10+T$11*LOG('Grunddaten-IVA'!$N64)+T$12*LOG('Grunddaten-IVA'!$G64)+T$13*LOG('Grunddaten-IVA'!$L64)","v":33.060399950457708},{"$f":"U$10+U$11*LOG('Grunddaten-IVA'!$N64)+U$12*LOG('Grunddaten-IVA'!$G64)+U$13*LOG('Grunddaten-IVA'!$L64)","v":29.669239984916196},{"$f":"V$10+V$11*LOG('Grunddaten-IVA'!$N64)+V$12*LOG('Grunddaten-IVA'!$G64)+V$13*LOG('Grunddaten-IVA'!$L64)","v":31.193300161839396},{"$f":"W$10+W$11*LOG('Grunddaten-IVA'!$N64)+W$12*LOG('Grunddaten-IVA'!$G64)+W$13*LOG('Grunddaten-IVA'!$L64)","v":27.124418178878528},{"$f":"X$10+X$11*LOG('Grunddaten-IVA'!$N64)+X$12*LOG('Grunddaten-IVA'!$G64)+X$13*LOG('Grunddaten-IVA'!$L64)","v":26.363596892588973},{"$f":"Y$10+Y$11*LOG('Grunddaten-IVA'!$N64)+Y$12*LOG('Grunddaten-IVA'!$G64)+Y$13*LOG('Grunddaten-IVA'!$L64)","v":24.447544724211177},{"$f":"Z$10+Z$11*LOG('Grunddaten-IVA'!$N64)+Z$12*LOG('Grunddaten-IVA'!$G64)+Z$13*LOG('Grunddaten-IVA'!$L64)","v":13.677754409187116},45.390742808253329]
[null,null,null,null,null,{"$f":"F$10+F$11*LOG('Grunddaten-IVA'!$N65)+F$12*LOG('Grunddaten-IVA'!$G65)+F$13*LOG('Grunddaten-IVA'!$L65)","v":28.804976677294558},{"$f":"G$10+G$11*LOG('Grunddaten-IVA'!$N65)+G$12*LOG('Grunddaten-IVA'!$G65)+G$13*LOG('Grunddaten-IVA'!$L65)","v":29.041239198743959},{"$f":"H$10+H$11*LOG('Grunddaten-IVA'!$N65)+H$12*LOG('Grunddaten-IVA'!$G65)+H$13*LOG('Grunddaten-IVA'!$L65)","v":31.908060168728028},{"$f":"I$10+I$11*LOG('Grunddaten-IVA'!$N65)+I$12*LOG('Grunddaten-IVA'!$G65)+I$13*LOG('Grunddaten-IVA'!$L65)","v":35.724292501708803},{"$f":"J$10+J$11*LOG('Grunddaten-IVA'!$N65)+J$12*LOG('Grunddaten-IVA'!$G65)+J$13*LOG('Grunddaten-IVA'!$L65)","v":37.595598995150389},{"$f":"K$10+K$11*LOG('Grunddaten-IVA'!$N65)+K$12*LOG('Grunddaten-IVA'!$G65)+K$13*LOG('Grunddaten-IVA'!$L65)","v":40.817284231378927},{"$f":"L$10+L$11*LOG('Grunddaten-IVA'!$N65)+L$12*LOG('Grunddaten-IVA'!$G65)+L$13*LOG('Grunddaten-IVA'!$L65)","v":43.018452051510977},{"$f":"M$10+M$11*LOG('Grunddaten-IVA'!$N65)+M$12*LOG('Grunddaten-IVA'!$G65)+M$13*LOG('Grunddaten-IVA'!$L65)","v":44.87561848530067},{"$f":"N$10+N$11*LOG('Grunddaten-IVA'!$N65)+N$12*LOG('Grunddaten-IVA'!$G65)+N$13*LOG('Grunddaten-IVA'!$L65)","v":45.790149847129257},{"$f":"O$10+O$11*LOG('Grunddaten-IVA'!$N65)+O$12*LOG('Grunddaten-IVA'!$G65)+O$13*LOG('Grunddaten-IVA'!$L65)","v":47.060598558149209},{"$f":"P$10+P$11*LOG('Grunddaten-IVA'!$N65)+P$12*LOG('Grunddaten-IVA'!$G65)+P$13*LOG('Grunddaten-IVA'!$L65)","v":47.289024333295956},{"$f":"Q$10+Q$11*LOG('Grunddaten-IVA'!$N65)+Q$12*LOG('Grunddaten-IVA'!$G65)+Q$13*LOG('Grunddaten-IVA'!$L65)","v":46.494389400733127},{"$f":"R$10+R$11*LOG('Grunddaten-IVA'!$N65)+R$12*LOG('Grunddaten-IVA'!$G65)+R$13*LOG('Grunddaten-IVA'!$L65)","v":44.513252997458984},{"$f":"S$10+S$11*LOG('Grunddaten-IVA'!$N65)+S$12*LOG('Grunddaten-IVA'!$G65)+S$13*LOG('Grunddaten-IVA'!$L65)","v":41.609293127883817},{"$f":"T$10+T$11*LOG('Grunddaten-IVA'!$N65)+T$12*LOG('Grunddaten-IVA'!$G65)+T$13*LOG('Grunddaten-IVA'!$L65)","v":41.618644400426923},{"$f":"U$10+U$11*LOG('Grunddaten-IVA'!$N65)+U$12*LOG('Grunddaten-IVA'!$G65)+U$13*LOG('Grunddaten-IVA'!$L65)","v":38.224239787967647},{"$f":"V$10+V$11*LOG('Grunddaten-IVA'!$N65)+V$12*LOG('Grunddaten-IVA'!$G65)+V$13*LOG('Grunddaten-IVA'!$L65)","v":36.494991037663056},{"$f":"W$10+W$11*LOG('Grunddaten-IVA'!$N65)+W$12*LOG('Grunddaten-IVA'!$G65)+W$13*LOG('Grunddaten-IVA'!$L65)","v":31.977559945381714},{"$f":"X$10+X$11*LOG('Grunddaten-IVA'!$N65)+X$12*LOG('Grunddaten-IVA'!$G65)+X$13*LOG('Grunddaten-IVA'!$L65)","v":29.804386947042133},{"$f":"Y$10+Y$11*LOG('Grunddaten-IVA'!$N65)+Y$12*LOG('Grunddaten-IVA'!$G65)+Y$13*LOG('Grunddaten-IVA'!$L65)","v":26.613488732594355},{"$f":"Z$10+Z$11*LOG('Grunddaten-IVA'!$N65)+Z$12*LOG('Grunddaten-IVA'!$G65)+Z$13*LOG('Grunddaten-IVA'!$L65)","v":20.372612097312128},55.235483440768725]
[null,null,null,null,null,{"$f":"F$10+F$11*LOG('Grunddaten-IVA'!$N66)+F$12*LOG('Grunddaten-IVA'!$G66)+F$13*LOG('Grunddaten-IVA'!$L66)","v":13.64354305504229},{"$f":"G$10+G$11*LOG('Grunddaten-IVA'!$N66)+G$12*LOG('Grunddaten-IVA'!$G66)+G$13*LOG('Grunddaten-IVA'!$L66)","v":11.623846478405994},{"$f":"H$10+H$11*LOG('Grunddaten-IVA'!$N66)+H$12*LOG('Grunddaten-IVA'!$G66)+H$13*LOG('Grunddaten-IVA'!$L66)","v":14.063976971139581},{"$f":"I$10+I$11*LOG('Grunddaten-IVA'!$N66)+I$12*LOG('Grunddaten-IVA'!$G66)+I$13*LOG('Grunddaten-IVA'!$L66)","v":17.505139335067966},{"$f":"J$10+J$11*LOG('Grunddaten-IVA'!$N66)+J$12*LOG('Grunddaten-IVA'!$G66)+J$13*LOG('Grunddaten-IVA'!$L66)","v":19.278683745446799},{"$f":"K$10+K$11*LOG('Grunddaten-IVA'!$N66)+K$12*LOG('Grunddaten-IVA'!$G66)+K$13*LOG('Grunddaten-IVA'!$L66)","v":21.628306724443849},{"$f":"L$10+L$11*LOG('Grunddaten-IVA'!$N66)+L$12*LOG('Grunddaten-IVA'!$G66)+L$13*LOG('Grunddaten-IVA'!$L66)","v":23.310247758632194},{"$f":"M$10+M$11*LOG('Grunddaten-IVA'!$N66)+M$12*LOG('Grunddaten-IVA'!$G66)+M$13*LOG('Grunddaten-IVA'!$L66)","v":24.088020956889711},{"$f":"N$10+N$11*LOG('Grunddaten-IVA'!$N66)+N$12*LOG('Grunddaten-IVA'!$G66)+N$13*LOG('Grunddaten-IVA'!$L66)","v":24.335755789073701},{"$f":"O$10+O$11*LOG('Grunddaten-IVA'!$N66)+O$12*LOG('Grunddaten-IVA'!$G66)+O$13*LOG('Grunddaten-IVA'!$L66)","v":23.357329398010826},{"$f":"P$10+P$11*LOG('Grunddaten-IVA'!$N66)+P$12*LOG('Grunddaten-IVA'!$G66)+P$13*LOG('Grunddaten-IVA'!$L66)","v":22.588510664364481},{"$f":"Q$10+Q$11*LOG('Grunddaten-IVA'!$N66)+Q$12*LOG('Grunddaten-IVA'!$G66)+Q$13*LOG('Grunddaten-IVA'!$L66)","v":21.235383086601246},{"$f":"R$10+R$11*LOG('Grunddaten-IVA'!$N66)+R$12*LOG('Grunddaten-IVA'!$G66)+R$13*LOG('Grunddaten-IVA'!$L66)","v":18.885402898995405},{"$f":"S$10+S$11*LOG('Grunddaten-IVA'!$N66)+S$12*LOG('Grunddaten-IVA'!$G66)+S$13*LOG('Grunddaten-IVA'!$L66)","v":17.66069077263311},{"$f":"T$10+T$11*LOG('Grunddaten-IVA'!$N66)+T$12*LOG('Grunddaten-IVA'!$G66)+T$13*LOG('Grunddaten-IVA'!$L66)","v":23.601950947628232},{"$f":"U$10+U$11*LOG('Grunddaten-IVA'!$N66)+U$12*LOG('Grunddaten-IVA'!$G66)+U$13*LOG('Grunddaten-IVA'!$L66)","v":19.508289149528888},{"$f":"V$10+V$11*LOG('Grunddaten-IVA'!$N66)+V$12*LOG('Grunddaten-IVA'!$G66)+V$13*LOG('Grunddaten-IVA'!$L66)","v":26.33106371188039},{"$f":"W$10+W$11*LOG('Grunddaten-IVA'!$N66)+W$12*LOG('Grunddaten-IVA'!$G66)+W$13*LOG('Grunddaten-IVA'!$L66)","v":22.356433413028615},{"$f":"X$10+X$11*LOG('Grunddaten-IVA'!$N66)+X$12*LOG('Grunddaten-IVA'!$G66)+X$13*LOG('Grunddaten-IVA'!$L66)","v":23.588788132932095},{"$f":"Y$10+Y$11*LOG('Grunddaten-IVA'!$N66)+Y$12*LOG('Grunddaten-IVA'!$G66)+Y$13*LOG('Grunddaten-IVA'!$L66)","v":23.029692482308228},{"$f":"Z$10+Z$11*LOG('Grunddaten-IVA'!$N66)+Z$12*LOG('Grunddaten-IVA'!$G66)+Z$13*LOG('Grunddaten-IVA'!$L66)","v":-1.252654367524201},34.925822977353739]
[null,null,null,null,null,{"$f":"F$10+F$11*LOG('Grunddaten-IVA'!$N67)+F$12*LOG('Grunddaten-IVA'!$G67)+F$13*LOG('Grunddaten-IVA'!$L67)","v":21.415526226219495},{"$f":"G$10+G$11*LOG('Grunddaten-IVA'!$N67)+G$12*LOG('Grunddaten-IVA'!$G67)+G$13*LOG('Grunddaten-IVA'!$L67)","v":20.217585274634914},{"$f":"H$10+H$11*LOG('Grunddaten-IVA'!$N67)+H$12*LOG('Grunddaten-IVA'!$G67)+H$13*LOG('Grunddaten-IVA'!$L67)","v":22.763781043932653},{"$f":"I$10+I$11*LOG('Grunddaten-IVA'!$N67)+I$12*LOG('Grunddaten-IVA'!$G67)+I$13*LOG('Grunddaten-IVA'!$L67)","v":26.683857873226657},{"$f":"J$10+J$11*LOG('Grunddaten-IVA'!$N67)+J$12*LOG('Grunddaten-IVA'!$G67)+J$13*LOG('Grunddaten-IVA'!$L67)","v":28.519183129433436},{"$f":"K$10+K$11*LOG('Grunddaten-IVA'!$N67)+K$12*LOG('Grunddaten-IVA'!$G67)+K$13*LOG('Grunddaten-IVA'!$L67)","v":31.441962016513624},{"$f":"L$10+L$11*LOG('Grunddaten-IVA'!$N67)+L$12*LOG('Grunddaten-IVA'!$G67)+L$13*LOG('Grunddaten-IVA'!$L67)","v":33.431531890779581},{"$f":"M$10+M$11*LOG('Grunddaten-IVA'!$N67)+M$12*LOG('Grunddaten-IVA'!$G67)+M$13*LOG('Grunddaten-IVA'!$L67)","v":34.788241980698473},{"$f":"N$10+N$11*LOG('Grunddaten-IVA'!$N67)+N$12*LOG('Grunddaten-IVA'!$G67)+N$13*LOG('Grunddaten-IVA'!$L67)","v":35.383896060246137},{"$f":"O$10+O$11*LOG('Grunddaten-IVA'!$N67)+O$12*LOG('Grunddaten-IVA'!$G67)+O$13*LOG('Grunddaten-IVA'!$L67)","v":35.723228058210189},{"$f":"P$10+P$11*LOG('Grunddaten-IVA'!$N67)+P$12*LOG('Grunddaten-IVA'!$G67)+P$13*LOG('Grunddaten-IVA'!$L67)","v":35.56543003274956},{"$f":"Q$10+Q$11*LOG('Grunddaten-IVA'!$N67)+Q$12*LOG('Grunddaten-IVA'!$G67)+Q$13*LOG('Grunddaten-IVA'!$L67)","v":34.575606876696277},{"$f":"R$10+R$11*LOG('Grunddaten-IVA'!$N67)+R$12*LOG('Grunddaten-IVA'!$G67)+R$13*LOG('Grunddaten-IVA'!$L67)","v":32.383134486991807},{"$f":"S$10+S$11*LOG('Grunddaten-IVA'!$N67)+S$12*LOG('Grunddaten-IVA'!$G67)+S$13*LOG('Grunddaten-IVA'!$L67)","v":29.926290726889583},{"$f":"T$10+T$11*LOG('Grunddaten-IVA'!$N67)+T$12*LOG('Grunddaten-IVA'!$G67)+T$13*LOG('Grunddaten-IVA'!$L67)","v":33.508071916382583},{"$f":"U$10+U$11*LOG('Grunddaten-IVA'!$N67)+U$12*LOG('Grunddaten-IVA'!$G67)+U$13*LOG('Grunddaten-IVA'!$L67)","v":29.410654457288032},{"$f":"V$10+V$11*LOG('Grunddaten-IVA'!$N67)+V$12*LOG('Grunddaten-IVA'!$G67)+V$13*LOG('Grunddaten-IVA'!$L67)","v":32.467741796021734},{"$f":"W$10+W$11*LOG('Grunddaten-IVA'!$N67)+W$12*LOG('Grunddaten-IVA'!$G67)+W$13*LOG('Grunddaten-IVA'!$L67)","v":27.973918365525829},{"$f":"X$10+X$11*LOG('Grunddaten-IVA'!$N67)+X$12*LOG('Grunddaten-IVA'!$G67)+X$13*LOG('Grunddaten-IVA'!$L67)","v":27.571483732100525},{"$f":"Y$10+Y$11*LOG('Grunddaten-IVA'!$N67)+Y$12*LOG('Grunddaten-IVA'!$G67)+Y$13*LOG('Grunddaten-IVA'!$L67)","v":25.53676078165666},{"$f":"Z$10+Z$11*LOG('Grunddaten-IVA'!$N67)+Z$12*LOG('Grunddaten-IVA'!$G67)+Z$13*LOG('Grunddaten-IVA'!$L67)","v":6.496606653805884},44.918540685435872]
[null,null,null,null,null,{"$f":"F$10+F$11*LOG('Grunddaten-IVA'!$N68)+F$12*LOG('Grunddaten-IVA'!$G68)+F$13*LOG('Grunddaten-IVA'!$L68)","v":28.404007907605394},{"$f":"G$10+G$11*LOG('Grunddaten-IVA'!$N68)+G$12*LOG('Grunddaten-IVA'!$G68)+G$13*LOG('Grunddaten-IVA'!$L68)","v":27.94498056478254},{"$f":"H$10+H$11*LOG('Grunddaten-IVA'!$N68)+H$12*LOG('Grunddaten-IVA'!$G68)+H$13*LOG('Grunddaten-IVA'!$L68)","v":30.586549062761492},{"$f":"I$10+I$11*LOG('Grunddaten-IVA'!$N68)+I$12*LOG('Grunddaten-IVA'!$G68)+I$13*LOG('Grunddaten-IVA'!$L68)","v":34.937260505440975},{"$f":"J$10+J$11*LOG('Grunddaten-IVA'!$N68)+J$12*LOG('Grunddaten-IVA'!$G68)+J$13*LOG('Grunddaten-IVA'!$L68)","v":36.828138417877149},{"$f":"K$10+K$11*LOG('Grunddaten-IVA'!$N68)+K$12*LOG('Grunddaten-IVA'!$G68)+K$13*LOG('Grunddaten-IVA'!$L68)","v":40.266292785834807},{"$f":"L$10+L$11*LOG('Grunddaten-IVA'!$N68)+L$12*LOG('Grunddaten-IVA'!$G68)+L$13*LOG('Grunddaten-IVA'!$L68)","v":42.5324791254479},{"$f":"M$10+M$11*LOG('Grunddaten-IVA'!$N68)+M$12*LOG('Grunddaten-IVA'!$G68)+M$13*LOG('Grunddaten-IVA'!$L68)","v":44.409762893016833},{"$f":"N$10+N$11*LOG('Grunddaten-IVA'!$N68)+N$12*LOG('Grunddaten-IVA'!$G68)+N$13*LOG('Grunddaten-IVA'!$L68)","v":45.318262128459821},{"$f":"O$10+O$11*LOG('Grunddaten-IVA'!$N68)+O$12*LOG('Grunddaten-IVA'!$G68)+O$13*LOG('Grunddaten-IVA'!$L68)","v":46.842507958502104},{"$f":"P$10+P$11*LOG('Grunddaten-IVA'!$N68)+P$12*LOG('Grunddaten-IVA'!$G68)+P$13*LOG('Grunddaten-IVA'!$L68)","v":47.234133025198858},{"$f":"Q$10+Q$11*LOG('Grunddaten-IVA'!$N68)+Q$12*LOG('Grunddaten-IVA'!$G68)+Q$13*LOG('Grunddaten-IVA'!$L68)","v":46.57098920438942},{"$f":"R$10+R$11*LOG('Grunddaten-IVA'!$N68)+R$12*LOG('Grunddaten-IVA'!$G68)+R$13*LOG('Grunddaten-IVA'!$L68)","v":44.520146092060536},{"$f":"S$10+S$11*LOG('Grunddaten-IVA'!$N68)+S$12*LOG('Grunddaten-IVA'!$G68)+S$13*LOG('Grunddaten-IVA'!$L68)","v":40.955383135300657},{"$f":"T$10+T$11*LOG('Grunddaten-IVA'!$N68)+T$12*LOG('Grunddaten-IVA'!$G68)+T$13*LOG('Grunddaten-IVA'!$L68)","v":42.415546803933928},{"$f":"U$10+U$11*LOG('Grunddaten-IVA'!$N68)+U$12*LOG('Grunddaten-IVA'!$G68)+U$13*LOG('Grunddaten-IVA'!$L68)","v":38.314752295830331},{"$f":"V$10+V$11*LOG('Grunddaten-IVA'!$N68)+V$12*LOG('Grunddaten-IVA'!$G68)+V$13*LOG('Grunddaten-IVA'!$L68)","v":37.985775151347219},{"$f":"W$10+W$11*LOG('Grunddaten-IVA'!$N68)+W$12*LOG('Grunddaten-IVA'!$G68)+W$13*LOG('Grunddaten-IVA'!$L68)","v":33.025098974302345},{"$f":"X$10+X$11*LOG('Grunddaten-IVA'!$N68)+X$12*LOG('Grunddaten-IVA'!$G68)+X$13*LOG('Grunddaten-IVA'!$L68)","v":31.152679756886677},{"$f":"Y$10+Y$11*LOG('Grunddaten-IVA'!$N68)+Y$12*LOG('Grunddaten-IVA'!$G68)+Y$13*LOG('Grunddaten-IVA'!$L68)","v":27.791088988253385},{"$f":"Z$10+Z$11*LOG('Grunddaten-IVA'!$N68)+Z$12*LOG('Grunddaten-IVA'!$G68)+Z$13*LOG('Grunddaten-IVA'!$L68)","v":13.46465682826738},55.084361700501063]
[null,null,null,null,null,{"$f":"F$10+F$11*LOG('Grunddaten-IVA'!$N69)+F$12*LOG('Grunddaten-IVA'!$G69)+F$13*LOG('Grunddaten-IVA'!$L69)","v":13.18607405653275},{"$f":"G$10+G$11*LOG('Grunddaten-IVA'!$N69)+G$12*LOG('Grunddaten-IVA'!$G69)+G$13*LOG('Grunddaten-IVA'!$L69)","v":10.533974110305806},{"$f":"H$10+H$11*LOG('Grunddaten-IVA'!$N69)+H$12*LOG('Grunddaten-IVA'!$G69)+H$13*LOG('Grunddaten-IVA'!$L69)","v":12.771261197671109},{"$f":"I$10+I$11*LOG('Grunddaten-IVA'!$N69)+I$12*LOG('Grunddaten-IVA'!$G69)+I$13*LOG('Grunddaten-IVA'!$L69)","v":16.684443902570251},{"$f":"J$10+J$11*LOG('Grunddaten-IVA'!$N69)+J$12*LOG('Grunddaten-IVA'!$G69)+J$13*LOG('Grunddaten-IVA'!$L69)","v":18.47471024324286},{"$f":"K$10+K$11*LOG('Grunddaten-IVA'!$N69)+K$12*LOG('Grunddaten-IVA'!$G69)+K$13*LOG('Grunddaten-IVA'!$L69)","v":21.010686034886124},{"$f":"L$10+L$11*LOG('Grunddaten-IVA'!$N69)+L$12*LOG('Grunddaten-IVA'!$G69)+L$13*LOG('Grunddaten-IVA'!$L69)","v":22.746877825338043},{"$f":"M$10+M$11*LOG('Grunddaten-IVA'!$N69)+M$12*LOG('Grunddaten-IVA'!$G69)+M$13*LOG('Grunddaten-IVA'!$L69)","v":23.535287685299796},{"$f":"N$10+N$11*LOG('Grunddaten-IVA'!$N69)+N$12*LOG('Grunddaten-IVA'!$G69)+N$13*LOG('Grunddaten-IVA'!$L69)","v":23.773204171120206},{"$f":"O$10+O$11*LOG('Grunddaten-IVA'!$N69)+O$12*LOG('Grunddaten-IVA'!$G69)+O$13*LOG('Grunddaten-IVA'!$L69)","v":23.005056921911788},{"$f":"P$10+P$11*LOG('Grunddaten-IVA'!$N69)+P$12*LOG('Grunddaten-IVA'!$G69)+P$13*LOG('Grunddaten-IVA'!$L69)","v":22.374458203026069},{"$f":"Q$10+Q$11*LOG('Grunddaten-IVA'!$N69)+Q$12*LOG('Grunddaten-IVA'!$G69)+Q$13*LOG('Grunddaten-IVA'!$L69)","v":21.134335445391322},{"$f":"R$10+R$11*LOG('Grunddaten-IVA'!$N69)+R$12*LOG('Grunddaten-IVA'!$G69)+R$13*LOG('Grunddaten-IVA'!$L69)","v":18.71999838930256},{"$f":"S$10+S$11*LOG('Grunddaten-IVA'!$N69)+S$12*LOG('Grunddaten-IVA'!$G69)+S$13*LOG('Grunddaten-IVA'!$L69)","v":16.91983946864088},{"$f":"T$10+T$11*LOG('Grunddaten-IVA'!$N69)+T$12*LOG('Grunddaten-IVA'!$G69)+T$13*LOG('Grunddaten-IVA'!$L69)","v":24.188887054990289},{"$f":"U$10+U$11*LOG('Grunddaten-IVA'!$N69)+U$12*LOG('Grunddaten-IVA'!$G69)+U$13*LOG('Grunddaten-IVA'!$L69)","v":19.46338570152087},{"$f":"V$10+V$11*LOG('Grunddaten-IVA'!$N69)+V$12*LOG('Grunddaten-IVA'!$G69)+V$13*LOG('Grunddaten-IVA'!$L69)","v":27.586611807207419},{"$f":"W$10+W$11*LOG('Grunddaten-IVA'!$N69)+W$12*LOG('Grunddaten-IVA'!$G69)+W$13*LOG('Grunddaten-IVA'!$L69)","v":23.222084768577947},{"$f":"X$10+X$11*LOG('Grunddaten-IVA'!$N69)+X$12*LOG('Grunddaten-IVA'!$G69)+X$13*LOG('Grunddaten-IVA'!$L69)","v":24.744252832806382},{"$f":"Y$10+Y$11*LOG('Grunddaten-IVA'!$N69)+Y$12*LOG('Grunddaten-IVA'!$G69)+Y$13*LOG('Grunddaten-IVA'!$L69)","v":24.05122428933231},{"$f":"Z$10+Z$11*LOG('Grunddaten-IVA'!$N69)+Z$12*LOG('Grunddaten-IVA'!$G69)+Z$13*LOG('Grunddaten-IVA'!$L69)","v":-7.5305323129008457},35.131533999412071]
[null,null,null,null,null,{"$f":"F$10+F$11*LOG('Grunddaten-IVA'!$N70)+F$12*LOG('Grunddaten-IVA'!$G70)+F$13*LOG('Grunddaten-IVA'!$L70)","v":21.402466389412066},{"$f":"G$10+G$11*LOG('Grunddaten-IVA'!$N70)+G$12*LOG('Grunddaten-IVA'!$G70)+G$13*LOG('Grunddaten-IVA'!$L70)","v":19.619110812346278},{"$f":"H$10+H$11*LOG('Grunddaten-IVA'!$N70)+H$12*LOG('Grunddaten-IVA'!$G70)+H$13*LOG('Grunddaten-IVA'!$L70)","v":21.968528086557356},{"$f":"I$10+I$11*LOG('Grunddaten-IVA'!$N70)+I$12*LOG('Grunddaten-IVA'!$G70)+I$13*LOG('Grunddaten-IVA'!$L70)","v":26.388010027400313},{"$f":"J$10+J$11*LOG('Grunddaten-IVA'!$N70)+J$12*LOG('Grunddaten-IVA'!$G70)+J$13*LOG('Grunddaten-IVA'!$L70)","v":28.243589899612978},{"$f":"K$10+K$11*LOG('Grunddaten-IVA'!$N70)+K$12*LOG('Grunddaten-IVA'!$G70)+K$13*LOG('Grunddaten-IVA'!$L70)","v":31.385495182480998},{"$f":"L$10+L$11*LOG('Grunddaten-IVA'!$N70)+L$12*LOG('Grunddaten-IVA'!$G70)+L$13*LOG('Grunddaten-IVA'!$L70)","v":33.446906313648938},{"$f":"M$10+M$11*LOG('Grunddaten-IVA'!$N70)+M$12*LOG('Grunddaten-IVA'!$G70)+M$13*LOG('Grunddaten-IVA'!$L70)","v":34.847357210383421},{"$f":"N$10+N$11*LOG('Grunddaten-IVA'!$N70)+N$12*LOG('Grunddaten-IVA'!$G70)+N$13*LOG('Grunddaten-IVA'!$L70)","v":35.453087286832975},{"$f":"O$10+O$11*LOG('Grunddaten-IVA'!$N70)+O$12*LOG('Grunddaten-IVA'!$G70)+O$13*LOG('Grunddaten-IVA'!$L70)","v":36.078049066005065},{"$f":"P$10+P$11*LOG('Grunddaten-IVA'!$N70)+P$12*LOG('Grunddaten-IVA'!$G70)+P$13*LOG('Grunddaten-IVA'!$L70)","v":36.09340978261914},{"$f":"Q$10+Q$11*LOG('Grunddaten-IVA'!$N70)+Q$12*LOG('Grunddaten-IVA'!$G70)+Q$13*LOG('Grunddaten-IVA'!$L70)","v":35.237365528410521},{"$f":"R$10+R$11*LOG('Grunddaten-IVA'!$N70)+R$12*LOG('Grunddaten-IVA'!$G70)+R$13*LOG('Grunddaten-IVA'!$L70)","v":32.989542711292955},{"$f":"S$10+S$11*LOG('Grunddaten-IVA'!$N70)+S$12*LOG('Grunddaten-IVA'!$G70)+S$13*LOG('Grunddaten-IVA'!$L70)","v":29.886797734333193},{"$f":"T$10+T$11*LOG('Grunddaten-IVA'!$N70)+T$12*LOG('Grunddaten-IVA'!$G70)+T$13*LOG('Grunddaten-IVA'!$L70)","v":34.661449151894573},{"$f":"U$10+U$11*LOG('Grunddaten-IVA'!$N70)+U$12*LOG('Grunddaten-IVA'!$G70)+U$13*LOG('Grunddaten-IVA'!$L70)","v":29.931977385272383},{"$f":"V$10+V$11*LOG('Grunddaten-IVA'!$N70)+V$12*LOG('Grunddaten-IVA'!$G70)+V$13*LOG('Grunddaten-IVA'!$L70)","v":34.074190800800416},{"$f":"W$10+W$11*LOG('Grunddaten-IVA'!$N70)+W$12*LOG('Grunddaten-IVA'!$G70)+W$13*LOG('Grunddaten-IVA'!$L70)","v":29.160782688683199},{"$f":"X$10+X$11*LOG('Grunddaten-IVA'!$N70)+X$12*LOG('Grunddaten-IVA'!$G70)+X$13*LOG('Grunddaten-IVA'!$L70)","v":28.954682637461119},{"$f":"Y$10+Y$11*LOG('Grunddaten-IVA'!$N70)+Y$12*LOG('Grunddaten-IVA'!$G70)+Y$13*LOG('Grunddaten-IVA'!$L70)","v":26.701649064975655},{"$f":"Z$10+Z$11*LOG('Grunddaten-IVA'!$N70)+Z$12*LOG('Grunddaten-IVA'!$G70)+Z$13*LOG('Grunddaten-IVA'!$L70)","v":0.66183859665841283},45.391998445224559]
[null,null,null,null,null,{"$f":"F$10+F$11*LOG('Grunddaten-IVA'!$N71)+F$12*LOG('Grunddaten-IVA'!$G71)+F$13*LOG('Grunddaten-IVA'!$L71)","v":28.116954537677156},{"$f":"G$10+G$11*LOG('Grunddaten-IVA'!$N71)+G$12*LOG('Grunddaten-IVA'!$G71)+G$13*LOG('Grunddaten-IVA'!$L71)","v":27.043542392506922},{"$f":"H$10+H$11*LOG('Grunddaten-IVA'!$N71)+H$12*LOG('Grunddaten-IVA'!$G71)+H$13*LOG('Grunddaten-IVA'!$L71)","v":29.484593169615124},{"$f":"I$10+I$11*LOG('Grunddaten-IVA'!$N71)+I$12*LOG('Grunddaten-IVA'!$G71)+I$13*LOG('Grunddaten-IVA'!$L71)","v":34.317826070915061},{"$f":"J$10+J$11*LOG('Grunddaten-IVA'!$N71)+J$12*LOG('Grunddaten-IVA'!$G71)+J$13*LOG('Grunddaten-IVA'!$L71)","v":36.226780577113026},{"$f":"K$10+K$11*LOG('Grunddaten-IVA'!$N71)+K$12*LOG('Grunddaten-IVA'!$G71)+K$13*LOG('Grunddaten-IVA'!$L71)","v":39.863855299642793},{"$f":"L$10+L$11*LOG('Grunddaten-IVA'!$N71)+L$12*LOG('Grunddaten-IVA'!$G71)+L$13*LOG('Grunddaten-IVA'!$L71)","v":42.191037747509682},{"$f":"M$10+M$11*LOG('Grunddaten-IVA'!$N71)+M$12*LOG('Grunddaten-IVA'!$G71)+M$13*LOG('Grunddaten-IVA'!$L71)","v":44.091652477854836},{"$f":"N$10+N$11*LOG('Grunddaten-IVA'!$N71)+N$12*LOG('Grunddaten-IVA'!$G71)+N$13*LOG('Grunddaten-IVA'!$L71)","v":44.997962163333945},{"$f":"O$10+O$11*LOG('Grunddaten-IVA'!$N71)+O$12*LOG('Grunddaten-IVA'!$G71)+O$13*LOG('Grunddaten-IVA'!$L71)","v":46.761381513826016},{"$f":"P$10+P$11*LOG('Grunddaten-IVA'!$N71)+P$12*LOG('Grunddaten-IVA'!$G71)+P$13*LOG('Grunddaten-IVA'!$L71)","v":47.30462439553181},{"$f":"Q$10+Q$11*LOG('Grunddaten-IVA'!$N71)+Q$12*LOG('Grunddaten-IVA'!$G71)+Q$13*LOG('Grunddaten-IVA'!$L71)","v":46.762451540688865},{"$f":"R$10+R$11*LOG('Grunddaten-IVA'!$N71)+R$12*LOG('Grunddaten-IVA'!$G71)+R$13*LOG('Grunddaten-IVA'!$L71)","v":44.650705220261379},{"$f":"S$10+S$11*LOG('Grunddaten-IVA'!$N71)+S$12*LOG('Grunddaten-IVA'!$G71)+S$13*LOG('Grunddaten-IVA'!$L71)","v":40.483478621348219},{"$f":"T$10+T$11*LOG('Grunddaten-IVA'!$N71)+T$12*LOG('Grunddaten-IVA'!$G71)+T$13*LOG('Grunddaten-IVA'!$L71)","v":43.219693601863781},{"$f":"U$10+U$11*LOG('Grunddaten-IVA'!$N71)+U$12*LOG('Grunddaten-IVA'!$G71)+U$13*LOG('Grunddaten-IVA'!$L71)","v":38.486977188323827},{"$f":"V$10+V$11*LOG('Grunddaten-IVA'!$N71)+V$12*LOG('Grunddaten-IVA'!$G71)+V$13*LOG('Grunddaten-IVA'!$L71)","v":39.375881676624076},{"$f":"W$10+W$11*LOG('Grunddaten-IVA'!$N71)+W$12*LOG('Grunddaten-IVA'!$G71)+W$13*LOG('Grunddaten-IVA'!$L71)","v":34.013924455186398},{"$f":"X$10+X$11*LOG('Grunddaten-IVA'!$N71)+X$12*LOG('Grunddaten-IVA'!$G71)+X$13*LOG('Grunddaten-IVA'!$L71)","v":32.395472691914286},{"$f":"Y$10+Y$11*LOG('Grunddaten-IVA'!$N71)+Y$12*LOG('Grunddaten-IVA'!$G71)+Y$13*LOG('Grunddaten-IVA'!$L71)","v":28.86759307335884},{"$f":"Z$10+Z$11*LOG('Grunddaten-IVA'!$N71)+Z$12*LOG('Grunddaten-IVA'!$G71)+Z$13*LOG('Grunddaten-IVA'!$L71)","v":7.35669628478297},55.094738521186684]
[null,null,null,null,null,{"$f":"F$10+F$11*LOG('Grunddaten-IVA'!$N72)+F$12*LOG('Grunddaten-IVA'!$G72)+F$13*LOG('Grunddaten-IVA'!$L72)","v":12.482323413849819},{"$f":"G$10+G$11*LOG('Grunddaten-IVA'!$N72)+G$12*LOG('Grunddaten-IVA'!$G72)+G$13*LOG('Grunddaten-IVA'!$L72)","v":9.1276108747221087},{"$f":"H$10+H$11*LOG('Grunddaten-IVA'!$N72)+H$12*LOG('Grunddaten-IVA'!$G72)+H$13*LOG('Grunddaten-IVA'!$L72)","v":11.143825099937914},{"$f":"I$10+I$11*LOG('Grunddaten-IVA'!$N72)+I$12*LOG('Grunddaten-IVA'!$G72)+I$13*LOG('Grunddaten-IVA'!$L72)","v":15.55168182042194},{"$f":"J$10+J$11*LOG('Grunddaten-IVA'!$N72)+J$12*LOG('Grunddaten-IVA'!$G72)+J$13*LOG('Grunddaten-IVA'!$L72)","v":17.358252016336529},{"$f":"K$10+K$11*LOG('Grunddaten-IVA'!$N72)+K$12*LOG('Grunddaten-IVA'!$G72)+K$13*LOG('Grunddaten-IVA'!$L72)","v":20.07906308751668},{"$f":"L$10+L$11*LOG('Grunddaten-IVA'!$N72)+L$12*LOG('Grunddaten-IVA'!$G72)+L$13*LOG('Grunddaten-IVA'!$L72)","v":21.865229651898435},{"$f":"M$10+M$11*LOG('Grunddaten-IVA'!$N72)+M$12*LOG('Grunddaten-IVA'!$G72)+M$13*LOG('Grunddaten-IVA'!$L72)","v":22.649312182701543},{"$f":"N$10+N$11*LOG('Grunddaten-IVA'!$N72)+N$12*LOG('Grunddaten-IVA'!$G72)+N$13*LOG('Grunddaten-IVA'!$L72)","v":22.86719155953319},{"$f":"O$10+O$11*LOG('Grunddaten-IVA'!$N72)+O$12*LOG('Grunddaten-IVA'!$G72)+O$13*LOG('Grunddaten-IVA'!$L72)","v":22.289334786061314},{"$f":"P$10+P$11*LOG('Grunddaten-IVA'!$N72)+P$12*LOG('Grunddaten-IVA'!$G72)+P$13*LOG('Grunddaten-IVA'!$L72)","v":21.790767059928385},{"$f":"Q$10+Q$11*LOG('Grunddaten-IVA'!$N72)+Q$12*LOG('Grunddaten-IVA'!$G72)+Q$13*LOG('Grunddaten-IVA'!$L72)","v":20.66230014525982},{"$f":"R$10+R$11*LOG('Grunddaten-IVA'!$N72)+R$12*LOG('Grunddaten-IVA'!$G72)+R$13*LOG('Grunddaten-IVA'!$L72)","v":18.174449044961111},{"$f":"S$10+S$11*LOG('Grunddaten-IVA'!$N72)+S$12*LOG('Grunddaten-IVA'!$G72)+S$13*LOG('Grunddaten-IVA'!$L72)","v":15.788883016681922},{"$f":"T$10+T$11*LOG('Grunddaten-IVA'!$N72)+T$12*LOG('Grunddaten-IVA'!$G72)+T$13*LOG('Grunddaten-IVA'!$L72)","v":24.550400247248739},{"$f":"U$10+U$11*LOG('Grunddaten-IVA'!$N72)+U$12*LOG('Grunddaten-IVA'!$G72)+U$13*LOG('Grunddaten-IVA'!$L72)","v":19.145377081352546},{"$f":"V$10+V$11*LOG('Grunddaten-IVA'!$N72)+V$12*LOG('Grunddaten-IVA'!$G72)+V$13*LOG('Grunddaten-IVA'!$L72)","v":28.769970296941125},{"$f":"W$10+W$11*LOG('Grunddaten-IVA'!$N72)+W$12*LOG('Grunddaten-IVA'!$G72)+W$13*LOG('Grunddaten-IVA'!$L72)","v":24.000200723969677},{"$f":"X$10+X$11*LOG('Grunddaten-IVA'!$N72)+X$12*LOG('Grunddaten-IVA'!$G72)+X$13*LOG('Grunddaten-IVA'!$L72)","v":25.878626549546674},{"$f":"Y$10+Y$11*LOG('Grunddaten-IVA'!$N72)+Y$12*LOG('Grunddaten-IVA'!$G72)+Y$13*LOG('Grunddaten-IVA'!$L72)","v":25.081727519483174},{"$f":"Z$10+Z$11*LOG('Grunddaten-IVA'!$N72)+Z$12*LOG('Grunddaten-IVA'!$G72)+Z$13*LOG('Grunddaten-IVA'!$L72)","v":-14.494256953321326},35.294340464666256]
[null,null,null,null,null,{"$f":"F$10+F$11*LOG('Grunddaten-IVA'!$N73)+F$12*LOG('Grunddaten-IVA'!$G73)+F$13*LOG('Grunddaten-IVA'!$L73)","v":20.774162145978423},{"$f":"G$10+G$11*LOG('Grunddaten-IVA'!$N73)+G$12*LOG('Grunddaten-IVA'!$G73)+G$13*LOG('Grunddaten-IVA'!$L73)","v":18.296171155273242},{"$f":"H$10+H$11*LOG('Grunddaten-IVA'!$N73)+H$12*LOG('Grunddaten-IVA'!$G73)+H$13*LOG('Grunddaten-IVA'!$L73)","v":20.425545194268636},{"$f":"I$10+I$11*LOG('Grunddaten-IVA'!$N73)+I$12*LOG('Grunddaten-IVA'!$G73)+I$13*LOG('Grunddaten-IVA'!$L73)","v":25.344350205019481},{"$f":"J$10+J$11*LOG('Grunddaten-IVA'!$N73)+J$12*LOG('Grunddaten-IVA'!$G73)+J$13*LOG('Grunddaten-IVA'!$L73)","v":27.216833669022385},{"$f":"K$10+K$11*LOG('Grunddaten-IVA'!$N73)+K$12*LOG('Grunddaten-IVA'!$G73)+K$13*LOG('Grunddaten-IVA'!$L73)","v":30.549138133010835},{"$f":"L$10+L$11*LOG('Grunddaten-IVA'!$N73)+L$12*LOG('Grunddaten-IVA'!$G73)+L$13*LOG('Grunddaten-IVA'!$L73)","v":32.66351034003155},{"$f":"M$10+M$11*LOG('Grunddaten-IVA'!$N73)+M$12*LOG('Grunddaten-IVA'!$G73)+M$13*LOG('Grunddaten-IVA'!$L73)","v":34.065253927994256},{"$f":"N$10+N$11*LOG('Grunddaten-IVA'!$N73)+N$12*LOG('Grunddaten-IVA'!$G73)+N$13*LOG('Grunddaten-IVA'!$L73)","v":34.654324315846345},{"$f":"O$10+O$11*LOG('Grunddaten-IVA'!$N73)+O$12*LOG('Grunddaten-IVA'!$G73)+O$13*LOG('Grunddaten-IVA'!$L73)","v":35.482368688718026},{"$f":"P$10+P$11*LOG('Grunddaten-IVA'!$N73)+P$12*LOG('Grunddaten-IVA'!$G73)+P$13*LOG('Grunddaten-IVA'!$L73)","v":35.635691871594801},{"$f":"Q$10+Q$11*LOG('Grunddaten-IVA'!$N73)+Q$12*LOG('Grunddaten-IVA'!$G73)+Q$13*LOG('Grunddaten-IVA'!$L73)","v":34.894830232071463},{"$f":"R$10+R$11*LOG('Grunddaten-IVA'!$N73)+R$12*LOG('Grunddaten-IVA'!$G73)+R$13*LOG('Grunddaten-IVA'!$L73)","v":32.575022375110478},{"$f":"S$10+S$11*LOG('Grunddaten-IVA'!$N73)+S$12*LOG('Grunddaten-IVA'!$G73)+S$13*LOG('Grunddaten-IVA'!$L73)","v":28.874909392893642},{"$f":"T$10+T$11*LOG('Grunddaten-IVA'!$N73)+T$12*LOG('Grunddaten-IVA'!$G73)+T$13*LOG('Grunddaten-IVA'!$L73)","v":35.119125851093187},{"$f":"U$10+U$11*LOG('Grunddaten-IVA'!$N73)+U$12*LOG('Grunddaten-IVA'!$G73)+U$13*LOG('Grunddaten-IVA'!$L73)","v":29.710095814026662},{"$f":"V$10+V$11*LOG('Grunddaten-IVA'!$N73)+V$12*LOG('Grunddaten-IVA'!$G73)+V$13*LOG('Grunddaten-IVA'!$L73)","v":35.3171209924541},{"$f":"W$10+W$11*LOG('Grunddaten-IVA'!$N73)+W$12*LOG('Grunddaten-IVA'!$G73)+W$13*LOG('Grunddaten-IVA'!$L73)","v":29.99343028717918},{"$f":"X$10+X$11*LOG('Grunddaten-IVA'!$N73)+X$12*LOG('Grunddaten-IVA'!$G73)+X$13*LOG('Grunddaten-IVA'!$L73)","v":30.127718306452877},{"$f":"Y$10+Y$11*LOG('Grunddaten-IVA'!$N73)+Y$12*LOG('Grunddaten-IVA'!$G73)+Y$13*LOG('Grunddaten-IVA'!$L73)","v":27.756489619550919},{"$f":"Z$10+Z$11*LOG('Grunddaten-IVA'!$N73)+Z$12*LOG('Grunddaten-IVA'!$G73)+Z$13*LOG('Grunddaten-IVA'!$L73)","v":-6.2266602194105758},45.144523874357475]
[null,null,null,null,null,{"$f":"F$10+F$11*LOG('Grunddaten-IVA'!$N74)+F$12*LOG('Grunddaten-IVA'!$G74)+F$13*LOG('Grunddaten-IVA'!$L74)","v":27.7717124704794},{"$f":"G$10+G$11*LOG('Grunddaten-IVA'!$N74)+G$12*LOG('Grunddaten-IVA'!$G74)+G$13*LOG('Grunddaten-IVA'!$L74)","v":26.033593943995001},{"$f":"H$10+H$11*LOG('Grunddaten-IVA'!$N74)+H$12*LOG('Grunddaten-IVA'!$G74)+H$13*LOG('Grunddaten-IVA'!$L74)","v":28.258464472636959},{"$f":"I$10+I$11*LOG('Grunddaten-IVA'!$N74)+I$12*LOG('Grunddaten-IVA'!$G74)+I$13*LOG('Grunddaten-IVA'!$L74)","v":33.608462912235609},{"$f":"J$10+J$11*LOG('Grunddaten-IVA'!$N74)+J$12*LOG('Grunddaten-IVA'!$G74)+J$13*LOG('Grunddaten-IVA'!$L74)","v":35.536571120689153},{"$f":"K$10+K$11*LOG('Grunddaten-IVA'!$N74)+K$12*LOG('Grunddaten-IVA'!$G74)+K$13*LOG('Grunddaten-IVA'!$L74)","v":39.384919845487467},{"$f":"L$10+L$11*LOG('Grunddaten-IVA'!$N74)+L$12*LOG('Grunddaten-IVA'!$G74)+L$13*LOG('Grunddaten-IVA'!$L74)","v":41.776267470789335},{"$f":"M$10+M$11*LOG('Grunddaten-IVA'!$N74)+M$12*LOG('Grunddaten-IVA'!$G74)+M$13*LOG('Grunddaten-IVA'!$L74)","v":43.699260261804163},{"$f":"N$10+N$11*LOG('Grunddaten-IVA'!$N74)+N$12*LOG('Grunddaten-IVA'!$G74)+N$13*LOG('Grunddaten-IVA'!$L74)","v":44.601581770852526},{"$f":"O$10+O$11*LOG('Grunddaten-IVA'!$N74)+O$12*LOG('Grunddaten-IVA'!$G74)+O$13*LOG('Grunddaten-IVA'!$L74)","v":46.616077585995214},{"$f":"P$10+P$11*LOG('Grunddaten-IVA'!$N74)+P$12*LOG('Grunddaten-IVA'!$G74)+P$13*LOG('Grunddaten-IVA'!$L74)","v":47.319536823038739},{"$f":"Q$10+Q$11*LOG('Grunddaten-IVA'!$N74)+Q$12*LOG('Grunddaten-IVA'!$G74)+Q$13*LOG('Grunddaten-IVA'!$L74)","v":46.905778436061951},{"$f":"R$10+R$11*LOG('Grunddaten-IVA'!$N74)+R$12*LOG('Grunddaten-IVA'!$G74)+R$13*LOG('Grunddaten-IVA'!$L74)","v":44.727783642516187},{"$f":"S$10+S$11*LOG('Grunddaten-IVA'!$N74)+S$12*LOG('Grunddaten-IVA'!$G74)+S$13*LOG('Grunddaten-IVA'!$L74)","v":39.918313765976734},{"$f":"T$10+T$11*LOG('Grunddaten-IVA'!$N74)+T$12*LOG('Grunddaten-IVA'!$G74)+T$13*LOG('Grunddaten-IVA'!$L74)","v":44.038159574239216},{"$f":"U$10+U$11*LOG('Grunddaten-IVA'!$N74)+U$12*LOG('Grunddaten-IVA'!$G74)+U$13*LOG('Grunddaten-IVA'!$L74)","v":38.625748105916756},{"$f":"V$10+V$11*LOG('Grunddaten-IVA'!$N74)+V$12*LOG('Grunddaten-IVA'!$G74)+V$13*LOG('Grunddaten-IVA'!$L74)","v":40.842314855237134},{"$f":"W$10+W$11*LOG('Grunddaten-IVA'!$N74)+W$12*LOG('Grunddaten-IVA'!$G74)+W$13*LOG('Grunddaten-IVA'!$L74)","v":35.051165589283833},{"$f":"X$10+X$11*LOG('Grunddaten-IVA'!$N74)+X$12*LOG('Grunddaten-IVA'!$G74)+X$13*LOG('Grunddaten-IVA'!$L74)","v":33.713561490687205},{"$f":"Y$10+Y$11*LOG('Grunddaten-IVA'!$N74)+Y$12*LOG('Grunddaten-IVA'!$G74)+Y$13*LOG('Grunddaten-IVA'!$L74)","v":30.013743168003266},{"$f":"Z$10+Z$11*LOG('Grunddaten-IVA'!$N74)+Z$12*LOG('Grunddaten-IVA'!$G74)+Z$13*LOG('Grunddaten-IVA'!$L74)","v":0.75043208510516024},{"$f":"10*LOG(10^(0.1*F47)+10^(0.1*G47)+10^(0.1*H47)+10^(0.1*I47)+10^(0.1*J47)+10^(0.1*K47)+10^(0.1*L47)+10^(0.1*M47)+10^(0.1*N47)+10^(0.1*O47)+10^(0.1*P47)+10^(0.1*Q47)+10^(0.1*R47)+10^(0.1*S47)+10^(0.1*T47)+10^(0.1*U47)+10^(0.1*V47)+10^(0.1*W47)+10^(0.1*X47)+10^(0.1*Y47)+10^(0.1*Z47))","v":55.095661892935809}]
[null,null,null,null,null,{"$f":"F$10+F$11*LOG('Grunddaten-IVA'!$N75)+F$12*LOG('Grunddaten-IVA'!$G75)+F$13*LOG('Grunddaten-IVA'!$L75)","v":11.501965408768125},{"$f":"G$10+G$11*LOG('Grunddaten-IVA'!$N75)+G$12*LOG('Grunddaten-IVA'!$G75)+G$13*LOG('Grunddaten-IVA'!$L75)","v":7.3907024039499731},{"$f":"H$10+H$11*LOG('Grunddaten-IVA'!$N75)+H$12*LOG('Grunddaten-IVA'!$G75)+H$13*LOG('Grunddaten-IVA'!$L75)","v":9.173757156059807},{"$f":"I$10+I$11*LOG('Grunddaten-IVA'!$N75)+I$12*LOG('Grunddaten-IVA'!$G75)+I$13*LOG('Grunddaten-IVA'!$L75)","v":14.080390659076478},{"$f":"J$10+J$11*LOG('Grunddaten-IVA'!$N75)+J$12*LOG('Grunddaten-IVA'!$G75)+J$13*LOG('Grunddaten-IVA'!$L75)","v":15.901926608193833},{"$f":"K$10+K$11*LOG('Grunddaten-IVA'!$N75)+K$12*LOG('Grunddaten-IVA'!$G75)+K$13*LOG('Grunddaten-IVA'!$L75)","v":18.796478931226002},{"$f":"L$10+L$11*LOG('Grunddaten-IVA'!$N75)+L$12*LOG('Grunddaten-IVA'!$G75)+L$13*LOG('Grunddaten-IVA'!$L75)","v":20.624730764396961},{"$f":"M$10+M$11*LOG('Grunddaten-IVA'!$N75)+M$12*LOG('Grunddaten-IVA'!$G75)+M$13*LOG('Grunddaten-IVA'!$L75)","v":21.385771785784176},{"$f":"N$10+N$11*LOG('Grunddaten-IVA'!$N75)+N$12*LOG('Grunddaten-IVA'!$G75)+N$13*LOG('Grunddaten-IVA'!$L75)","v":21.57168219845423},{"$f":"O$10+O$11*LOG('Grunddaten-IVA'!$N75)+O$12*LOG('Grunddaten-IVA'!$G75)+O$13*LOG('Grunddaten-IVA'!$L75)","v":21.14938570938547},{"$f":"P$10+P$11*LOG('Grunddaten-IVA'!$N75)+P$12*LOG('Grunddaten-IVA'!$G75)+P$13*LOG('Grunddaten-IVA'!$L75)","v":20.768466633077317},{"$f":"Q$10+Q$11*LOG('Grunddaten-IVA'!$N75)+Q$12*LOG('Grunddaten-IVA'!$G75)+Q$13*LOG('Grunddaten-IVA'!$L75)","v":19.744407051611269},{"$f":"R$10+R$11*LOG('Grunddaten-IVA'!$N75)+R$12*LOG('Grunddaten-IVA'!$G75)+R$13*LOG('Grunddaten-IVA'!$L75)","v":17.175107281347142},{"$f":"S$10+S$11*LOG('Grunddaten-IVA'!$N75)+S$12*LOG('Grunddaten-IVA'!$G75)+S$13*LOG('Grunddaten-IVA'!$L75)","v":14.220591659316284},{"$f":"T$10+T$11*LOG('Grunddaten-IVA'!$N75)+T$12*LOG('Grunddaten-IVA'!$G75)+T$13*LOG('Grunddaten-IVA'!$L75)","v":24.608816767888975},{"$f":"U$10+U$11*LOG('Grunddaten-IVA'!$N75)+U$12*LOG('Grunddaten-IVA'!$G75)+U$13*LOG('Grunddaten-IVA'!$L75)","v":18.497683685023709},{"$f":"V$10+V$11*LOG('Grunddaten-IVA'!$N75)+V$12*LOG('Grunddaten-IVA'!$G75)+V$13*LOG('Grunddaten-IVA'!$L75)","v":29.80327462139897},{"$f":"W$10+W$11*LOG('Grunddaten-IVA'!$N75)+W$12*LOG('Grunddaten-IVA'!$G75)+W$13*LOG('Grunddaten-IVA'!$L75)","v":24.628965002640378},{"$f":"X$10+X$11*LOG('Grunddaten-IVA'!$N75)+X$12*LOG('Grunddaten-IVA'!$G75)+X$13*LOG('Grunddaten-IVA'!$L75)","v":26.930015608163245},{"$f":"Y$10+Y$11*LOG('Grunddaten-IVA'!$N75)+Y$12*LOG('Grunddaten-IVA'!$G75)+Y$13*LOG('Grunddaten-IVA'!$L75)","v":26.072429739847536},{"$f":"Z$10+Z$11*LOG('Grunddaten-IVA'!$N75)+Z$12*LOG('Grunddaten-IVA'!$G75)+Z$13*LOG('Grunddaten-IVA'!$L75)","v":-21.979907556891021},{"$f":"10*LOG(10^(0.1*F48)+10^(0.1*G48)+10^(0.1*H48)+10^(0.1*I48)+10^(0.1*J48)+10^(0.1*K48)+10^(0.1*L48)+10^(0.1*M48)+10^(0.1*N48)+10^(0.1*O48)+10^(0.1*P48)+10^(0.1*Q48)+10^(0.1*R48)+10^(0.1*S48)+10^(0.1*T48)+10^(0.1*U48)+10^(0.1*V48)+10^(0.1*W48)+10^(0.1*X48)+10^(0.1*Y48)+10^(0.1*Z48))","v":35.429717393908483}]
[null,null,null,null,null,{"$f":"F$10+F$11*LOG('Grunddaten-IVA'!$N76)+F$12*LOG('Grunddaten-IVA'!$G76)+F$13*LOG('Grunddaten-IVA'!$L76)","v":20.388391146741821},{"$f":"G$10+G$11*LOG('Grunddaten-IVA'!$N76)+G$12*LOG('Grunddaten-IVA'!$G76)+G$13*LOG('Grunddaten-IVA'!$L76)","v":17.216717198660916},{"$f":"H$10+H$11*LOG('Grunddaten-IVA'!$N76)+H$12*LOG('Grunddaten-IVA'!$G76)+H$13*LOG('Grunddaten-IVA'!$L76)","v":19.121046171623476},{"$f":"I$10+I$11*LOG('Grunddaten-IVA'!$N76)+I$12*LOG('Grunddaten-IVA'!$G76)+I$13*LOG('Grunddaten-IVA'!$L76)","v":24.575266788196437},{"$f":"J$10+J$11*LOG('Grunddaten-IVA'!$N76)+J$12*LOG('Grunddaten-IVA'!$G76)+J$13*LOG('Grunddaten-IVA'!$L76)","v":26.467442480914272},{"$f":"K$10+K$11*LOG('Grunddaten-IVA'!$N76)+K$12*LOG('Grunddaten-IVA'!$G76)+K$13*LOG('Grunddaten-IVA'!$L76)","v":30.017336857741721},{"$f":"L$10+L$11*LOG('Grunddaten-IVA'!$N76)+L$12*LOG('Grunddaten-IVA'!$G76)+L$13*LOG('Grunddaten-IVA'!$L76)","v":32.197329138878004},{"$f":"M$10+M$11*LOG('Grunddaten-IVA'!$N76)+M$12*LOG('Grunddaten-IVA'!$G76)+M$13*LOG('Grunddaten-IVA'!$L76)","v":33.620322146188371},{"$f":"N$10+N$11*LOG('Grunddaten-IVA'!$N76)+N$12*LOG('Grunddaten-IVA'!$G76)+N$13*LOG('Grunddaten-IVA'!$L76)","v":34.204040748404552},{"$f":"O$10+O$11*LOG('Grunddaten-IVA'!$N76)+O$12*LOG('Grunddaten-IVA'!$G76)+O$13*LOG('Grunddaten-IVA'!$L76)","v":35.288459058733118},{"$f":"P$10+P$11*LOG('Grunddaten-IVA'!$N76)+P$12*LOG('Grunddaten-IVA'!$G76)+P$13*LOG('Grunddaten-IVA'!$L76)","v":35.606176357217052},{"$f":"Q$10+Q$11*LOG('Grunddaten-IVA'!$N76)+Q$12*LOG('Grunddaten-IVA'!$G76)+Q$13*LOG('Grunddaten-IVA'!$L76)","v":34.997516255226977},{"$f":"R$10+R$11*LOG('Grunddaten-IVA'!$N76)+R$12*LOG('Grunddaten-IVA'!$G76)+R$13*LOG('Grunddaten-IVA'!$L76)","v":32.608309688766099},{"$f":"S$10+S$11*LOG('Grunddaten-IVA'!$N76)+S$12*LOG('Grunddaten-IVA'!$G76)+S$13*LOG('Grunddaten-IVA'!$L76)","v":28.244984240275002},{"$f":"T$10+T$11*LOG('Grunddaten-IVA'!$N76)+T$12*LOG('Grunddaten-IVA'!$G76)+T$13*LOG('Grunddaten-IVA'!$L76)","v":35.935399237429486},{"$f":"U$10+U$11*LOG('Grunddaten-IVA'!$N76)+U$12*LOG('Grunddaten-IVA'!$G76)+U$13*LOG('Grunddaten-IVA'!$L76)","v":29.819971960689131},{"$f":"V$10+V$11*LOG('Grunddaten-IVA'!$N76)+V$12*LOG('Grunddaten-IVA'!$G76)+V$13*LOG('Grunddaten-IVA'!$L76)","v":36.819905109587843},{"$f":"W$10+W$11*LOG('Grunddaten-IVA'!$N76)+W$12*LOG('Grunddaten-IVA'!$G76)+W$13*LOG('Grunddaten-IVA'!$L76)","v":31.051954060269797},{"$f":"X$10+X$11*LOG('Grunddaten-IVA'!$N76)+X$12*LOG('Grunddaten-IVA'!$G76)+X$13*LOG('Grunddaten-IVA'!$L76)","v":31.483799101958965},{"$f":"Y$10+Y$11*LOG('Grunddaten-IVA'!$N76)+Y$12*LOG('Grunddaten-IVA'!$G76)+Y$13*LOG('Grunddaten-IVA'!$L76)","v":28.938992336741734},{"$f":"Z$10+Z$11*LOG('Grunddaten-IVA'!$N76)+Z$12*LOG('Grunddaten-IVA'!$G76)+Z$13*LOG('Grunddaten-IVA'!$L76)","v":-13.119462150164054},45.364571186087666]
[null,null,null,null,null,{"$f":"F$10+F$11*LOG('Grunddaten-IVA'!$N77)+F$12*LOG('Grunddaten-IVA'!$G77)+F$13*LOG('Grunddaten-IVA'!$L77)","v":27.630369447200298},{"$f":"G$10+G$11*LOG('Grunddaten-IVA'!$N77)+G$12*LOG('Grunddaten-IVA'!$G77)+G$13*LOG('Grunddaten-IVA'!$L77)","v":25.224412083140635},{"$f":"H$10+H$11*LOG('Grunddaten-IVA'!$N77)+H$12*LOG('Grunddaten-IVA'!$G77)+H$13*LOG('Grunddaten-IVA'!$L77)","v":27.227573286486603},{"$f":"I$10+I$11*LOG('Grunddaten-IVA'!$N77)+I$12*LOG('Grunddaten-IVA'!$G77)+I$13*LOG('Grunddaten-IVA'!$L77)","v":33.128049136706444},{"$f":"J$10+J$11*LOG('Grunddaten-IVA'!$N77)+J$12*LOG('Grunddaten-IVA'!$G77)+J$13*LOG('Grunddaten-IVA'!$L77)","v":35.077792574363457},{"$f":"K$10+K$11*LOG('Grunddaten-IVA'!$N77)+K$12*LOG('Grunddaten-IVA'!$G77)+K$13*LOG('Grunddaten-IVA'!$L77)","v":39.161756899323478},{"$f":"L$10+L$11*LOG('Grunddaten-IVA'!$N77)+L$12*LOG('Grunddaten-IVA'!$G77)+L$13*LOG('Grunddaten-IVA'!$L77)","v":41.62839949034452},{"$f":"M$10+M$11*LOG('Grunddaten-IVA'!$N77)+M$12*LOG('Grunddaten-IVA'!$G77)+M$13*LOG('Grunddaten-IVA'!$L77)","v":43.590849199297693},{"$f":"N$10+N$11*LOG('Grunddaten-IVA'!$N77)+N$12*LOG('Grunddaten-IVA'!$G77)+N$13*LOG('Grunddaten-IVA'!$L77)","v":44.498760942984347},{"$f":"O$10+O$11*LOG('Grunddaten-IVA'!$N77)+O$12*LOG('Grunddaten-IVA'!$G77)+O$13*LOG('Grunddaten-IVA'!$L77)","v":46.811074045207398},{"$f":"P$10+P$11*LOG('Grunddaten-IVA'!$N77)+P$12*LOG('Grunddaten-IVA'!$G77)+P$13*LOG('Grunddaten-IVA'!$L77)","v":47.698143928784681},{"$f":"Q$10+Q$11*LOG('Grunddaten-IVA'!$N77)+Q$12*LOG('Grunddaten-IVA'!$G77)+Q$13*LOG('Grunddaten-IVA'!$L77)","v":47.428012961577267},{"$f":"R$10+R$11*LOG('Grunddaten-IVA'!$N77)+R$12*LOG('Grunddaten-IVA'!$G77)+R$13*LOG('Grunddaten-IVA'!$L77)","v":45.185573060641978},{"$f":"S$10+S$11*LOG('Grunddaten-IVA'!$N77)+S$12*LOG('Grunddaten-IVA'!$G77)+S$13*LOG('Grunddaten-IVA'!$L77)","v":39.674140319800514},{"$f":"T$10+T$11*LOG('Grunddaten-IVA'!$N77)+T$12*LOG('Grunddaten-IVA'!$G77)+T$13*LOG('Grunddaten-IVA'!$L77)","v":45.165979324566948},{"$f":"U$10+U$11*LOG('Grunddaten-IVA'!$N77)+U$12*LOG('Grunddaten-IVA'!$G77)+U$13*LOG('Grunddaten-IVA'!$L77)","v":39.047052501464727},{"$f":"V$10+V$11*LOG('Grunddaten-IVA'!$N77)+V$12*LOG('Grunddaten-IVA'!$G77)+V$13*LOG('Grunddaten-IVA'!$L77)","v":42.538096791611181},{"$f":"W$10+W$11*LOG('Grunddaten-IVA'!$N77)+W$12*LOG('Grunddaten-IVA'!$G77)+W$13*LOG('Grunddaten-IVA'!$L77)","v":36.286358617398413},{"$f":"X$10+X$11*LOG('Grunddaten-IVA'!$N77)+X$12*LOG('Grunddaten-IVA'!$G77)+X$13*LOG('Grunddaten-IVA'!$L77)","v":35.194897604265741},{"$f":"Y$10+Y$11*LOG('Grunddaten-IVA'!$N77)+Y$12*LOG('Grunddaten-IVA'!$G77)+Y$13*LOG('Grunddaten-IVA'!$L77)","v":31.275092894573831},{"$f":"Z$10+Z$11*LOG('Grunddaten-IVA'!$N77)+Z$12*LOG('Grunddaten-IVA'!$G77)+Z$13*LOG('Grunddaten-IVA'!$L77)","v":-5.8986564786873714},55.474117706382486]
[null,null,null,null,null,{"$f":"F$10+F$11*LOG('Grunddaten-IVA'!$N78)+F$12*LOG('Grunddaten-IVA'!$G78)+F$13*LOG('Grunddaten-IVA'!$L78)","v":{"$error":"#NUM!"}},{"$f":"G$10+G$11*LOG('Grunddaten-IVA'!$N78)+G$12*LOG('Grunddaten-IVA'!$G78)+G$13*LOG('Grunddaten-IVA'!$L78)","v":{"$error":"#NUM!"}},{"$f":"H$10+H$11*LOG('Grunddaten-IVA'!$N78)+H$12*LOG('Grunddaten-IVA'!$G78)+H$13*LOG('Grunddaten-IVA'!$L78)","v":{"$error":"#NUM!"}},{"$f":"I$10+I$11*LOG('Grunddaten-IVA'!$N78)+I$12*LOG('Grunddaten-IVA'!$G78)+I$13*LOG('Grunddaten-IVA'!$L78)","v":{"$error":"#NUM!"}},{"$f":"J$10+J$11*LOG('Grunddaten-IVA'!$N78)+J$12*LOG('Grunddaten-IVA'!$G78)+J$13*LOG('Grunddaten-IVA'!$L78)","v":{"$error":"#NUM!"}},{"$f":"K$10+K$11*LOG('Grunddaten-IVA'!$N78)+K$12*LOG('Grunddaten-IVA'!$G78)+K$13*LOG('Grunddaten-IVA'!$L78)","v":{"$error":"#NUM!"}},{"$f":"L$10+L$11*LOG('Grunddaten-IVA'!$N78)+L$12*LOG('Grunddaten-IVA'!$G78)+L$13*LOG('Grunddaten-IVA'!$L78)","v":{"$error":"#NUM!"}},{"$f":"M$10+M$11*LOG('Grunddaten-IVA'!$N78)+M$12*LOG('Grunddaten-IVA'!$G78)+M$13*LOG('Grunddaten-IVA'!$L78)","v":{"$error":"#NUM!"}},{"$f":"N$10+N$11*LOG('Grunddaten-IVA'!$N78)+N$12*LOG('Grunddaten-IVA'!$G78)+N$13*LOG('Grunddaten-IVA'!$L78)","v":{"$error":"#NUM!"}},{"$f":"O$10+O$11*LOG('Grunddaten-IVA'!$N78)+O$12*LOG('Grunddaten-IVA'!$G78)+O$13*LOG('Grunddaten-IVA'!$L78)","v":{"$error":"#NUM!"}},{"$f":"P$10+P$11*LOG('Grunddaten-IVA'!$N78)+P$12*LOG('Grunddaten-IVA'!$G78)+P$13*LOG('Grunddaten-IVA'!$L78)","v":{"$error":"#NUM!"}},{"$f":"Q$10+Q$11*LOG('Grunddaten-IVA'!$N78)+Q$12*LOG('Grunddaten-IVA'!$G78)+Q$13*LOG('Grunddaten-IVA'!$L78)","v":{"$error":"#NUM!"}},{"$f":"R$10+R$11*LOG('Grunddaten-IVA'!$N78)+R$12*LOG('Grunddaten-IVA'!$G78)+R$13*LOG('Grunddaten-IVA'!$L78)","v":{"$error":"#NUM!"}},{"$f":"S$10+S$11*LOG('Grunddaten-IVA'!$N78)+S$12*LOG('Grunddaten-IVA'!$G78)+S$13*LOG('Grunddaten-IVA'!$L78)","v":{"$error":"#NUM!"}},{"$f":"T$10+T$11*LOG('Grunddaten-IVA'!$N78)+T$12*LOG('Grunddaten-IVA'!$G78)+T$13*LOG('Grunddaten-IVA'!$L78)","v":{"$error":"#NUM!"}},{"$f":"U$10+U$11*LOG('Grunddaten-IVA'!$N78)+U$12*LOG('Grunddaten-IVA'!$G78)+U$13*LOG('Grunddaten-IVA'!$L78)","v":{"$error":"#NUM!"}},{"$f":"V$10+V$11*LOG('Grunddaten-IVA'!$N78)+V$12*LOG('Grunddaten-IVA'!$G78)+V$13*LOG('Grunddaten-IVA'!$L78)","v":{"$error":"#NUM!"}},{"$f":"W$10+W$11*LOG('Grunddaten-IVA'!$N78)+W$12*LOG('Grunddaten-IVA'!$G78)+W$13*LOG('Grunddaten-IVA'!$L78)","v":{"$error":"#NUM!"}},{"$f":"X$10+X$11*LOG('Grunddaten-IVA'!$N78)+X$12*LOG('Grunddaten-IVA'!$G78)+X$13*LOG('Grunddaten-IVA'!$L78)","v":{"$error":"#NUM!"}},{"$f":"Y$10+Y$11*LOG('Grunddaten-IVA'!$N78)+Y$12*LOG('Grunddaten-IVA'!$G78)+Y$13*LOG('Grunddaten-IVA'!$L78)","v":{"$error":"#NUM!"}},{"$f":"Z$10+Z$11*LOG('Grunddaten-IVA'!$N78)+Z$12*LOG('Grunddaten-IVA'!$G78)+Z$13*LOG('Grunddaten-IVA'!$L78)","v":{"$error":"#NUM!"}},{"$error":"#NUM!"}]
[null,null,null,null,null,{"$f":"F$10+F$11*LOG('Grunddaten-IVA'!$N79)+F$12*LOG('Grunddaten-IVA'!$G79)+F$13*LOG('Grunddaten-IVA'!$L79)","v":{"$error":"#NUM!"}},{"$f":"G$10+G$11*LOG('Grunddaten-IVA'!$N79)+G$12*LOG('Grunddaten-IVA'!$G79)+G$13*LOG('Grunddaten-IVA'!$L79)","v":{"$error":"#NUM!"}},{"$f":"H$10+H$11*LOG('Grunddaten-IVA'!$N79)+H$12*LOG('Grunddaten-IVA'!$G79)+H$13*LOG('Grunddaten-IVA'!$L79)","v":{"$error":"#NUM!"}},{"$f":"I$10+I$11*LOG('Grunddaten-IVA'!$N79)+I$12*LOG('Grunddaten-IVA'!$G79)+I$13*LOG('Grunddaten-IVA'!$L79)","v":{"$error":"#NUM!"}},{"$f":"J$10+J$11*LOG('Grunddaten-IVA'!$N79)+J$12*LOG('Grunddaten-IVA'!$G79)+J$13*LOG('Grunddaten-IVA'!$L79)","v":{"$error":"#NUM!"}},{"$f":"K$10+K$11*LOG('Grunddaten-IVA'!$N79)+K$12*LOG('Grunddaten-IVA'!$G79)+K$13*LOG('Grunddaten-IVA'!$L79)","v":{"$error":"#NUM!"}},{"$f":"L$10+L$11*LOG('Grunddaten-IVA'!$N79)+L$12*LOG('Grunddaten-IVA'!$G79)+L$13*LOG('Grunddaten-IVA'!$L79)","v":{"$error":"#NUM!"}},{"$f":"M$10+M$11*LOG('Grunddaten-IVA'!$N79)+M$12*LOG('Grunddaten-IVA'!$G79)+M$13*LOG('Grunddaten-IVA'!$L79)","v":{"$error":"#NUM!"}},{"$f":"N$10+N$11*LOG('Grunddaten-IVA'!$N79)+N$12*LOG('Grunddaten-IVA'!$G79)+N$13*LOG('Grunddaten-IVA'!$L79)","v":{"$error":"#NUM!"}},{"$f":"O$10+O$11*LOG('Grunddaten-IVA'!$N79)+O$12*LOG('Grunddaten-IVA'!$G79)+O$13*LOG('Grunddaten-IVA'!$L79)","v":{"$error":"#NUM!"}},{"$f":"P$10+P$11*LOG('Grunddaten-IVA'!$N79)+P$12*LOG('Grunddaten-IVA'!$G79)+P$13*LOG('Grunddaten-IVA'!$L79)","v":{"$error":"#NUM!"}},{"$f":"Q$10+Q$11*LOG('Grunddaten-IVA'!$N79)+Q$12*LOG('Grunddaten-IVA'!$G79)+Q$13*LOG('Grunddaten-IVA'!$L79)","v":{"$error":"#NUM!"}},{"$f":"R$10+R$11*LOG('Grunddaten-IVA'!$N79)+R$12*LOG('Grunddaten-IVA'!$G79)+R$13*LOG('Grunddaten-IVA'!$L79)","v":{"$error":"#NUM!"}},{"$f":"S$10+S$11*LOG('Grunddaten-IVA'!$N79)+S$12*LOG('Grunddaten-IVA'!$G79)+S$13*LOG('Grunddaten-IVA'!$L79)","v":{"$error":"#NUM!"}},{"$f":"T$10+T$11*LOG('Grunddaten-IVA'!$N79)+T$12*LOG('Grunddaten-IVA'!$G79)+T$13*LOG('Grunddaten-IVA'!$L79)","v":{"$error":"#NUM!"}},{"$f":"U$10+U$11*LOG('Grunddaten-IVA'!$N79)+U$12*LOG('Grunddaten-IVA'!$G79)+U$13*LOG('Grunddaten-IVA'!$L79)","v":{"$error":"#NUM!"}},{"$f":"V$10+V$11*LOG('Grunddaten-IVA'!$N79)+V$12*LOG('Grunddaten-IVA'!$G79)+V$13*LOG('Grunddaten-IVA'!$L79)","v":{"$error":"#NUM!"}},{"$f":"W$10+W$11*LOG('Grunddaten-IVA'!$N79)+W$12*LOG('Grunddaten-IVA'!$G79)+W$13*LOG('Grunddaten-IVA'!$L79)","v":{"$error":"#NUM!"}},{"$f":"X$10+X$11*LOG('Grunddaten-IVA'!$N79)+X$12*LOG('Grunddaten-IVA'!$G79)+X$13*LOG('Grunddaten-IVA'!$L79)","v":{"$error":"#NUM!"}},{"$f":"Y$10+Y$11*LOG('Grunddaten-IVA'!$N79)+Y$12*LOG('Grunddaten-IVA'!$G79)+Y$13*LOG('Grunddaten-IVA'!$L79)","v":{"$error":"#NUM!"}},{"$f":"Z$10+Z$11*LOG('Grunddaten-IVA'!$N79)+Z$12*LOG('Grunddaten-IVA'!$G79)+Z$13*LOG('Grunddaten-IVA'!$L79)","v":{"$error":"#NUM!"}},{"$error":"#NUM!"}]
[null,null,null,null,null,{"$f":"F$10+F$11*LOG('Grunddaten-IVA'!$N80)+F$12*LOG('Grunddaten-IVA'!$G80)+F$13*LOG('Grunddaten-IVA'!$L80)","v":{"$error":"#NUM!"}},{"$f":"G$10+G$11*LOG('Grunddaten-IVA'!$N80)+G$12*LOG('Grunddaten-IVA'!$G80)+G$13*LOG('Grunddaten-IVA'!$L80)","v":{"$error":"#NUM!"}},{"$f":"H$10+H$11*LOG('Grunddaten-IVA'!$N80)+H$12*LOG('Grunddaten-IVA'!$G80)+H$13*LOG('Grunddaten-IVA'!$L80)","v":{"$error":"#NUM!"}},{"$f":"I$10+I$11*LOG('Grunddaten-IVA'!$N80)+I$12*LOG('Grunddaten-IVA'!$G80)+I$13*LOG('Grunddaten-IVA'!$L80)","v":{"$error":"#NUM!"}},{"$f":"J$10+J$11*LOG('Grunddaten-IVA'!$N80)+J$12*LOG('Grunddaten-IVA'!$G80)+J$13*LOG('Grunddaten-IVA'!$L80)","v":{"$error":"#NUM!"}},{"$f":"K$10+K$11*LOG('Grunddaten-IVA'!$N80)+K$12*LOG('Grunddaten-IVA'!$G80)+K$13*LOG('Grunddaten-IVA'!$L80)","v":{"$error":"#NUM!"}},{"$f":"L$10+L$11*LOG('Grunddaten-IVA'!$N80)+L$12*LOG('Grunddaten-IVA'!$G80)+L$13*LOG('Grunddaten-IVA'!$L80)","v":{"$error":"#NUM!"}},{"$f":"M$10+M$11*LOG('Grunddaten-IVA'!$N80)+M$12*LOG('Grunddaten-IVA'!$G80)+M$13*LOG('Grunddaten-IVA'!$L80)","v":{"$error":"#NUM!"}},{"$f":"N$10+N$11*LOG('Grunddaten-IVA'!$N80)+N$12*LOG('Grunddaten-IVA'!$G80)+N$13*LOG('Grunddaten-IVA'!$L80)","v":{"$error":"#NUM!"}},{"$f":"O$10+O$11*LOG('Grunddaten-IVA'!$N80)+O$12*LOG('Grunddaten-IVA'!$G80)+O$13*LOG('Grunddaten-IVA'!$L80)","v":{"$error":"#NUM!"}},{"$f":"P$10+P$11*LOG('Grunddaten-IVA'!$N80)+P$12*LOG('Grunddaten-IVA'!$G80)+P$13*LOG('Grunddaten-IVA'!$L80)","v":{"$error":"#NUM!"}},{"$f":"Q$10+Q$11*LOG('Grunddaten-IVA'!$N80)+Q$12*LOG('Grunddaten-IVA'!$G80)+Q$13*LOG('Grunddaten-IVA'!$L80)","v":{"$error":"#NUM!"}},{"$f":"R$10+R$11*LOG('Grunddaten-IVA'!$N80)+R$12*LOG('Grunddaten-IVA'!$G80)+R$13*LOG('Grunddaten-IVA'!$L80)","v":{"$error":"#NUM!"}},{"$f":"S$10+S$11*LOG('Grunddaten-IVA'!$N80)+S$12*LOG('Grunddaten-IVA'!$G80)+S$13*LOG('Grunddaten-IVA'!$L80)","v":{"$error":"#NUM!"}},{"$f":"T$10+T$11*LOG('Grunddaten-IVA'!$N80)+T$12*LOG('Grunddaten-IVA'!$G80)+T$13*LOG('Grunddaten-IVA'!$L80)","v":{"$error":"#NUM!"}},{"$f":"U$10+U$11*LOG('Grunddaten-IVA'!$N80)+U$12*LOG('Grunddaten-IVA'!$G80)+U$13*LOG('Grunddaten-IVA'!$L80)","v":{"$error":"#NUM!"}},{"$f":"V$10+V$11*LOG('Grunddaten-IVA'!$N80)+V$12*LOG('Grunddaten-IVA'!$G80)+V$13*LOG('Grunddaten-IVA'!$L80)","v":{"$error":"#NUM!"}},{"$f":"W$10+W$11*LOG('Grunddaten-IVA'!$N80)+W$12*LOG('Grunddaten-IVA'!$G80)+W$13*LOG('Grunddaten-IVA'!$L80)","v":{"$error":"#NUM!"}},{"$f":"X$10+X$11*LOG('Grunddaten-IVA'!$N80)+X$12*LOG('Grunddaten-IVA'!$G80)+X$13*LOG('Grunddaten-IVA'!$L80)","v":{"$error":"#NUM!"}},{"$f":"Y$10+Y$11*LOG('Grunddaten-IVA'!$N80)+Y$12*LOG('Grunddaten-IVA'!$G80)+Y$13*LOG('Grunddaten-IVA'!$L80)","v":{"$error":"#NUM!"}},{"$f":"Z$10+Z$11*LOG('Grunddaten-IVA'!$N80)+Z$12*LOG('Grunddaten-IVA'!$G80)+Z$13*LOG('Grunddaten-IVA'!$L80)","v":{"$error":"#NUM!"}},{"$error":"#NUM!"}]
[null,null,null,null,null,{"$f":"F$10+F$11*LOG('Grunddaten-IVA'!$N81)+F$12*LOG('Grunddaten-IVA'!$G81)+F$13*LOG('Grunddaten-IVA'!$L81)","v":{"$error":"#NUM!"}},{"$f":"G$10+G$11*LOG('Grunddaten-IVA'!$N81)+G$12*LOG('Grunddaten-IVA'!$G81)+G$13*LOG('Grunddaten-IVA'!$L81)","v":{"$error":"#NUM!"}},{"$f":"H$10+H$11*LOG('Grunddaten-IVA'!$N81)+H$12*LOG('Grunddaten-IVA'!$G81)+H$13*LOG('Grunddaten-IVA'!$L81)","v":{"$error":"#NUM!"}},{"$f":"I$10+I$11*LOG('Grunddaten-IVA'!$N81)+I$12*LOG('Grunddaten-IVA'!$G81)+I$13*LOG('Grunddaten-IVA'!$L81)","v":{"$error":"#NUM!"}},{"$f":"J$10+J$11*LOG('Grunddaten-IVA'!$N81)+J$12*LOG('Grunddaten-IVA'!$G81)+J$13*LOG('Grunddaten-IVA'!$L81)","v":{"$error":"#NUM!"}},{"$f":"K$10+K$11*LOG('Grunddaten-IVA'!$N81)+K$12*LOG('Grunddaten-IVA'!$G81)+K$13*LOG('Grunddaten-IVA'!$L81)","v":{"$error":"#NUM!"}},{"$f":"L$10+L$11*LOG('Grunddaten-IVA'!$N81)+L$12*LOG('Grunddaten-IVA'!$G81)+L$13*LOG('Grunddaten-IVA'!$L81)","v":{"$error":"#NUM!"}},{"$f":"M$10+M$11*LOG('Grunddaten-IVA'!$N81)+M$12*LOG('Grunddaten-IVA'!$G81)+M$13*LOG('Grunddaten-IVA'!$L81)","v":{"$error":"#NUM!"}},{"$f":"N$10+N$11*LOG('Grunddaten-IVA'!$N81)+N$12*LOG('Grunddaten-IVA'!$G81)+N$13*LOG('Grunddaten-IVA'!$L81)","v":{"$error":"#NUM!"}},{"$f":"O$10+O$11*LOG('Grunddaten-IVA'!$N81)+O$12*LOG('Grunddaten-IVA'!$G81)+O$13*LOG('Grunddaten-IVA'!$L81)","v":{"$error":"#NUM!"}},{"$f":"P$10+P$11*LOG('Grunddaten-IVA'!$N81)+P$12*LOG('Grunddaten-IVA'!$G81)+P$13*LOG('Grunddaten-IVA'!$L81)","v":{"$error":"#NUM!"}},{"$f":"Q$10+Q$11*LOG('Grunddaten-IVA'!$N81)+Q$12*LOG('Grunddaten-IVA'!$G81)+Q$13*LOG('Grunddaten-IVA'!$L81)","v":{"$error":"#NUM!"}},{"$f":"R$10+R$11*LOG('Grunddaten-IVA'!$N81)+R$12*LOG('Grunddaten-IVA'!$G81)+R$13*LOG('Grunddaten-IVA'!$L81)","v":{"$error":"#NUM!"}},{"$f":"S$10+S$11*LOG('Grunddaten-IVA'!$N81)+S$12*LOG('Grunddaten-IVA'!$G81)+S$13*LOG('Grunddaten-IVA'!$L81)","v":{"$error":"#NUM!"}},{"$f":"T$10+T$11*LOG('Grunddaten-IVA'!$N81)+T$12*LOG('Grunddaten-IVA'!$G81)+T$13*LOG('Grunddaten-IVA'!$L81)","v":{"$error":"#NUM!"}},{"$f":"U$10+U$11*LOG('Grunddaten-IVA'!$N81)+U$12*LOG('Grunddaten-IVA'!$G81)+U$13*LOG('Grunddaten-IVA'!$L81)","v":{"$error":"#NUM!"}},{"$f":"V$10+V$11*LOG('Grunddaten-IVA'!$N81)+V$12*LOG('Grunddaten-IVA'!$G81)+V$13*LOG('Grunddaten-IVA'!$L81)","v":{"$error":"#NUM!"}},{"$f":"W$10+W$11*LOG('Grunddaten-IVA'!$N81)+W$12*LOG('Grunddaten-IVA'!$G81)+W$13*LOG('Grunddaten-IVA'!$L81)","v":{"$error":"#NUM!"}},{"$f":"X$10+X$11*LOG('Grunddaten-IVA'!$N81)+X$12*LOG('Grunddaten-IVA'!$G81)+X$13*LOG('Grunddaten-IVA'!$L81)","v":{"$error":"#NUM!"}},{"$f":"Y$10+Y$11*LOG('Grunddaten-IVA'!$N81)+Y$12*LOG('Grunddaten-IVA'!$G81)+Y$13*LOG('Grunddaten-IVA'!$L81)","v":{"$error":"#NUM!"}},{"$f":"Z$10+Z$11*LOG('Grunddaten-IVA'!$N81)+Z$12*LOG('Grunddaten-IVA'!$G81)+Z$13*LOG('Grunddaten-IVA'!$L81)","v":{"$error":"#NUM!"}},{"$error":"#NUM!"}]
[null,null,null,null,null,{"$f":"F$10+F$11*LOG('Grunddaten-IVA'!$N82)+F$12*LOG('Grunddaten-IVA'!$G82)+F$13*LOG('Grunddaten-IVA'!$L82)","v":{"$error":"#NUM!"}},{"$f":"G$10+G$11*LOG('Grunddaten-IVA'!$N82)+G$12*LOG('Grunddaten-IVA'!$G82)+G$13*LOG('Grunddaten-IVA'!$L82)","v":{"$error":"#NUM!"}},{"$f":"H$10+H$11*LOG('Grunddaten-IVA'!$N82)+H$12*LOG('Grunddaten-IVA'!$G82)+H$13*LOG('Grunddaten-IVA'!$L82)","v":{"$error":"#NUM!"}},{"$f":"I$10+I$11*LOG('Grunddaten-IVA'!$N82)+I$12*LOG('Grunddaten-IVA'!$G82)+I$13*LOG('Grunddaten-IVA'!$L82)","v":{"$error":"#NUM!"}},{"$f":"J$10+J$11*LOG('Grunddaten-IVA'!$N82)+J$12*LOG('Grunddaten-IVA'!$G82)+J$13*LOG('Grunddaten-IVA'!$L82)","v":{"$error":"#NUM!"}},{"$f":"K$10+K$11*LOG('Grunddaten-IVA'!$N82)+K$12*LOG('Grunddaten-IVA'!$G82)+K$13*LOG('Grunddaten-IVA'!$L82)","v":{"$error":"#NUM!"}},{"$f":"L$10+L$11*LOG('Grunddaten-IVA'!$N82)+L$12*LOG('Grunddaten-IVA'!$G82)+L$13*LOG('Grunddaten-IVA'!$L82)","v":{"$error":"#NUM!"}},{"$f":"M$10+M$11*LOG('Grunddaten-IVA'!$N82)+M$12*LOG('Grunddaten-IVA'!$G82)+M$13*LOG('Grunddaten-IVA'!$L82)","v":{"$error":"#NUM!"}},{"$f":"N$10+N$11*LOG('Grunddaten-IVA'!$N82)+N$12*LOG('Grunddaten-IVA'!$G82)+N$13*LOG('Grunddaten-IVA'!$L82)","v":{"$error":"#NUM!"}},{"$f":"O$10+O$11*LOG('Grunddaten-IVA'!$N82)+O$12*LOG('Grunddaten-IVA'!$G82)+O$13*LOG('Grunddaten-IVA'!$L82)","v":{"$error":"#NUM!"}},{"$f":"P$10+P$11*LOG('Grunddaten-IVA'!$N82)+P$12*LOG('Grunddaten-IVA'!$G82)+P$13*LOG('Grunddaten-IVA'!$L82)","v":{"$error":"#NUM!"}},{"$f":"Q$10+Q$11*LOG('Grunddaten-IVA'!$N82)+Q$12*LOG('Grunddaten-IVA'!$G82)+Q$13*LOG('Grunddaten-IVA'!$L82)","v":{"$error":"#NUM!"}},{"$f":"R$10+R$11*LOG('Grunddaten-IVA'!$N82)+R$12*LOG('Grunddaten-IVA'!$G82)+R$13*LOG('Grunddaten-IVA'!$L82)","v":{"$error":"#NUM!"}},{"$f":"S$10+S$11*LOG('Grunddaten-IVA'!$N82)+S$12*LOG('Grunddaten-IVA'!$G82)+S$13*LOG('Grunddaten-IVA'!$L82)","v":{"$error":"#NUM!"}},{"$f":"T$10+T$11*LOG('Grunddaten-IVA'!$N82)+T$12*LOG('Grunddaten-IVA'!$G82)+T$13*LOG('Grunddaten-IVA'!$L82)","v":{"$error":"#NUM!"}},{"$f":"U$10+U$11*LOG('Grunddaten-IVA'!$N82)+U$12*LOG('Grunddaten-IVA'!$G82)+U$13*LOG('Grunddaten-IVA'!$L82)","v":{"$error":"#NUM!"}},{"$f":"V$10+V$11*LOG('Grunddaten-IVA'!$N82)+V$12*LOG('Grunddaten-IVA'!$G82)+V$13*LOG('Grunddaten-IVA'!$L82)","v":{"$error":"#NUM!"}},{"$f":"W$10+W$11*LOG('Grunddaten-IVA'!$N82)+W$12*LOG('Grunddaten-IVA'!$G82)+W$13*LOG('Grunddaten-IVA'!$L82)","v":{"$error":"#NUM!"}},{"$f":"X$10+X$11*LOG('Grunddaten-IVA'!$N82)+X$12*LOG('Grunddaten-IVA'!$G82)+X$13*LOG('Grunddaten-IVA'!$L82)","v":{"$error":"#NUM!"}},{"$f":"Y$10+Y$11*LOG('Grunddaten-IVA'!$N82)+Y$12*LOG('Grunddaten-IVA'!$G82)+Y$13*LOG('Grunddaten-IVA'!$L82)","v":{"$error":"#NUM!"}},{"$f":"Z$10+Z$11*LOG('Grunddaten-IVA'!$N82)+Z$12*LOG('Grunddaten-IVA'!$G82)+Z$13*LOG('Grunddaten-IVA'!$L82)","v":{"$error":"#NUM!"}},{"$error":"#NUM!"}]
[null,null,null,null,null,{"$f":"F$10+F$11*LOG('Grunddaten-IVA'!$N83)+F$12*LOG('Grunddaten-IVA'!$G83)+F$13*LOG('Grunddaten-IVA'!$L83)","v":{"$error":"#NUM!"}},{"$f":"G$10+G$11*LOG('Grunddaten-IVA'!$N83)+G$12*LOG('Grunddaten-IVA'!$G83)+G$13*LOG('Grunddaten-IVA'!$L83)","v":{"$error":"#NUM!"}},{"$f":"H$10+H$11*LOG('Grunddaten-IVA'!$N83)+H$12*LOG('Grunddaten-IVA'!$G83)+H$13*LOG('Grunddaten-IVA'!$L83)","v":{"$error":"#NUM!"}},{"$f":"I$10+I$11*LOG('Grunddaten-IVA'!$N83)+I$12*LOG('Grunddaten-IVA'!$G83)+I$13*LOG('Grunddaten-IVA'!$L83)","v":{"$error":"#NUM!"}},{"$f":"J$10+J$11*LOG('Grunddaten-IVA'!$N83)+J$12*LOG('Grunddaten-IVA'!$G83)+J$13*LOG('Grunddaten-IVA'!$L83)","v":{"$error":"#NUM!"}},{"$f":"K$10+K$11*LOG('Grunddaten-IVA'!$N83)+K$12*LOG('Grunddaten-IVA'!$G83)+K$13*LOG('Grunddaten-IVA'!$L83)","v":{"$error":"#NUM!"}},{"$f":"L$10+L$11*LOG('Grunddaten-IVA'!$N83)+L$12*LOG('Grunddaten-IVA'!$G83)+L$13*LOG('Grunddaten-IVA'!$L83)","v":{"$error":"#NUM!"}},{"$f":"M$10+M$11*LOG('Grunddaten-IVA'!$N83)+M$12*LOG('Grunddaten-IVA'!$G83)+M$13*LOG('Grunddaten-IVA'!$L83)","v":{"$error":"#NUM!"}},{"$f":"N$10+N$11*LOG('Grunddaten-IVA'!$N83)+N$12*LOG('Grunddaten-IVA'!$G83)+N$13*LOG('Grunddaten-IVA'!$L83)","v":{"$error":"#NUM!"}},{"$f":"O$10+O$11*LOG('Grunddaten-IVA'!$N83)+O$12*LOG('Grunddaten-IVA'!$G83)+O$13*LOG('Grunddaten-IVA'!$L83)","v":{"$error":"#NUM!"}},{"$f":"P$10+P$11*LOG('Grunddaten-IVA'!$N83)+P$12*LOG('Grunddaten-IVA'!$G83)+P$13*LOG('Grunddaten-IVA'!$L83)","v":{"$error":"#NUM!"}},{"$f":"Q$10+Q$11*LOG('Grunddaten-IVA'!$N83)+Q$12*LOG('Grunddaten-IVA'!$G83)+Q$13*LOG('Grunddaten-IVA'!$L83)","v":{"$error":"#NUM!"}},{"$f":"R$10+R$11*LOG('Grunddaten-IVA'!$N83)+R$12*LOG('Grunddaten-IVA'!$G83)+R$13*LOG('Grunddaten-IVA'!$L83)","v":{"$error":"#NUM!"}},{"$f":"S$10+S$11*LOG('Grunddaten-IVA'!$N83)+S$12*LOG('Grunddaten-IVA'!$G83)+S$13*LOG('Grunddaten-IVA'!$L83)","v":{"$error":"#NUM!"}},{"$f":"T$10+T$11*LOG('Grunddaten-IVA'!$N83)+T$12*LOG('Grunddaten-IVA'!$G83)+T$13*LOG('Grunddaten-IVA'!$L83)","v":{"$error":"#NUM!"}},{"$f":"U$10+U$11*LOG('Grunddaten-IVA'!$N83)+U$12*LOG('Grunddaten-IVA'!$G83)+U$13*LOG('Grunddaten-IVA'!$L83)","v":{"$error":"#NUM!"}},{"$f":"V$10+V$11*LOG('Grunddaten-IVA'!$N83)+V$12*LOG('Grunddaten-IVA'!$G83)+V$13*LOG('Grunddaten-IVA'!$L83)","v":{"$error":"#NUM!"}},{"$f":"W$10+W$11*LOG('Grunddaten-IVA'!$N83)+W$12*LOG('Grunddaten-IVA'!$G83)+W$13*LOG('Grunddaten-IVA'!$L83)","v":{"$error":"#NUM!"}},{"$f":"X$10+X$11*LOG('Grunddaten-IVA'!$N83)+X$12*LOG('Grunddaten-IVA'!$G83)+X$13*LOG('Grunddaten-IVA'!$L83)","v":{"$error":"#NUM!"}},{"$f":"Y$10+Y$11*LOG('Grunddaten-IVA'!$N83)+Y$12*LOG('Grunddaten-IVA'!$G83)+Y$13*LOG('Grunddaten-IVA'!$L83)","v":{"$error":"#NUM!"}},{"$f":"Z$10+Z$11*LOG('Grunddaten-IVA'!$N83)+Z$12*LOG('Grunddaten-IVA'!$G83)+Z$13*LOG('Grunddaten-IVA'!$L83)","v":{"$error":"#NUM!"}},{"$error":"#NUM!"}]
[null,null,null,null,null,{"$f":"F$10+F$11*LOG('Grunddaten-IVA'!$N84)+F$12*LOG('Grunddaten-IVA'!$G84)+F$13*LOG('Grunddaten-IVA'!$L84)","v":{"$error":"#NUM!"}},{"$f":"G$10+G$11*LOG('Grunddaten-IVA'!$N84)+G$12*LOG('Grunddaten-IVA'!$G84)+G$13*LOG('Grunddaten-IVA'!$L84)","v":{"$error":"#NUM!"}},{"$f":"H$10+H$11*LOG('Grunddaten-IVA'!$N84)+H$12*LOG('Grunddaten-IVA'!$G84)+H$13*LOG('Grunddaten-IVA'!$L84)","v":{"$error":"#NUM!"}},{"$f":"I$10+I$11*LOG('Grunddaten-IVA'!$N84)+I$12*LOG('Grunddaten-IVA'!$G84)+I$13*LOG('Grunddaten-IVA'!$L84)","v":{"$error":"#NUM!"}},{"$f":"J$10+J$11*LOG('Grunddaten-IVA'!$N84)+J$12*LOG('Grunddaten-IVA'!$G84)+J$13*LOG('Grunddaten-IVA'!$L84)","v":{"$error":"#NUM!"}},{"$f":"K$10+K$11*LOG('Grunddaten-IVA'!$N84)+K$12*LOG('Grunddaten-IVA'!$G84)+K$13*LOG('Grunddaten-IVA'!$L84)","v":{"$error":"#NUM!"}},{"$f":"L$10+L$11*LOG('Grunddaten-IVA'!$N84)+L$12*LOG('Grunddaten-IVA'!$G84)+L$13*LOG('Grunddaten-IVA'!$L84)","v":{"$error":"#NUM!"}},{"$f":"M$10+M$11*LOG('Grunddaten-IVA'!$N84)+M$12*LOG('Grunddaten-IVA'!$G84)+M$13*LOG('Grunddaten-IVA'!$L84)","v":{"$error":"#NUM!"}},{"$f":"N$10+N$11*LOG('Grunddaten-IVA'!$N84)+N$12*LOG('Grunddaten-IVA'!$G84)+N$13*LOG('Grunddaten-IVA'!$L84)","v":{"$error":"#NUM!"}},{"$f":"O$10+O$11*LOG('Grunddaten-IVA'!$N84)+O$12*LOG('Grunddaten-IVA'!$G84)+O$13*LOG('Grunddaten-IVA'!$L84)","v":{"$error":"#NUM!"}},{"$f":"P$10+P$11*LOG('Grunddaten-IVA'!$N84)+P$12*LOG('Grunddaten-IVA'!$G84)+P$13*LOG('Grunddaten-IVA'!$L84)","v":{"$error":"#NUM!"}},{"$f":"Q$10+Q$11*LOG('Grunddaten-IVA'!$N84)+Q$12*LOG('Grunddaten-IVA'!$G84)+Q$13*LOG('Grunddaten-IVA'!$L84)","v":{"$error":"#NUM!"}},{"$f":"R$10+R$11*LOG('Grunddaten-IVA'!$N84)+R$12*LOG('Grunddaten-IVA'!$G84)+R$13*LOG('Grunddaten-IVA'!$L84)","v":{"$error":"#NUM!"}},{"$f":"S$10+S$11*LOG('Grunddaten-IVA'!$N84)+S$12*LOG('Grunddaten-IVA'!$G84)+S$13*LOG('Grunddaten-IVA'!$L84)","v":{"$error":"#NUM!"}},{"$f":"T$10+T$11*LOG('Grunddaten-IVA'!$N84)+T$12*LOG('Grunddaten-IVA'!$G84)+T$13*LOG('Grunddaten-IVA'!$L84)","v":{"$error":"#NUM!"}},{"$f":"U$10+U$11*LOG('Grunddaten-IVA'!$N84)+U$12*LOG('Grunddaten-IVA'!$G84)+U$13*LOG('Grunddaten-IVA'!$L84)","v":{"$error":"#NUM!"}},{"$f":"V$10+V$11*LOG('Grunddaten-IVA'!$N84)+V$12*LOG('Grunddaten-IVA'!$G84)+V$13*LOG('Grunddaten-IVA'!$L84)","v":{"$error":"#NUM!"}},{"$f":"W$10+W$11*LOG('Grunddaten-IVA'!$N84)+W$12*LOG('Grunddaten-IVA'!$G84)+W$13*LOG('Grunddaten-IVA'!$L84)","v":{"$error":"#NUM!"}},{"$f":"X$10+X$11*LOG('Grunddaten-IVA'!$N84)+X$12*LOG('Grunddaten-IVA'!$G84)+X$13*LOG('Grunddaten-IVA'!$L84)","v":{"$error":"#NUM!"}},{"$f":"Y$10+Y$11*LOG('Grunddaten-IVA'!$N84)+Y$12*LOG('Grunddaten-IVA'!$G84)+Y$13*LOG('Grunddaten-IVA'!$L84)","v":{"$error":"#NUM!"}},{"$f":"Z$10+Z$11*LOG('Grunddaten-IVA'!$N84)+Z$12*LOG('Grunddaten-IVA'!$G84)+Z$13*LOG('Grunddaten-IVA'!$L84)","v":{"$error":"#NUM!"}},{"$error":"#NUM!"}]
[null,null,null,null,null,{"$f":"F$10+F$11*LOG('Grunddaten-IVA'!$N85)+F$12*LOG('Grunddaten-IVA'!$G85)+F$13*LOG('Grunddaten-IVA'!$L85)","v":{"$error":"#NUM!"}},{"$f":"G$10+G$11*LOG('Grunddaten-IVA'!$N85)+G$12*LOG('Grunddaten-IVA'!$G85)+G$13*LOG('Grunddaten-IVA'!$L85)","v":{"$error":"#NUM!"}},{"$f":"H$10+H$11*LOG('Grunddaten-IVA'!$N85)+H$12*LOG('Grunddaten-IVA'!$G85)+H$13*LOG('Grunddaten-IVA'!$L85)","v":{"$error":"#NUM!"}},{"$f":"I$10+I$11*LOG('Grunddaten-IVA'!$N85)+I$12*LOG('Grunddaten-IVA'!$G85)+I$13*LOG('Grunddaten-IVA'!$L85)","v":{"$error":"#NUM!"}},{"$f":"J$10+J$11*LOG('Grunddaten-IVA'!$N85)+J$12*LOG('Grunddaten-IVA'!$G85)+J$13*LOG('Grunddaten-IVA'!$L85)","v":{"$error":"#NUM!"}},{"$f":"K$10+K$11*LOG('Grunddaten-IVA'!$N85)+K$12*LOG('Grunddaten-IVA'!$G85)+K$13*LOG('Grunddaten-IVA'!$L85)","v":{"$error":"#NUM!"}},{"$f":"L$10+L$11*LOG('Grunddaten-IVA'!$N85)+L$12*LOG('Grunddaten-IVA'!$G85)+L$13*LOG('Grunddaten-IVA'!$L85)","v":{"$error":"#NUM!"}},{"$f":"M$10+M$11*LOG('Grunddaten-IVA'!$N85)+M$12*LOG('Grunddaten-IVA'!$G85)+M$13*LOG('Grunddaten-IVA'!$L85)","v":{"$error":"#NUM!"}},{"$f":"N$10+N$11*LOG('Grunddaten-IVA'!$N85)+N$12*LOG('Grunddaten-IVA'!$G85)+N$13*LOG('Grunddaten-IVA'!$L85)","v":{"$error":"#NUM!"}},{"$f":"O$10+O$11*LOG('Grunddaten-IVA'!$N85)+O$12*LOG('Grunddaten-IVA'!$G85)+O$13*LOG('Grunddaten-IVA'!$L85)","v":{"$error":"#NUM!"}},{"$f":"P$10+P$11*LOG('Grunddaten-IVA'!$N85)+P$12*LOG('Grunddaten-IVA'!$G85)+P$13*LOG('Grunddaten-IVA'!$L85)","v":{"$error":"#NUM!"}},{"$f":"Q$10+Q$11*LOG('Grunddaten-IVA'!$N85)+Q$12*LOG('Grunddaten-IVA'!$G85)+Q$13*LOG('Grunddaten-IVA'!$L85)","v":{"$error":"#NUM!"}},{"$f":"R$10+R$11*LOG('Grunddaten-IVA'!$N85)+R$12*LOG('Grunddaten-IVA'!$G85)+R$13*LOG('Grunddaten-IVA'!$L85)","v":{"$error":"#NUM!"}},{"$f":"S$10+S$11*LOG('Grunddaten-IVA'!$N85)+S$12*LOG('Grunddaten-IVA'!$G85)+S$13*LOG('Grunddaten-IVA'!$L85)","v":{"$error":"#NUM!"}},{"$f":"T$10+T$11*LOG('Grunddaten-IVA'!$N85)+T$12*LOG('Grunddaten-IVA'!$G85)+T$13*LOG('Grunddaten-IVA'!$L85)","v":{"$error":"#NUM!"}},{"$f":"U$10+U$11*LOG('Grunddaten-IVA'!$N85)+U$12*LOG('Grunddaten-IVA'!$G85)+U$13*LOG('Grunddaten-IVA'!$L85)","v":{"$error":"#NUM!"}},{"$f":"V$10+V$11*LOG('Grunddaten-IVA'!$N85)+V$12*LOG('Grunddaten-IVA'!$G85)+V$13*LOG('Grunddaten-IVA'!$L85)","v":{"$error":"#NUM!"}},{"$f":"W$10+W$11*LOG('Grunddaten-IVA'!$N85)+W$12*LOG('Grunddaten-IVA'!$G85)+W$13*LOG('Grunddaten-IVA'!$L85)","v":{"$error":"#NUM!"}},{"$f":"X$10+X$11*LOG('Grunddaten-IVA'!$N85)+X$12*LOG('Grunddaten-IVA'!$G85)+X$13*LOG('Grunddaten-IVA'!$L85)","v":{"$error":"#NUM!"}},{"$f":"Y$10+Y$11*LOG('Grunddaten-IVA'!$N85)+Y$12*LOG('Grunddaten-IVA'!$G85)+Y$13*LOG('Grunddaten-IVA'!$L85)","v":{"$error":"#NUM!"}},{"$f":"Z$10+Z$11*LOG('Grunddaten-IVA'!$N85)+Z$12*LOG('Grunddaten-IVA'!$G85)+Z$13*LOG('Grunddaten-IVA'!$L85)","v":{"$error":"#NUM!"}},{"$error":"#NUM!"}]
[null,null,null,null,null,{"$f":"F$10+F$11*LOG('Grunddaten-IVA'!$N86)+F$12*LOG('Grunddaten-IVA'!$G86)+F$13*LOG('Grunddaten-IVA'!$L86)","v":{"$error":"#NUM!"}},{"$f":"G$10+G$11*LOG('Grunddaten-IVA'!$N86)+G$12*LOG('Grunddaten-IVA'!$G86)+G$13*LOG('Grunddaten-IVA'!$L86)","v":{"$error":"#NUM!"}},{"$f":"H$10+H$11*LOG('Grunddaten-IVA'!$N86)+H$12*LOG('Grunddaten-IVA'!$G86)+H$13*LOG('Grunddaten-IVA'!$L86)","v":{"$error":"#NUM!"}},{"$f":"I$10+I$11*LOG('Grunddaten-IVA'!$N86)+I$12*LOG('Grunddaten-IVA'!$G86)+I$13*LOG('Grunddaten-IVA'!$L86)","v":{"$error":"#NUM!"}},{"$f":"J$10+J$11*LOG('Grunddaten-IVA'!$N86)+J$12*LOG('Grunddaten-IVA'!$G86)+J$13*LOG('Grunddaten-IVA'!$L86)","v":{"$error":"#NUM!"}},{"$f":"K$10+K$11*LOG('Grunddaten-IVA'!$N86)+K$12*LOG('Grunddaten-IVA'!$G86)+K$13*LOG('Grunddaten-IVA'!$L86)","v":{"$error":"#NUM!"}},{"$f":"L$10+L$11*LOG('Grunddaten-IVA'!$N86)+L$12*LOG('Grunddaten-IVA'!$G86)+L$13*LOG('Grunddaten-IVA'!$L86)","v":{"$error":"#NUM!"}},{"$f":"M$10+M$11*LOG('Grunddaten-IVA'!$N86)+M$12*LOG('Grunddaten-IVA'!$G86)+M$13*LOG('Grunddaten-IVA'!$L86)","v":{"$error":"#NUM!"}},{"$f":"N$10+N$11*LOG('Grunddaten-IVA'!$N86)+N$12*LOG('Grunddaten-IVA'!$G86)+N$13*LOG('Grunddaten-IVA'!$L86)","v":{"$error":"#NUM!"}},{"$f":"O$10+O$11*LOG('Grunddaten-IVA'!$N86)+O$12*LOG('Grunddaten-IVA'!$G86)+O$13*LOG('Grunddaten-IVA'!$L86)","v":{"$error":"#NUM!"}},{"$f":"P$10+P$11*LOG('Grunddaten-IVA'!$N86)+P$12*LOG('Grunddaten-IVA'!$G86)+P$13*LOG('Grunddaten-IVA'!$L86)","v":{"$error":"#NUM!"}},{"$f":"Q$10+Q$11*LOG('Grunddaten-IVA'!$N86)+Q$12*LOG('Grunddaten-IVA'!$G86)+Q$13*LOG('Grunddaten-IVA'!$L86)","v":{"$error":"#NUM!"}},{"$f":"R$10+R$11*LOG('Grunddaten-IVA'!$N86)+R$12*LOG('Grunddaten-IVA'!$G86)+R$13*LOG('Grunddaten-IVA'!$L86)","v":{"$error":"#NUM!"}},{"$f":"S$10+S$11*LOG('Grunddaten-IVA'!$N86)+S$12*LOG('Grunddaten-IVA'!$G86)+S$13*LOG('Grunddaten-IVA'!$L86)","v":{"$error":"#NUM!"}},{"$f":"T$10+T$11*LOG('Grunddaten-IVA'!$N86)+T$12*LOG('Grunddaten-IVA'!$G86)+T$13*LOG('Grunddaten-IVA'!$L86)","v":{"$error":"#NUM!"}},{"$f":"U$10+U$11*LOG('Grunddaten-IVA'!$N86)+U$12*LOG('Grunddaten-IVA'!$G86)+U$13*LOG('Grunddaten-IVA'!$L86)","v":{"$error":"#NUM!"}},{"$f":"V$10+V$11*LOG('Grunddaten-IVA'!$N86)+V$12*LOG('Grunddaten-IVA'!$G86)+V$13*LOG('Grunddaten-IVA'!$L86)","v":{"$error":"#NUM!"}},{"$f":"W$10+W$11*LOG('Grunddaten-IVA'!$N86)+W$12*LOG('Grunddaten-IVA'!$G86)+W$13*LOG('Grunddaten-IVA'!$L86)","v":{"$error":"#NUM!"}},{"$f":"X$10+X$11*LOG('Grunddaten-IVA'!$N86)+X$12*LOG('Grunddaten-IVA'!$G86)+X$13*LOG('Grunddaten-IVA'!$L86)","v":{"$error":"#NUM!"}},{"$f":"Y$10+Y$11*LOG('Grunddaten-IVA'!$N86)+Y$12*LOG('Grunddaten-IVA'!$G86)+Y$13*LOG('Grunddaten-IVA'!$L86)","v":{"$error":"#NUM!"}},{"$f":"Z$10+Z$11*LOG('Grunddaten-IVA'!$N86)+Z$12*LOG('Grunddaten-IVA'!$G86)+Z$13*LOG('Grunddaten-IVA'!$L86)","v":{"$error":"#NUM!"}},{"$error":"#NUM!"}]
[null,null,null,null,null,{"$f":"F$10+F$11*LOG('Grunddaten-IVA'!$N87)+F$12*LOG('Grunddaten-IVA'!$G87)+F$13*LOG('Grunddaten-IVA'!$L87)","v":{"$error":"#NUM!"}},{"$f":"G$10+G$11*LOG('Grunddaten-IVA'!$N87)+G$12*LOG('Grunddaten-IVA'!$G87)+G$13*LOG('Grunddaten-IVA'!$L87)","v":{"$error":"#NUM!"}},{"$f":"H$10+H$11*LOG('Grunddaten-IVA'!$N87)+H$12*LOG('Grunddaten-IVA'!$G87)+H$13*LOG('Grunddaten-IVA'!$L87)","v":{"$error":"#NUM!"}},{"$f":"I$10+I$11*LOG('Grunddaten-IVA'!$N87)+I$12*LOG('Grunddaten-IVA'!$G87)+I$13*LOG('Grunddaten-IVA'!$L87)","v":{"$error":"#NUM!"}},{"$f":"J$10+J$11*LOG('Grunddaten-IVA'!$N87)+J$12*LOG('Grunddaten-IVA'!$G87)+J$13*LOG('Grunddaten-IVA'!$L87)","v":{"$error":"#NUM!"}},{"$f":"K$10+K$11*LOG('Grunddaten-IVA'!$N87)+K$12*LOG('Grunddaten-IVA'!$G87)+K$13*LOG('Grunddaten-IVA'!$L87)","v":{"$error":"#NUM!"}},{"$f":"L$10+L$11*LOG('Grunddaten-IVA'!$N87)+L$12*LOG('Grunddaten-IVA'!$G87)+L$13*LOG('Grunddaten-IVA'!$L87)","v":{"$error":"#NUM!"}},{"$f":"M$10+M$11*LOG('Grunddaten-IVA'!$N87)+M$12*LOG('Grunddaten-IVA'!$G87)+M$13*LOG('Grunddaten-IVA'!$L87)","v":{"$error":"#NUM!"}},{"$f":"N$10+N$11*LOG('Grunddaten-IVA'!$N87)+N$12*LOG('Grunddaten-IVA'!$G87)+N$13*LOG('Grunddaten-IVA'!$L87)","v":{"$error":"#NUM!"}},{"$f":"O$10+O$11*LOG('Grunddaten-IVA'!$N87)+O$12*LOG('Grunddaten-IVA'!$G87)+O$13*LOG('Grunddaten-IVA'!$L87)","v":{"$error":"#NUM!"}},{"$f":"P$10+P$11*LOG('Grunddaten-IVA'!$N87)+P$12*LOG('Grunddaten-IVA'!$G87)+P$13*LOG('Grunddaten-IVA'!$L87)","v":{"$error":"#NUM!"}},{"$f":"Q$10+Q$11*LOG('Grunddaten-IVA'!$N87)+Q$12*LOG('Grunddaten-IVA'!$G87)+Q$13*LOG('Grunddaten-IVA'!$L87)","v":{"$error":"#NUM!"}},{"$f":"R$10+R$11*LOG('Grunddaten-IVA'!$N87)+R$12*LOG('Grunddaten-IVA'!$G87)+R$13*LOG('Grunddaten-IVA'!$L87)","v":{"$error":"#NUM!"}},{"$f":"S$10+S$11*LOG('Grunddaten-IVA'!$N87)+S$12*LOG('Grunddaten-IVA'!$G87)+S$13*LOG('Grunddaten-IVA'!$L87)","v":{"$error":"#NUM!"}},{"$f":"T$10+T$11*LOG('Grunddaten-IVA'!$N87)+T$12*LOG('Grunddaten-IVA'!$G87)+T$13*LOG('Grunddaten-IVA'!$L87)","v":{"$error":"#NUM!"}},{"$f":"U$10+U$11*LOG('Grunddaten-IVA'!$N87)+U$12*LOG('Grunddaten-IVA'!$G87)+U$13*LOG('Grunddaten-IVA'!$L87)","v":{"$error":"#NUM!"}},{"$f":"V$10+V$11*LOG('Grunddaten-IVA'!$N87)+V$12*LOG('Grunddaten-IVA'!$G87)+V$13*LOG('Grunddaten-IVA'!$L87)","v":{"$error":"#NUM!"}},{"$f":"W$10+W$11*LOG('Grunddaten-IVA'!$N87)+W$12*LOG('Grunddaten-IVA'!$G87)+W$13*LOG('Grunddaten-IVA'!$L87)","v":{"$error":"#NUM!"}},{"$f":"X$10+X$11*LOG('Grunddaten-IVA'!$N87)+X$12*LOG('Grunddaten-IVA'!$G87)+X$13*LOG('Grunddaten-IVA'!$L87)","v":{"$error":"#NUM!"}},{"$f":"Y$10+Y$11*LOG('Grunddaten-IVA'!$N87)+Y$12*LOG('Grunddaten-IVA'!$G87)+Y$13*LOG('Grunddaten-IVA'!$L87)","v":{"$error":"#NUM!"}},{"$f":"Z$10+Z$11*LOG('Grunddaten-IVA'!$N87)+Z$12*LOG('Grunddaten-IVA'!$G87)+Z$13*LOG('Grunddaten-IVA'!$L87)","v":{"$error":"#NUM!"}},{"$error":"#NUM!"}]
[null,null,null,null,null,{"$f":"F$10+F$11*LOG('Grunddaten-IVA'!$N88)+F$12*LOG('Grunddaten-IVA'!$G88)+F$13*LOG('Grunddaten-IVA'!$L88)","v":{"$error":"#NUM!"}},{"$f":"G$10+G$11*LOG('Grunddaten-IVA'!$N88)+G$12*LOG('Grunddaten-IVA'!$G88)+G$13*LOG('Grunddaten-IVA'!$L88)","v":{"$error":"#NUM!"}},{"$f":"H$10+H$11*LOG('Grunddaten-IVA'!$N88)+H$12*LOG('Grunddaten-IVA'!$G88)+H$13*LOG('Grunddaten-IVA'!$L88)","v":{"$error":"#NUM!"}},{"$f":"I$10+I$11*LOG('Grunddaten-IVA'!$N88)+I$12*LOG('Grunddaten-IVA'!$G88)+I$13*LOG('Grunddaten-IVA'!$L88)","v":{"$error":"#NUM!"}},{"$f":"J$10+J$11*LOG('Grunddaten-IVA'!$N88)+J$12*LOG('Grunddaten-IVA'!$G88)+J$13*LOG('Grunddaten-IVA'!$L88)","v":{"$error":"#NUM!"}},{"$f":"K$10+K$11*LOG('Grunddaten-IVA'!$N88)+K$12*LOG('Grunddaten-IVA'!$G88)+K$13*LOG('Grunddaten-IVA'!$L88)","v":{"$error":"#NUM!"}},{"$f":"L$10+L$11*LOG('Grunddaten-IVA'!$N88)+L$12*LOG('Grunddaten-IVA'!$G88)+L$13*LOG('Grunddaten-IVA'!$L88)","v":{"$error":"#NUM!"}},{"$f":"M$10+M$11*LOG('Grunddaten-IVA'!$N88)+M$12*LOG('Grunddaten-IVA'!$G88)+M$13*LOG('Grunddaten-IVA'!$L88)","v":{"$error":"#NUM!"}},{"$f":"N$10+N$11*LOG('Grunddaten-IVA'!$N88)+N$12*LOG('Grunddaten-IVA'!$G88)+N$13*LOG('Grunddaten-IVA'!$L88)","v":{"$error":"#NUM!"}},{"$f":"O$10+O$11*LOG('Grunddaten-IVA'!$N88)+O$12*LOG('Grunddaten-IVA'!$G88)+O$13*LOG('Grunddaten-IVA'!$L88)","v":{"$error":"#NUM!"}},{"$f":"P$10+P$11*LOG('Grunddaten-IVA'!$N88)+P$12*LOG('Grunddaten-IVA'!$G88)+P$13*LOG('Grunddaten-IVA'!$L88)","v":{"$error":"#NUM!"}},{"$f":"Q$10+Q$11*LOG('Grunddaten-IVA'!$N88)+Q$12*LOG('Grunddaten-IVA'!$G88)+Q$13*LOG('Grunddaten-IVA'!$L88)","v":{"$error":"#NUM!"}},{"$f":"R$10+R$11*LOG('Grunddaten-IVA'!$N88)+R$12*LOG('Grunddaten-IVA'!$G88)+R$13*LOG('Grunddaten-IVA'!$L88)","v":{"$error":"#NUM!"}},{"$f":"S$10+S$11*LOG('Grunddaten-IVA'!$N88)+S$12*LOG('Grunddaten-IVA'!$G88)+S$13*LOG('Grunddaten-IVA'!$L88)","v":{"$error":"#NUM!"}},{"$f":"T$10+T$11*LOG('Grunddaten-IVA'!$N88)+T$12*LOG('Grunddaten-IVA'!$G88)+T$13*LOG('Grunddaten-IVA'!$L88)","v":{"$error":"#NUM!"}},{"$f":"U$10+U$11*LOG('Grunddaten-IVA'!$N88)+U$12*LOG('Grunddaten-IVA'!$G88)+U$13*LOG('Grunddaten-IVA'!$L88)","v":{"$error":"#NUM!"}},{"$f":"V$10+V$11*LOG('Grunddaten-IVA'!$N88)+V$12*LOG('Grunddaten-IVA'!$G88)+V$13*LOG('Grunddaten-IVA'!$L88)","v":{"$error":"#NUM!"}},{"$f":"W$10+W$11*LOG('Grunddaten-IVA'!$N88)+W$12*LOG('Grunddaten-IVA'!$G88)+W$13*LOG('Grunddaten-IVA'!$L88)","v":{"$error":"#NUM!"}},{"$f":"X$10+X$11*LOG('Grunddaten-IVA'!$N88)+X$12*LOG('Grunddaten-IVA'!$G88)+X$13*LOG('Grunddaten-IVA'!$L88)","v":{"$error":"#NUM!"}},{"$f":"Y$10+Y$11*LOG('Grunddaten-IVA'!$N88)+Y$12*LOG('Grunddaten-IVA'!$G88)+Y$13*LOG('Grunddaten-IVA'!$L88)","v":{"$error":"#NUM!"}},{"$f":"Z$10+Z$11*LOG('Grunddaten-IVA'!$N88)+Z$12*LOG('Grunddaten-IVA'!$G88)+Z$13*LOG('Grunddaten-IVA'!$L88)","v":{"$error":"#NUM!"}},{"$error":"#NUM!"}]
[null,null,null,null,null,{"$f":"F$10+F$11*LOG('Grunddaten-IVA'!$N89)+F$12*LOG('Grunddaten-IVA'!$G89)+F$13*LOG('Grunddaten-IVA'!$L89)","v":{"$error":"#NUM!"}},{"$f":"G$10+G$11*LOG('Grunddaten-IVA'!$N89)+G$12*LOG('Grunddaten-IVA'!$G89)+G$13*LOG('Grunddaten-IVA'!$L89)","v":{"$error":"#NUM!"}},{"$f":"H$10+H$11*LOG('Grunddaten-IVA'!$N89)+H$12*LOG('Grunddaten-IVA'!$G89)+H$13*LOG('Grunddaten-IVA'!$L89)","v":{"$error":"#NUM!"}},{"$f":"I$10+I$11*LOG('Grunddaten-IVA'!$N89)+I$12*LOG('Grunddaten-IVA'!$G89)+I$13*LOG('Grunddaten-IVA'!$L89)","v":{"$error":"#NUM!"}},{"$f":"J$10+J$11*LOG('Grunddaten-IVA'!$N89)+J$12*LOG('Grunddaten-IVA'!$G89)+J$13*LOG('Grunddaten-IVA'!$L89)","v":{"$error":"#NUM!"}},{"$f":"K$10+K$11*LOG('Grunddaten-IVA'!$N89)+K$12*LOG('Grunddaten-IVA'!$G89)+K$13*LOG('Grunddaten-IVA'!$L89)","v":{"$error":"#NUM!"}},{"$f":"L$10+L$11*LOG('Grunddaten-IVA'!$N89)+L$12*LOG('Grunddaten-IVA'!$G89)+L$13*LOG('Grunddaten-IVA'!$L89)","v":{"$error":"#NUM!"}},{"$f":"M$10+M$11*LOG('Grunddaten-IVA'!$N89)+M$12*LOG('Grunddaten-IVA'!$G89)+M$13*LOG('Grunddaten-IVA'!$L89)","v":{"$error":"#NUM!"}},{"$f":"N$10+N$11*LOG('Grunddaten-IVA'!$N89)+N$12*LOG('Grunddaten-IVA'!$G89)+N$13*LOG('Grunddaten-IVA'!$L89)","v":{"$error":"#NUM!"}},{"$f":"O$10+O$11*LOG('Grunddaten-IVA'!$N89)+O$12*LOG('Grunddaten-IVA'!$G89)+O$13*LOG('Grunddaten-IVA'!$L89)","v":{"$error":"#NUM!"}},{"$f":"P$10+P$11*LOG('Grunddaten-IVA'!$N89)+P$12*LOG('Grunddaten-IVA'!$G89)+P$13*LOG('Grunddaten-IVA'!$L89)","v":{"$error":"#NUM!"}},{"$f":"Q$10+Q$11*LOG('Grunddaten-IVA'!$N89)+Q$12*LOG('Grunddaten-IVA'!$G89)+Q$13*LOG('Grunddaten-IVA'!$L89)","v":{"$error":"#NUM!"}},{"$f":"R$10+R$11*LOG('Grunddaten-IVA'!$N89)+R$12*LOG('Grunddaten-IVA'!$G89)+R$13*LOG('Grunddaten-IVA'!$L89)","v":{"$error":"#NUM!"}},{"$f":"S$10+S$11*LOG('Grunddaten-IVA'!$N89)+S$12*LOG('Grunddaten-IVA'!$G89)+S$13*LOG('Grunddaten-IVA'!$L89)","v":{"$error":"#NUM!"}},{"$f":"T$10+T$11*LOG('Grunddaten-IVA'!$N89)+T$12*LOG('Grunddaten-IVA'!$G89)+T$13*LOG('Grunddaten-IVA'!$L89)","v":{"$error":"#NUM!"}},{"$f":"U$10+U$11*LOG('Grunddaten-IVA'!$N89)+U$12*LOG('Grunddaten-IVA'!$G89)+U$13*LOG('Grunddaten-IVA'!$L89)","v":{"$error":"#NUM!"}},{"$f":"V$10+V$11*LOG('Grunddaten-IVA'!$N89)+V$12*LOG('Grunddaten-IVA'!$G89)+V$13*LOG('Grunddaten-IVA'!$L89)","v":{"$error":"#NUM!"}},{"$f":"W$10+W$11*LOG('Grunddaten-IVA'!$N89)+W$12*LOG('Grunddaten-IVA'!$G89)+W$13*LOG('Grunddaten-IVA'!$L89)","v":{"$error":"#NUM!"}},{"$f":"X$10+X$11*LOG('Grunddaten-IVA'!$N89)+X$12*LOG('Grunddaten-IVA'!$G89)+X$13*LOG('Grunddaten-IVA'!$L89)","v":{"$error":"#NUM!"}},{"$f":"Y$10+Y$11*LOG('Grunddaten-IVA'!$N89)+Y$12*LOG('Grunddaten-IVA'!$G89)+Y$13*LOG('Grunddaten-IVA'!$L89)","v":{"$error":"#NUM!"}},{"$f":"Z$10+Z$11*LOG('Grunddaten-IVA'!$N89)+Z$12*LOG('Grunddaten-IVA'!$G89)+Z$13*LOG('Grunddaten-IVA'!$L89)","v":{"$error":"#NUM!"}},{"$error":"#NUM!"}]
[null,null,null,null,null,{"$f":"F$10+F$11*LOG('Grunddaten-IVA'!$N90)+F$12*LOG('Grunddaten-IVA'!$G90)+F$13*LOG('Grunddaten-IVA'!$L90)","v":{"$error":"#NUM!"}},{"$f":"G$10+G$11*LOG('Grunddaten-IVA'!$N90)+G$12*LOG('Grunddaten-IVA'!$G90)+G$13*LOG('Grunddaten-IVA'!$L90)","v":{"$error":"#NUM!"}},{"$f":"H$10+H$11*LOG('Grunddaten-IVA'!$N90)+H$12*LOG('Grunddaten-IVA'!$G90)+H$13*LOG('Grunddaten-IVA'!$L90)","v":{"$error":"#NUM!"}},{"$f":"I$10+I$11*LOG('Grunddaten-IVA'!$N90)+I$12*LOG('Grunddaten-IVA'!$G90)+I$13*LOG('Grunddaten-IVA'!$L90)","v":{"$error":"#NUM!"}},{"$f":"J$10+J$11*LOG('Grunddaten-IVA'!$N90)+J$12*LOG('Grunddaten-IVA'!$G90)+J$13*LOG('Grunddaten-IVA'!$L90)","v":{"$error":"#NUM!"}},{"$f":"K$10+K$11*LOG('Grunddaten-IVA'!$N90)+K$12*LOG('Grunddaten-IVA'!$G90)+K$13*LOG('Grunddaten-IVA'!$L90)","v":{"$error":"#NUM!"}},{"$f":"L$10+L$11*LOG('Grunddaten-IVA'!$N90)+L$12*LOG('Grunddaten-IVA'!$G90)+L$13*LOG('Grunddaten-IVA'!$L90)","v":{"$error":"#NUM!"}},{"$f":"M$10+M$11*LOG('Grunddaten-IVA'!$N90)+M$12*LOG('Grunddaten-IVA'!$G90)+M$13*LOG('Grunddaten-IVA'!$L90)","v":{"$error":"#NUM!"}},{"$f":"N$10+N$11*LOG('Grunddaten-IVA'!$N90)+N$12*LOG('Grunddaten-IVA'!$G90)+N$13*LOG('Grunddaten-IVA'!$L90)","v":{"$error":"#NUM!"}},{"$f":"O$10+O$11*LOG('Grunddaten-IVA'!$N90)+O$12*LOG('Grunddaten-IVA'!$G90)+O$13*LOG('Grunddaten-IVA'!$L90)","v":{"$error":"#NUM!"}},{"$f":"P$10+P$11*LOG('Grunddaten-IVA'!$N90)+P$12*LOG('Grunddaten-IVA'!$G90)+P$13*LOG('Grunddaten-IVA'!$L90)","v":{"$error":"#NUM!"}},{"$f":"Q$10+Q$11*LOG('Grunddaten-IVA'!$N90)+Q$12*LOG('Grunddaten-IVA'!$G90)+Q$13*LOG('Grunddaten-IVA'!$L90)","v":{"$error":"#NUM!"}},{"$f":"R$10+R$11*LOG('Grunddaten-IVA'!$N90)+R$12*LOG('Grunddaten-IVA'!$G90)+R$13*LOG('Grunddaten-IVA'!$L90)","v":{"$error":"#NUM!"}},{"$f":"S$10+S$11*LOG('Grunddaten-IVA'!$N90)+S$12*LOG('Grunddaten-IVA'!$G90)+S$13*LOG('Grunddaten-IVA'!$L90)","v":{"$error":"#NUM!"}},{"$f":"T$10+T$11*LOG('Grunddaten-IVA'!$N90)+T$12*LOG('Grunddaten-IVA'!$G90)+T$13*LOG('Grunddaten-IVA'!$L90)","v":{"$error":"#NUM!"}},{"$f":"U$10+U$11*LOG('Grunddaten-IVA'!$N90)+U$12*LOG('Grunddaten-IVA'!$G90)+U$13*LOG('Grunddaten-IVA'!$L90)","v":{"$error":"#NUM!"}},{"$f":"V$10+V$11*LOG('Grunddaten-IVA'!$N90)+V$12*LOG('Grunddaten-IVA'!$G90)+V$13*LOG('Grunddaten-IVA'!$L90)","v":{"$error":"#NUM!"}},{"$f":"W$10+W$11*LOG('Grunddaten-IVA'!$N90)+W$12*LOG('Grunddaten-IVA'!$G90)+W$13*LOG('Grunddaten-IVA'!$L90)","v":{"$error":"#NUM!"}},{"$f":"X$10+X$11*LOG('Grunddaten-IVA'!$N90)+X$12*LOG('Grunddaten-IVA'!$G90)+X$13*LOG('Grunddaten-IVA'!$L90)","v":{"$error":"#NUM!"}},{"$f":"Y$10+Y$11*LOG('Grunddaten-IVA'!$N90)+Y$12*LOG('Grunddaten-IVA'!$G90)+Y$13*LOG('Grunddaten-IVA'!$L90)","v":{"$error":"#NUM!"}},{"$f":"Z$10+Z$11*LOG('Grunddaten-IVA'!$N90)+Z$12*LOG('Grunddaten-IVA'!$G90)+Z$13*LOG('Grunddaten-IVA'!$L90)","v":{"$error":"#NUM!"}},{"$error":"#NUM!"}]
[null,null,null,null,null,{"$f":"F$10+F$11*LOG('Grunddaten-IVA'!$N91)+F$12*LOG('Grunddaten-IVA'!$G91)+F$13*LOG('Grunddaten-IVA'!$L91)","v":{"$error":"#NUM!"}},{"$f":"G$10+G$11*LOG('Grunddaten-IVA'!$N91)+G$12*LOG('Grunddaten-IVA'!$G91)+G$13*LOG('Grunddaten-IVA'!$L91)","v":{"$error":"#NUM!"}},{"$f":"H$10+H$11*LOG('Grunddaten-IVA'!$N91)+H$12*LOG('Grunddaten-IVA'!$G91)+H$13*LOG('Grunddaten-IVA'!$L91)","v":{"$error":"#NUM!"}},{"$f":"I$10+I$11*LOG('Grunddaten-IVA'!$N91)+I$12*LOG('Grunddaten-IVA'!$G91)+I$13*LOG('Grunddaten-IVA'!$L91)","v":{"$error":"#NUM!"}},{"$f":"J$10+J$11*LOG('Grunddaten-IVA'!$N91)+J$12*LOG('Grunddaten-IVA'!$G91)+J$13*LOG('Grunddaten-IVA'!$L91)","v":{"$error":"#NUM!"}},{"$f":"K$10+K$11*LOG('Grunddaten-IVA'!$N91)+K$12*LOG('Grunddaten-IVA'!$G91)+K$13*LOG('Grunddaten-IVA'!$L91)","v":{"$error":"#NUM!"}},{"$f":"L$10+L$11*LOG('Grunddaten-IVA'!$N91)+L$12*LOG('Grunddaten-IVA'!$G91)+L$13*LOG('Grunddaten-IVA'!$L91)","v":{"$error":"#NUM!"}},{"$f":"M$10+M$11*LOG('Grunddaten-IVA'!$N91)+M$12*LOG('Grunddaten-IVA'!$G91)+M$13*LOG('Grunddaten-IVA'!$L91)","v":{"$error":"#NUM!"}},{"$f":"N$10+N$11*LOG('Grunddaten-IVA'!$N91)+N$12*LOG('Grunddaten-IVA'!$G91)+N$13*LOG('Grunddaten-IVA'!$L91)","v":{"$error":"#NUM!"}},{"$f":"O$10+O$11*LOG('Grunddaten-IVA'!$N91)+O$12*LOG('Grunddaten-IVA'!$G91)+O$13*LOG('Grunddaten-IVA'!$L91)","v":{"$error":"#NUM!"}},{"$f":"P$10+P$11*LOG('Grunddaten-IVA'!$N91)+P$12*LOG('Grunddaten-IVA'!$G91)+P$13*LOG('Grunddaten-IVA'!$L91)","v":{"$error":"#NUM!"}},{"$f":"Q$10+Q$11*LOG('Grunddaten-IVA'!$N91)+Q$12*LOG('Grunddaten-IVA'!$G91)+Q$13*LOG('Grunddaten-IVA'!$L91)","v":{"$error":"#NUM!"}},{"$f":"R$10+R$11*LOG('Grunddaten-IVA'!$N91)+R$12*LOG('Grunddaten-IVA'!$G91)+R$13*LOG('Grunddaten-IVA'!$L91)","v":{"$error":"#NUM!"}},{"$f":"S$10+S$11*LOG('Grunddaten-IVA'!$N91)+S$12*LOG('Grunddaten-IVA'!$G91)+S$13*LOG('Grunddaten-IVA'!$L91)","v":{"$error":"#NUM!"}},{"$f":"T$10+T$11*LOG('Grunddaten-IVA'!$N91)+T$12*LOG('Grunddaten-IVA'!$G91)+T$13*LOG('Grunddaten-IVA'!$L91)","v":{"$error":"#NUM!"}},{"$f":"U$10+U$11*LOG('Grunddaten-IVA'!$N91)+U$12*LOG('Grunddaten-IVA'!$G91)+U$13*LOG('Grunddaten-IVA'!$L91)","v":{"$error":"#NUM!"}},{"$f":"V$10+V$11*LOG('Grunddaten-IVA'!$N91)+V$12*LOG('Grunddaten-IVA'!$G91)+V$13*LOG('Grunddaten-IVA'!$L91)","v":{"$error":"#NUM!"}},{"$f":"W$10+W$11*LOG('Grunddaten-IVA'!$N91)+W$12*LOG('Grunddaten-IVA'!$G91)+W$13*LOG('Grunddaten-IVA'!$L91)","v":{"$error":"#NUM!"}},{"$f":"X$10+X$11*LOG('Grunddaten-IVA'!$N91)+X$12*LOG('Grunddaten-IVA'!$G91)+X$13*LOG('Grunddaten-IVA'!$L91)","v":{"$error":"#NUM!"}},{"$f":"Y$10+Y$11*LOG('Grunddaten-IVA'!$N91)+Y$12*LOG('Grunddaten-IVA'!$G91)+Y$13*LOG('Grunddaten-IVA'!$L91)","v":{"$error":"#NUM!"}},{"$f":"Z$10+Z$11*LOG('Grunddaten-IVA'!$N91)+Z$12*LOG('Grunddaten-IVA'!$G91)+Z$13*LOG('Grunddaten-IVA'!$L91)","v":{"$error":"#NUM!"}},{"$error":"#NUM!"}]

{"sheet":"Auslegung-IVA","index":25,"n_rows":107,"n_cols":12,"rows_kept":107,"cut":false,"hidden":true,"merged":[[19,3,19,4],[0,0,0,3],[5,0,5,4],[6,3,6,4],[7,3,7,4],[11,3,11,4],[41,3,41,4],[20,3,20,4],[21,3,21,4],[22,3,22,4],[23,3,23,4],[24,3,24,4],[25,3,25,4],[26,3,26,4],[27,3,27,4],[28,3,28,4],[39,0,39,4],[40,3,40,4],[83,3,83,4],[79,3,79,4],[42,3,42,4],[43,3,43,4],[44,3,44,4],[45,3,45,4],[46,3,46,4],[48,0,48,4],[49,3,49,4],[74,3,74,4],[77,3,77,4],[81,3,81,4],[82,3,82,4],[85,3,85,4],[87,3,87,4],[88,3,88,4],[89,3,89,4],[90,3,90,4]]}
[{"$f":"Übersetzung!F5","v":"Auslegung Kampmann Industrieluftdurchlässe"}]
[]
[{"$f":"Übersetzung!F6","v":"Eingabefelder sind gelb gekennzeichnet"}]
[{"$f":"Übersetzung!F7","v":"Ergebnisfelder sind blau gekennzeichnet"}]
[]
[{"$f":"Übersetzung!F8","v":"Vorgaben"}]
[{"$f":"Übersetzung!F9","v":"Lüftungstechnik"},{"$f":"Übersetzung!F10","v":"Symbol"},{"$f":"Übersetzung!F11","v":"Einheit"},{"$f":"Übersetzung!F12","v":"Wert"}]
["Bezeichung","Symbol","Einheit"]
[null,"L","mm"]
[null,"L","mm"]
[null,"L","mm"]
[{"$f":"Übersetzung!F13","v":"Durchlass Typ"},null,null,"IVA"]
[null,null,null,"IVA"]
[]
[]
[]
[]
[null,null,null,630]
[]
[{"$f":"Übersetzung!F46","v":"Nenndurchmesser"},"DN","[-]",400]
[null,null,null,250]
[null,null,null,315]
[null,null,null,355]
[null,null,null,400]
[null,null,null,450]
[null,null,null,500]
[null,null,null,560]
[null,null,null,630]
[{"$f":"Übersetzung!F16","v":"Luftvolumenstrom"},"V·SUP",{"$f":"Einheiten!$L$7","v":"m³/h"},4000]
[{"$f":"Übersetzung!F82","v":"Temperaturvorgabe Kühlfall / Heizfall"},"aK / aH","[°]","Kühlfall","Heizfall"]
[null,null,null,"Kühlfall","Heizfall"]
[]
[]
[]
[]
[]
["max. Luftgeschwindigkeit im Aufenthaltsbereich","vMax","m/s",0.2]
[{"$f":"Übersetzung!F18","v":"Temperatur Zuluft"},"tSUP",{"$f":"Einheiten!$L$9","v":"°C"},18,30]
[{"$f":"Übersetzung!F19","v":"Temperatur Raum"},"tRaum",{"$f":"Einheiten!$L$9","v":"°C"},26,20]
[{"$f":"Übersetzung!F20","v":"Raumdaten"}]
[{"$f":"Übersetzung!F21","v":"Montagehöhe"},"H1",{"$f":"Einheiten!$L$5","v":"m"},3]
[{"$f":"Übersetzung!F22","v":"Obergrenze Aufenthaltsbereich"},"H2",{"$f":"Einheiten!$L$5","v":"m"},1.8]
[{"$f":"Übersetzung!F23","v":"Raumlänge"},"LR",{"$f":"Einheiten!$L$5","v":"m"},100]
[{"$f":"Übersetzung!F24","v":"Raumbreite"},"BR",{"$f":"Einheiten!$L$5","v":"m"},100]
[{"$f":"Übersetzung!F25","v":"Raumhöhe"},"HR",{"$f":"Einheiten!$L$5","v":"m"},12]
["Abstand Durchlass zur nächstgelegenen Wand","a","m",5]
["kleinster Abstand zwischen 2 Durchlässen","smin","m",8]
[]
["Akustikdaten"]
["Raumart nach VDI 2081",null,null,"Großraumbüro",null,null,null,null,7,"Maximaler Volumenstrom",{"$f":"'Grunddaten-L'!$I$33","v":1700},"m³/h"]
[null,null,"Einzelbüro",null,null,null,null,null,5,"min. Abmessung Frontblende rund",null,"mm"]
[null,null,"Großraumbüro"]
[null,null,"Werkstätten"]
[null,null,"Ruheraum, Pausenraum"]
[null,null,"Untersuchungsraum Krankenhaus"]
[null,null,"Rundfunk-, Fernsehstudio"]
[null,null,"Chemielabor"]
[null,null,"Wasch- und WC-Raum, Umkleide"]
[null,null,"Schwimmbad"]
[null,null,"EDV-Raum"]
[null,null,"Konzertsaal"]
[null,null,"Lesesaal"]
[null,null,"Museum"]
[null,null,"Küche"]
[null,null,"Theater, Kino"]
[null,null,"Klassen- Seminarraum"]
[null,null,"Gaststätte"]
[null,null,"kein Typ"]
[null,null,"Konferenzraum"]
[null,null,"Hotelzimmer"]
[null,null,"Hörsaal"]
[null,null,"Bettenzimmer Krankenhaus"]
[null,null,"Verkaufsraum"]
[null,"","Sporthalle"]
["Betrachteter Durchlass",null,null,"Zuluft"]
[null,null,null,"Zuluft"]
[null,null,null,"Abluft"]
["Abstand zur Schallquelle","r","m",3]
[{"$f":"Übersetzung!F26","v":"Berechnung strömungstechnische und Akustische Daten"},null,null,"Kühlfall","Heizfall"]
[{"$f":"Übersetzung!F27","v":"Totaldruckverlust"},"Dpt",{"$f":"Einheiten!$L$8","v":"Pa"},{"$f":"IF(Einheiten!$F$2=3,FIXED(Einheiten!$E$69,3,TRUE),FIXED(Einheiten!$E$69,0,TRUE))","v":"82"}]
[{"$f":"Übersetzung!F83","v":"Horizontale Wurfweite"},"xhor",{"$f":"Einheiten!$L$5","v":"m"},{"$f":"Einheiten!$E$70","v":3.1491720852645066}]
["Laufweg bis Fußbodenbereich","xx",{"$f":"Einheiten!$L$5","v":"m"},{"$f":"xkr._vx!L24","v":18.5}]
["Laufweg bis Aufenthaltsbereich nach Stoßpunkt","xx+y",{"$f":"Einheiten!$L$5","v":"m"}]
["Laufweg bis Aufenthaltsbereich nach xkrit","xxkr",{"$f":"Einheiten!$L$5","v":"m"}]
["Geschwindigkeit im Aufenthaltsbereich","vx1",{"$f":"Einheiten!$L$5","v":"m"},{"$f":"IF('vx_vy LDI'!$E$32<0.12,\"<0,12\",'vx_vy LDI'!$E$32)","v":0.16712715254911567}]
[{"$f":"IF(D38>D39,\"\",\"Zugluftrisiko am Fußboden**\")","v":"Zugluftrisiko am Fußboden**"},"DR1",{"$f":"Einheiten!$L$5","v":"m"}]
[{"$f":"Übersetzung!F54","v":"Vertikale Eindringtiefe"},"Ymax",{"$f":"Einheiten!$L$5","v":"m"},null,{"$f":"Einheiten!$E$71","v":15.099308505792695}]
[{"$f":"IF(D38>D39,\"\",\"Zugluftrisiko im Aufenthaltsbereich**\")","v":"Zugluftrisiko im Aufenthaltsbereich**"},"DR2","%"]
[{"$f":"IF(D38>D39,\"\",\"Geschwindigkeit nach Ablösen an Xkr.\")","v":"Geschwindigkeit nach Ablösen an Xkr."},"vx3","m/s"]
[{"$f":"IF(D38>D39,\"\",\"Zugluftrisiko nach Ablösepunkt**\")","v":"Zugluftrisiko nach Ablösepunkt**"},"DR3","%"]
["Resultierende Raumkategorie","RAL","[-]",{"$f":"IF(D75=\"Zuluft\",IF(D38>D39,\"\",IF(AND($D$86<9.95,$D$88<9.95,OR($D$90=\"\",$D$90<9.95)),\"A\",IF(AND($D$86<19.95,$D$88<19.95,OR($D$90=\"\",$D$90<19.95)),\"B\",IF(AND($D$86<29.95,$D$88<29.95,OR($D$90=\"\",$D$90<29.95)),\"C\",\"Außerhalb C\")))),\"\")","v":"A"}]
[{"$f":"Übersetzung!F33","v":"Schallleistungspegel, Einzeldurchlass"},"LWA_SUP/ETA","dB(A)",{"$f":"IF('LW-IVA'!AA16<25,\"<25\",'LW-IVA'!AA16)","v":59.288790630188359},{"$f":"IF('LW-IVA'!AA15<25,\"<25\",'LW-IVA'!AA15)","v":56.75136963934446}]
[]
[]
[]
[{"$f":"Übersetzung!F34","v":"Oktavspektrum Schallleistung [dB]"},"LW_Okt","dB"]
[null,"LW_125","dB",{"$f":"IF($D$92=\"<25\",\"\",'LW-IVA'!$G$22)","v":53.929676044021726},{"$f":"IF($E$92=\"<25\",\"\",'LW-IVA'!$G$21)","v":53.852825308186418},null,null,null,null,{"$f":"Übersetzung!F84","v":"Abmessungen und Einsatzbereich"}]
[null,"LW_250","dB",{"$f":"IF($D$92=\"<25\",\"\",'LW-IVA'!$H$22)","v":55.211301539383868},{"$f":"IF($E$92=\"<25\",\"\",'LW-IVA'!$H$21)","v":53.362938332640411},null,null,null,1,{"$f":"Übersetzung!F46","v":"Nenndurchmesser"},{"$f":"IF(Einheiten!$F$2=3,FIXED('Grunddaten-IVA'!$E$33,1,TRUE),FIXED('Grunddaten-IVA'!$E$33,0,TRUE))","v":"398"},{"$f":"Einheiten!$L$10","v":"mm"}]
[null,"LW_500","dB",{"$f":"IF($D$92=\"<25\",\"\",'LW-IVA'!$I$22)","v":56.35579904266703},{"$f":"IF($E$92=\"<25\",\"\",'LW-IVA'!$I$21)","v":53.407114662537467},null,null,null,2,{"$f":"Übersetzung!F42","v":"Durchmesser Anschlussstutzen"},{"$f":"IF(Einheiten!$F$2=3,FIXED('Grunddaten-IVA'!$J$33,1,TRUE),FIXED('Grunddaten-IVA'!$J$33,0,TRUE))","v":"398"},{"$f":"Einheiten!$L$10","v":"mm"}]
[null,"LW_1000","dB",{"$f":"IF($D$92=\"<25\",\"\",'LW-IVA'!$J$22)","v":56.149105028480093},{"$f":"IF($E$92=\"<25\",\"\",'LW-IVA'!$J$21)","v":53.617268884165775},null,null,null,2,{"$f":"Übersetzung!F39","v":"Minimaler Volumenstrom"},{"$f":"'Grunddaten-IVA'!$H$33","v":1400},{"$f":"Einheiten!$L$7","v":"m³/h"}]
[null,"LW_2000","dB",{"$f":"IF($D$92=\"<25\",\"\",'LW-IVA'!$K$22)","v":50.61658813763129},{"$f":"IF($E$92=\"<25\",\"\",'LW-IVA'!$K$21)","v":47.920399976194979},null,null,null,4,{"$f":"Übersetzung!F40","v":"Maximaler Volumenstrom"},{"$f":"'Grunddaten-IVA'!$I$33","v":4500},{"$f":"Einheiten!$L$7","v":"m³/h"}]
[null,"LW_4000","dB",{"$f":"IF($D$92=\"<25\",\"\",'LW-IVA'!$L$22)","v":42.841449729439802},{"$f":"IF($E$92=\"<25\",\"\",'LW-IVA'!$L$21)","v":41.558472183329854},null,null,null,5,{"$f":"Übersetzung!F85","v":"Empfohlene minimale Einbauhöhe"},{"$f":"'Grunddaten-IVA'!$L$33","v":4},{"$f":"Einheiten!$L$5","v":"m"}]
[null,"LW_8000","dB",{"$f":"IF($D$92=\"<25\",\"\",'LW-IVA'!$M$22)","v":34.257392708980092},{"$f":"IF($E$92=\"<25\",\"\",'LW-IVA'!$M$21)","v":35.607840621816372},null,null,null,6,{"$f":"Übersetzung!F41","v":"Empfohlene maximale Einbauhöhe"},{"$f":"'Grunddaten-IVA'!$M$33","v":13},{"$f":"Einheiten!$L$5","v":"m"}]
[]
[{"$f":"Übersetzung!F44","v":"Änderungen vorbehalten"}]
[{"$f":"Übersetzung!F45","v":"Stand:"}]
[{"$f":"'Grunddaten-IVA'!E36","v":"2020-10-30"}]

{"sheet":"Grunddaten-IVA","index":26,"n_rows":77,"n_cols":29,"rows_kept":77,"cut":false,"hidden":true,"merged":[[0,25,0,28],[1,19,1,23],[53,3,55,3],[56,3,58,3],[59,3,61,3],[51,3,52,3],[62,3,64,3],[65,3,67,3],[68,3,70,3],[71,3,73,3],[74,3,76,3]]}
["Typ","DN",null,"Höhe IVA","Durchmesser","Düsendurchmesser","Soll-Volumenstrom","V° Auslegung min","V° Auslegung max","Durchmesser Anschluss","Anströmgeschwindigkeit","Montagehöhe minimal","Montagehöhe maximal","Düsengeschwindigkeit","Totaldruckverlust","Kritischer Strahlweg","Kritischer Strahlweg","vertikale Eindringtiefe",null,null,null,null,null,null,null,"Vorauswahl zur Anzeige"]
[null,"Lochbild",null,"l","d ","d2","V°","V°min","V°max","d","v","hmin","hmax","v2","Dpt","xkrit","x","ymax",null,"Schallleistungspegel",null,null,null,null,"Auslass freigegeben?"]
[null,null,null,"mm","mm","mm","m³/h","m³/h","m³/h","mm","m/s","m","m","m/s","Pa","m","mm","m","kleiner als V°max?","K021","K022","dB","größer als 0dB(A)?","kleiner als LW,Amax?",null,null,null,{"$f":"IF(ROW(AA3)>COUNTA(AA:AA),\"\",INDEX(AA3:AA28,SMALL(IF(AA$4:AA$29<>\"\",ROW($4:$29)),ROW($AA3))))","v":{"$error":"#VALUE!"}}]
["IVA",250,{"$f":"CONCATENATE(A4,B4)","v":"IVA250"},785.5,248,158,{"$f":"Einheiten!$E$58","v":4000},700,2300,248,{"$f":"G4/(PI()/4*('Grunddaten-IVA'!J4/1000)^2*3600)","v":23.001928415408624},3,5,{"$f":"G4/(PI()*(F4/1000)^2/4*3600)","v":56.670029052286971},{"$f":"$N$39*N4^$N$40","v":506.02255103954093},{"$f":"(($S$39*N4^$S$41)/((Einheiten!$E$60-Einheiten!$E$59)^'Grunddaten-IVA'!$S$40))*'Grunddaten-IVA'!B4^'Grunddaten-IVA'!$S$42","v":1.2539461827962477},null,{"$f":"$V$39*N4^$V$41*(1/(Einheiten!$E$61-Einheiten!$E$62)^'Grunddaten-IVA'!$V$40)*'Grunddaten-IVA'!B4^'Grunddaten-IVA'!$V$42","v":19.151636166620943},{"$f":"IF(Vorauswahl!$D$8/Vorauswahl!$D$9<='Grunddaten-IVA'!$I4,\"x\",\"\")","v":{"$error":"#DIV/0!"}},null,null,{"$f":"'Lw LDI'!K126","v":375.30405322160016},{"$f":"IF(V4>0,\"x\",\"\")","v":"x"},{"$f":"IF(V4<=Vorauswahl!$D$12,\"x\",\"\")","v":""},"x",{"$f":"IF(AND(R4=\"x\",S4=\"x\",W4=\"x\",X4=\"x\",Y4=\"x\"),\"x\",\"\")","v":{"$error":"#DIV/0!"}},{"$f":"IF(Z4=\"x\",CONCATENATE(A4,\" DN \",B4),\"\")","v":{"$error":"#DIV/0!"}},{"$f":"IF(ROW(AA1)>COUNTA(AA:AA),\"\",INDEX(AA:AA,SMALL(IF(AA$1:AA$29<>\"\",ROW($1:$29)),ROW($AA1))))","v":{"$error":"#DIV/0!"}},{"$f":"IFERROR(AB4,\"\")","v":""}]
["IVA",315,{"$f":"CONCATENATE(A5,B5)","v":"IVA315"},785.5,313,198,{"$f":"Einheiten!$E$58","v":4000},900,2900,313,{"$f":"G5/(PI()/4*('Grunddaten-IVA'!J5/1000)^2*3600)","v":14.440390381256233},3,8,{"$f":"G5/(PI()*(F5/1000)^2/4*3600)","v":36.085874024622285},{"$f":"$N$39*N5^$N$40","v":203.26659663394668},{"$f":"(($S$39*N5^$S$41)/((Einheiten!$E$60-Einheiten!$E$59)^'Grunddaten-IVA'!$S$40))*'Grunddaten-IVA'!B5^'Grunddaten-IVA'!$S$42","v":1.7181686036975852},null,{"$f":"$V$39*N5^$V$41*(1/(Einheiten!$E$61-Einheiten!$E$62)^'Grunddaten-IVA'!$V$40)*'Grunddaten-IVA'!B5^'Grunddaten-IVA'!$V$42","v":16.9270659547097},{"$f":"IF(Vorauswahl!$D$8/Vorauswahl!$D$9<='Grunddaten-IVA'!$I5,\"x\",\"\")","v":{"$error":"#DIV/0!"}},null,null,{"$f":"'Lw LDI'!K127","v":52.787604417841514},{"$f":"IF(V5>0,\"x\",\"\")","v":"x"},{"$f":"IF(V5<=Vorauswahl!$D$12,\"x\",\"\")","v":""},"x",{"$f":"IF(AND(R5=\"x\",S5=\"x\",W5=\"x\",X5=\"x\",Y5=\"x\"),\"x\",\"\")","v":{"$error":"#DIV/0!"}},{"$f":"IF(Z5=\"x\",CONCATENATE(A5,\" DN \",B5),\"\")","v":{"$error":"#DIV/0!"}},{"$f":"IF(ROW(AA2)>COUNTA(AA:AA),\"\",INDEX(AA:AA,SMALL(IF(AA$1:AA$29<>\"\",ROW($1:$29)),ROW($AA2))))","v":{"$error":"#DIV/0!"}},{"$f":"IFERROR(AB5,\"\")","v":""}]
["IVA",355,"IVA355",843.5,353,223,{"$f":"Einheiten!$E$58","v":4000},1100,3800,353,{"$f":"G6/(PI()/4*('Grunddaten-IVA'!J6/1000)^2*3600)","v":11.353197644321774},4,10,28.44840244648579,{"$f":"$N$39*N6^$N$40","v":125.70776772670661},{"$f":"(($S$39*N6^$S$41)/((Einheiten!$E$60-Einheiten!$E$59)^'Grunddaten-IVA'!$S$40))*'Grunddaten-IVA'!B6^'Grunddaten-IVA'!$S$42","v":2.0187019639022212},null,{"$f":"$V$39*N6^$V$41*(1/(Einheiten!$E$61-Einheiten!$E$62)^'Grunddaten-IVA'!$V$40)*'Grunddaten-IVA'!B6^'Grunddaten-IVA'!$V$42","v":15.822965003824125},{"$f":"IF(Vorauswahl!$D$8/Vorauswahl!$D$9<='Grunddaten-IVA'!$I6,\"x\",\"\")","v":{"$error":"#DIV/0!"}},null,null,{"$f":"'Lw LDI'!K128","v":41.711330672672744},"x",{"$f":"IF(V6<=Vorauswahl!$D$12,\"x\",\"\")","v":""},"x",{"$error":"#DIV/0!"},{"$error":"#DIV/0!"},{"$f":"IF(ROW(AA3)>COUNTA(AA:AA),\"\",INDEX(AA:AA,SMALL(IF(AA$1:AA$29<>\"\",ROW($1:$29)),ROW($AA3))))","v":{"$error":"#DIV/0!"}},""]
["IVA",400,"IVA400",843.5,398,248,{"$f":"Einheiten!$E$58","v":4000},1400,4500,398,{"$f":"G7/(PI()/4*('Grunddaten-IVA'!J7/1000)^2*3600)","v":8.931028290076588},4,13,23.001928415408624,81.819687571960102,{"$f":"(($S$39*N7^$S$41)/((Einheiten!$E$60-Einheiten!$E$59)^'Grunddaten-IVA'!$S$40))*'Grunddaten-IVA'!B7^'Grunddaten-IVA'!$S$42","v":2.3946843671563443},null,{"$f":"$V$39*N7^$V$41*(1/(Einheiten!$E$61-Einheiten!$E$62)^'Grunddaten-IVA'!$V$40)*'Grunddaten-IVA'!B7^'Grunddaten-IVA'!$V$42","v":15.099308505792695},{"$f":"IF(Vorauswahl!$D$8/Vorauswahl!$D$9<='Grunddaten-IVA'!$I7,\"x\",\"\")","v":{"$error":"#DIV/0!"}},null,null,{"$f":"'Lw LDI'!K129","v":63.303572286879913},"x",{"$f":"IF(V7<=Vorauswahl!$D$12,\"x\",\"\")","v":""},"x",{"$error":"#DIV/0!"},{"$error":"#DIV/0!"},{"$f":"IF(ROW(AA4)>COUNTA(AA:AA),\"\",INDEX(AA:AA,SMALL(IF(AA$1:AA$29<>\"\",ROW($1:$29)),ROW($AA4))))","v":{"$error":"#DIV/0!"}},""]
["IVA",450,"IVA450",843.5,448,278,{"$f":"Einheiten!$E$58","v":4000},1700,5000,448,{"$f":"G8/(PI()/4*('Grunddaten-IVA'!J8/1000)^2*3600)","v":7.048741456380001},4.5,15,18.305349170090725,51.573328844847381,{"$f":"(($S$39*N8^$S$41)/((Einheiten!$E$60-Einheiten!$E$59)^'Grunddaten-IVA'!$S$40))*'Grunddaten-IVA'!B8^'Grunddaten-IVA'!$S$42","v":2.8134656663458029},null,{"$f":"$V$39*N8^$V$41*(1/(Einheiten!$E$61-Einheiten!$E$62)^'Grunddaten-IVA'!$V$40)*'Grunddaten-IVA'!B8^'Grunddaten-IVA'!$V$42","v":14.197574338883266},{"$f":"IF(Vorauswahl!$D$8/Vorauswahl!$D$9<='Grunddaten-IVA'!$I8,\"x\",\"\")","v":{"$error":"#DIV/0!"}},null,null,{"$f":"'Lw LDI'!K130","v":39.030251990242853},"x",{"$f":"IF(V8<=Vorauswahl!$D$12,\"x\",\"\")","v":""},"x",{"$error":"#DIV/0!"},{"$error":"#DIV/0!"},{"$f":"IF(ROW(AA5)>COUNTA(AA:AA),\"\",INDEX(AA:AA,SMALL(IF(AA$1:AA$29<>\"\",ROW($1:$29)),ROW($AA5))))","v":{"$error":"#DIV/0!"}},""]
["IVA",500,"IVA500",951.5,498,313,{"$f":"Einheiten!$E$58","v":4000},2100,6500,498,{"$f":"G9/(PI()/4*('Grunddaten-IVA'!J9/1000)^2*3600)","v":5.7043862407916484},5,18,14.440390381256233,31.936521318180443,{"$f":"(($S$39*N9^$S$41)/((Einheiten!$E$60-Einheiten!$E$59)^'Grunddaten-IVA'!$S$40))*'Grunddaten-IVA'!B9^'Grunddaten-IVA'!$S$42","v":3.207715677484507},null,{"$f":"$V$39*N9^$V$41*(1/(Einheiten!$E$61-Einheiten!$E$62)^'Grunddaten-IVA'!$V$40)*'Grunddaten-IVA'!B9^'Grunddaten-IVA'!$V$42","v":13.07752495842824},{"$f":"IF(Vorauswahl!$D$8/Vorauswahl!$D$9<='Grunddaten-IVA'!$I9,\"x\",\"\")","v":{"$error":"#DIV/0!"}},null,null,{"$f":"'Lw LDI'!K131","v":8.6576498794388748},"x",{"$f":"IF(V9<=Vorauswahl!$D$12,\"x\",\"\")","v":""},"x",{"$error":"#DIV/0!"},{"$error":"#DIV/0!"},{"$f":"IF(ROW(AA6)>COUNTA(AA:AA),\"\",INDEX(AA:AA,SMALL(IF(AA$1:AA$29<>\"\",ROW($1:$29)),ROW($AA6))))","v":{"$error":"#DIV/0!"}},""]
["IVA",560,"IVA560",1059.5,558,352,{"$f":"Einheiten!$E$58","v":4000},2600,8500,558,{"$f":"G10/(PI()/4*('Grunddaten-IVA'!J10/1000)^2*3600)","v":4.5435907981054058},5,21,11.417796078103146,19.868987558604626,{"$f":"(($S$39*N10^$S$41)/((Einheiten!$E$60-Einheiten!$E$59)^'Grunddaten-IVA'!$S$40))*'Grunddaten-IVA'!B10^'Grunddaten-IVA'!$S$42","v":3.7234180396417798},null,{"$f":"$V$39*N10^$V$41*(1/(Einheiten!$E$61-Einheiten!$E$62)^'Grunddaten-IVA'!$V$40)*'Grunddaten-IVA'!B10^'Grunddaten-IVA'!$V$42","v":12.172654695083194},null,null,null,null,null,null,null,"","",{"$f":"IF(ROW(AA7)>COUNTA(AA:AA),\"\",INDEX(AA:AA,SMALL(IF(AA$1:AA$29<>\"\",ROW($1:$29)),ROW($AA7))))","v":{"$error":"#DIV/0!"}},""]
["IVA",630,"IVA630",1059.5,628,398,{"$f":"Einheiten!$E$58","v":4000},3000,9500,628,{"$f":"G11/(PI()/4*('Grunddaten-IVA'!J11/1000)^2*3600)","v":3.5871399581658783},6,25,{"$f":"G11/(PI()*(F11/1000)^2/4*3600)","v":8.931028290076588},12.094787475481501,{"$f":"(($S$39*N11^$S$41)/((Einheiten!$E$60-Einheiten!$E$59)^'Grunddaten-IVA'!$S$40))*'Grunddaten-IVA'!B11^'Grunddaten-IVA'!$S$42","v":4.3447516237291852},null,{"$f":"$V$39*N11^$V$41*(1/(Einheiten!$E$61-Einheiten!$E$62)^'Grunddaten-IVA'!$V$40)*'Grunddaten-IVA'!B11^'Grunddaten-IVA'!$V$42","v":11.28403689400259},null,null,null,null,null,null,null,"","",{"$f":"IF(ROW(AA8)>COUNTA(AA:AA),\"\",INDEX(AA:AA,SMALL(IF(AA$1:AA$29<>\"\",ROW($1:$29)),ROW($AA8))))","v":{"$error":"#DIV/0!"}},""]
[null,null,null,null,null,null,null,null,null,null,null,null,null,null,null,null,null,null,null,null,null,null,null,null,null,"","",{"$f":"IF(ROW(AA9)>COUNTA(AA:AA),\"\",INDEX(AA:AA,SMALL(IF(AA$1:AA$29<>\"\",ROW($1:$29)),ROW($AA9))))","v":{"$error":"#DIV/0!"}},""]
[null,null,null,null,null,null,null,null,null,null,null,null,null,null,null,null,null,null,null,null,null,null,null,null,null,"","",{"$f":"IF(ROW(AA10)>COUNTA(AA:AA),\"\",INDEX(AA:AA,SMALL(IF(AA$1:AA$29<>\"\",ROW($1:$29)),ROW($AA10))))","v":{"$error":"#DIV/0!"}},""]
[null,null,null,null,null,null,null,null,null,null,null,null,null,null,null,null,null,null,null,null,null,null,null,null,null,"","",{"$f":"IF(ROW(AA11)>COUNTA(AA:AA),\"\",INDEX(AA:AA,SMALL(IF(AA$1:AA$29<>\"\",ROW($1:$29)),ROW($AA11))))","v":{"$error":"#DIV/0!"}},""]
[null,null,null,null,null,null,null,null,null,null,null,null,null,null,null,null,null,null,null,null,null,null,null,null,null,"","",{"$f":"IF(ROW(AA12)>COUNTA(AA:AA),\"\",INDEX(AA:AA,SMALL(IF(AA$1:AA$29<>\"\",ROW($1:$29)),ROW($AA12))))","v":{"$error":"#DIV/0!"}},""]
[null,null,null,null,null,null,null,null,null,null,null,null,null,null,null,null,null,null,null,null,null,null,null,null,null,"","",{"$f":"IF(ROW(AA13)>COUNTA(AA:AA),\"\",INDEX(AA:AA,SMALL(IF(AA$1:AA$29<>\"\",ROW($1:$29)),ROW($AA13))))","v":{"$error":"#DIV/0!"}},""]
[null,null,null,null,null,null,null,null,null,null,null,null,null,null,null,null,null,null,null,null,null,null,null,null,null,"","",{"$f":"IF(ROW(AA14)>COUNTA(AA:AA),\"\",INDEX(AA:AA,SMALL(IF(AA$1:AA$29<>\"\",ROW($1:$29)),ROW($AA14))))","v":{"$error":"#DIV/0!"}},""]
[null,null,null,null,null,null,null,null,null,null,null,null,null,null,null,null,null,null,null,null,null,null,null,null,null,"","",{"$f":"IF(ROW(AA15)>COUNTA(AA:AA),\"\",INDEX(AA:AA,SMALL(IF(AA$1:AA$29<>\"\",ROW($1:$29)),ROW($AA15))))","v":{"$error":"#DIV/0!"}},""]
[null,null,null,null,null,null,null,null,null,null,null,null,null,null,null,null,null,null,null,null,null,null,null,null,null,"","",{"$f":"IF(ROW(AA16)>COUNTA(AA:AA),\"\",INDEX(AA:AA,SMALL(IF(AA$1:AA$29<>\"\",ROW($1:$29)),ROW($AA16))))","v":{"$error":"#DIV/0!"}},""]
[null,null,null,null,null,null,null,null,null,null,null,null,null,null,null,null,null,null,null,null,null,null,null,null,null,"","",{"$f":"IF(ROW(AA17)>COUNTA(AA:AA),\"\",INDEX(AA:AA,SMALL(IF(AA$1:AA$29<>\"\",ROW($1:$29)),ROW($AA17))))","v":{"$error":"#DIV/0!"}},""]
[null,null,null,null,null,null,null,null,null,null,null,null,null,null,null,null,null,null,null,null,null,null,null,null,null,"","",{"$f":"IF(ROW(AA18)>COUNTA(AA:AA),\"\",INDEX(AA:AA,SMALL(IF(AA$1:AA$29<>\"\",ROW($1:$29)),ROW($AA18))))","v":{"$error":"#DIV/0!"}},""]
[null,null,null,null,null,null,null,null,null,null,null,null,null,null,null,null,null,null,null,null,null,null,null,null,null,"","",{"$f":"IF(ROW(AA19)>COUNTA(AA:AA),\"\",INDEX(AA:AA,SMALL(IF(AA$1:AA$29<>\"\",ROW($1:$29)),ROW($AA19))))","v":{"$error":"#DIV/0!"}},""]
[null,null,null,null,null,null,null,null,null,null,null,null,null,null,null,null,null,null,null,null,null,null,null,null,null,"","",{"$f":"IF(ROW(AA20)>COUNTA(AA:AA),\"\",INDEX(AA:AA,SMALL(IF(AA$1:AA$29<>\"\",ROW($1:$29)),ROW($AA20))))","v":{"$error":"#DIV/0!"}},""]
[null,null,null,null,null,null,null,null,null,null,null,null,null,null,null,null,null,null,null,null,null,null,null,null,null,"","",{"$f":"IF(ROW(AA21)>COUNTA(AA:AA),\"\",INDEX(AA:AA,SMALL(IF(AA$1:AA$29<>\"\",ROW($1:$29)),ROW($AA21))))","v":{"$error":"#DIV/0!"}},""]
[null,null,null,null,null,null,null,null,null,null,null,null,null,null,null,null,null,null,null,null,null,null,null,null,null,"","",{"$f":"IF(ROW(AA22)>COUNTA(AA:AA),\"\",INDEX(AA:AA,SMALL(IF(AA$1:AA$29<>\"\",ROW($1:$29)),ROW($AA22))))","v":{"$error":"#DIV/0!"}},""]
[null,null,null,null,null,null,null,null,null,null,null,null,null,null,null,null,null,null,null,null,null,null,null,null,null,"","",{"$f":"IF(ROW(AA23)>COUNTA(AA:AA),\"\",INDEX(AA:AA,SMALL(IF(AA$1:AA$29<>\"\",ROW($1:$29)),ROW($AA23))))","v":{"$error":"#DIV/0!"}},""]
[null,null,null,null,null,null,null,null,null,null,null,null,null,null,null,null,null,null,null,null,null,null,null,null,null,"","",{"$f":"IF(ROW(AA24)>COUNTA(AA:AA),\"\",INDEX(AA:AA,SMALL(IF(AA$1:AA$29<>\"\",ROW($1:$29)),ROW($AA24))))","v":{"$error":"#DIV/0!"}},""]
[null,null,null,null,null,null,null,null,null,null,null,null,null,null,null,null,null,null,null,null,null,null,null,null,null,"","",{"$f":"IF(ROW(AA25)>COUNTA(AA:AA),\"\",INDEX(AA:AA,SMALL(IF(AA$1:AA$29<>\"\",ROW($1:$29)),ROW($AA25))))","v":{"$error":"#DIV/0!"}},""]
[null,null,null,null,null,null,null,null,null,null,null,null,null,null,null,null,null,null,null,null,null,null,null,null,null,"","",{"$f":"IF(ROW(AA26)>COUNTA(AA:AA),\"\",INDEX(AA:AA,SMALL(IF(AA$1:AA$29<>\"\",ROW($1:$29)),ROW($AA26))))","v":{"$error":"#DIV/0!"}},""]
[null,null,null,null,null,null,null,null,null,null,null,null,null,null,null,null,null,null,null,null,null,null,null,null,null,null,null,{"$f":"IF(ROW(AA27)>COUNTA(AA:AA),\"\",INDEX(AA:AA,SMALL(IF(AA$1:AA$29<>\"\",ROW($1:$29)),ROW($AA27))))","v":""}]
[null,null,null,2,3,4,5,6,7,8,9,10,11,12,13,14,15,16,17,18,19,20,null,21,null,22,null,{"$f":"IF(ROW(AA28)>COUNTA(AA:AA),\"\",INDEX(AA:AA,SMALL(IF(AA$1:AA$29<>\"\",ROW($1:$29)),ROW($AA28))))","v":""}]
[null,null,null,null,null,null,null,null,null,null,null,null,null,null,null,null,null,null,null,null,null,null,null,null,null,null,null,"Formel in Spalte AB ist Matrixformel!"]
["Auswahl:","Zuluft",{"$f":"CONCATENATE('Auslegung-IVA'!$D$12,'Auslegung-IVA'!$D$20)","v":"IVA400"},{"$f":"IF(Einheiten!$F$2=3,VLOOKUP($C$33,$C$4:$L$30,D31,FALSE)/Einheiten!$F$15,VLOOKUP($C$33,$C$4:$L$30,D31,FALSE))","v":843.5},{"$f":"IF(Einheiten!$F$2=3,VLOOKUP($C$33,$C$4:$L$30,E31,FALSE)/Einheiten!$F$15,VLOOKUP($C$33,$C$4:$L$30,E31,FALSE))","v":398},{"$f":"IF(Einheiten!$F$2=3,VLOOKUP($C$33,$C$4:$L$30,F31,FALSE)/Einheiten!$F$15,VLOOKUP($C$33,$C$4:$L$30,F31,FALSE))","v":248},{"$f":"VLOOKUP($C$33,$C$4:$L$30,G31,FALSE)","v":4000},{"$f":"IF(Einheiten!$F$2=3,VLOOKUP($C$33,$C$4:$L$30,H31,FALSE)/Einheiten!$F$11,VLOOKUP($C$33,$C$4:$L$30,H31,FALSE))","v":1400},{"$f":"IF(Einheiten!$F$2=3,VLOOKUP($C$33,$C$4:$L$30,I31,FALSE)/Einheiten!$F$11,VLOOKUP($C$33,$C$4:$L$30,I31,FALSE))","v":4500},{"$f":"IF(Einheiten!$F$2=3,VLOOKUP($C$33,$C$4:$L$30,J31,FALSE)/Einheiten!$F$15,VLOOKUP($C$33,$C$4:$L$30,J31,FALSE))","v":398},8.931028290076588,{"$f":"IF(Einheiten!$F$2=3,VLOOKUP($C$33,$C$2:$M$30,L31,FALSE)/Einheiten!$F$5,VLOOKUP($C$33,$C$4:$M$30,L31,FALSE))","v":4},{"$f":"IF(Einheiten!$F$2=3,VLOOKUP($C$33,$C$2:$M$30,M31,FALSE)/Einheiten!$F$5,VLOOKUP($C$33,$C$4:$M$30,M31,FALSE))","v":13},{"$f":"VLOOKUP($C$33,$C$4:$N$30,N31,FALSE)","v":23.001928415408624},{"$f":"VLOOKUP($C$33,$C$4:$Q$30,O31,FALSE)","v":81.819687571960102},{"$f":"VLOOKUP($C$33,$C$4:$Q$30,P31,FALSE)","v":2.3946843671563443},{"$f":"VLOOKUP($C$33,$C$4:$Q$30,Q31,FALSE)","v":0},{"$f":"VLOOKUP($C$33,$C$4:$R$30,R31,FALSE)","v":15.099308505792695},{"$f":"VLOOKUP($C$33,$C$4:$Z$30,S31,FALSE)","v":{"$error":"#DIV/0!"}},{"$f":"VLOOKUP($C$33,$C$4:$Z$30,T31,FALSE)","v":0},{"$f":"VLOOKUP($C$33,$C$4:$Z$30,U31,FALSE)","v":0},{"$f":"VLOOKUP($C$33,$C$4:$Z$30,V31,FALSE)","v":63.303572286879913},null,{"$f":"VLOOKUP($C$33,$C$4:$Z$30,X31,FALSE)","v":"x"},null,{"$f":"VLOOKUP($C$33,$C$4:$Z$30,Z31,FALSE)","v":""},null,"Funktioniert nur bei Bestätigung"]
[null,"Abluft",null,{"$f":"VLOOKUP($C$34,$C$4:$L$30,D31,FALSE)","v":{"$error":"#N/A"}},{"$error":"#N/A"},{"$error":"#N/A"},{"$error":"#N/A"},{"$error":"#N/A"},{"$error":"#N/A"},{"$error":"#N/A"},{"$error":"#N/A"},{"$f":"VLOOKUP($C$34,$C$4:$L$30,L31,FALSE)","v":{"$error":"#N/A"}},{"$f":"VLOOKUP($C$33,$C$4:$M$30,M31,FALSE)","v":13},{"$f":"VLOOKUP($C$34,$C$4:$N$30,N31,FALSE)","v":{"$error":"#N/A"}},{"$f":"VLOOKUP($C$34,$C$4:$Q$30,O31,FALSE)","v":{"$error":"#N/A"}},{"$f":"VLOOKUP($C$34,$C$4:$Q$30,P31,FALSE)","v":{"$error":"#N/A"}},{"$f":"VLOOKUP($C$34,$C$4:$Q$30,Q31,FALSE)","v":{"$error":"#N/A"}},{"$f":"VLOOKUP($C$34,$C$4:$R$30,R31,FALSE)","v":{"$error":"#N/A"}},null,null,null,null,null,null,null,null,null,"mit Strg+Shift+Enter!"]
[]
[null,null,null,"Stand:","2020-10-30"]
[]
[]
[null,null,null,null,null,null,null,null,null,null,null,null,"CAP K011",0.14489192576027962,null,null,null,"CAP K041",4.4554643765554439E-6,null,"K081",4.7561447290498894E-3]
[null,null,null,null,null,null,null,null,null,null,null,null,"CAP K012",2.020770949969434,null,null,null,"CAP K042",0.40900377873178967,null,"K082",0.41949928737667302]
["Festlegungen vom 15.11.2017:",null,null,"Aufgrund des Einflusses der Lüftungsanlage auf die Ergebnisse des IVA 400 wurden die Akustikwerte des IVA 400 sowohl im Heiz, als auch im Kühlfall um 3dB herabgesetzt und die entsprechenden neuen Konstanten hinterlegt. Beschluss durch M.W., D.B. und T.U.",null,null,null,null,null,null,null,null,null,null,null,null,null,"CAP K043",0.39631069068327174,null,"K083",0.82431463085039647]
[null,null,null,null,null,null,null,null,null,null,null,null,null,null,null,null,null,"CAP K044",2.1367842439019911,null,"K084",1.0755628619689481]
[]
[]
[]
[]
[]
[]
[]
[]
["Schnellauswahltabelle Katalogunterlagen:",null,null,"Nenngröße","Schallleistungspegel","Volumenstrom","Druckverlust","hor. Wurfweite","vert. Eindringtiefe","DTKühlen","DTHeizen","DN","di-Düse","Düsengeschwindigkeit"]
[null,null,null,"DN","LW,A","V°","Dp","Xhor","ymax"]
[null,null,null,null,"dB(A)","m³/h","Pa","m","m"]
[null,null,null,250,{"$f":"'LW-IVA'!AA27","v":35.242863099846652},620,{"$f":"$N$39*N54^$N$40","v":11.695416383111962},{"$f":"$S$39*N54^$S$41/J54^$S$40*L54^$S$42","v":0.79528190216500294},{"$f":"$V$39*N54^$V$41/K54^$V$40*L54^$V$42","v":3.4746758644727747},4,15,250,158,{"$f":"F54/(PI()*(M54/1000)^2/4*3600)","v":8.7838545031044806}]
[null,null,null,null,{"$f":"'LW-IVA'!AA28","v":45.268057684047193},930,{"$f":"$N$39*N55^$N$40","v":26.537242257893094},0.93391628422534401,4.853654950452543,{"$f":"J54","v":4},{"$f":"K54","v":15},250,158,{"$f":"F55/(PI()*(M55/1000)^2/4*3600)","v":13.17578175465672}]
[null,null,null,null,{"$f":"'LW-IVA'!AA29","v":55.388369977952941},1350,56.353283294529881,1.0825579614125409,6.5991028593094114,{"$f":"J55","v":4},{"$f":"K55","v":15},250,158,19.126134805146854]
[null,null,null,315,{"$f":"'LW-IVA'!AA30","v":34.538255695232934},1050,13.622580879951574,1.3427121516948273,4.7412332175282446,4,15,315,198,9.4725419314633488]
[null,null,null,null,{"$f":"'LW-IVA'!AA31","v":45.077780615830598},1550,29.926604320900815,1.5668082886315806,6.5360877282646426,4,15,315,198,13.983276184541134]
[null,null,null,null,{"$f":"'LW-IVA'!AA32","v":54.607073826938041},2150,57.972583865820063,1.7837512450468826,8.5597002318519415,4,15,315,198,19.396157288234477]
[null,null,null,355,{"$f":"'LW-IVA'!AA33","v":34.691521326653017},1350,13.999465898255021,1.7427876193763081,5.452138537462182,4,15,355,223,9.6013358256889543]
[null,null,null,null,{"$f":"'LW-IVA'!AA34","v":45.273997873574984},2000,30.977719581908197,2.0365412249238246,7.5383149818012312,4,15,355,223,14.224201223242895]
[null,null,null,null,{"$f":"'LW-IVA'!AA35","v":55.126627439276099},2800,61.142153858798906,2.3270478228989213,9.9478621357127732,4,15,355,223,19.913881712540054]
[null,null,null,400,{"$f":"'LW-IVA'!AA36","v":35.152827459172975},1700,14.518339973049947,2.2651514520106248,6.2916196330858787,4,15,400,248,9.7758195765486651]
[null,null,null,null,{"$f":"'LW-IVA'!AA37","v":45.390742808253329},2500,31.650318560869682,2.6392209715317718,8.6462504796398338,4,15,400,248,14.376205259630391]
[null,null,null,null,{"$f":"'LW-IVA'!AA38","v":55.235483440768725},3500,62.469693484438487,3.0156980574659906,11.409938158586407,4,15,400,248,20.126687363482546]
[null,null,null,450,{"$f":"'LW-IVA'!AA39","v":34.925822977353739},2100,14.0259153640063,2.8937443850762947,7.0415329060270508,4,15,450,278,9.6103083142976296]
[null,null,null,null,{"$f":"'LW-IVA'!AA40","v":44.918540685435872},3100,30.812664871368526,3.3767048894252594,9.7071953020798425,4,15,450,278,14.186645606820312]
[null,null,null,null,{"$f":"'LW-IVA'!AA41","v":55.084361700501063},4400,62.527389865404842,3.8794341907995493,12.955810575275953,4,15,450,278,20.135884087099797]
[null,null,null,500,{"$f":"'LW-IVA'!AA42","v":35.131533999412071},2650,13.897773678581592,3.6178647408869229,7.8569919230973957,4,15,500,313,9.5667586275822529]
[null,null,null,null,{"$f":"'LW-IVA'!AA43","v":45.391998445224559},4000,31.936521318180443,4.2591042700659631,11.032029128532084,4,15,500,313,14.440390381256233]
[null,null,null,null,{"$f":"'LW-IVA'!AA44","v":55.094738521186684},5600,63.034585066468523,4.8666529299092485,14.558307143273794,4,15,500,313,20.216546533758724]
[null,null,null,560,{"$f":"'LW-IVA'!AA45","v":35.294340464666256},3300,13.469401666792667,4.5809337491425195,8.7628809634305771,4,15,560,352,9.4196817644350954]
[null,null,null,null,{"$f":"'LW-IVA'!AA46","v":45.144523874357475},5000,31.189518977450835,5.4009564879921719,12.342396281903836,4,15,560,352,14.272245097628932]
[null,null,null,null,{"$f":"'LW-IVA'!AA47","v":55.095661892935809},7100,63.350280068703746,6.2061772846588266,16.479081314776369,4,15,560,352,20.266588038633085]
[null,null,null,630,{"$f":"'LW-IVA'!AA48","v":35.429717393908483},4100,12.713605087987469,5.8255554772210774,9.714807040790653,4,15,630,398,9.1543039973285012]
[null,null,null,null,{"$f":"'LW-IVA'!AA49","v":45.364571186087666},6400,31.266406705827471,6.9499597791068357,14.023403422382758,4,15,630,398,14.289645264122539]
[null,null,null,null,{"$f":"'LW-IVA'!AA50","v":55.474117706382486},9200,65.097954786353057,8.0249801800543423,18.913499285397499,4,15,630,398,20.541365067176152]

{"sheet":"Datenblatt Einzeldurchlass-IVA","index":27,"n_rows":44,"n_cols":9,"rows_kept":44,"cut":false,"hidden":true,"merged":[[1,1,1,7],[27,5,27,6],[28,2,28,3],[29,2,29,3],[30,2,30,3],[5,6,5,7],[5,2,5,4],[9,0,9,8],[18,4,18,5],[19,4,19,5],[24,5,24,6],[25,5,25,6],[26,5,26,6],[24,2,24,3],[23,0,23,1],[36,5,36,6],[32,5,32,6],[31,2,31,3],[33,5,33,6],[34,5,34,6],[35,5,35,6]]}
[]
[{"$f":"Übersetzung!F86","v":"Typ"},{"$f":"'Auslegung-IVA'!D12","v":"IVA"},null,null,null,null,null,null,{"$f":"TODAY()","v":"2020-12-07"}]
[{"$f":"Übersetzung!F87","v":"Projekt"},"bitte Projektname / VIS-Nr. eintragen"]
[]
[{"$f":"Übersetzung!F88","v":"Definition:"}]
[{"$f":"'Auslegung-IVA'!A12","v":"Durchlass Typ"},{"$f":"'Auslegung-IVA'!D12","v":"IVA"},{"$f":"'Auslegung-IVA'!A20","v":"Nenndurchmesser"},null,null,{"$f":"'Auslegung-IVA'!D20","v":400}]
["Schlitzanzahl:",{"$f":"'Auslegung-V'!D20","v":400},"Farbe Abdeckprofil:",null,{"$f":"'Auslegung-V'!B85","v":9010}]
["Innenauskleidung:",{"$f":"'Auslegung-V'!G99","v":"B1"},"Drossel fb:",null,{"$f":"'Auslegung-V'!B96","v":"ohne"}]
[]
[{"$f":"Übersetzung!F94","v":"Beschreibung:\nLuftdurchlass für die Belüftung industrieller Bereiche. In Abhängigkeit des ausgewählten Durchlasses erfolgt eine Umschaltung zwischen Kühl- und Heizbetrieb manuell oder elektrisch.\n"}]
[{"$f":"Übersetzung!F81","v":"Einsatzbereich"}]
[{"$f":"'Auslegung-IVA'!J100","v":"Minimaler Volumenstrom"},"V°min",{"$f":"'Auslegung-IVA'!$K$100","v":1400},{"$f":"Einheiten!$L$7","v":"m³/h"}]
[{"$f":"'Auslegung-IVA'!J101","v":"Maximaler Volumenstrom"},"V°max",{"$f":"'Auslegung-IVA'!K101","v":4500},{"$f":"Einheiten!$L$7","v":"m³/h"}]
[]
[{"$f":"Übersetzung!F90","v":"technische Vorgaben"},null,null,null,null,{"$f":"'Auslegung-IVA'!A40","v":"Raumdaten"}]
[{"$f":"'Auslegung-IVA'!A29","v":"Luftvolumenstrom"},"V·SUP",{"$f":"'Auslegung-IVA'!D29","v":4000},{"$f":"Einheiten!$L$7","v":"m³/h"},null,{"$f":"'Auslegung-IVA'!A45","v":"Raumhöhe"},{"$f":"'Auslegung-IVA'!D45","v":12},{"$f":"Einheiten!$L$5","v":"m"}]
[{"$f":"Übersetzung!F95","v":"Zulufttemperatur Kühlfall"},"tZULK",{"$f":"'Auslegung-IVA'!$D$38","v":18},{"$f":"Einheiten!$L$9","v":"°C"},null,{"$f":"'Auslegung-IVA'!A44","v":"Raumbreite"},{"$f":"'Auslegung-IVA'!D44","v":100},{"$f":"Einheiten!$L$5","v":"m"}]
[{"$f":"Übersetzung!F96","v":"Raumtemperatur Kühlfall"},"tRAUMK",{"$f":"'Auslegung-IVA'!$D$39","v":26},{"$f":"Einheiten!$L$9","v":"°C"},null,{"$f":"'Auslegung-IVA'!A43","v":"Raumlänge"},{"$f":"'Auslegung-IVA'!D43","v":100},{"$f":"Einheiten!$L$5","v":"m"}]
[{"$f":"Übersetzung!F97","v":"Zulufttemperatur Heizfall"},"tZULH",{"$f":"'Auslegung-IVA'!$E$38","v":30},{"$f":"Einheiten!$L$9","v":"°C"},{"$f":"'Auslegung-IVA'!A41","v":"Montagehöhe"},null,{"$f":"'Auslegung-IVA'!D41","v":3},{"$f":"Einheiten!$L$5","v":"m"}]
[{"$f":"Übersetzung!F98","v":"Raumtemperatur Heizfall"},"tRAUMH",{"$f":"'Auslegung-IVA'!$E$39","v":20},{"$f":"Einheiten!$L$9","v":"°C"},{"$f":"'Auslegung-IVA'!A42","v":"Obergrenze Aufenthaltsbereich"},null,{"$f":"'Auslegung-IVA'!D42","v":1.8},{"$f":"Einheiten!$L$5","v":"m"}]
["Klappenwinkel Kühlfall","aK",{"$f":"'Auslegung-L'!$D$30","v":50},"°",null,null,null,{"$f":"Einheiten!$L$5","v":"m"}]
["Klappenwinkel Heizfall","aH",{"$f":"'Auslegung-L'!E30","v":25},"°",null,null,null,{"$f":"Einheiten!$L$5","v":"m"}]
[]
[{"$f":"'Auslegung-IVA'!A79","v":"Berechnung strömungstechnische und Akustische Daten"},null,{"$f":"Übersetzung!F101","v":"Kühlfall"},{"$f":"Übersetzung!F102","v":"Heizfall"},null,{"$f":"Übersetzung!F84","v":"Abmessungen und Einsatzbereich"}]
[{"$f":"'Auslegung-IVA'!A80","v":"Totaldruckverlust"},"DpHEAT/COOL",{"$f":"'Auslegung-IVA'!D80","v":"82"},null,{"$f":"Einheiten!$L$8","v":"Pa"},{"$f":"'Auslegung-IVA'!J98","v":"Nenndurchmesser"},null,{"$f":"'Auslegung-IVA'!K98","v":"398"},{"$f":"'Auslegung-IVA'!L98","v":"mm"}]
[{"$f":"'Auslegung-IVA'!$A$81","v":"Horizontale Wurfweite"},"xkrit",{"$f":"'Auslegung-IVA'!$D$81","v":3.1491720852645066},null,{"$f":"Einheiten!$L$5","v":"m"},{"$f":"'Auslegung-IVA'!J99","v":"Durchmesser Anschlussstutzen"},null,{"$f":"'Auslegung-IVA'!K99","v":"398"},{"$f":"'Auslegung-IVA'!L99","v":"mm"}]
[null,null,null,null,null,{"$f":"'Auslegung-IVA'!J100","v":"Minimaler Volumenstrom"},null,{"$f":"'Auslegung-IVA'!K100","v":1400},{"$f":"'Auslegung-IVA'!L100","v":"m³/h"}]
[{"$f":"'Auslegung-L'!A86","v":"Vertikale Eindringtiefe"},"Ymax",null,{"$f":"'Auslegung-IVA'!$E$87","v":15.099308505792695},{"$f":"Einheiten!$L$5","v":"m"},{"$f":"'Auslegung-IVA'!J101","v":"Maximaler Volumenstrom"},null,{"$f":"'Auslegung-IVA'!K101","v":4500},{"$f":"'Auslegung-IVA'!L101","v":"m³/h"}]
[{"$f":"'Auslegung-V'!A114","v":""},"DR2",{"$f":"'Auslegung-V'!D112","v":""},null,"%",null,null,{"$f":"'Auslegung-IVA'!K102","v":4},{"$f":"'Auslegung-IVA'!L102","v":"m"}]
[{"$f":"'Auslegung-V'!A115","v":""},"vx3",{"$f":"'Auslegung-V'!$D$115","v":""},null,"m/s",null,null,{"$f":"'Auslegung-IVA'!K103","v":13},{"$f":"'Auslegung-IVA'!L103","v":"m"}]
[{"$f":"'Auslegung-V'!A116","v":""},"DR3",{"$f":"'Auslegung-V'!D116","v":""},null,"%",null,null,{"$f":"'Auslegung-IVA'!K104","v":0},{"$f":"'Auslegung-IVA'!L104","v":0}]
["Raumkategorie**","RAL",{"$f":"'Auslegung-V'!D117","v":""},null,{"$f":"\"-/-\"","v":"-/-"},null,null,{"$f":"'Auslegung-IVA'!K105","v":0},{"$f":"'Auslegung-IVA'!L105","v":0}]
[{"$f":"'Auslegung-L'!$A$91","v":"Schallleistungspegel, Einzeldurchlass"},"LWA_SUP/ETA",{"$f":"'Auslegung-IVA'!D92","v":59.288790630188359},{"$f":"'Auslegung-IVA'!E92","v":56.75136963934446},"dB(A)",{"$f":"'Auslegung-IVA'!J102","v":"Empfohlene minimale Einbauhöhe"},null,{"$f":"'Auslegung-IVA'!K102","v":4},{"$f":"'Auslegung-IVA'!L102","v":"m"}]
[null,null,null,null,null,{"$f":"'Auslegung-IVA'!J103","v":"Empfohlene maximale Einbauhöhe"},null,{"$f":"'Auslegung-IVA'!K103","v":13},{"$f":"'Auslegung-IVA'!L103","v":"m"}]
[]
[]
[]
[]
[]
[]
[{"$f":"'Auslegung-IVA'!A96","v":"Oktavspektrum Schallleistung [dB]"},"f [Hz]",125,250,500,1000,2000,4000,8000]
[{"$f":"Übersetzung!F101","v":"Kühlfall"},"LWA_K",{"$f":"'Auslegung-IVA'!D97","v":53.929676044021726},{"$f":"'Auslegung-IVA'!D98","v":55.211301539383868},{"$f":"'Auslegung-IVA'!D99","v":56.35579904266703},{"$f":"'Auslegung-IVA'!D100","v":56.149105028480093},{"$f":"'Auslegung-IVA'!D101","v":50.61658813763129},{"$f":"'Auslegung-IVA'!D102","v":42.841449729439802},{"$f":"'Auslegung-IVA'!D103","v":34.257392708980092}]
[{"$f":"Übersetzung!F102","v":"Heizfall"},"LWA_H",{"$f":"'Auslegung-IVA'!E97","v":53.852825308186418},{"$f":"'Auslegung-IVA'!E98","v":53.362938332640411},{"$f":"'Auslegung-IVA'!E99","v":53.407114662537467},{"$f":"'Auslegung-IVA'!E100","v":53.617268884165775},{"$f":"'Auslegung-IVA'!E101","v":47.920399976194979},{"$f":"'Auslegung-IVA'!E102","v":41.558472183329854},{"$f":"'Auslegung-IVA'!E103","v":35.607840621816372}]
[null,null,null,null,null,null,{"$f":"'Auslegung-IVA'!A105","v":"Änderungen vorbehalten"},{"$f":"'Auslegung-IVA'!A106","v":"Stand:"},{"$f":"'Grunddaten-IVA'!E36","v":"2020-10-30"}]

{"sheet":"Funktion-IVA","index":28,"n_rows":55,"n_cols":4,"rows_kept":55,"cut":false,"hidden":true,"merged":[]}
[]
[]
[]
[]
[]
[]
[]
[]
[]
[]
[]
[]
[]
[]
[]
[]
[]
[]
[]
[]
[]
[]
[]
[]
[]
[]
[]
[]
[]
[]
[]
[]
[]
[]
[]
[]
[]
[]
[]
[]
[]
[]
[]
[]
[]
[]
[]
[]
[]
[]
[]
[]
[]
[]
[null,"Stand:",{"$f":"'Grunddaten-IVA'!E36","v":"2020-10-30"},"Änderungen vorbehalten"]

{"sheet":"LP-RechnerHeiz","index":29,"n_rows":69,"n_cols":40,"rows_kept":69,"cut":false,"hidden":true,"merged":[[19,30,19,34],[19,35,19,39],[19,0,19,4],[19,5,19,9],[19,10,19,14],[19,15,19,19],[19,20,19,24],[19,25,19,29]]}
[]
[]
["Raumvorgaben",null,null,null,null,"Zwischenergebnisse"]
["Raumlänge","L",{"$f":"Akustikberechnung!C25","v":100},"m",null,"Grundfläche",null,{"$f":"C4*C5","v":10000},"m²"]
["Raumbreite","B",{"$f":"Akustikberechnung!C24","v":100},"m",null,"Raumvolumen",null,{"$f":"C4*C5*C6","v":300000},"m³"]
["Raumhöhe","H",{"$f":"Akustikberechnung!C23","v":30},"m",null,"Raumoberfläche",null,{"$f":"2*C4*C5+2*C4*C6+2*C5*C6","v":32000},"m²"]
["mittlerer Schallabsorptionsgrad","a",0.2," -",null,"Schallabsorptionsfläche",null,{"$f":"H6*C7","v":6400},"m²Sabine"]
[]
["Anzahl Luftdurchlässe","n",{"$f":"Akustikberechnung!$C$40","v":100},"Stk.",null,"Rastermaß Länge",null,{"$f":"Akustikberechnung!$C$28","v":3.5}]
["Montagehöhe (OKFFB bis UK Auslass)","h",{"$f":"Akustikberechnung!$C$21","v":15},"m",null,"Rastermaß Breite",null,{"$f":"Akustikberechnung!$C$30","v":2}]
["Bezugshöhe","h`",{"$f":"Akustikberechnung!C22","v":1.8},"m"]
["Schallleistung, Einzeldurchlass","LW,A",{"$f":"Akustikberechnung!$I$53","v":51.401162151607735},"dB(A)",null,"Lot zur Bezugshöhe",null,{"$f":"C10-C11","v":13.2}]
["Richtungsfaktor","Q",4]
[]
["Berechneter Pegel","LP",{"$f":"10*LOG(10^($E$48/10)+10^($J$48/10)+10^(O48/10)+10^(T48/10)+10^(Y48/10)+10^(AD48/10)+10^(AI48/10)+10^(AN48/10))","v":42.271655037625578}]
["Anzahl Durchlässe innerhalb der Berechnung","n'",{"$f":"IF(E23+J22+O22+T22+Y22+AD22+AI22+AN22>C9,C9,E23+J22+O22+T22+Y22+AD22+AI22+AN22)","v":100},"Anzeigewert"]
[null,null,{"$f":"E23+J22+O22+T22+Y22+AD22+AI22+AN22","v":108},"Wahrer Wert"]
[]
[]
["Ergebnisse Teil 1: Mittlerer Strang",null,null,null,null,"Ergebnisse Teil 2: 2. und 3. Strang",null,null,null,null,"Ergebnisse Teil 3: 4. und 5. Strang",null,null,null,null,"Ergebnisse Teil 4: 6. und 7. Strang",null,null,null,null,"Ergebnisse Teil 5: 8. und 9. Strang",null,null,null,null,"Ergebnisse Teil 6: 10. und 11. Strang",null,null,null,null,"Ergebnisse Teil 7: 12. und 13. Strang",null,null,null,null,"Ergebnisse Teil 8: 14. und 15. Strang"]
[null,null,null,null,null,null,null,null,null,"Summe",null,null,null,null,"Summe",null,null,null,null,"Summe",null,null,null,null,"Summe",null,null,null,null,"Summe",null,null,null,null,"Summe",null,null,null,null,"Summe"]
["Entfernungen zur Schallquelle",null,"X [m]","Anz. Quellen","Summe","Entfernungen zur Schallquelle",null,"X [m]","Anz. Quellen",{"$f":"SUM(J23:J43)","v":22},"Entfernungen zur Schallquelle",null,"X [m]","Anz. Quellen",{"$f":"SUM(O23:O43)","v":22},"Entfernungen zur Schallquelle",null,"X [m]","Anz. Quellen",{"$f":"SUM(T23:T43)","v":22},"Entfernungen zur Schallquelle",null,"X [m]","Anz. Quellen",{"$f":"SUM(Y23:Y43)","v":22},"Entfernungen zur Schallquelle",null,"X [m]","Anz. Quellen",{"$f":"SUM(AD23:AD43)","v":11},"Entfernungen zur Schallquelle",null,"X [m]","Anz. Quellen",{"$f":"SUM(AI23:AI43)","v":0},"Entfernungen zur Schallquelle",null,"X [m]","Anz. Quellen",{"$f":"SUM(AN23:AN43)","v":0}]
[" - direkt unterhalb",1,{"$f":"C10-C11","v":13.2},{"$f":"IF(B23<=Akustikberechnung!$C$29,1,\"\")","v":1},{"$f":"SUM(D23:D43)","v":9}," - direkt neben",1,{"$f":"SQRT($H$12^2+$H$10^2)","v":13.350655414622908},{"$f":"IF(Akustikberechnung!$C$29=2,IF(G23<=Akustikberechnung!$C$31,1,\"\"),IF(Akustikberechnung!$C$29>2,IF(G23<=Akustikberechnung!$C$31,2,\"\")))","v":2},{"$f":"IF(I23=FALSE,\"\",I23)","v":2}," - direkt neben",1,{"$f":"SQRT($H$12^2+(2*$H$10)^2)","v":13.792751719653333},{"$f":"IF(Akustikberechnung!$C$29=4,IF(L23<=Akustikberechnung!$C$31,1,\"\"),IF(Akustikberechnung!$C$29>4,IF(L23<=Akustikberechnung!$C$31,2,\"\")))","v":2},{"$f":"IF(N23=FALSE,\"\",N23)","v":2}," - direkt neben",1,{"$f":"SQRT($H$12^2+(3*$H$10)^2)","v":14.499655168313486},{"$f":"IF(Akustikberechnung!$C$29=6,IF(Q23<=Akustikberechnung!$C$31,1,\"\"),IF(Akustikberechnung!$C$29>6,IF(Q23<=Akustikberechnung!$C$31,2,\"\")))","v":2},{"$f":"IF(S23=FALSE,\"\",S23)","v":2}," - direkt neben",1,{"$f":"SQRT($H$12^2+(4*$H$10)^2)","v":15.43502510525979},{"$f":"IF(Akustikberechnung!$C$29=8,IF(V23<=Akustikberechnung!$C$31,1,\"\"),IF(Akustikberechnung!$C$29>8,IF(V23<=Akustikberechnung!$C$31,2,\"\")))","v":2},{"$f":"IF(X23=FALSE,\"\",X23)","v":2}," - direkt neben",1,{"$f":"SQRT($H$12^2+(5*$H$10)^2)","v":16.560193235587562},{"$f":"IF(Akustikberechnung!$C$29=10,IF(AA23<=Akustikberechnung!$C$31,1,\"\"),IF(Akustikberechnung!$C$29>10,IF(AA23<=Akustikberechnung!$C$31,2,\"\")))","v":1},{"$f":"IF(AC23=FALSE,\"\",AC23)","v":1}," - direkt neben",1,{"$f":"SQRT($H$12^2+(6*$H$10)^2)","v":17.839282496782207},{"$f":"IF(Akustikberechnung!$C$29=12,IF(AF23<=Akustikberechnung!$C$31,1,\"\"),IF(Akustikberechnung!$C$29>12,IF(AF23<=Akustikberechnung!$C$31,2,\"\")))","v":false},{"$f":"IF(AH23=FALSE,\"\",AH23)","v":""}," - direkt neben",1,{"$f":"SQRT($H$12^2+(7*$H$10)^2)","v":19.241621553289111},{"$f":"IF(Akustikberechnung!$C$29=14,IF(AK23<=Akustikberechnung!$C$31,1,\"\"),IF(Akustikberechnung!$C$29>14,IF(AK23<=Akustikberechnung!$C$30,2,\"\")))","v":false},{"$f":"IF(AM23=FALSE,\"\",AM23)","v":""}]
[" - 1. Raster",2,{"$f":"SQRT($H$9^2+$C$23^2)","v":13.656134152826706},{"$f":"IF(B24<=Akustikberechnung!$C$29+1,2,\"\")","v":2},null," - 1. Raster",1,{"$f":"SQRT((SQRT($H$10^2+$H$9^2)^2)+$H$12^2)","v":13.801811475310043},{"$f":"IF(Akustikberechnung!$C$29=2,IF(G24<=Akustikberechnung!$C$31,1,\"\"),IF(Akustikberechnung!$C$29>2,IF(G24<=Akustikberechnung!$C$31,4,\"\")))","v":4},{"$f":"IF(I24=FALSE,\"\",I24)","v":4}," - 1. Raster",1,{"$f":"SQRT((SQRT((2*$H$10)^2+$H$9^2)^2)+$H$12^2)","v":14.229898102235307},{"$f":"IF(Akustikberechnung!$C$29=4,IF(L24<=Akustikberechnung!$C$31,1,\"\"),IF(Akustikberechnung!$C$29>4,IF(L24<=Akustikberechnung!$C$31,4,\"\")))","v":4},{"$f":"IF(N24=FALSE,\"\",N24)","v":4}," - 1. Raster",1,{"$f":"SQRT((SQRT((3*$H$10)^2+$H$9^2)^2)+$H$12^2)","v":14.916098685648334},{"$f":"IF(Akustikberechnung!$C$29=6,IF(Q24<=Akustikberechnung!$C$31,2,\"\"),IF(Akustikberechnung!$C$29>6,IF(Q24<=Akustikberechnung!$C$31,4,\"\")))","v":4},{"$f":"IF(S24=FALSE,\"\",S24)","v":4}," - 1. Raster",1,{"$f":"SQRT((SQRT((4*$H$10)^2+$H$9^2)^2)+$H$12^2)","v":15.826875876179733},{"$f":"IF(Akustikberechnung!$C$29=8,IF(V24<=Akustikberechnung!$C$31,2,\"\"),IF(Akustikberechnung!$C$29>8,IF(V24<=Akustikberechnung!$C$31,4,\"\")))","v":4},{"$f":"IF(X24=FALSE,\"\",X24)","v":4}," - 1. Raster",1,{"$f":"SQRT((SQRT((5*$H$10)^2+$H$9^2)^2)+$H$12^2)","v":16.926015479137433},{"$f":"IF(Akustikberechnung!$C$29=10,IF(AA24<=Akustikberechnung!$C$31,2,\"\"),IF(Akustikberechnung!$C$29>10,IF(AA24<=Akustikberechnung!$C$31,4,\"\")))","v":2},{"$f":"IF(AC24=FALSE,\"\",AC24)","v":2}," - 1. Raster",1,{"$f":"SQRT((SQRT((6*$H$10)^2+$H$9^2)^2)+$H$12^2)","v":18.179383927955314},{"$f":"IF(Akustikberechnung!$C$29=12,IF(AF24<=Akustikberechnung!$C$31,2,\"\"),IF(Akustikberechnung!$C$29>12,IF(AF24<=Akustikberechnung!$C$31,4,\"\")))","v":false},{"$f":"IF(AH24=FALSE,\"\",AH24)","v":""}," - 1. Raster",1,{"$f":"SQRT((SQRT((7*$H$10)^2+$H$9^2)^2)+$H$12^2)","v":19.557351558940695},{"$f":"IF(Akustikberechnung!$C$29=14,IF(AK24<=Akustikberechnung!$C$31,2,\"\"),IF(Akustikberechnung!$C$29>14,IF(AK24<=Akustikberechnung!$C$30,4,\"\")))","v":false},{"$f":"IF(AM24=FALSE,\"\",AM24)","v":""}]
[" - 2. Raster (= 1. Raster * 1,41)",3,{"$f":"SQRT((2*H9)^2+C23^2)","v":14.941218156495808},{"$f":"IF(B25<=((Akustikberechnung!$C$31+1)/2),2,\"\")","v":2},null," - 2. Raster",2,{"$f":"SQRT((SQRT($H$10^2+(G25*$H$9)^2)^2)+$H$12^2)","v":15.074481748969017},{"$f":"IF(Akustikberechnung!$C$29=2,IF(G25<=(Akustikberechnung!$C$31+1)/2,2,\"\"),IF(Akustikberechnung!$C$29>2,IF(G25<=(Akustikberechnung!$C$31+1)/2,4,\"\")))","v":4},{"$f":"IF(I25=FALSE,\"\",I25)","v":4}," - 2. Raster",2,{"$f":"SQRT((SQRT((2*$H$10)^2+(L25*$H$9)^2)^2)+$H$12^2)","v":15.467385040788244},{"$f":"IF(Akustikberechnung!$C$29=4,IF(L25<=(Akustikberechnung!$C$31+1)/2,2,\"\"),IF(Akustikberechnung!$C$29>4,IF(L25<=(Akustikberechnung!$C$31+1)/2,4,\"\")))","v":4},{"$f":"IF(N25=FALSE,\"\",N25)","v":4}," - 2. Raster",2,{"$f":"SQRT((SQRT((3*$H$10)^2+(Q25*$H$9)^2)^2)+$H$12^2)","v":16.100931650062986},{"$f":"IF(Akustikberechnung!$C$29=6,IF(Q25<=Akustikberechnung!$C$31,2,\"\"),IF(Akustikberechnung!$C$29>6,IF(Q25<=Akustikberechnung!$C$31,4,\"\")))","v":4},{"$f":"IF(S25=FALSE,\"\",S25)","v":4}," - 2. Raster",2,{"$f":"SQRT((SQRT((4*$H$10)^2+(V25*$H$9)^2)^2)+$H$12^2)","v":16.948156241904311},{"$f":"IF(Akustikberechnung!$C$29=8,IF(V25<=Akustikberechnung!$C$31,2,\"\"),IF(Akustikberechnung!$C$29>8,IF(V25<=Akustikberechnung!$C$31,4,\"\")))","v":4},{"$f":"IF(X25=FALSE,\"\",X25)","v":4}," - 2. Raster",2,{"$f":"SQRT((SQRT((5*$H$10)^2+(AA25*$H$9)^2)^2)+$H$12^2)","v":17.978876494375278},{"$f":"IF(Akustikberechnung!$C$29=10,IF(AA25<=Akustikberechnung!$C$31,2,\"\"),IF(Akustikberechnung!$C$29>10,IF(AA25<=Akustikberechnung!$C$31,4,\"\")))","v":2},{"$f":"IF(AC25=FALSE,\"\",AC25)","v":2}," - 2. Raster",2,{"$f":"SQRT((SQRT((6*$H$10)^2+(AF25*$H$9)^2)^2)+$H$12^2)","v":19.163506985935534},{"$f":"IF(Akustikberechnung!$C$29=12,IF(AF25<=Akustikberechnung!$C$31,2,\"\"),IF(Akustikberechnung!$C$29>12,IF(AF25<=Akustikberechnung!$C$31,4,\"\")))","v":false},{"$f":"IF(AH25=FALSE,\"\",AH25)","v":""}," - 2. Raster",2,{"$f":"SQRT((SQRT((7*$H$10)^2+(AK25*$H$9)^2)^2)+$H$12^2)","v":20.475351034841868},{"$f":"IF(Akustikberechnung!$C$29=14,IF(AK25<=Akustikberechnung!$C$31,2,\"\"),IF(Akustikberechnung!$C$29>14,IF(AK25<=Akustikberechnung!$C$31,4,\"\")))","v":false},{"$f":"IF(AM25=FALSE,\"\",AM25)","v":""}]
[" - 3. Raster ",4,{"$f":"SQRT((3*H9)^2+C23^2)","v":16.866831356244717},{"$f":"IF(B26<=((Akustikberechnung!$C$31+1)/2),2,\"\")","v":2},null," - 3. Raster ",3,{"$f":"SQRT((SQRT($H$10^2+(G26*$H$9)^2)^2)+$H$12^2)","v":16.98499337650739},{"$f":"IF(Akustikberechnung!$C$29=2,IF(G26<=(Akustikberechnung!$C$31+1)/2,2,\"\"),IF(Akustikberechnung!$C$29>2,IF(G26<=(Akustikberechnung!$C$31+1)/2,4,\"\")))","v":4},4," - 3. Raster ",3,{"$f":"SQRT((SQRT((2*$H$10)^2+(L26*$H$9)^2)^2)+$H$12^2)","v":17.334647386087781},{"$f":"IF(Akustikberechnung!$C$29=4,IF(L26<=(Akustikberechnung!$C$31+1)/2,2,\"\"),IF(Akustikberechnung!$C$29>4,IF(L26<=(Akustikberechnung!$C$31+1)/2,4,\"\")))","v":4},4," - 3. Raster ",3,{"$f":"SQRT((SQRT((3*$H$10)^2+(Q26*$H$9)^2)^2)+$H$12^2)","v":17.90223449740283},{"$f":"IF(Akustikberechnung!$C$29=6,IF(Q26<=(Akustikberechnung!$C$31+1)/2,2,\"\"),IF(Akustikberechnung!$C$29>6,IF(Q26<=(Akustikberechnung!$C$31+1)/2,4,\"\")))","v":4},4," - 3. Raster ",3,{"$f":"SQRT((SQRT((4*$H$10)^2+(V26*$H$9)^2)^2)+$H$12^2)","v":18.667886864881091},{"$f":"IF(Akustikberechnung!$C$29=8,IF(V26<=(Akustikberechnung!$C$31+1)/2,2,\"\"),IF(Akustikberechnung!$C$29>8,IF(V26<=(Akustikberechnung!$C$31+1)/2,4,\"\")))","v":4},4," - 3. Raster ",3,{"$f":"SQRT((SQRT((5*$H$10)^2+(AA26*$H$9)^2)^2)+$H$12^2)","v":19.608416560242695},{"$f":"IF(Akustikberechnung!$C$29=10,IF(AA26<=(Akustikberechnung!$C$31+1)/2,2,\"\"),IF(Akustikberechnung!$C$29>10,IF(AA26<=(Akustikberechnung!$C$31+1)/2,4,\"\")))","v":2},2," - 3. Raster ",3,{"$f":"SQRT((SQRT((6*$H$10)^2+(AF26*$H$9)^2)^2)+$H$12^2)","v":20.7},{"$f":"IF(Akustikberechnung!$C$29=12,IF(AF26<=(Akustikberechnung!$C$31+1)/2,2,\"\"),IF(Akustikberechnung!$C$29>12,IF(AF26<=(Akustikberechnung!$C$31+1)/2,4,\"\")))","v":false},""," - 3. Raster ",3,{"$f":"SQRT((SQRT((7*$H$10)^2+(AK26*$H$9)^2)^2)+$H$12^2)","v":21.920082116634507},{"$f":"IF(Akustikberechnung!$C$29=14,IF(AK26<=(Akustikberechnung!$C$31+1)/2,2,\"\"),IF(Akustikberechnung!$C$29>14,IF(AK26<=(Akustikberechnung!$C$31+1)/2,4,\"\")))","v":false},""]
[" - 4. Raster",5,{"$f":"SQRT((4*$H$9)^2+$C$23^2)","v":19.241621553289111},{"$f":"IF(B27<=((Akustikberechnung!$C$31+1)/2),2,\"\")","v":2},null," - 4. Raster",4,19.345283662949996,{"$f":"IF(Akustikberechnung!$C$29=2,IF(G27<=(Akustikberechnung!$C$31+1)/2,2,\"\"),IF(Akustikberechnung!$C$29>2,IF(G27<=(Akustikberechnung!$C$31+1)/2,4,\"\")))","v":4},4," - 4. Raster",4,19.652989594461197,{"$f":"IF(Akustikberechnung!$C$29=4,IF(L27<=(Akustikberechnung!$C$31+1)/2,2,\"\"),IF(Akustikberechnung!$C$29>4,IF(L27<=(Akustikberechnung!$C$31+1)/2,4,\"\")))","v":4},4," - 4. Raster",4,20.155396299750596,{"$f":"IF(Akustikberechnung!$C$29=6,IF(Q27<=(Akustikberechnung!$C$31+1)/2,2,\"\"),IF(Akustikberechnung!$C$29>6,IF(Q27<=(Akustikberechnung!$C$31+1)/2,4,\"\")))","v":4},4," - 4. Raster",4,20.838426044209765,{"$f":"IF(Akustikberechnung!$C$29=8,IF(V27<=(Akustikberechnung!$C$31+1)/2,2,\"\"),IF(Akustikberechnung!$C$29>8,IF(V27<=(Akustikberechnung!$C$31+1)/2,4,\"\")))","v":4},4," - 4. Raster",4,21.68501786948768,{"$f":"IF(Akustikberechnung!$C$29=10,IF(AA27<=(Akustikberechnung!$C$31+1)/2,2,\"\"),IF(Akustikberechnung!$C$29>10,IF(AA27<=(Akustikberechnung!$C$31+1)/2,4,\"\")))","v":2},2," - 4. Raster",4,22.676860452893386,{"$f":"IF(Akustikberechnung!$C$29=12,IF(AF27<=(Akustikberechnung!$C$31+1)/2,2,\"\"),IF(Akustikberechnung!$C$29>12,IF(AF27<=(Akustikberechnung!$C$31+1)/2,4,\"\")))","v":false},""," - 4. Raster",4,23.795797948377356,{"$f":"IF(Akustikberechnung!$C$29=14,IF(AK27<=(Akustikberechnung!$C$31+1)/2,2,\"\"),IF(Akustikberechnung!$C$29>14,IF(AK27<=(Akustikberechnung!$C$31+1)/2,4,\"\")))","v":false},""]
[" - 5. Raster",6,{"$f":"SQRT((5*$H$9)^2+$C$23^2)","v":21.920082116634507},{"$f":"IF(B28<=((Akustikberechnung!$C$31+1)/2),2,\"\")","v":""},null," - 5. Raster",5,22.011133546457799,{"$f":"IF(Akustikberechnung!$C$29=2,IF(G28<=(Akustikberechnung!$C$31+1)/2,2,\"\"),IF(Akustikberechnung!$C$29>2,IF(G28<=(Akustikberechnung!$C$31+1)/2,4,\"\")))","v":4},4," - 5. Raster",5,22.28205556047287,{"$f":"IF(Akustikberechnung!$C$29=4,IF(L28<=(Akustikberechnung!$C$31+1)/2,2,\"\"),IF(Akustikberechnung!$C$29>4,IF(L28<=(Akustikberechnung!$C$31+1)/2,4,\"\")))","v":4},4," - 5. Raster",5,22.726416347501864,{"$f":"IF(Akustikberechnung!$C$29=6,IF(Q28<=(Akustikberechnung!$C$31+1)/2,2,\"\"),IF(Akustikberechnung!$C$29>6,IF(Q28<=(Akustikberechnung!$C$31+1)/2,4,\"\")))","v":4},4," - 5. Raster",5,23.334309503390063,{"$f":"IF(Akustikberechnung!$C$29=8,IF(V28<=(Akustikberechnung!$C$31+1)/2,2,\"\"),IF(Akustikberechnung!$C$29>8,IF(V28<=(Akustikberechnung!$C$31+1)/2,4,\"\")))","v":4},4," - 5. Raster",5,24.093360081150987,{"$f":"IF(Akustikberechnung!$C$29=10,IF(AA28<=(Akustikberechnung!$C$31+1)/2,2,\"\"),IF(Akustikberechnung!$C$29>10,IF(AA28<=(Akustikberechnung!$C$31+1)/2,4,\"\")))","v":2},2," - 5. Raster",5,24.9897979183506,{"$f":"IF(Akustikberechnung!$C$29=12,IF(AF28<=(Akustikberechnung!$C$31+1)/2,2,\"\"),IF(Akustikberechnung!$C$29>12,IF(AF28<=(Akustikberechnung!$C$31+1)/2,4,\"\")))","v":false},""," - 5. Raster",5,26.009421369957465,{"$f":"IF(Akustikberechnung!$C$29=14,IF(AK28<=(Akustikberechnung!$C$31+1)/2,2,\"\"),IF(Akustikberechnung!$C$29>14,IF(AK28<=(Akustikberechnung!$C$31+1)/2,4,\"\")))","v":false},""]
[" - 6. Raster",7,{"$f":"SQRT((6*$H$9)^2+$C$23^2)","v":24.804031930313265},{"$f":"IF(B29<=((Akustikberechnung!$C$31+1)/2),2,\"\")","v":""},null," - 6. Raster",6,24.884533349050368,{"$f":"IF(Akustikberechnung!$C$29=2,IF(G29<=(Akustikberechnung!$C$31+1)/2,2,\"\"),IF(Akustikberechnung!$C$29>2,IF(G29<=(Akustikberechnung!$C$31+1)/2,4,\"\")))","v":""},""," - 6. Raster",6,25.124490044576028,{"$f":"IF(Akustikberechnung!$C$29=4,IF(L29<=(Akustikberechnung!$C$31+1)/2,2,\"\"),IF(Akustikberechnung!$C$29>4,IF(L29<=(Akustikberechnung!$C$31+1)/2,4,\"\")))","v":""},""," - 6. Raster",6,25.519404381764087,{"$f":"IF(Akustikberechnung!$C$29=6,IF(Q29<=(Akustikberechnung!$C$31+1)/2,2,\"\"),IF(Akustikberechnung!$C$29>6,IF(Q29<=(Akustikberechnung!$C$31+1)/2,4,\"\")))","v":""},""," - 6. Raster",6,26.06223321206377,{"$f":"IF(Akustikberechnung!$C$29=8,IF(V29<=(Akustikberechnung!$C$31+1)/2,2,\"\"),IF(Akustikberechnung!$C$29>8,IF(V29<=(Akustikberechnung!$C$31+1)/2,4,\"\")))","v":""},""," - 6. Raster",6,26.743971283263079,{"$f":"IF(Akustikberechnung!$C$29=10,IF(AA29<=(Akustikberechnung!$C$31+1)/2,2,\"\"),IF(Akustikberechnung!$C$29>10,IF(AA29<=(Akustikberechnung!$C$31+1)/2,4,\"\")))","v":""},""," - 6. Raster",6,27.554310007692081,{"$f":"IF(Akustikberechnung!$C$29=12,IF(AF29<=(Akustikberechnung!$C$31+1)/2,2,\"\"),IF(Akustikberechnung!$C$29>12,IF(AF29<=(Akustikberechnung!$C$31+1)/2,4,\"\")))","v":false},""," - 6. Raster",6,28.482275190019493,{"$f":"IF(Akustikberechnung!$C$29=14,IF(AK29<=(Akustikberechnung!$C$31+1)/2,2,\"\"),IF(Akustikberechnung!$C$29>14,IF(AK29<=(Akustikberechnung!$C$31+1)/2,4,\"\")))","v":false},""]
[" - 7. Raster",8,{"$f":"SQRT((7*$H$9)^2+$C$23^2)","v":27.829660436304284},{"$f":"IF(B30<=((Akustikberechnung!$C$31+1)/2),2,\"\")","v":""},null," - 7. Raster",7,27.90143365492175,{"$f":"IF(Akustikberechnung!$C$29=2,IF(G30<=(Akustikberechnung!$C$31+1)/2,2,\"\"),IF(Akustikberechnung!$C$29>2,IF(G30<=(Akustikberechnung!$C$31+1)/2,4,\"\")))","v":""},""," - 7. Raster",7,28.115654002708172,{"$f":"IF(Akustikberechnung!$C$29=4,IF(L30<=(Akustikberechnung!$C$31+1)/2,2,\"\"),IF(Akustikberechnung!$C$29>4,IF(L30<=(Akustikberechnung!$C$31+1)/2,4,\"\")))","v":""},""," - 7. Raster",7,28.469106062537335,{"$f":"IF(Akustikberechnung!$C$29=6,IF(Q30<=(Akustikberechnung!$C$31+1)/2,2,\"\"),IF(Akustikberechnung!$C$29>6,IF(Q30<=(Akustikberechnung!$C$31+1)/2,4,\"\")))","v":""},""," - 7. Raster",7,28.956691799996769,{"$f":"IF(Akustikberechnung!$C$29=8,IF(V30<=(Akustikberechnung!$C$31+1)/2,2,\"\"),IF(Akustikberechnung!$C$29>8,IF(V30<=(Akustikberechnung!$C$31+1)/2,4,\"\")))","v":""},""," - 7. Raster",7,29.571777085592945,{"$f":"IF(Akustikberechnung!$C$29=10,IF(AA30<=(Akustikberechnung!$C$31+1)/2,2,\"\"),IF(Akustikberechnung!$C$29>10,IF(AA30<=(Akustikberechnung!$C$31+1)/2,4,\"\")))","v":""},""," - 7. Raster",7,30.306599941266921,{"$f":"IF(Akustikberechnung!$C$29=12,IF(AF30<=(Akustikberechnung!$C$31+1)/2,2,\"\"),IF(Akustikberechnung!$C$29>12,IF(AF30<=(Akustikberechnung!$C$31+1)/2,4,\"\")))","v":false},""," - 7. Raster",7,31.152688487512602,{"$f":"IF(Akustikberechnung!$C$29=14,IF(AK30<=(Akustikberechnung!$C$31+1)/2,2,\"\"),IF(Akustikberechnung!$C$29>14,IF(AK30<=(Akustikberechnung!$C$31+1)/2,4,\"\")))","v":false},""]
[" - 8. Raster",9,{"$f":"SQRT((8*$H$9)^2+$C$23^2)","v":30.955451862313364},{"$f":"IF(B31<=((Akustikberechnung!$C$31+1)/2),2,\"\")","v":""},null," - 8. Raster",8,31.019993552546072,{"$f":"IF(Akustikberechnung!$C$29=2,IF(G31<=(Akustikberechnung!$C$31+1)/2,2,\"\"),IF(Akustikberechnung!$C$29>2,IF(G31<=(Akustikberechnung!$C$31+1)/2,4,\"\")))","v":""},""," - 8. Raster",8,31.212817879839047,{"$f":"IF(Akustikberechnung!$C$29=4,IF(L31<=(Akustikberechnung!$C$31+1)/2,2,\"\"),IF(Akustikberechnung!$C$29>4,IF(L31<=(Akustikberechnung!$C$31+1)/2,4,\"\")))","v":""},""," - 8. Raster",8,31.531571480026173,{"$f":"IF(Akustikberechnung!$C$29=6,IF(Q31<=(Akustikberechnung!$C$31+1)/2,2,\"\"),IF(Akustikberechnung!$C$29>6,IF(Q31<=(Akustikberechnung!$C$31+1)/2,4,\"\")))","v":""},""," - 8. Raster",8,31.972488173428104,{"$f":"IF(Akustikberechnung!$C$29=8,IF(V31<=(Akustikberechnung!$C$31+1)/2,2,\"\"),IF(Akustikberechnung!$C$29>8,IF(V31<=(Akustikberechnung!$C$31+1)/2,4,\"\")))","v":""},""," - 8. Raster",8,32.530600978155938,{"$f":"IF(Akustikberechnung!$C$29=10,IF(AA31<=(Akustikberechnung!$C$31+1)/2,2,\"\"),IF(Akustikberechnung!$C$29>10,IF(AA31<=(Akustikberechnung!$C$31+1)/2,4,\"\")))","v":""},""," - 8. Raster",8,33.200000000000003,{"$f":"IF(Akustikberechnung!$C$29=12,IF(AF31<=(Akustikberechnung!$C$31+1)/2,2,\"\"),IF(Akustikberechnung!$C$29>12,IF(AF31<=(Akustikberechnung!$C$31+1)/2,4,\"\")))","v":false},""," - 8. Raster",8,33.974107788137722,{"$f":"IF(Akustikberechnung!$C$29=14,IF(AK31<=(Akustikberechnung!$C$31+1)/2,2,\"\"),IF(Akustikberechnung!$C$29>14,IF(AK31<=(Akustikberechnung!$C$31+1)/2,4,\"\")))","v":false},""]
[" - 9. Raster",10,{"$f":"SQRT((9*$H$9)^2+$C$23^2)","v":34.153916320094247},{"$f":"IF(B32<=((Akustikberechnung!$C$31+1)/2),2,\"\")","v":""},null," - 9. Raster",9,34.212424643687562,{"$f":"IF(Akustikberechnung!$C$29=2,IF(G32<=(Akustikberechnung!$C$31+1)/2,2,\"\"),IF(Akustikberechnung!$C$29>2,IF(G32<=(Akustikberechnung!$C$31+1)/2,4,\"\")))","v":""},""," - 9. Raster",9,34.387352326109671,{"$f":"IF(Akustikberechnung!$C$29=4,IF(L32<=(Akustikberechnung!$C$31+1)/2,2,\"\"),IF(Akustikberechnung!$C$29>4,IF(L32<=(Akustikberechnung!$C$31+1)/2,4,\"\")))","v":""},""," - 9. Raster",9,34.676937581049458,{"$f":"IF(Akustikberechnung!$C$29=6,IF(Q32<=(Akustikberechnung!$C$31+1)/2,2,\"\"),IF(Akustikberechnung!$C$29>6,IF(Q32<=(Akustikberechnung!$C$31+1)/2,4,\"\")))","v":""},""," - 9. Raster",9,35.078340895772136,{"$f":"IF(Akustikberechnung!$C$29=8,IF(V32<=(Akustikberechnung!$C$31+1)/2,2,\"\"),IF(Akustikberechnung!$C$29>8,IF(V32<=(Akustikberechnung!$C$31+1)/2,4,\"\")))","v":""},""," - 9. Raster",9,35.587778801155878,{"$f":"IF(Akustikberechnung!$C$29=10,IF(AA32<=(Akustikberechnung!$C$31+1)/2,2,\"\"),IF(Akustikberechnung!$C$29>10,IF(AA32<=(Akustikberechnung!$C$31+1)/2,4,\"\")))","v":""},""," - 9. Raster",9,36.200690601147379,{"$f":"IF(Akustikberechnung!$C$29=12,IF(AF32<=(Akustikberechnung!$C$31+1)/2,2,\"\"),IF(Akustikberechnung!$C$29>12,IF(AF32<=(Akustikberechnung!$C$31+1)/2,4,\"\")))","v":false},""," - 9. Raster",9,36.91192219324266,{"$f":"IF(Akustikberechnung!$C$29=14,IF(AK32<=(Akustikberechnung!$C$31+1)/2,2,\"\"),IF(Akustikberechnung!$C$29>14,IF(AK32<=(Akustikberechnung!$C$31+1)/2,4,\"\")))","v":false},""]
[" - 10. Raster",11,{"$f":"SQRT((10*$H$9)^2+$C$23^2)","v":37.406416561868099},{"$f":"IF(B33<=((Akustikberechnung!$C$31+1)/2),2,\"\")","v":""},null," - 10. Raster",10,37.459845167859413,{"$f":"IF(Akustikberechnung!$C$29=2,IF(G33<=(Akustikberechnung!$C$31+1)/2,2,\"\"),IF(Akustikberechnung!$C$29>2,IF(G33<=(Akustikberechnung!$C$31+1)/2,4,\"\")))","v":""},""," - 10. Raster",10,37.619675703014771,{"$f":"IF(Akustikberechnung!$C$29=4,IF(L33<=(Akustikberechnung!$C$31+1)/2,2,\"\"),IF(Akustikberechnung!$C$29>4,IF(L33<=(Akustikberechnung!$C$31+1)/2,4,\"\")))","v":""},""," - 10. Raster",10,37.88456149937597,{"$f":"IF(Akustikberechnung!$C$29=6,IF(Q33<=(Akustikberechnung!$C$31+1)/2,2,\"\"),IF(Akustikberechnung!$C$29>6,IF(Q33<=(Akustikberechnung!$C$31+1)/2,4,\"\")))","v":""},""," - 10. Raster",10,38.252320191068144,{"$f":"IF(Akustikberechnung!$C$29=8,IF(V33<=(Akustikberechnung!$C$31+1)/2,2,\"\"),IF(Akustikberechnung!$C$29>8,IF(V33<=(Akustikberechnung!$C$31+1)/2,4,\"\")))","v":""},""," - 10. Raster",10,38.720020661151516,{"$f":"IF(Akustikberechnung!$C$29=10,IF(AA33<=(Akustikberechnung!$C$31+1)/2,2,\"\"),IF(Akustikberechnung!$C$29>10,IF(AA33<=(Akustikberechnung!$C$31+1)/2,4,\"\")))","v":""},""," - 10. Raster",10,39.284093473058533,{"$f":"IF(Akustikberechnung!$C$29=12,IF(AF33<=(Akustikberechnung!$C$31+1)/2,2,\"\"),IF(Akustikberechnung!$C$29>12,IF(AF33<=(Akustikberechnung!$C$31+1)/2,4,\"\")))","v":false},""," - 10. Raster",10,39.940455680925822,{"$f":"IF(Akustikberechnung!$C$29=14,IF(AK33<=(Akustikberechnung!$C$31+1)/2,2,\"\"),IF(Akustikberechnung!$C$29>14,IF(AK33<=(Akustikberechnung!$C$31+1)/2,4,\"\")))","v":false},""]
[" - 11. Raster",12,{"$f":"SQRT((11*$H$9)^2+$C$23^2)","v":40.700000000000003},{"$f":"IF(B34<=((Akustikberechnung!$C$31+1)/2),2,\"\")","v":""},null," - 11. Raster",11,40.749110419737995,{"$f":"IF(Akustikberechnung!$C$29=2,IF(G34<=(Akustikberechnung!$C$31+1)/2,2,\"\"),IF(Akustikberechnung!$C$29>2,IF(G34<=(Akustikberechnung!$C$31+1)/2,4,\"\")))","v":""},""," - 11. Raster",11,40.896087832456544,{"$f":"IF(Akustikberechnung!$C$29=4,IF(L34<=(Akustikberechnung!$C$31+1)/2,2,\"\"),IF(Akustikberechnung!$C$29>4,IF(L34<=(Akustikberechnung!$C$31+1)/2,4,\"\")))","v":""},""," - 11. Raster",11,41.139883325065469,{"$f":"IF(Akustikberechnung!$C$29=6,IF(Q34<=(Akustikberechnung!$C$31+1)/2,2,\"\"),IF(Akustikberechnung!$C$29>6,IF(Q34<=(Akustikberechnung!$C$31+1)/2,4,\"\")))","v":""},""," - 11. Raster",11,41.478789760551116,{"$f":"IF(Akustikberechnung!$C$29=8,IF(V34<=(Akustikberechnung!$C$31+1)/2,2,\"\"),IF(Akustikberechnung!$C$29>8,IF(V34<=(Akustikberechnung!$C$31+1)/2,4,\"\")))","v":""},""," - 11. Raster",11,41.910499877715608,{"$f":"IF(Akustikberechnung!$C$29=10,IF(AA34<=(Akustikberechnung!$C$31+1)/2,2,\"\"),IF(Akustikberechnung!$C$29>10,IF(AA34<=(Akustikberechnung!$C$31+1)/2,4,\"\")))","v":""},""," - 11. Raster",11,42.432181183625246,{"$f":"IF(Akustikberechnung!$C$29=12,IF(AF34<=(Akustikberechnung!$C$31+1)/2,2,\"\"),IF(Akustikberechnung!$C$29>12,IF(AF34<=(Akustikberechnung!$C$31+1)/2,4,\"\")))","v":false},""," - 11. Raster",11,43.040562263985358,{"$f":"IF(Akustikberechnung!$C$29=14,IF(AK34<=(Akustikberechnung!$C$31+1)/2,2,\"\"),IF(Akustikberechnung!$C$29>14,IF(AK34<=(Akustikberechnung!$C$31+1)/2,4,\"\")))","v":false},""]
[" - 12. Raster",13,{"$f":"SQRT((12*$H$9)^2+$C$23^2)","v":44.025447186825936},{"$f":"IF(B35<=((Akustikberechnung!$C$31+1)/2),2,\"\")","v":""},null," - 12. Raster",12,44.070852045314489,{"$f":"IF(Akustikberechnung!$C$29=2,IF(G35<=(Akustikberechnung!$C$31+1)/2,2,\"\"),IF(Akustikberechnung!$C$29>2,IF(G35<=(Akustikberechnung!$C$31+1)/2,4,\"\")))","v":""},""," - 12. Raster",12,44.2067868092672,{"$f":"IF(Akustikberechnung!$C$29=4,IF(L35<=(Akustikberechnung!$C$31+1)/2,2,\"\"),IF(Akustikberechnung!$C$29>4,IF(L35<=(Akustikberechnung!$C$31+1)/2,4,\"\")))","v":""},""," - 12. Raster",12,44.432420595776684,{"$f":"IF(Akustikberechnung!$C$29=6,IF(Q35<=(Akustikberechnung!$C$31+1)/2,2,\"\"),IF(Akustikberechnung!$C$29>6,IF(Q35<=(Akustikberechnung!$C$31+1)/2,4,\"\")))","v":""},""," - 12. Raster",12,44.74639650295876,{"$f":"IF(Akustikberechnung!$C$29=8,IF(V35<=(Akustikberechnung!$C$31+1)/2,2,\"\"),IF(Akustikberechnung!$C$29>8,IF(V35<=(Akustikberechnung!$C$31+1)/2,4,\"\")))","v":""},""," - 12. Raster",12,45.146871430919774,{"$f":"IF(Akustikberechnung!$C$29=10,IF(AA35<=(Akustikberechnung!$C$31+1)/2,2,\"\"),IF(Akustikberechnung!$C$29>10,IF(AA35<=(Akustikberechnung!$C$31+1)/2,4,\"\")))","v":""},""," - 12. Raster",12,45.631568020395704,{"$f":"IF(Akustikberechnung!$C$29=12,IF(AF35<=(Akustikberechnung!$C$31+1)/2,2,\"\"),IF(Akustikberechnung!$C$29>12,IF(AF35<=(Akustikberechnung!$C$31+1)/2,4,\"\")))","v":false},""," - 12. Raster",12,46.197835447128902,{"$f":"IF(Akustikberechnung!$C$29=14,IF(AK35<=(Akustikberechnung!$C$31+1)/2,2,\"\"),IF(Akustikberechnung!$C$29>14,IF(AK35<=(Akustikberechnung!$C$31+1)/2,4,\"\")))","v":false},""]
[" - 13. Raster",14,{"$f":"SQRT((13*$H$9)^2+$C$23^2)","v":47.376048801055582},{"$f":"IF(B36<=((Akustikberechnung!$C$31+1)/2),2,\"\")","v":""},null," - 13. Raster",13,47.418245433588119,{"$f":"IF(Akustikberechnung!$C$29=2,IF(G36<=(Akustikberechnung!$C$31+1)/2,2,\"\"),IF(Akustikberechnung!$C$29>2,IF(G36<=(Akustikberechnung!$C$31+1)/2,4,\"\")))","v":""},""," - 13. Raster",13,47.544610630438441,{"$f":"IF(Akustikberechnung!$C$29=4,IF(L36<=(Akustikberechnung!$C$31+1)/2,2,\"\"),IF(Akustikberechnung!$C$29>4,IF(L36<=(Akustikberechnung!$C$31+1)/2,4,\"\")))","v":""},""," - 13. Raster",13,47.754476229982878,{"$f":"IF(Akustikberechnung!$C$29=6,IF(Q36<=(Akustikberechnung!$C$31+1)/2,2,\"\"),IF(Akustikberechnung!$C$29>6,IF(Q36<=(Akustikberechnung!$C$31+1)/2,4,\"\")))","v":""},""," - 13. Raster",13,48.046748068938022,{"$f":"IF(Akustikberechnung!$C$29=8,IF(V36<=(Akustikberechnung!$C$31+1)/2,2,\"\"),IF(Akustikberechnung!$C$29>8,IF(V36<=(Akustikberechnung!$C$31+1)/2,4,\"\")))","v":""},""," - 13. Raster",13,48.419933911561664,{"$f":"IF(Akustikberechnung!$C$29=10,IF(AA36<=(Akustikberechnung!$C$31+1)/2,2,\"\"),IF(Akustikberechnung!$C$29>10,IF(AA36<=(Akustikberechnung!$C$31+1)/2,4,\"\")))","v":""},""," - 13. Raster",13,48.872180225563909,{"$f":"IF(Akustikberechnung!$C$29=12,IF(AF36<=(Akustikberechnung!$C$31+1)/2,2,\"\"),IF(Akustikberechnung!$C$29>12,IF(AF36<=(Akustikberechnung!$C$31+1)/2,4,\"\")))","v":false},""," - 13. Raster",13,49.401315771950848,{"$f":"IF(Akustikberechnung!$C$29=14,IF(AK36<=(Akustikberechnung!$C$31+1)/2,2,\"\"),IF(Akustikberechnung!$C$29>14,IF(AK36<=(Akustikberechnung!$C$31+1)/2,4,\"\")))","v":false},""]
[" - 14. Raster",15,{"$f":"SQRT((14*$H$9)^2+$C$23^2)","v":50.746822560629347},{"$f":"IF(B37<=((Akustikberechnung!$C$31+1)/2),2,\"\")","v":""},null," - 14. Raster",14,50.786218603081686,{"$f":"IF(Akustikberechnung!$C$29=2,IF(G37<=(Akustikberechnung!$C$31+1)/2,2,\"\"),IF(Akustikberechnung!$C$29>2,IF(G37<=(Akustikberechnung!$C$31+1)/2,4,\"\")))","v":""},""," - 14. Raster",14,50.904223793316007,{"$f":"IF(Akustikberechnung!$C$29=4,IF(L37<=(Akustikberechnung!$C$31+1)/2,2,\"\"),IF(Akustikberechnung!$C$29>4,IF(L37<=(Akustikberechnung!$C$31+1)/2,4,\"\")))","v":""},""," - 14. Raster",14,51.100293541231245,{"$f":"IF(Akustikberechnung!$C$29=6,IF(Q37<=(Akustikberechnung!$C$31+1)/2,2,\"\"),IF(Akustikberechnung!$C$29>6,IF(Q37<=(Akustikberechnung!$C$31+1)/2,4,\"\")))","v":""},""," - 14. Raster",14,51.373534042345185,{"$f":"IF(Akustikberechnung!$C$29=8,IF(V37<=(Akustikberechnung!$C$31+1)/2,2,\"\"),IF(Akustikberechnung!$C$29>8,IF(V37<=(Akustikberechnung!$C$31+1)/2,4,\"\")))","v":""},""," - 14. Raster",14,51.7227222794779,{"$f":"IF(Akustikberechnung!$C$29=10,IF(AA37<=(Akustikberechnung!$C$31+1)/2,2,\"\"),IF(Akustikberechnung!$C$29>10,IF(AA37<=(Akustikberechnung!$C$31+1)/2,4,\"\")))","v":""},""," - 14. Raster",14,52.146332565195806,{"$f":"IF(Akustikberechnung!$C$29=12,IF(AF37<=(Akustikberechnung!$C$31+1)/2,2,\"\"),IF(Akustikberechnung!$C$29>12,IF(AF37<=(Akustikberechnung!$C$31+1)/2,4,\"\")))","v":false},""," - 14. Raster",14,52.642568326402916,{"$f":"IF(Akustikberechnung!$C$29=14,IF(AK37<=(Akustikberechnung!$C$31+1)/2,2,\"\"),IF(Akustikberechnung!$C$29>14,IF(AK37<=(Akustikberechnung!$C$31+1)/2,4,\"\")))","v":false},""]
[" - 15. Raster",16,{"$f":"SQRT((15*$H$9)^2+$C$23^2)","v":54.134000406398933},{"$f":"IF(B38<=((Akustikberechnung!$C$31+1)/2),2,\"\")","v":""},null," - 15. Raster",15,54.170933165305541,{"$f":"IF(Akustikberechnung!$C$29=2,IF(G38<=(Akustikberechnung!$C$31+1)/2,2,\"\"),IF(Akustikberechnung!$C$29>2,IF(G38<=(Akustikberechnung!$C$31+1)/2,4,\"\")))","v":""},""," - 15. Raster",15,54.281580669689419,{"$f":"IF(Akustikberechnung!$C$29=4,IF(L38<=(Akustikberechnung!$C$31+1)/2,2,\"\"),IF(Akustikberechnung!$C$29>4,IF(L38<=(Akustikberechnung!$C$31+1)/2,4,\"\")))","v":""},""," - 15. Raster",15,54.465493663419593,{"$f":"IF(Akustikberechnung!$C$29=6,IF(Q38<=(Akustikberechnung!$C$31+1)/2,2,\"\"),IF(Akustikberechnung!$C$29>6,IF(Q38<=(Akustikberechnung!$C$31+1)/2,4,\"\")))","v":""},""," - 15. Raster",15,54.721933445374532,{"$f":"IF(Akustikberechnung!$C$29=8,IF(V38<=(Akustikberechnung!$C$31+1)/2,2,\"\"),IF(Akustikberechnung!$C$29>8,IF(V38<=(Akustikberechnung!$C$31+1)/2,4,\"\")))","v":""},""," - 15. Raster",15,55.049886466731245,{"$f":"IF(Akustikberechnung!$C$29=10,IF(AA38<=(Akustikberechnung!$C$31+1)/2,2,\"\"),IF(Akustikberechnung!$C$29>10,IF(AA38<=(Akustikberechnung!$C$31+1)/2,4,\"\")))","v":""},""," - 15. Raster",15,55.448083826224334,{"$f":"IF(Akustikberechnung!$C$29=12,IF(AF38<=(Akustikberechnung!$C$31+1)/2,2,\"\"),IF(Akustikberechnung!$C$29>12,IF(AF38<=(Akustikberechnung!$C$31+1)/2,4,\"\")))","v":false},""," - 15. Raster",15,55.91502481444499,{"$f":"IF(Akustikberechnung!$C$29=14,IF(AK38<=(Akustikberechnung!$C$31+1)/2,2,\"\"),IF(Akustikberechnung!$C$29>14,IF(AK38<=(Akustikberechnung!$C$31+1)/2,4,\"\")))","v":false},""]
[" - 16. Raster",17,{"$f":"SQRT((16*$H$9)^2+$C$23^2)","v":57.53468519076123},{"$f":"IF(B39<=((Akustikberechnung!$C$31+1)/2),2,\"\")","v":""},null," - 16. Raster",16,57.569436335611279,{"$f":"IF(Akustikberechnung!$C$29=2,IF(G39<=(Akustikberechnung!$C$31+1)/2,2,\"\"),IF(Akustikberechnung!$C$29>2,IF(G39<=(Akustikberechnung!$C$31+1)/2,4,\"\")))","v":""},""," - 16. Raster",16,57.673564134705593,{"$f":"IF(Akustikberechnung!$C$29=4,IF(L39<=(Akustikberechnung!$C$31+1)/2,2,\"\"),IF(Akustikberechnung!$C$29>4,IF(L39<=(Akustikberechnung!$C$31+1)/2,4,\"\")))","v":""},""," - 16. Raster",16,57.846693941832143,{"$f":"IF(Akustikberechnung!$C$29=6,IF(Q39<=(Akustikberechnung!$C$31+1)/2,2,\"\"),IF(Akustikberechnung!$C$29>6,IF(Q39<=(Akustikberechnung!$C$31+1)/2,4,\"\")))","v":""},""," - 16. Raster",16,58.088208786293286,{"$f":"IF(Akustikberechnung!$C$29=8,IF(V39<=(Akustikberechnung!$C$31+1)/2,2,\"\"),IF(Akustikberechnung!$C$29>8,IF(V39<=(Akustikberechnung!$C$31+1)/2,4,\"\")))","v":""},""," - 16. Raster",16,58.397260209705045,{"$f":"IF(Akustikberechnung!$C$29=10,IF(AA39<=(Akustikberechnung!$C$31+1)/2,2,\"\"),IF(Akustikberechnung!$C$29>10,IF(AA39<=(Akustikberechnung!$C$31+1)/2,4,\"\")))","v":""},""," - 16. Raster",16,58.772782816538474,{"$f":"IF(Akustikberechnung!$C$29=12,IF(AF39<=(Akustikberechnung!$C$31+1)/2,2,\"\"),IF(Akustikberechnung!$C$29>12,IF(AF39<=(Akustikberechnung!$C$31+1)/2,4,\"\")))","v":false},""," - 16. Raster",16,59.213511971508666,{"$f":"IF(Akustikberechnung!$C$29=14,IF(AK39<=(Akustikberechnung!$C$31+1)/2,2,\"\"),IF(Akustikberechnung!$C$29>14,IF(AK39<=(Akustikberechnung!$C$31+1)/2,4,\"\")))","v":false},""]
[" - 17. Raster",18,{"$f":"SQRT((17*$H$9)^2+$C$23^2)","v":60.946615984810833},{"$f":"IF(B40<=((Akustikberechnung!$C$31+1)/2),2,\"\")","v":""},null," - 17. Raster",17,60.97942275882906,{"$f":"IF(Akustikberechnung!$C$29=2,IF(G40<=(Akustikberechnung!$C$31+1)/2,2,\"\"),IF(Akustikberechnung!$C$29>2,IF(G40<=(Akustikberechnung!$C$31+1)/2,4,\"\")))","v":""},""," - 17. Raster",17,61.077737351673399,{"$f":"IF(Akustikberechnung!$C$29=4,IF(L40<=(Akustikberechnung!$C$31+1)/2,2,\"\"),IF(Akustikberechnung!$C$29>4,IF(L40<=(Akustikberechnung!$C$31+1)/2,4,\"\")))","v":""},""," - 17. Raster",17,61.241244272140648,{"$f":"IF(Akustikberechnung!$C$29=6,IF(Q40<=(Akustikberechnung!$C$31+1)/2,2,\"\"),IF(Akustikberechnung!$C$29>6,IF(Q40<=(Akustikberechnung!$C$31+1)/2,4,\"\")))","v":""},""," - 17. Raster",17,61.469423293211399,{"$f":"IF(Akustikberechnung!$C$29=8,IF(V40<=(Akustikberechnung!$C$31+1)/2,2,\"\"),IF(Akustikberechnung!$C$29>8,IF(V40<=(Akustikberechnung!$C$31+1)/2,4,\"\")))","v":""},""," - 17. Raster",17,61.761557622844968,{"$f":"IF(Akustikberechnung!$C$29=10,IF(AA40<=(Akustikberechnung!$C$31+1)/2,2,\"\"),IF(Akustikberechnung!$C$29>10,IF(AA40<=(Akustikberechnung!$C$31+1)/2,4,\"\")))","v":""},""," - 17. Raster",17,62.116744924376064,{"$f":"IF(Akustikberechnung!$C$29=12,IF(AF40<=(Akustikberechnung!$C$31+1)/2,2,\"\"),IF(Akustikberechnung!$C$29>12,IF(AF40<=(Akustikberechnung!$C$31+1)/2,4,\"\")))","v":false},""," - 17. Raster",17,62.533910800460895,{"$f":"IF(Akustikberechnung!$C$29=14,IF(AK40<=(Akustikberechnung!$C$31+1)/2,2,\"\"),IF(Akustikberechnung!$C$29>14,IF(AK40<=(Akustikberechnung!$C$31+1)/2,4,\"\")))","v":false},""]
[" - 18. Raster",19,{"$f":"SQRT((18*$H$9)^2+$C$23^2)","v":64.36800447427278},{"$f":"IF(B41<=((Akustikberechnung!$C$31+1)/2),2,\"\")","v":""},null," - 18. Raster",18,64.399068316241966,{"$f":"IF(Akustikberechnung!$C$29=2,IF(G41<=(Akustikberechnung!$C$31+1)/2,2,\"\"),IF(Akustikberechnung!$C$29>2,IF(G41<=(Akustikberechnung!$C$31+1)/2,4,\"\")))","v":""},""," - 18. Raster",18,64.492170067381039,{"$f":"IF(Akustikberechnung!$C$29=4,IF(L41<=(Akustikberechnung!$C$31+1)/2,2,\"\"),IF(Akustikberechnung!$C$29>4,IF(L41<=(Akustikberechnung!$C$31+1)/2,4,\"\")))","v":""},""," - 18. Raster",18,64.647041695656881,{"$f":"IF(Akustikberechnung!$C$29=6,IF(Q41<=(Akustikberechnung!$C$31+1)/2,2,\"\"),IF(Akustikberechnung!$C$29>6,IF(Q41<=(Akustikberechnung!$C$31+1)/2,4,\"\")))","v":""},""," - 18. Raster",18,64.863240745433004,{"$f":"IF(Akustikberechnung!$C$29=8,IF(V41<=(Akustikberechnung!$C$31+1)/2,2,\"\"),IF(Akustikberechnung!$C$29>8,IF(V41<=(Akustikberechnung!$C$31+1)/2,4,\"\")))","v":""},""," - 18. Raster",18,65.140156585626968,{"$f":"IF(Akustikberechnung!$C$29=10,IF(AA41<=(Akustikberechnung!$C$31+1)/2,2,\"\"),IF(Akustikberechnung!$C$29>10,IF(AA41<=(Akustikberechnung!$C$31+1)/2,4,\"\")))","v":""},""," - 18. Raster",18,65.47701886921854,{"$f":"IF(Akustikberechnung!$C$29=12,IF(AF41<=(Akustikberechnung!$C$31+1)/2,2,\"\"),IF(Akustikberechnung!$C$29>12,IF(AF41<=(Akustikberechnung!$C$31+1)/2,4,\"\")))","v":false},""," - 18. Raster",18,65.872907936419509,{"$f":"IF(Akustikberechnung!$C$29=14,IF(AK41<=(Akustikberechnung!$C$31+1)/2,2,\"\"),IF(Akustikberechnung!$C$29>14,IF(AK41<=(Akustikberechnung!$C$31+1)/2,4,\"\")))","v":false},""]
[" - 19. Raster",20,{"$f":"SQRT((19*$H$9)^2+$C$23^2)","v":67.797418829923018},{"$f":"IF(B42<=((Akustikberechnung!$C$31+1)/2),2,\"\")","v":""},null," - 19. Raster",19,67.826912062985741,{"$f":"IF(Akustikberechnung!$C$29=2,IF(G42<=(Akustikberechnung!$C$31+1)/2,2,\"\"),IF(Akustikberechnung!$C$29>2,IF(G42<=(Akustikberechnung!$C$31+1)/2,4,\"\")))","v":""},""," - 19. Raster",19,67.915314914973337,{"$f":"IF(Akustikberechnung!$C$29=4,IF(L42<=(Akustikberechnung!$C$31+1)/2,2,\"\"),IF(Akustikberechnung!$C$29>4,IF(L42<=(Akustikberechnung!$C$31+1)/2,4,\"\")))","v":""},""," - 19. Raster",19,68.062397841980257,{"$f":"IF(Akustikberechnung!$C$29=6,IF(Q42<=(Akustikberechnung!$C$31+1)/2,2,\"\"),IF(Akustikberechnung!$C$29>6,IF(Q42<=(Akustikberechnung!$C$31+1)/2,4,\"\")))","v":""},""," - 19. Raster",19,68.267781566416815,{"$f":"IF(Akustikberechnung!$C$29=8,IF(V42<=(Akustikberechnung!$C$31+1)/2,2,\"\"),IF(Akustikberechnung!$C$29>8,IF(V42<=(Akustikberechnung!$C$31+1)/2,4,\"\")))","v":""},""," - 19. Raster",19,68.530941916772164,{"$f":"IF(Akustikberechnung!$C$29=10,IF(AA42<=(Akustikberechnung!$C$31+1)/2,2,\"\"),IF(Akustikberechnung!$C$29>10,IF(AA42<=(Akustikberechnung!$C$31+1)/2,4,\"\")))","v":""},""," - 19. Raster",19,68.851216401745575,{"$f":"IF(Akustikberechnung!$C$29=12,IF(AF42<=(Akustikberechnung!$C$31+1)/2,2,\"\"),IF(Akustikberechnung!$C$29>12,IF(AF42<=(Akustikberechnung!$C$31+1)/2,4,\"\")))","v":false},""," - 19. Raster",19,69.227812330016604,{"$f":"IF(Akustikberechnung!$C$29=14,IF(AK42<=(Akustikberechnung!$C$31+1)/2,2,\"\"),IF(Akustikberechnung!$C$29>14,IF(AK42<=(Akustikberechnung!$C$31+1)/2,4,\"\")))","v":false},""]
[" - 20. Raster",21,{"$f":"SQRT((20*$H$9)^2+$C$23^2)","v":71.233699889869541},{"$f":"IF(B43<=((Akustikberechnung!$C$31+1)/2),2,\"\")","v":""},null," - 20. Raster",20,71.261770957505689,{"$f":"IF(Akustikberechnung!$C$29=2,IF(G43<=(Akustikberechnung!$C$31+1)/2,2,\"\"),IF(Akustikberechnung!$C$29>2,IF(G43<=(Akustikberechnung!$C$31+1)/2,4,\"\")))","v":""},""," - 20. Raster",20,71.345917893037154,{"$f":"IF(Akustikberechnung!$C$29=4,IF(L43<=(Akustikberechnung!$C$31+1)/2,2,\"\"),IF(Akustikberechnung!$C$29>4,IF(L43<=(Akustikberechnung!$C$31+1)/2,4,\"\")))","v":""},""," - 20. Raster",20,71.485942674067047,{"$f":"IF(Akustikberechnung!$C$29=6,IF(Q43<=(Akustikberechnung!$C$31+1)/2,2,\"\"),IF(Akustikberechnung!$C$29>6,IF(Q43<=(Akustikberechnung!$C$31+1)/2,4,\"\")))","v":""},""," - 20. Raster",20,71.68151784107252,{"$f":"IF(Akustikberechnung!$C$29=8,IF(V43<=(Akustikberechnung!$C$31+1)/2,2,\"\"),IF(Akustikberechnung!$C$29>8,IF(V43<=(Akustikberechnung!$C$31+1)/2,4,\"\")))","v":""},""," - 20. Raster",20,71.932190290578532,{"$f":"IF(Akustikberechnung!$C$29=10,IF(AA43<=(Akustikberechnung!$C$31+1)/2,2,\"\"),IF(Akustikberechnung!$C$29>10,IF(AA43<=(Akustikberechnung!$C$31+1)/2,4,\"\")))","v":""},""," - 20. Raster",20,72.237386442201796,{"$f":"IF(Akustikberechnung!$C$29=12,IF(AF43<=(Akustikberechnung!$C$31+1)/2,2,\"\"),IF(Akustikberechnung!$C$29>12,IF(AF43<=(Akustikberechnung!$C$31+1)/2,4,\"\")))","v":false},""," - 20. Raster",20,72.596418644448306,{"$f":"IF(Akustikberechnung!$C$29=14,IF(AK43<=(Akustikberechnung!$C$31+1)/2,2,\"\"),IF(Akustikberechnung!$C$29>14,IF(AK43<=(Akustikberechnung!$C$31+1)/2,4,\"\")))","v":false},""]
[]
[]
["Schalldruckpegel",null,"LP,A [dB(A)]",null,"Summe","Schalldruckpegel",null,"LP,A [dB(A)]",null,"Summe","Schalldruckpegel",null,"LP,A [dB(A)]",null,"Summe","Schalldruckpegel",null,"LP,A [dB(A)]",null,"Summe","Schalldruckpegel",null,"LP,A [dB(A)]",null,"Summe","Schalldruckpegel",null,"LP,A [dB(A)]",null,"Summe","Schalldruckpegel",null,"LP,A [dB(A)]",null,"Summe","Schalldruckpegel",null,"LP,A [dB(A)]",null,"Summe"]
[" - direkt unterhalb",null,{"$f":"$C$12+10*LOG(D23*($C$13/(4*PI()*C23^2))+4/$H$7)","v":25.296096470162691},null,{"$f":"10*LOG(10^(C47/10)+10^(C48/10)+10^(C49/10)+10^(C50/10)+10^(C51/10)+10^(C52/10)+10^(C53/10)+10^(C54/10)+10^(C55/10)+10^(C56/10)+10^(C57/10)+10^(C58/10)+10^(C59/10)+10^(C60/10)+10^(C61/10)+10^(C62/10)+10^(C63/10)+10^(C64/10)+10^(C65/10)+10^(C66/10)+10^(C67/10))","v":33.21230775580301}," - 1. Raster",null,{"$f":"IFERROR($C$12+10*LOG(J24*($C$13/(4*PI()*H24^2))+4/$H$7),-1000000)","v":30.039755447636548},null,{"$f":"10*LOG(10^(H47/10)+10^(H48/10)+10^(H49/10)+10^(H50/10)+10^(H51/10)+10^(H52/10)+10^(H53/10)+10^(H54/10)+10^(H55/10)+10^(H56/10)+10^(H57/10)+10^(H58/10)+10^(H59/10)+10^(H60/10)+10^(H61/10)+10^(H62/10)+10^(H63/10)+10^(H64/10)+10^(H65/10)+10^(H66/10))","v":35.526732828438433}," - 1. Raster",null,{"$f":"IFERROR($C$12+10*LOG(O24*($C$13/(4*PI()*M24^2))+4/$H$7),-1000000)","v":29.797773192531295},null,{"$f":"10*LOG(10^(M47/10)+10^(M48/10)+10^(M49/10)+10^(M50/10)+10^(M51/10)+10^(M52/10)+10^(M53/10)+10^(M54/10)+10^(M55/10)+10^(M56/10)+10^(M57/10)+10^(M58/10)+10^(M59/10)+10^(M60/10)+10^(M61/10)+10^(M62/10)+10^(M63/10)+10^(M64/10)+10^(M65/10)+10^(M66/10))","v":35.351475412617802}," - 1. Raster",null,{"$f":"IFERROR($C$12+10*LOG(T24*($C$13/(4*PI()*R24^2))+4/$H$7),-1000000)","v":29.427313850918875},null,{"$f":"10*LOG(10^(R47/10)+10^(R48/10)+10^(R49/10)+10^(R50/10)+10^(R51/10)+10^(R52/10)+10^(R53/10)+10^(R54/10)+10^(R55/10)+10^(R56/10)+10^(R57/10)+10^(R58/10)+10^(R59/10)+10^(R60/10)+10^(R61/10)+10^(R62/10)+10^(R63/10)+10^(R64/10)+10^(R65/10)+10^(R66/10))","v":35.080549078155975}," - 1. Raster",null,{"$f":"IFERROR($C$12+10*LOG(Y24*($C$13/(4*PI()*W24^2))+4/$H$7),-1000000)","v":28.965998378090379},null,{"$f":"10*LOG(10^(W47/10)+10^(W48/10)+10^(W49/10)+10^(W50/10)+10^(W51/10)+10^(W52/10)+10^(W53/10)+10^(W54/10)+10^(W55/10)+10^(W56/10)+10^(W57/10)+10^(W58/10)+10^(W59/10)+10^(W60/10)+10^(W61/10)+10^(W62/10)+10^(W63/10)+10^(W64/10)+10^(W65/10)+10^(W66/10))","v":34.738610694047026}," - 1. Raster",null,{"$f":"IFERROR($C$12+10*LOG(AD24*($C$13/(4*PI()*AB24^2))+4/$H$7),-1000000)","v":25.945244437061071},null,{"$f":"10*LOG(10^(AB47/10)+10^(AB48/10)+10^(AB49/10)+10^(AB50/10)+10^(AB51/10)+10^(AB52/10)+10^(AB53/10)+10^(AB54/10)+10^(AB55/10)+10^(AB56/10)+10^(AB57/10)+10^(AB58/10)+10^(AB59/10)+10^(AB60/10)+10^(AB61/10)+10^(AB62/10)+10^(AB63/10)+10^(AB64/10)+10^(AB65/10)+10^(AB66/10))","v":31.978924209845466}," - 1. Raster",null,{"$f":"IFERROR($C$12+10*LOG(AI24*($C$13/(4*PI()*AG24^2))+4/$H$7),-1000000)","v":-1000000},null,{"$f":"10*LOG(10^(AG47/10)+10^(AG48/10)+10^(AG49/10)+10^(AG50/10)+10^(AG51/10)+10^(AG52/10)+10^(AG53/10)+10^(AG54/10)+10^(AG55/10)+10^(AG56/10)+10^(AG57/10)+10^(AG58/10)+10^(AG59/10)+10^(AG60/10)+10^(AG61/10)+10^(AG62/10)+10^(AG63/10)+10^(AG64/10)+10^(AG65/10)+10^(AG66/10))","v":{"$error":"#NUM!"}}," - 1. Raster",null,{"$f":"IFERROR($C$12+10*LOG(AN24*($C$13/(4*PI()*AL24^2))+4/$H$7),-1000000)","v":-1000000},null,{"$f":"10*LOG(10^(AL47/10)+10^(AL48/10)+10^(AL49/10)+10^(AL50/10)+10^(AL51/10)+10^(AL52/10)+10^(AL53/10)+10^(AL54/10)+10^(AL55/10)+10^(AL56/10)+10^(AL57/10)+10^(AL58/10)+10^(AL59/10)+10^(AL60/10)+10^(AL61/10)+10^(AL62/10)+10^(AL63/10)+10^(AL64/10)+10^(AL65/10)+10^(AL66/10))","v":{"$error":"#NUM!"}}]
[" - 1. Raster",null,{"$f":"$C$12+10*LOG(D24*($C$13/(4*PI()*C24^2))+4/$H$7)","v":27.463571518498092},null,{"$f":"IFERROR(E47,-1)","v":33.21230775580301}," - 2. Raster",null,{"$f":"IFERROR($C$12+10*LOG(J25*($C$13/(4*PI()*H25^2))+4/$H$7),-1000000)","v":29.344690613983619},null,{"$f":"IFERROR(J47,-1)","v":35.526732828438433}," - 2. Raster",null,{"$f":"IFERROR($C$12+10*LOG(O25*($C$13/(4*PI()*M25^2))+4/$H$7),-1000000)","v":29.144154554592351},null,{"$f":"IFERROR(O47,-1)","v":35.351475412617802}," - 2. Raster",null,{"$f":"IFERROR($C$12+10*LOG(T25*($C$13/(4*PI()*R25^2))+4/$H$7),-1000000)","v":28.833461590105664},null,{"$f":"IFERROR(T47,-1)","v":35.080549078155975}," - 2. Raster",null,{"$f":"IFERROR($C$12+10*LOG(Y25*($C$13/(4*PI()*W25^2))+4/$H$7),-1000000)","v":28.440665292918965},null,{"$f":"IFERROR(Y47,-1)","v":34.738610694047026}," - 2. Raster",null,{"$f":"IFERROR($C$12+10*LOG(AD25*($C$13/(4*PI()*AB25^2))+4/$H$7),-1000000)","v":25.541691612460458},null,{"$f":"IFERROR(AD47,-1)","v":31.978924209845466}," - 2. Raster",null,{"$f":"IFERROR($C$12+10*LOG(AI25*($C$13/(4*PI()*AG25^2))+4/$H$7),-1000000)","v":-1000000},null,{"$f":"IFERROR(AI47,-1)","v":-1}," - 2. Raster",null,{"$f":"IFERROR($C$12+10*LOG(AN25*($C$13/(4*PI()*AL25^2))+4/$H$7),-1000000)","v":-1000000},null,{"$f":"IFERROR(AN47,-1)","v":-1}]
[" - 2. Raster (= 1. Raster * 1,41)",null,{"$f":"IFERROR($C$12+10*LOG(D25*($C$13/(4*PI()*C25^2))+4/$H$7),-1000000)","v":26.812869380075313},null,null," - 3. Raster ",null,{"$f":"IFERROR($C$12+10*LOG(J26*($C$13/(4*PI()*H26^2))+4/$H$7),-1000000)","v":28.424141704659938},null,null," - 3. Raster ",null,{"$f":"IFERROR($C$12+10*LOG(O26*($C$13/(4*PI()*M26^2))+4/$H$7),-1000000)","v":28.269500200472862},null,null," - 3. Raster ",null,{"$f":"IFERROR($C$12+10*LOG(T26*($C$13/(4*PI()*R26^2))+4/$H$7),-1000000)","v":28.026653694111051},null,null," - 3. Raster ",null,{"$f":"IFERROR($C$12+10*LOG(Y26*($C$13/(4*PI()*W26^2))+4/$H$7),-1000000)","v":27.714168769429278},null,null," - 3. Raster ",null,{"$f":"IFERROR($C$12+10*LOG(AD26*($C$13/(4*PI()*AB26^2))+4/$H$7),-1000000)","v":24.981941239682101},null,null," - 3. Raster ",null,{"$f":"IFERROR($C$12+10*LOG(AI26*($C$13/(4*PI()*AG26^2))+4/$H$7),-1000000)","v":-1000000},null,null," - 3. Raster ",null,{"$f":"IFERROR($C$12+10*LOG(AN26*($C$13/(4*PI()*AL26^2))+4/$H$7),-1000000)","v":-1000000}]
[" - 3. Raster ",null,25.969008515814473,null,null," - 4. Raster",null,27.451194758190603,null,null," - 4. Raster",null,27.33568258091266,null,null," - 4. Raster",null,27.152122548299879,null,null," - 4. Raster",null,26.912135383164166,null,null," - 4. Raster",null,24.36522252205204,null,null," - 4. Raster",null,-1000000,null,null," - 4. Raster",null,-1000000]
[" - 4. Raster",null,25.101624958447957,null,null," - 5. Raster",null,26.524002301467288,null,null," - 5. Raster",null,26.438363368364062,null,null," - 5. Raster",null,26.300996460385061,null,null," - 5. Raster",null,26.119076029785422,null,null," - 5. Raster",null,23.760721256519343,null,null," - 5. Raster",null,-1000000,null,null," - 5. Raster",null,-1000000]
[" - 5. Raster",null,{"$f":"IFERROR($C$12+10*LOG(D28*($C$13/(4*PI()*C28^2))+4/$H$7),-1000000)","v":-1000000},null,null," - 6. Raster",null,-1000000,null,null," - 6. Raster",null,-1000000,null,null," - 6. Raster",null,-1000000,null,null," - 6. Raster",null,-1000000,null,null," - 6. Raster",null,-1000000,null,null," - 6. Raster",null,-1000000,null,null," - 6. Raster",null,-1000000]
[" - 6. Raster",null,-1000000,null,null," - 7. Raster",null,-1000000,null,null," - 7. Raster",null,-1000000,null,null," - 7. Raster",null,-1000000,null,null," - 7. Raster",null,-1000000,null,null," - 7. Raster",null,-1000000,null,null," - 7. Raster",null,-1000000,null,null," - 7. Raster",null,-1000000]
[" - 7. Raster",null,-1000000,null,null," - 8. Raster",null,-1000000,null,null," - 8. Raster",null,-1000000,null,null," - 8. Raster",null,-1000000,null,null," - 8. Raster",null,-1000000,null,null," - 8. Raster",null,-1000000,null,null," - 8. Raster",null,-1000000,null,null," - 8. Raster",null,-1000000]
[" - 8. Raster",null,-1000000,null,null," - 9. Raster",null,-1000000,null,null," - 9. Raster",null,-1000000,null,null," - 9. Raster",null,-1000000,null,null," - 9. Raster",null,-1000000,null,null," - 9. Raster",null,-1000000,null,null," - 9. Raster",null,-1000000,null,null," - 9. Raster",null,-1000000]
[" - 9. Raster",null,-1000000,null,null," - 10. Raster",null,-1000000,null,null," - 10. Raster",null,-1000000,null,null," - 10. Raster",null,-1000000,null,null," - 10. Raster",null,-1000000,null,null," - 10. Raster",null,-1000000,null,null," - 10. Raster",null,-1000000,null,null," - 10. Raster",null,-1000000]
[" - 10. Raster",null,-1000000,null,null," - 11. Raster",null,-1000000,null,null," - 11. Raster",null,-1000000,null,null," - 11. Raster",null,-1000000,null,null," - 11. Raster",null,-1000000,null,null," - 11. Raster",null,-1000000,null,null," - 11. Raster",null,-1000000,null,null," - 11. Raster",null,-1000000]
[" - 11. Raster",null,-1000000,null,null," - 12. Raster",null,-1000000,null,null," - 12. Raster",null,-1000000,null,null," - 12. Raster",null,-1000000,null,null," - 12. Raster",null,-1000000,null,null," - 12. Raster",null,-1000000,null,null," - 12. Raster",null,-1000000,null,null," - 12. Raster",null,-1000000]
[" - 12. Raster",null,-1000000,null,null," - 13. Raster",null,-1000000,null,null," - 13. Raster",null,-1000000,null,null," - 13. Raster",null,-1000000,null,null," - 13. Raster",null,-1000000,null,null," - 13. Raster",null,-1000000,null,null," - 13. Raster",null,-1000000,null,null," - 13. Raster",null,-1000000]
[" - 13. Raster",null,-1000000,null,null," - 14. Raster",null,-1000000,null,null," - 14. Raster",null,-1000000,null,null," - 14. Raster",null,-1000000,null,null," - 14. Raster",null,-1000000,null,null," - 14. Raster",null,-1000000,null,null," - 14. Raster",null,-1000000,null,null," - 14. Raster",null,-1000000]
[" - 14. Raster",null,-1000000,null,null," - 15. Raster",null,-1000000,null,null," - 15. Raster",null,-1000000,null,null," - 15. Raster",null,-1000000,null,null," - 15. Raster",null,-1000000,null,null," - 15. Raster",null,-1000000,null,null," - 15. Raster",null,-1000000,null,null," - 15. Raster",null,-1000000]
[" - 15. Raster",null,-1000000,null,null," - 16. Raster",null,-1000000,null,null," - 16. Raster",null,-1000000,null,null," - 16. Raster",null,-1000000,null,null," - 16. Raster",null,-1000000,null,null," - 16. Raster",null,-1000000,null,null," - 16. Raster",null,-1000000,null,null," - 16. Raster",null,-1000000]
[" - 16. Raster",null,-1000000,null,null," - 17. Raster",null,-1000000,null,null," - 17. Raster",null,-1000000,null,null," - 17. Raster",null,-1000000,null,null," - 17. Raster",null,-1000000,null,null," - 17. Raster",null,-1000000,null,null," - 17. Raster",null,-1000000,null,null," - 17. Raster",null,-1000000]
[" - 17. Raster",null,-1000000,null,null," - 18. Raster",null,-1000000,null,null," - 18. Raster",null,-1000000,null,null," - 18. Raster",null,-1000000,null,null," - 18. Raster",null,-1000000,null,null," - 18. Raster",null,-1000000,null,null," - 18. Raster",null,-1000000,null,null," - 18. Raster",null,-1000000]
[" - 18. Raster",null,-1000000,null,null," - 19. Raster",null,-1000000,null,null," - 19. Raster",null,-1000000,null,null," - 19. Raster",null,-1000000,null,null," - 19. Raster",null,-1000000,null,null," - 19. Raster",null,-1000000,null,null," - 19. Raster",null,-1000000,null,null," - 19. Raster",null,-1000000]
[" - 19. Raster",null,-1000000,null,null," - 20. Raster",null,-1000000,null,null," - 20. Raster",null,-1000000,null,null," - 20. Raster",null,-1000000,null,null," - 20. Raster",null,-1000000,null,null," - 20. Raster",null,-1000000,null,null," - 20. Raster",null,-1000000,null,null," - 20. Raster",null,-1000000]
[" - 20. Raster",null,-1000000]
[]
["Summe, gesamt:"]

{"sheet":"LP-RechnerKühl","index":30,"n_rows":69,"n_cols":40,"rows_kept":69,"cut":false,"hidden":true,"merged":[[19,30,19,34],[19,35,19,39],[19,0,19,4],[19,5,19,9],[19,10,19,14],[19,15,19,19],[19,20,19,24],[19,25,19,29]]}
[]
[]
["Raumvorgaben",null,null,null,null,"Zwischenergebnisse"]
["Raumlänge","L",{"$f":"Akustikberechnung!C25","v":100},"m",null,"Grundfläche",null,{"$f":"C4*C5","v":10000},"m²"]
["Raumbreite","B",{"$f":"Akustikberechnung!C24","v":100},"m",null,"Raumvolumen",null,{"$f":"C4*C5*C6","v":300000},"m³"]
["Raumhöhe","H",{"$f":"Akustikberechnung!C23","v":30},"m",null,"Raumoberfläche",null,{"$f":"2*C4*C5+2*C4*C6+2*C5*C6","v":32000},"m²"]
["mittlerer Schallabsorptionsgrad","a",0.2," -",null,"Schallabsorptionsfläche",null,{"$f":"H6*C7","v":6400},"m²Sabine"]
[]
["Anzahl Luftdurchlässe","n",{"$f":"Akustikberechnung!$C$40","v":100},"Stk.",null,"Rastermaß Länge",null,{"$f":"Akustikberechnung!$C$28","v":3.5}]
["Montagehöhe (OKFFB bis UK Auslass)","h",{"$f":"Akustikberechnung!$C$21","v":15},"m",null,"Rastermaß Breite",null,{"$f":"Akustikberechnung!$C$30","v":2}]
["Bezugshöhe","h`",{"$f":"Akustikberechnung!C22","v":1.8},"m"]
["Schallleistung, Einzeldurchlass","LW,A",{"$f":"Akustikberechnung!$I$50","v":51.401162151607735},"dB(A)",null,"Lot zur Bezugshöhe",null,{"$f":"C10-C11","v":13.2}]
["Richtungsfaktor","Q",4]
[]
["Berechneter Pegel","LP",{"$f":"10*LOG(10^($E$48/10)+10^($J$48/10)+10^(O48/10)+10^(T48/10)+10^(Y48/10)+10^(AD48/10)+10^(AI48/10)+10^(AN48/10))","v":42.271655037625578}]
["Anzahl Durchlässe innerhalb der Berechnung","n'",{"$f":"IF(E23+J22+O22+T22+Y22+AD22+AI22+AN22>C9,C9,E23+J22+O22+T22+Y22+AD22+AI22+AN22)","v":100},"Anzeigewert"]
[null,null,{"$f":"E23+J22+O22+T22+Y22+AD22+AI22+AN22","v":108},"Wahrer Wert"]
[]
[]
["Ergebnisse Teil 1: Mittlerer Strang",null,null,null,null,"Ergebnisse Teil 2: 2. und 3. Strang",null,null,null,null,"Ergebnisse Teil 3: 4. und 5. Strang",null,null,null,null,"Ergebnisse Teil 4: 6. und 7. Strang",null,null,null,null,"Ergebnisse Teil 5: 8. und 9. Strang",null,null,null,null,"Ergebnisse Teil 6: 10. und 11. Strang",null,null,null,null,"Ergebnisse Teil 7: 12. und 13. Strang",null,null,null,null,"Ergebnisse Teil 8: 14. und 15. Strang"]
[null,null,null,null,null,null,null,null,null,"Summe",null,null,null,null,"Summe",null,null,null,null,"Summe",null,null,null,null,"Summe",null,null,null,null,"Summe",null,null,null,null,"Summe",null,null,null,null,"Summe"]
["Entfernungen zur Schallquelle",null,"X [m]","Anz. Quellen","Summe","Entfernungen zur Schallquelle",null,"X [m]","Anz. Quellen",{"$f":"SUM(J23:J43)","v":22},"Entfernungen zur Schallquelle",null,"X [m]","Anz. Quellen",{"$f":"SUM(O23:O43)","v":22},"Entfernungen zur Schallquelle",null,"X [m]","Anz. Quellen",{"$f":"SUM(T23:T43)","v":22},"Entfernungen zur Schallquelle",null,"X [m]","Anz. Quellen",{"$f":"SUM(Y23:Y43)","v":22},"Entfernungen zur Schallquelle",null,"X [m]","Anz. Quellen",{"$f":"SUM(AD23:AD43)","v":11},"Entfernungen zur Schallquelle",null,"X [m]","Anz. Quellen",{"$f":"SUM(AI23:AI43)","v":0},"Entfernungen zur Schallquelle",null,"X [m]","Anz. Quellen",{"$f":"SUM(AN23:AN43)","v":0}]
[" - direkt unterhalb",1,{"$f":"C10-C11","v":13.2},{"$f":"IF(B23<=Akustikberechnung!$C$29,1,\"\")","v":1},{"$f":"SUM(D23:D43)","v":9}," - direkt neben",1,{"$f":"SQRT($H$12^2+$H$10^2)","v":13.350655414622908},{"$f":"IF(Akustikberechnung!$C$29=2,IF(G23<=Akustikberechnung!$C$31,1,\"\"),IF(Akustikberechnung!$C$29>2,IF(G23<=Akustikberechnung!$C$31,2,\"\")))","v":2},{"$f":"IF(I23=FALSE,\"\",I23)","v":2}," - direkt neben",1,{"$f":"SQRT($H$12^2+(2*$H$10)^2)","v":13.792751719653333},{"$f":"IF(Akustikberechnung!$C$29=4,IF(L23<=Akustikberechnung!$C$31,1,\"\"),IF(Akustikberechnung!$C$29>4,IF(L23<=Akustikberechnung!$C$31,2,\"\")))","v":2},{"$f":"IF(N23=FALSE,\"\",N23)","v":2}," - direkt neben",1,{"$f":"SQRT($H$12^2+(3*$H$10)^2)","v":14.499655168313486},{"$f":"IF(Akustikberechnung!$C$29=6,IF(Q23<=Akustikberechnung!$C$31,1,\"\"),IF(Akustikberechnung!$C$29>6,IF(Q23<=Akustikberechnung!$C$31,2,\"\")))","v":2},{"$f":"IF(S23=FALSE,\"\",S23)","v":2}," - direkt neben",1,{"$f":"SQRT($H$12^2+(4*$H$10)^2)","v":15.43502510525979},{"$f":"IF(Akustikberechnung!$C$29=8,IF(V23<=Akustikberechnung!$C$31,1,\"\"),IF(Akustikberechnung!$C$29>8,IF(V23<=Akustikberechnung!$C$31,2,\"\")))","v":2},{"$f":"IF(X23=FALSE,\"\",X23)","v":2}," - direkt neben",1,{"$f":"SQRT($H$12^2+(5*$H$10)^2)","v":16.560193235587562},{"$f":"IF(Akustikberechnung!$C$29=10,IF(AA23<=Akustikberechnung!$C$31,1,\"\"),IF(Akustikberechnung!$C$29>10,IF(AA23<=Akustikberechnung!$C$31,2,\"\")))","v":1},{"$f":"IF(AC23=FALSE,\"\",AC23)","v":1}," - direkt neben",1,{"$f":"SQRT($H$12^2+(6*$H$10)^2)","v":17.839282496782207},{"$f":"IF(Akustikberechnung!$C$29=12,IF(AF23<=Akustikberechnung!$C$31,1,\"\"),IF(Akustikberechnung!$C$29>12,IF(AF23<=Akustikberechnung!$C$31,2,\"\")))","v":false},{"$f":"IF(AH23=FALSE,\"\",AH23)","v":""}," - direkt neben",1,{"$f":"SQRT($H$12^2+(7*$H$10)^2)","v":19.241621553289111},{"$f":"IF(Akustikberechnung!$C$29=14,IF(AK23<=Akustikberechnung!$C$31,1,\"\"),IF(Akustikberechnung!$C$29>14,IF(AK23<=Akustikberechnung!$C$30,2,\"\")))","v":false},{"$f":"IF(AM23=FALSE,\"\",AM23)","v":""}]
[" - 1. Raster",2,{"$f":"SQRT($H$9^2+$C$23^2)","v":13.656134152826706},{"$f":"IF(B24<=Akustikberechnung!$C$29+1,2,\"\")","v":2},null," - 1. Raster",1,{"$f":"SQRT((SQRT($H$10^2+$H$9^2)^2)+$H$12^2)","v":13.801811475310043},{"$f":"IF(Akustikberechnung!$C$29=2,IF(G24<=Akustikberechnung!$C$31,1,\"\"),IF(Akustikberechnung!$C$29>2,IF(G24<=Akustikberechnung!$C$31,4,\"\")))","v":4},{"$f":"IF(I24=FALSE,\"\",I24)","v":4}," - 1. Raster",1,{"$f":"SQRT((SQRT((2*$H$10)^2+$H$9^2)^2)+$H$12^2)","v":14.229898102235307},{"$f":"IF(Akustikberechnung!$C$29=4,IF(L24<=Akustikberechnung!$C$31,1,\"\"),IF(Akustikberechnung!$C$29>4,IF(L24<=Akustikberechnung!$C$31,4,\"\")))","v":4},{"$f":"IF(N24=FALSE,\"\",N24)","v":4}," - 1. Raster",1,{"$f":"SQRT((SQRT((3*$H$10)^2+$H$9^2)^2)+$H$12^2)","v":14.916098685648334},{"$f":"IF(Akustikberechnung!$C$29=6,IF(Q24<=Akustikberechnung!$C$31,2,\"\"),IF(Akustikberechnung!$C$29>6,IF(Q24<=Akustikberechnung!$C$31,4,\"\")))","v":4},{"$f":"IF(S24=FALSE,\"\",S24)","v":4}," - 1. Raster",1,{"$f":"SQRT((SQRT((4*$H$10)^2+$H$9^2)^2)+$H$12^2)","v":15.826875876179733},{"$f":"IF(Akustikberechnung!$C$29=8,IF(V24<=Akustikberechnung!$C$31,2,\"\"),IF(Akustikberechnung!$C$29>8,IF(V24<=Akustikberechnung!$C$31,4,\"\")))","v":4},{"$f":"IF(X24=FALSE,\"\",X24)","v":4}," - 1. Raster",1,{"$f":"SQRT((SQRT((5*$H$10)^2+$H$9^2)^2)+$H$12^2)","v":16.926015479137433},{"$f":"IF(Akustikberechnung!$C$29=10,IF(AA24<=Akustikberechnung!$C$31,2,\"\"),IF(Akustikberechnung!$C$29>10,IF(AA24<=Akustikberechnung!$C$31,4,\"\")))","v":2},{"$f":"IF(AC24=FALSE,\"\",AC24)","v":2}," - 1. Raster",1,{"$f":"SQRT((SQRT((6*$H$10)^2+$H$9^2)^2)+$H$12^2)","v":18.179383927955314},{"$f":"IF(Akustikberechnung!$C$29=12,IF(AF24<=Akustikberechnung!$C$31,2,\"\"),IF(Akustikberechnung!$C$29>12,IF(AF24<=Akustikberechnung!$C$31,4,\"\")))","v":false},{"$f":"IF(AH24=FALSE,\"\",AH24)","v":""}," - 1. Raster",1,{"$f":"SQRT((SQRT((7*$H$10)^2+$H$9^2)^2)+$H$12^2)","v":19.557351558940695},{"$f":"IF(Akustikberechnung!$C$29=14,IF(AK24<=Akustikberechnung!$C$31,2,\"\"),IF(Akustikberechnung!$C$29>14,IF(AK24<=Akustikberechnung!$C$30,4,\"\")))","v":false},{"$f":"IF(AM24=FALSE,\"\",AM24)","v":""}]
[" - 2. Raster (= 1. Raster * 1,41)",3,{"$f":"SQRT((2*H9)^2+C23^2)","v":14.941218156495808},{"$f":"IF(B25<=((Akustikberechnung!$C$31+1)/2),2,\"\")","v":2},null," - 2. Raster",2,{"$f":"SQRT((SQRT($H$10^2+(G25*$H$9)^2)^2)+$H$12^2)","v":15.074481748969017},{"$f":"IF(Akustikberechnung!$C$29=2,IF(G25<=(Akustikberechnung!$C$31+1)/2,2,\"\"),IF(Akustikberechnung!$C$29>2,IF(G25<=(Akustikberechnung!$C$31+1)/2,4,\"\")))","v":4},{"$f":"IF(I25=FALSE,\"\",I25)","v":4}," - 2. Raster",2,{"$f":"SQRT((SQRT((2*$H$10)^2+(L25*$H$9)^2)^2)+$H$12^2)","v":15.467385040788244},{"$f":"IF(Akustikberechnung!$C$29=4,IF(L25<=(Akustikberechnung!$C$31+1)/2,2,\"\"),IF(Akustikberechnung!$C$29>4,IF(L25<=(Akustikberechnung!$C$31+1)/2,4,\"\")))","v":4},{"$f":"IF(N25=FALSE,\"\",N25)","v":4}," - 2. Raster",2,{"$f":"SQRT((SQRT((3*$H$10)^2+(Q25*$H$9)^2)^2)+$H$12^2)","v":16.100931650062986},{"$f":"IF(Akustikberechnung!$C$29=6,IF(Q25<=Akustikberechnung!$C$31,2,\"\"),IF(Akustikberechnung!$C$29>6,IF(Q25<=Akustikberechnung!$C$31,4,\"\")))","v":4},{"$f":"IF(S25=FALSE,\"\",S25)","v":4}," - 2. Raster",2,{"$f":"SQRT((SQRT((4*$H$10)^2+(V25*$H$9)^2)^2)+$H$12^2)","v":16.948156241904311},{"$f":"IF(Akustikberechnung!$C$29=8,IF(V25<=Akustikberechnung!$C$31,2,\"\"),IF(Akustikberechnung!$C$29>8,IF(V25<=Akustikberechnung!$C$31,4,\"\")))","v":4},{"$f":"IF(X25=FALSE,\"\",X25)","v":4}," - 2. Raster",2,{"$f":"SQRT((SQRT((5*$H$10)^2+(AA25*$H$9)^2)^2)+$H$12^2)","v":17.978876494375278},{"$f":"IF(Akustikberechnung!$C$29=10,IF(AA25<=Akustikberechnung!$C$31,2,\"\"),IF(Akustikberechnung!$C$29>10,IF(AA25<=Akustikberechnung!$C$31,4,\"\")))","v":2},{"$f":"IF(AC25=FALSE,\"\",AC25)","v":2}," - 2. Raster",2,{"$f":"SQRT((SQRT((6*$H$10)^2+(AF25*$H$9)^2)^2)+$H$12^2)","v":19.163506985935534},{"$f":"IF(Akustikberechnung!$C$29=12,IF(AF25<=Akustikberechnung!$C$31,2,\"\"),IF(Akustikberechnung!$C$29>12,IF(AF25<=Akustikberechnung!$C$31,4,\"\")))","v":false},{"$f":"IF(AH25=FALSE,\"\",AH25)","v":""}," - 2. Raster",2,{"$f":"SQRT((SQRT((7*$H$10)^2+(AK25*$H$9)^2)^2)+$H$12^2)","v":20.475351034841868},{"$f":"IF(Akustikberechnung!$C$29=14,IF(AK25<=Akustikberechnung!$C$31,2,\"\"),IF(Akustikberechnung!$C$29>14,IF(AK25<=Akustikberechnung!$C$31,4,\"\")))","v":false},{"$f":"IF(AM25=FALSE,\"\",AM25)","v":""}]
[" - 3. Raster ",4,{"$f":"SQRT((3*H9)^2+C23^2)","v":16.866831356244717},{"$f":"IF(B26<=((Akustikberechnung!$C$31+1)/2),2,\"\")","v":2},null," - 3. Raster ",3,{"$f":"SQRT((SQRT($H$10^2+(G26*$H$9)^2)^2)+$H$12^2)","v":16.98499337650739},{"$f":"IF(Akustikberechnung!$C$29=2,IF(G26<=(Akustikberechnung!$C$31+1)/2,2,\"\"),IF(Akustikberechnung!$C$29>2,IF(G26<=(Akustikberechnung!$C$31+1)/2,4,\"\")))","v":4},4," - 3. Raster ",3,{"$f":"SQRT((SQRT((2*$H$10)^2+(L26*$H$9)^2)^2)+$H$12^2)","v":17.334647386087781},{"$f":"IF(Akustikberechnung!$C$29=4,IF(L26<=(Akustikberechnung!$C$31+1)/2,2,\"\"),IF(Akustikberechnung!$C$29>4,IF(L26<=(Akustikberechnung!$C$31+1)/2,4,\"\")))","v":4},4," - 3. Raster ",3,{"$f":"SQRT((SQRT((3*$H$10)^2+(Q26*$H$9)^2)^2)+$H$12^2)","v":17.90223449740283},{"$f":"IF(Akustikberechnung!$C$29=6,IF(Q26<=(Akustikberechnung!$C$31+1)/2,2,\"\"),IF(Akustikberechnung!$C$29>6,IF(Q26<=(Akustikberechnung!$C$31+1)/2,4,\"\")))","v":4},4," - 3. Raster ",3,{"$f":"SQRT((SQRT((4*$H$10)^2+(V26*$H$9)^2)^2)+$H$12^2)","v":18.667886864881091},{"$f":"IF(Akustikberechnung!$C$29=8,IF(V26<=(Akustikberechnung!$C$31+1)/2,2,\"\"),IF(Akustikberechnung!$C$29>8,IF(V26<=(Akustikberechnung!$C$31+1)/2,4,\"\")))","v":4},4," - 3. Raster ",3,{"$f":"SQRT((SQRT((5*$H$10)^2+(AA26*$H$9)^2)^2)+$H$12^2)","v":19.608416560242695},{"$f":"IF(Akustikberechnung!$C$29=10,IF(AA26<=(Akustikberechnung!$C$31+1)/2,2,\"\"),IF(Akustikberechnung!$C$29>10,IF(AA26<=(Akustikberechnung!$C$31+1)/2,4,\"\")))","v":2},2," - 3. Raster ",3,{"$f":"SQRT((SQRT((6*$H$10)^2+(AF26*$H$9)^2)^2)+$H$12^2)","v":20.7},{"$f":"IF(Akustikberechnung!$C$29=12,IF(AF26<=(Akustikberechnung!$C$31+1)/2,2,\"\"),IF(Akustikberechnung!$C$29>12,IF(AF26<=(Akustikberechnung!$C$31+1)/2,4,\"\")))","v":false},""," - 3. Raster ",3,{"$f":"SQRT((SQRT((7*$H$10)^2+(AK26*$H$9)^2)^2)+$H$12^2)","v":21.920082116634507},{"$f":"IF(Akustikberechnung!$C$29=14,IF(AK26<=(Akustikberechnung!$C$31+1)/2,2,\"\"),IF(Akustikberechnung!$C$29>14,IF(AK26<=(Akustikberechnung!$C$31+1)/2,4,\"\")))","v":false},""]
[" - 4. Raster",5,{"$f":"SQRT((4*$H$9)^2+$C$23^2)","v":19.241621553289111},{"$f":"IF(B27<=((Akustikberechnung!$C$31+1)/2),2,\"\")","v":2},null," - 4. Raster",4,19.345283662949996,{"$f":"IF(Akustikberechnung!$C$29=2,IF(G27<=(Akustikberechnung!$C$31+1)/2,2,\"\"),IF(Akustikberechnung!$C$29>2,IF(G27<=(Akustikberechnung!$C$31+1)/2,4,\"\")))","v":4},4," - 4. Raster",4,19.652989594461197,{"$f":"IF(Akustikberechnung!$C$29=4,IF(L27<=(Akustikberechnung!$C$31+1)/2,2,\"\"),IF(Akustikberechnung!$C$29>4,IF(L27<=(Akustikberechnung!$C$31+1)/2,4,\"\")))","v":4},4," - 4. Raster",4,20.155396299750596,{"$f":"IF(Akustikberechnung!$C$29=6,IF(Q27<=(Akustikberechnung!$C$31+1)/2,2,\"\"),IF(Akustikberechnung!$C$29>6,IF(Q27<=(Akustikberechnung!$C$31+1)/2,4,\"\")))","v":4},4," - 4. Raster",4,20.838426044209765,{"$f":"IF(Akustikberechnung!$C$29=8,IF(V27<=(Akustikberechnung!$C$31+1)/2,2,\"\"),IF(Akustikberechnung!$C$29>8,IF(V27<=(Akustikberechnung!$C$31+1)/2,4,\"\")))","v":4},4," - 4. Raster",4,21.68501786948768,{"$f":"IF(Akustikberechnung!$C$29=10,IF(AA27<=(Akustikberechnung!$C$31+1)/2,2,\"\"),IF(Akustikberechnung!$C$29>10,IF(AA27<=(Akustikberechnung!$C$31+1)/2,4,\"\")))","v":2},2," - 4. Raster",4,22.676860452893386,{"$f":"IF(Akustikberechnung!$C$29=12,IF(AF27<=(Akustikberechnung!$C$31+1)/2,2,\"\"),IF(Akustikberechnung!$C$29>12,IF(AF27<=(Akustikberechnung!$C$31+1)/2,4,\"\")))","v":false},""," - 4. Raster",4,23.795797948377356,{"$f":"IF(Akustikberechnung!$C$29=14,IF(AK27<=(Akustikberechnung!$C$31+1)/2,2,\"\"),IF(Akustikberechnung!$C$29>14,IF(AK27<=(Akustikberechnung!$C$31+1)/2,4,\"\")))","v":false},""]
[" - 5. Raster",6,{"$f":"SQRT((5*$H$9)^2+$C$23^2)","v":21.920082116634507},{"$f":"IF(B28<=((Akustikberechnung!$C$31+1)/2),2,\"\")","v":""},null," - 5. Raster",5,22.011133546457799,{"$f":"IF(Akustikberechnung!$C$29=2,IF(G28<=(Akustikberechnung!$C$31+1)/2,2,\"\"),IF(Akustikberechnung!$C$29>2,IF(G28<=(Akustikberechnung!$C$31+1)/2,4,\"\")))","v":4},4," - 5. Raster",5,22.28205556047287,{"$f":"IF(Akustikberechnung!$C$29=4,IF(L28<=(Akustikberechnung!$C$31+1)/2,2,\"\"),IF(Akustikberechnung!$C$29>4,IF(L28<=(Akustikberechnung!$C$31+1)/2,4,\"\")))","v":4},4," - 5. Raster",5,22.726416347501864,{"$f":"IF(Akustikberechnung!$C$29=6,IF(Q28<=(Akustikberechnung!$C$31+1)/2,2,\"\"),IF(Akustikberechnung!$C$29>6,IF(Q28<=(Akustikberechnung!$C$31+1)/2,4,\"\")))","v":4},4," - 5. Raster",5,23.334309503390063,{"$f":"IF(Akustikberechnung!$C$29=8,IF(V28<=(Akustikberechnung!$C$31+1)/2,2,\"\"),IF(Akustikberechnung!$C$29>8,IF(V28<=(Akustikberechnung!$C$31+1)/2,4,\"\")))","v":4},4," - 5. Raster",5,24.093360081150987,{"$f":"IF(Akustikberechnung!$C$29=10,IF(AA28<=(Akustikberechnung!$C$31+1)/2,2,\"\"),IF(Akustikberechnung!$C$29>10,IF(AA28<=(Akustikberechnung!$C$31+1)/2,4,\"\")))","v":2},2," - 5. Raster",5,24.9897979183506,{"$f":"IF(Akustikberechnung!$C$29=12,IF(AF28<=(Akustikberechnung!$C$31+1)/2,2,\"\"),IF(Akustikberechnung!$C$29>12,IF(AF28<=(Akustikberechnung!$C$31+1)/2,4,\"\")))","v":false},""," - 5. Raster",5,26.009421369957465,{"$f":"IF(Akustikberechnung!$C$29=14,IF(AK28<=(Akustikberechnung!$C$31+1)/2,2,\"\"),IF(Akustikberechnung!$C$29>14,IF(AK28<=(Akustikberechnung!$C$31+1)/2,4,\"\")))","v":false},""]
[" - 6. Raster",7,{"$f":"SQRT((6*$H$9)^2+$C$23^2)","v":24.804031930313265},{"$f":"IF(B29<=((Akustikberechnung!$C$31+1)/2),2,\"\")","v":""},null," - 6. Raster",6,24.884533349050368,{"$f":"IF(Akustikberechnung!$C$29=2,IF(G29<=(Akustikberechnung!$C$31+1)/2,2,\"\"),IF(Akustikberechnung!$C$29>2,IF(G29<=(Akustikberechnung!$C$31+1)/2,4,\"\")))","v":""},""," - 6. Raster",6,25.124490044576028,{"$f":"IF(Akustikberechnung!$C$29=4,IF(L29<=(Akustikberechnung!$C$31+1)/2,2,\"\"),IF(Akustikberechnung!$C$29>4,IF(L29<=(Akustikberechnung!$C$31+1)/2,4,\"\")))","v":""},""," - 6. Raster",6,25.519404381764087,{"$f":"IF(Akustikberechnung!$C$29=6,IF(Q29<=(Akustikberechnung!$C$31+1)/2,2,\"\"),IF(Akustikberechnung!$C$29>6,IF(Q29<=(Akustikberechnung!$C$31+1)/2,4,\"\")))","v":""},""," - 6. Raster",6,26.06223321206377,{"$f":"IF(Akustikberechnung!$C$29=8,IF(V29<=(Akustikberechnung!$C$31+1)/2,2,\"\"),IF(Akustikberechnung!$C$29>8,IF(V29<=(Akustikberechnung!$C$31+1)/2,4,\"\")))","v":""},""," - 6. Raster",6,26.743971283263079,{"$f":"IF(Akustikberechnung!$C$29=10,IF(AA29<=(Akustikberechnung!$C$31+1)/2,2,\"\"),IF(Akustikberechnung!$C$29>10,IF(AA29<=(Akustikberechnung!$C$31+1)/2,4,\"\")))","v":""},""," - 6. Raster",6,27.554310007692081,{"$f":"IF(Akustikberechnung!$C$29=12,IF(AF29<=(Akustikberechnung!$C$31+1)/2,2,\"\"),IF(Akustikberechnung!$C$29>12,IF(AF29<=(Akustikberechnung!$C$31+1)/2,4,\"\")))","v":false},""," - 6. Raster",6,28.482275190019493,{"$f":"IF(Akustikberechnung!$C$29=14,IF(AK29<=(Akustikberechnung!$C$31+1)/2,2,\"\"),IF(Akustikberechnung!$C$29>14,IF(AK29<=(Akustikberechnung!$C$31+1)/2,4,\"\")))","v":false},""]
[" - 7. Raster",8,{"$f":"SQRT((7*$H$9)^2+$C$23^2)","v":27.829660436304284},{"$f":"IF(B30<=((Akustikberechnung!$C$31+1)/2),2,\"\")","v":""},null," - 7. Raster",7,27.90143365492175,{"$f":"IF(Akustikberechnung!$C$29=2,IF(G30<=(Akustikberechnung!$C$31+1)/2,2,\"\"),IF(Akustikberechnung!$C$29>2,IF(G30<=(Akustikberechnung!$C$31+1)/2,4,\"\")))","v":""},""," - 7. Raster",7,28.115654002708172,{"$f":"IF(Akustikberechnung!$C$29=4,IF(L30<=(Akustikberechnung!$C$31+1)/2,2,\"\"),IF(Akustikberechnung!$C$29>4,IF(L30<=(Akustikberechnung!$C$31+1)/2,4,\"\")))","v":""},""," - 7. Raster",7,28.469106062537335,{"$f":"IF(Akustikberechnung!$C$29=6,IF(Q30<=(Akustikberechnung!$C$31+1)/2,2,\"\"),IF(Akustikberechnung!$C$29>6,IF(Q30<=(Akustikberechnung!$C$31+1)/2,4,\"\")))","v":""},""," - 7. Raster",7,28.956691799996769,{"$f":"IF(Akustikberechnung!$C$29=8,IF(V30<=(Akustikberechnung!$C$31+1)/2,2,\"\"),IF(Akustikberechnung!$C$29>8,IF(V30<=(Akustikberechnung!$C$31+1)/2,4,\"\")))","v":""},""," - 7. Raster",7,29.571777085592945,{"$f":"IF(Akustikberechnung!$C$29=10,IF(AA30<=(Akustikberechnung!$C$31+1)/2,2,\"\"),IF(Akustikberechnung!$C$29>10,IF(AA30<=(Akustikberechnung!$C$31+1)/2,4,\"\")))","v":""},""," - 7. Raster",7,30.306599941266921,{"$f":"IF(Akustikberechnung!$C$29=12,IF(AF30<=(Akustikberechnung!$C$31+1)/2,2,\"\"),IF(Akustikberechnung!$C$29>12,IF(AF30<=(Akustikberechnung!$C$31+1)/2,4,\"\")))","v":false},""," - 7. Raster",7,31.152688487512602,{"$f":"IF(Akustikberechnung!$C$29=14,IF(AK30<=(Akustikberechnung!$C$31+1)/2,2,\"\"),IF(Akustikberechnung!$C$29>14,IF(AK30<=(Akustikberechnung!$C$31+1)/2,4,\"\")))","v":false},""]
[" - 8. Raster",9,{"$f":"SQRT((8*$H$9)^2+$C$23^2)","v":30.955451862313364},{"$f":"IF(B31<=((Akustikberechnung!$C$31+1)/2),2,\"\")","v":""},null," - 8. Raster",8,31.019993552546072,{"$f":"IF(Akustikberechnung!$C$29=2,IF(G31<=(Akustikberechnung!$C$31+1)/2,2,\"\"),IF(Akustikberechnung!$C$29>2,IF(G31<=(Akustikberechnung!$C$31+1)/2,4,\"\")))","v":""},""," - 8. Raster",8,31.212817879839047,{"$f":"IF(Akustikberechnung!$C$29=4,IF(L31<=(Akustikberechnung!$C$31+1)/2,2,\"\"),IF(Akustikberechnung!$C$29>4,IF(L31<=(Akustikberechnung!$C$31+1)/2,4,\"\")))","v":""},""," - 8. Raster",8,31.531571480026173,{"$f":"IF(Akustikberechnung!$C$29=6,IF(Q31<=(Akustikberechnung!$C$31+1)/2,2,\"\"),IF(Akustikberechnung!$C$29>6,IF(Q31<=(Akustikberechnung!$C$31+1)/2,4,\"\")))","v":""},""," - 8. Raster",8,31.972488173428104,{"$f":"IF(Akustikberechnung!$C$29=8,IF(V31<=(Akustikberechnung!$C$31+1)/2,2,\"\"),IF(Akustikberechnung!$C$29>8,IF(V31<=(Akustikberechnung!$C$31+1)/2,4,\"\")))","v":""},""," - 8. Raster",8,32.530600978155938,{"$f":"IF(Akustikberechnung!$C$29=10,IF(AA31<=(Akustikberechnung!$C$31+1)/2,2,\"\"),IF(Akustikberechnung!$C$29>10,IF(AA31<=(Akustikberechnung!$C$31+1)/2,4,\"\")))","v":""},""," - 8. Raster",8,33.200000000000003,{"$f":"IF(Akustikberechnung!$C$29=12,IF(AF31<=(Akustikberechnung!$C$31+1)/2,2,\"\"),IF(Akustikberechnung!$C$29>12,IF(AF31<=(Akustikberechnung!$C$31+1)/2,4,\"\")))","v":false},""," - 8. Raster",8,33.974107788137722,{"$f":"IF(Akustikberechnung!$C$29=14,IF(AK31<=(Akustikberechnung!$C$31+1)/2,2,\"\"),IF(Akustikberechnung!$C$29>14,IF(AK31<=(Akustikberechnung!$C$31+1)/2,4,\"\")))","v":false},""]
[" - 9. Raster",10,{"$f":"SQRT((9*$H$9)^2+$C$23^2)","v":34.153916320094247},{"$f":"IF(B32<=((Akustikberechnung!$C$31+1)/2),2,\"\")","v":""},null," - 9. Raster",9,34.212424643687562,{"$f":"IF(Akustikberechnung!$C$29=2,IF(G32<=(Akustikberechnung!$C$31+1)/2,2,\"\"),IF(Akustikberechnung!$C$29>2,IF(G32<=(Akustikberechnung!$C$31+1)/2,4,\"\")))","v":""},""," - 9. Raster",9,34.387352326109671,{"$f":"IF(Akustikberechnung!$C$29=4,IF(L32<=(Akustikberechnung!$C$31+1)/2,2,\"\"),IF(Akustikberechnung!$C$29>4,IF(L32<=(Akustikberechnung!$C$31+1)/2,4,\"\")))","v":""},""," - 9. Raster",9,34.676937581049458,{"$f":"IF(Akustikberechnung!$C$29=6,IF(Q32<=(Akustikberechnung!$C$31+1)/2,2,\"\"),IF(Akustikberechnung!$C$29>6,IF(Q32<=(Akustikberechnung!$C$31+1)/2,4,\"\")))","v":""},""," - 9. Raster",9,35.078340895772136,{"$f":"IF(Akustikberechnung!$C$29=8,IF(V32<=(Akustikberechnung!$C$31+1)/2,2,\"\"),IF(Akustikberechnung!$C$29>8,IF(V32<=(Akustikberechnung!$C$31+1)/2,4,\"\")))","v":""},""," - 9. Raster",9,35.587778801155878,{"$f":"IF(Akustikberechnung!$C$29=10,IF(AA32<=(Akustikberechnung!$C$31+1)/2,2,\"\"),IF(Akustikberechnung!$C$29>10,IF(AA32<=(Akustikberechnung!$C$31+1)/2,4,\"\")))","v":""},""," - 9. Raster",9,36.200690601147379,{"$f":"IF(Akustikberechnung!$C$29=12,IF(AF32<=(Akustikberechnung!$C$31+1)/2,2,\"\"),IF(Akustikberechnung!$C$29>12,IF(AF32<=(Akustikberechnung!$C$31+1)/2,4,\"\")))","v":false},""," - 9. Raster",9,36.91192219324266,{"$f":"IF(Akustikberechnung!$C$29=14,IF(AK32<=(Akustikberechnung!$C$31+1)/2,2,\"\"),IF(Akustikberechnung!$C$29>14,IF(AK32<=(Akustikberechnung!$C$31+1)/2,4,\"\")))","v":false},""]
[" - 10. Raster",11,{"$f":"SQRT((10*$H$9)^2+$C$23^2)","v":37.406416561868099},{"$f":"IF(B33<=((Akustikberechnung!$C$31+1)/2),2,\"\")","v":""},null," - 10. Raster",10,37.459845167859413,{"$f":"IF(Akustikberechnung!$C$29=2,IF(G33<=(Akustikberechnung!$C$31+1)/2,2,\"\"),IF(Akustikberechnung!$C$29>2,IF(G33<=(Akustikberechnung!$C$31+1)/2,4,\"\")))","v":""},""," - 10. Raster",10,37.619675703014771,{"$f":"IF(Akustikberechnung!$C$29=4,IF(L33<=(Akustikberechnung!$C$31+1)/2,2,\"\"),IF(Akustikberechnung!$C$29>4,IF(L33<=(Akustikberechnung!$C$31+1)/2,4,\"\")))","v":""},""," - 10. Raster",10,37.88456149937597,{"$f":"IF(Akustikberechnung!$C$29=6,IF(Q33<=(Akustikberechnung!$C$31+1)/2,2,\"\"),IF(Akustikberechnung!$C$29>6,IF(Q33<=(Akustikberechnung!$C$31+1)/2,4,\"\")))","v":""},""," - 10. Raster",10,38.252320191068144,{"$f":"IF(Akustikberechnung!$C$29=8,IF(V33<=(Akustikberechnung!$C$31+1)/2,2,\"\"),IF(Akustikberechnung!$C$29>8,IF(V33<=(Akustikberechnung!$C$31+1)/2,4,\"\")))","v":""},""," - 10. Raster",10,38.720020661151516,{"$f":"IF(Akustikberechnung!$C$29=10,IF(AA33<=(Akustikberechnung!$C$31+1)/2,2,\"\"),IF(Akustikberechnung!$C$29>10,IF(AA33<=(Akustikberechnung!$C$31+1)/2,4,\"\")))","v":""},""," - 10. Raster",10,39.284093473058533,{"$f":"IF(Akustikberechnung!$C$29=12,IF(AF33<=(Akustikberechnung!$C$31+1)/2,2,\"\"),IF(Akustikberechnung!$C$29>12,IF(AF33<=(Akustikberechnung!$C$31+1)/2,4,\"\")))","v":false},""," - 10. Raster",10,39.940455680925822,{"$f":"IF(Akustikberechnung!$C$29=14,IF(AK33<=(Akustikberechnung!$C$31+1)/2,2,\"\"),IF(Akustikberechnung!$C$29>14,IF(AK33<=(Akustikberechnung!$C$31+1)/2,4,\"\")))","v":false},""]
[" - 11. Raster",12,{"$f":"SQRT((11*$H$9)^2+$C$23^2)","v":40.700000000000003},{"$f":"IF(B34<=((Akustikberechnung!$C$31+1)/2),2,\"\")","v":""},null," - 11. Raster",11,40.749110419737995,{"$f":"IF(Akustikberechnung!$C$29=2,IF(G34<=(Akustikberechnung!$C$31+1)/2,2,\"\"),IF(Akustikberechnung!$C$29>2,IF(G34<=(Akustikberechnung!$C$31+1)/2,4,\"\")))","v":""},""," - 11. Raster",11,40.896087832456544,{"$f":"IF(Akustikberechnung!$C$29=4,IF(L34<=(Akustikberechnung!$C$31+1)/2,2,\"\"),IF(Akustikberechnung!$C$29>4,IF(L34<=(Akustikberechnung!$C$31+1)/2,4,\"\")))","v":""},""," - 11. Raster",11,41.139883325065469,{"$f":"IF(Akustikberechnung!$C$29=6,IF(Q34<=(Akustikberechnung!$C$31+1)/2,2,\"\"),IF(Akustikberechnung!$C$29>6,IF(Q34<=(Akustikberechnung!$C$31+1)/2,4,\"\")))","v":""},""," - 11. Raster",11,41.478789760551116,{"$f":"IF(Akustikberechnung!$C$29=8,IF(V34<=(Akustikberechnung!$C$31+1)/2,2,\"\"),IF(Akustikberechnung!$C$29>8,IF(V34<=(Akustikberechnung!$C$31+1)/2,4,\"\")))","v":""},""," - 11. Raster",11,41.910499877715608,{"$f":"IF(Akustikberechnung!$C$29=10,IF(AA34<=(Akustikberechnung!$C$31+1)/2,2,\"\"),IF(Akustikberechnung!$C$29>10,IF(AA34<=(Akustikberechnung!$C$31+1)/2,4,\"\")))","v":""},""," - 11. Raster",11,42.432181183625246,{"$f":"IF(Akustikberechnung!$C$29=12,IF(AF34<=(Akustikberechnung!$C$31+1)/2,2,\"\"),IF(Akustikberechnung!$C$29>12,IF(AF34<=(Akustikberechnung!$C$31+1)/2,4,\"\")))","v":false},""," - 11. Raster",11,43.040562263985358,{"$f":"IF(Akustikberechnung!$C$29=14,IF(AK34<=(Akustikberechnung!$C$31+1)/2,2,\"\"),IF(Akustikberechnung!$C$29>14,IF(AK34<=(Akustikberechnung!$C$31+1)/2,4,\"\")))","v":false},""]
[" - 12. Raster",13,{"$f":"SQRT((12*$H$9)^2+$C$23^2)","v":44.025447186825936},{"$f":"IF(B35<=((Akustikberechnung!$C$31+1)/2),2,\"\")","v":""},null," - 12. Raster",12,44.070852045314489,{"$f":"IF(Akustikberechnung!$C$29=2,IF(G35<=(Akustikberechnung!$C$31+1)/2,2,\"\"),IF(Akustikberechnung!$C$29>2,IF(G35<=(Akustikberechnung!$C$31+1)/2,4,\"\")))","v":""},""," - 12. Raster",12,44.2067868092672,{"$f":"IF(Akustikberechnung!$C$29=4,IF(L35<=(Akustikberechnung!$C$31+1)/2,2,\"\"),IF(Akustikberechnung!$C$29>4,IF(L35<=(Akustikberechnung!$C$31+1)/2,4,\"\")))","v":""},""," - 12. Raster",12,44.432420595776684,{"$f":"IF(Akustikberechnung!$C$29=6,IF(Q35<=(Akustikberechnung!$C$31+1)/2,2,\"\"),IF(Akustikberechnung!$C$29>6,IF(Q35<=(Akustikberechnung!$C$31+1)/2,4,\"\")))","v":""},""," - 12. Raster",12,44.74639650295876,{"$f":"IF(Akustikberechnung!$C$29=8,IF(V35<=(Akustikberechnung!$C$31+1)/2,2,\"\"),IF(Akustikberechnung!$C$29>8,IF(V35<=(Akustikberechnung!$C$31+1)/2,4,\"\")))","v":""},""," - 12. Raster",12,45.146871430919774,{"$f":"IF(Akustikberechnung!$C$29=10,IF(AA35<=(Akustikberechnung!$C$31+1)/2,2,\"\"),IF(Akustikberechnung!$C$29>10,IF(AA35<=(Akustikberechnung!$C$31+1)/2,4,\"\")))","v":""},""," - 12. Raster",12,45.631568020395704,{"$f":"IF(Akustikberechnung!$C$29=12,IF(AF35<=(Akustikberechnung!$C$31+1)/2,2,\"\"),IF(Akustikberechnung!$C$29>12,IF(AF35<=(Akustikberechnung!$C$31+1)/2,4,\"\")))","v":false},""," - 12. Raster",12,46.197835447128902,{"$f":"IF(Akustikberechnung!$C$29=14,IF(AK35<=(Akustikberechnung!$C$31+1)/2,2,\"\"),IF(Akustikberechnung!$C$29>14,IF(AK35<=(Akustikberechnung!$C$31+1)/2,4,\"\")))","v":false},""]
[" - 13. Raster",14,{"$f":"SQRT((13*$H$9)^2+$C$23^2)","v":47.376048801055582},{"$f":"IF(B36<=((Akustikberechnung!$C$31+1)/2),2,\"\")","v":""},null," - 13. Raster",13,47.418245433588119,{"$f":"IF(Akustikberechnung!$C$29=2,IF(G36<=(Akustikberechnung!$C$31+1)/2,2,\"\"),IF(Akustikberechnung!$C$29>2,IF(G36<=(Akustikberechnung!$C$31+1)/2,4,\"\")))","v":""},""," - 13. Raster",13,47.544610630438441,{"$f":"IF(Akustikberechnung!$C$29=4,IF(L36<=(Akustikberechnung!$C$31+1)/2,2,\"\"),IF(Akustikberechnung!$C$29>4,IF(L36<=(Akustikberechnung!$C$31+1)/2,4,\"\")))","v":""},""," - 13. Raster",13,47.754476229982878,{"$f":"IF(Akustikberechnung!$C$29=6,IF(Q36<=(Akustikberechnung!$C$31+1)/2,2,\"\"),IF(Akustikberechnung!$C$29>6,IF(Q36<=(Akustikberechnung!$C$31+1)/2,4,\"\")))","v":""},""," - 13. Raster",13,48.046748068938022,{"$f":"IF(Akustikberechnung!$C$29=8,IF(V36<=(Akustikberechnung!$C$31+1)/2,2,\"\"),IF(Akustikberechnung!$C$29>8,IF(V36<=(Akustikberechnung!$C$31+1)/2,4,\"\")))","v":""},""," - 13. Raster",13,48.419933911561664,{"$f":"IF(Akustikberechnung!$C$29=10,IF(AA36<=(Akustikberechnung!$C$31+1)/2,2,\"\"),IF(Akustikberechnung!$C$29>10,IF(AA36<=(Akustikberechnung!$C$31+1)/2,4,\"\")))","v":""},""," - 13. Raster",13,48.872180225563909,{"$f":"IF(Akustikberechnung!$C$29=12,IF(AF36<=(Akustikberechnung!$C$31+1)/2,2,\"\"),IF(Akustikberechnung!$C$29>12,IF(AF36<=(Akustikberechnung!$C$31+1)/2,4,\"\")))","v":false},""," - 13. Raster",13,49.401315771950848,{"$f":"IF(Akustikberechnung!$C$29=14,IF(AK36<=(Akustikberechnung!$C$31+1)/2,2,\"\"),IF(Akustikberechnung!$C$29>14,IF(AK36<=(Akustikberechnung!$C$31+1)/2,4,\"\")))","v":false},""]
[" - 14. Raster",15,{"$f":"SQRT((14*$H$9)^2+$C$23^2)","v":50.746822560629347},{"$f":"IF(B37<=((Akustikberechnung!$C$31+1)/2),2,\"\")","v":""},null," - 14. Raster",14,50.786218603081686,{"$f":"IF(Akustikberechnung!$C$29=2,IF(G37<=(Akustikberechnung!$C$31+1)/2,2,\"\"),IF(Akustikberechnung!$C$29>2,IF(G37<=(Akustikberechnung!$C$31+1)/2,4,\"\")))","v":""},""," - 14. Raster",14,50.904223793316007,{"$f":"IF(Akustikberechnung!$C$29=4,IF(L37<=(Akustikberechnung!$C$31+1)/2,2,\"\"),IF(Akustikberechnung!$C$29>4,IF(L37<=(Akustikberechnung!$C$31+1)/2,4,\"\")))","v":""},""," - 14. Raster",14,51.100293541231245,{"$f":"IF(Akustikberechnung!$C$29=6,IF(Q37<=(Akustikberechnung!$C$31+1)/2,2,\"\"),IF(Akustikberechnung!$C$29>6,IF(Q37<=(Akustikberechnung!$C$31+1)/2,4,\"\")))","v":""},""," - 14. Raster",14,51.373534042345185,{"$f":"IF(Akustikberechnung!$C$29=8,IF(V37<=(Akustikberechnung!$C$31+1)/2,2,\"\"),IF(Akustikberechnung!$C$29>8,IF(V37<=(Akustikberechnung!$C$31+1)/2,4,\"\")))","v":""},""," - 14. Raster",14,51.7227222794779,{"$f":"IF(Akustikberechnung!$C$29=10,IF(AA37<=(Akustikberechnung!$C$31+1)/2,2,\"\"),IF(Akustikberechnung!$C$29>10,IF(AA37<=(Akustikberechnung!$C$31+1)/2,4,\"\")))","v":""},""," - 14. Raster",14,52.146332565195806,{"$f":"IF(Akustikberechnung!$C$29=12,IF(AF37<=(Akustikberechnung!$C$31+1)/2,2,\"\"),IF(Akustikberechnung!$C$29>12,IF(AF37<=(Akustikberechnung!$C$31+1)/2,4,\"\")))","v":false},""," - 14. Raster",14,52.642568326402916,{"$f":"IF(Akustikberechnung!$C$29=14,IF(AK37<=(Akustikberechnung!$C$31+1)/2,2,\"\"),IF(Akustikberechnung!$C$29>14,IF(AK37<=(Akustikberechnung!$C$31+1)/2,4,\"\")))","v":false},""]
[" - 15. Raster",16,{"$f":"SQRT((15*$H$9)^2+$C$23^2)","v":54.134000406398933},{"$f":"IF(B38<=((Akustikberechnung!$C$31+1)/2),2,\"\")","v":""},null," - 15. Raster",15,54.170933165305541,{"$f":"IF(Akustikberechnung!$C$29=2,IF(G38<=(Akustikberechnung!$C$31+1)/2,2,\"\"),IF(Akustikberechnung!$C$29>2,IF(G38<=(Akustikberechnung!$C$31+1)/2,4,\"\")))","v":""},""," - 15. Raster",15,54.281580669689419,{"$f":"IF(Akustikberechnung!$C$29=4,IF(L38<=(Akustikberechnung!$C$31+1)/2,2,\"\"),IF(Akustikberechnung!$C$29>4,IF(L38<=(Akustikberechnung!$C$31+1)/2,4,\"\")))","v":""},""," - 15. Raster",15,54.465493663419593,{"$f":"IF(Akustikberechnung!$C$29=6,IF(Q38<=(Akustikberechnung!$C$31+1)/2,2,\"\"),IF(Akustikberechnung!$C$29>6,IF(Q38<=(Akustikberechnung!$C$31+1)/2,4,\"\")))","v":""},""," - 15. Raster",15,54.721933445374532,{"$f":"IF(Akustikberechnung!$C$29=8,IF(V38<=(Akustikberechnung!$C$31+1)/2,2,\"\"),IF(Akustikberechnung!$C$29>8,IF(V38<=(Akustikberechnung!$C$31+1)/2,4,\"\")))","v":""},""," - 15. Raster",15,55.049886466731245,{"$f":"IF(Akustikberechnung!$C$29=10,IF(AA38<=(Akustikberechnung!$C$31+1)/2,2,\"\"),IF(Akustikberechnung!$C$29>10,IF(AA38<=(Akustikberechnung!$C$31+1)/2,4,\"\")))","v":""},""," - 15. Raster",15,55.448083826224334,{"$f":"IF(Akustikberechnung!$C$29=12,IF(AF38<=(Akustikberechnung!$C$31+1)/2,2,\"\"),IF(Akustikberechnung!$C$29>12,IF(AF38<=(Akustikberechnung!$C$31+1)/2,4,\"\")))","v":false},""," - 15. Raster",15,55.91502481444499,{"$f":"IF(Akustikberechnung!$C$29=14,IF(AK38<=(Akustikberechnung!$C$31+1)/2,2,\"\"),IF(Akustikberechnung!$C$29>14,IF(AK38<=(Akustikberechnung!$C$31+1)/2,4,\"\")))","v":false},""]
[" - 16. Raster",17,{"$f":"SQRT((16*$H$9)^2+$C$23^2)","v":57.53468519076123},{"$f":"IF(B39<=((Akustikberechnung!$C$31+1)/2),2,\"\")","v":""},null," - 16. Raster",16,57.569436335611279,{"$f":"IF(Akustikberechnung!$C$29=2,IF(G39<=(Akustikberechnung!$C$31+1)/2,2,\"\"),IF(Akustikberechnung!$C$29>2,IF(G39<=(Akustikberechnung!$C$31+1)/2,4,\"\")))","v":""},""," - 16. Raster",16,57.673564134705593,{"$f":"IF(Akustikberechnung!$C$29=4,IF(L39<=(Akustikberechnung!$C$31+1)/2,2,\"\"),IF(Akustikberechnung!$C$29>4,IF(L39<=(Akustikberechnung!$C$31+1)/2,4,\"\")))","v":""},""," - 16. Raster",16,57.846693941832143,{"$f":"IF(Akustikberechnung!$C$29=6,IF(Q39<=(Akustikberechnung!$C$31+1)/2,2,\"\"),IF(Akustikberechnung!$C$29>6,IF(Q39<=(Akustikberechnung!$C$31+1)/2,4,\"\")))","v":""},""," - 16. Raster",16,58.088208786293286,{"$f":"IF(Akustikberechnung!$C$29=8,IF(V39<=(Akustikberechnung!$C$31+1)/2,2,\"\"),IF(Akustikberechnung!$C$29>8,IF(V39<=(Akustikberechnung!$C$31+1)/2,4,\"\")))","v":""},""," - 16. Raster",16,58.397260209705045,{"$f":"IF(Akustikberechnung!$C$29=10,IF(AA39<=(Akustikberechnung!$C$31+1)/2,2,\"\"),IF(Akustikberechnung!$C$29>10,IF(AA39<=(Akustikberechnung!$C$31+1)/2,4,\"\")))","v":""},""," - 16. Raster",16,58.772782816538474,{"$f":"IF(Akustikberechnung!$C$29=12,IF(AF39<=(Akustikberechnung!$C$31+1)/2,2,\"\"),IF(Akustikberechnung!$C$29>12,IF(AF39<=(Akustikberechnung!$C$31+1)/2,4,\"\")))","v":false},""," - 16. Raster",16,59.213511971508666,{"$f":"IF(Akustikberechnung!$C$29=14,IF(AK39<=(Akustikberechnung!$C$31+1)/2,2,\"\"),IF(Akustikberechnung!$C$29>14,IF(AK39<=(Akustikberechnung!$C$31+1)/2,4,\"\")))","v":false},""]
[" - 17. Raster",18,{"$f":"SQRT((17*$H$9)^2+$C$23^2)","v":60.946615984810833},{"$f":"IF(B40<=((Akustikberechnung!$C$31+1)/2),2,\"\")","v":""},null," - 17. Raster",17,60.97942275882906,{"$f":"IF(Akustikberechnung!$C$29=2,IF(G40<=(Akustikberechnung!$C$31+1)/2,2,\"\"),IF(Akustikberechnung!$C$29>2,IF(G40<=(Akustikberechnung!$C$31+1)/2,4,\"\")))","v":""},""," - 17. Raster",17,61.077737351673399,{"$f":"IF(Akustikberechnung!$C$29=4,IF(L40<=(Akustikberechnung!$C$31+1)/2,2,\"\"),IF(Akustikberechnung!$C$29>4,IF(L40<=(Akustikberechnung!$C$31+1)/2,4,\"\")))","v":""},""," - 17. Raster",17,61.241244272140648,{"$f":"IF(Akustikberechnung!$C$29=6,IF(Q40<=(Akustikberechnung!$C$31+1)/2,2,\"\"),IF(Akustikberechnung!$C$29>6,IF(Q40<=(Akustikberechnung!$C$31+1)/2,4,\"\")))","v":""},""," - 17. Raster",17,61.469423293211399,{"$f":"IF(Akustikberechnung!$C$29=8,IF(V40<=(Akustikberechnung!$C$31+1)/2,2,\"\"),IF(Akustikberechnung!$C$29>8,IF(V40<=(Akustikberechnung!$C$31+1)/2,4,\"\")))","v":""},""," - 17. Raster",17,61.761557622844968,{"$f":"IF(Akustikberechnung!$C$29=10,IF(AA40<=(Akustikberechnung!$C$31+1)/2,2,\"\"),IF(Akustikberechnung!$C$29>10,IF(AA40<=(Akustikberechnung!$C$31+1)/2,4,\"\")))","v":""},""," - 17. Raster",17,62.116744924376064,{"$f":"IF(Akustikberechnung!$C$29=12,IF(AF40<=(Akustikberechnung!$C$31+1)/2,2,\"\"),IF(Akustikberechnung!$C$29>12,IF(AF40<=(Akustikberechnung!$C$31+1)/2,4,\"\")))","v":false},""," - 17. Raster",17,62.533910800460895,{"$f":"IF(Akustikberechnung!$C$29=14,IF(AK40<=(Akustikberechnung!$C$31+1)/2,2,\"\"),IF(Akustikberechnung!$C$29>14,IF(AK40<=(Akustikberechnung!$C$31+1)/2,4,\"\")))","v":false},""]
[" - 18. Raster",19,{"$f":"SQRT((18*$H$9)^2+$C$23^2)","v":64.36800447427278},{"$f":"IF(B41<=((Akustikberechnung!$C$31+1)/2),2,\"\")","v":""},null," - 18. Raster",18,64.399068316241966,{"$f":"IF(Akustikberechnung!$C$29=2,IF(G41<=(Akustikberechnung!$C$31+1)/2,2,\"\"),IF(Akustikberechnung!$C$29>2,IF(G41<=(Akustikberechnung!$C$31+1)/2,4,\"\")))","v":""},""," - 18. Raster",18,64.492170067381039,{"$f":"IF(Akustikberechnung!$C$29=4,IF(L41<=(Akustikberechnung!$C$31+1)/2,2,\"\"),IF(Akustikberechnung!$C$29>4,IF(L41<=(Akustikberechnung!$C$31+1)/2,4,\"\")))","v":""},""," - 18. Raster",18,64.647041695656881,{"$f":"IF(Akustikberechnung!$C$29=6,IF(Q41<=(Akustikberechnung!$C$31+1)/2,2,\"\"),IF(Akustikberechnung!$C$29>6,IF(Q41<=(Akustikberechnung!$C$31+1)/2,4,\"\")))","v":""},""," - 18. Raster",18,64.863240745433004,{"$f":"IF(Akustikberechnung!$C$29=8,IF(V41<=(Akustikberechnung!$C$31+1)/2,2,\"\"),IF(Akustikberechnung!$C$29>8,IF(V41<=(Akustikberechnung!$C$31+1)/2,4,\"\")))","v":""},""," - 18. Raster",18,65.140156585626968,{"$f":"IF(Akustikberechnung!$C$29=10,IF(AA41<=(Akustikberechnung!$C$31+1)/2,2,\"\"),IF(Akustikberechnung!$C$29>10,IF(AA41<=(Akustikberechnung!$C$31+1)/2,4,\"\")))","v":""},""," - 18. Raster",18,65.47701886921854,{"$f":"IF(Akustikberechnung!$C$29=12,IF(AF41<=(Akustikberechnung!$C$31+1)/2,2,\"\"),IF(Akustikberechnung!$C$29>12,IF(AF41<=(Akustikberechnung!$C$31+1)/2,4,\"\")))","v":false},""," - 18. Raster",18,65.872907936419509,{"$f":"IF(Akustikberechnung!$C$29=14,IF(AK41<=(Akustikberechnung!$C$31+1)/2,2,\"\"),IF(Akustikberechnung!$C$29>14,IF(AK41<=(Akustikberechnung!$C$31+1)/2,4,\"\")))","v":false},""]
[" - 19. Raster",20,{"$f":"SQRT((19*$H$9)^2+$C$23^2)","v":67.797418829923018},{"$f":"IF(B42<=((Akustikberechnung!$C$31+1)/2),2,\"\")","v":""},null," - 19. Raster",19,67.826912062985741,{"$f":"IF(Akustikberechnung!$C$29=2,IF(G42<=(Akustikberechnung!$C$31+1)/2,2,\"\"),IF(Akustikberechnung!$C$29>2,IF(G42<=(Akustikberechnung!$C$31+1)/2,4,\"\")))","v":""},""," - 19. Raster",19,67.915314914973337,{"$f":"IF(Akustikberechnung!$C$29=4,IF(L42<=(Akustikberechnung!$C$31+1)/2,2,\"\"),IF(Akustikberechnung!$C$29>4,IF(L42<=(Akustikberechnung!$C$31+1)/2,4,\"\")))","v":""},""," - 19. Raster",19,68.062397841980257,{"$f":"IF(Akustikberechnung!$C$29=6,IF(Q42<=(Akustikberechnung!$C$31+1)/2,2,\"\"),IF(Akustikberechnung!$C$29>6,IF(Q42<=(Akustikberechnung!$C$31+1)/2,4,\"\")))","v":""},""," - 19. Raster",19,68.267781566416815,{"$f":"IF(Akustikberechnung!$C$29=8,IF(V42<=(Akustikberechnung!$C$31+1)/2,2,\"\"),IF(Akustikberechnung!$C$29>8,IF(V42<=(Akustikberechnung!$C$31+1)/2,4,\"\")))","v":""},""," - 19. Raster",19,68.530941916772164,{"$f":"IF(Akustikberechnung!$C$29=10,IF(AA42<=(Akustikberechnung!$C$31+1)/2,2,\"\"),IF(Akustikberechnung!$C$29>10,IF(AA42<=(Akustikberechnung!$C$31+1)/2,4,\"\")))","v":""},""," - 19. Raster",19,68.851216401745575,{"$f":"IF(Akustikberechnung!$C$29=12,IF(AF42<=(Akustikberechnung!$C$31+1)/2,2,\"\"),IF(Akustikberechnung!$C$29>12,IF(AF42<=(Akustikberechnung!$C$31+1)/2,4,\"\")))","v":false},""," - 19. Raster",19,69.227812330016604,{"$f":"IF(Akustikberechnung!$C$29=14,IF(AK42<=(Akustikberechnung!$C$31+1)/2,2,\"\"),IF(Akustikberechnung!$C$29>14,IF(AK42<=(Akustikberechnung!$C$31+1)/2,4,\"\")))","v":false},""]
[" - 20. Raster",21,{"$f":"SQRT((20*$H$9)^2+$C$23^2)","v":71.233699889869541},{"$f":"IF(B43<=((Akustikberechnung!$C$31+1)/2),2,\"\")","v":""},null," - 20. Raster",20,71.261770957505689,{"$f":"IF(Akustikberechnung!$C$29=2,IF(G43<=(Akustikberechnung!$C$31+1)/2,2,\"\"),IF(Akustikberechnung!$C$29>2,IF(G43<=(Akustikberechnung!$C$31+1)/2,4,\"\")))","v":""},""," - 20. Raster",20,71.345917893037154,{"$f":"IF(Akustikberechnung!$C$29=4,IF(L43<=(Akustikberechnung!$C$31+1)/2,2,\"\"),IF(Akustikberechnung!$C$29>4,IF(L43<=(Akustikberechnung!$C$31+1)/2,4,\"\")))","v":""},""," - 20. Raster",20,71.485942674067047,{"$f":"IF(Akustikberechnung!$C$29=6,IF(Q43<=(Akustikberechnung!$C$31+1)/2,2,\"\"),IF(Akustikberechnung!$C$29>6,IF(Q43<=(Akustikberechnung!$C$31+1)/2,4,\"\")))","v":""},""," - 20. Raster",20,71.68151784107252,{"$f":"IF(Akustikberechnung!$C$29=8,IF(V43<=(Akustikberechnung!$C$31+1)/2,2,\"\"),IF(Akustikberechnung!$C$29>8,IF(V43<=(Akustikberechnung!$C$31+1)/2,4,\"\")))","v":""},""," - 20. Raster",20,71.932190290578532,{"$f":"IF(Akustikberechnung!$C$29=10,IF(AA43<=(Akustikberechnung!$C$31+1)/2,2,\"\"),IF(Akustikberechnung!$C$29>10,IF(AA43<=(Akustikberechnung!$C$31+1)/2,4,\"\")))","v":""},""," - 20. Raster",20,72.237386442201796,{"$f":"IF(Akustikberechnung!$C$29=12,IF(AF43<=(Akustikberechnung!$C$31+1)/2,2,\"\"),IF(Akustikberechnung!$C$29>12,IF(AF43<=(Akustikberechnung!$C$31+1)/2,4,\"\")))","v":false},""," - 20. Raster",20,72.596418644448306,{"$f":"IF(Akustikberechnung!$C$29=14,IF(AK43<=(Akustikberechnung!$C$31+1)/2,2,\"\"),IF(Akustikberechnung!$C$29>14,IF(AK43<=(Akustikberechnung!$C$31+1)/2,4,\"\")))","v":false},""]
[]
[]
["Schalldruckpegel",null,"LP,A [dB(A)]",null,"Summe","Schalldruckpegel",null,"LP,A [dB(A)]",null,"Summe","Schalldruckpegel",null,"LP,A [dB(A)]",null,"Summe","Schalldruckpegel",null,"LP,A [dB(A)]",null,"Summe","Schalldruckpegel",null,"LP,A [dB(A)]",null,"Summe","Schalldruckpegel",null,"LP,A [dB(A)]",null,"Summe","Schalldruckpegel",null,"LP,A [dB(A)]",null,"Summe","Schalldruckpegel",null,"LP,A [dB(A)]",null,"Summe"]
[" - direkt unterhalb",null,{"$f":"$C$12+10*LOG(D23*($C$13/(4*PI()*C23^2))+4/$H$7)","v":25.296096470162691},null,{"$f":"10*LOG(10^(C47/10)+10^(C48/10)+10^(C49/10)+10^(C50/10)+10^(C51/10)+10^(C52/10)+10^(C53/10)+10^(C54/10)+10^(C55/10)+10^(C56/10)+10^(C57/10)+10^(C58/10)+10^(C59/10)+10^(C60/10)+10^(C61/10)+10^(C62/10)+10^(C63/10)+10^(C64/10)+10^(C65/10)+10^(C66/10)+10^(C67/10))","v":33.21230775580301}," - 1. Raster",null,{"$f":"IFERROR($C$12+10*LOG(J24*($C$13/(4*PI()*H24^2))+4/$H$7),-1000000)","v":30.039755447636548},null,{"$f":"10*LOG(10^(H47/10)+10^(H48/10)+10^(H49/10)+10^(H50/10)+10^(H51/10)+10^(H52/10)+10^(H53/10)+10^(H54/10)+10^(H55/10)+10^(H56/10)+10^(H57/10)+10^(H58/10)+10^(H59/10)+10^(H60/10)+10^(H61/10)+10^(H62/10)+10^(H63/10)+10^(H64/10)+10^(H65/10)+10^(H66/10))","v":35.526732828438433}," - 1. Raster",null,{"$f":"IFERROR($C$12+10*LOG(O24*($C$13/(4*PI()*M24^2))+4/$H$7),-1000000)","v":29.797773192531295},null,{"$f":"10*LOG(10^(M47/10)+10^(M48/10)+10^(M49/10)+10^(M50/10)+10^(M51/10)+10^(M52/10)+10^(M53/10)+10^(M54/10)+10^(M55/10)+10^(M56/10)+10^(M57/10)+10^(M58/10)+10^(M59/10)+10^(M60/10)+10^(M61/10)+10^(M62/10)+10^(M63/10)+10^(M64/10)+10^(M65/10)+10^(M66/10))","v":35.351475412617802}," - 1. Raster",null,{"$f":"IFERROR($C$12+10*LOG(T24*($C$13/(4*PI()*R24^2))+4/$H$7),-1000000)","v":29.427313850918875},null,{"$f":"10*LOG(10^(R47/10)+10^(R48/10)+10^(R49/10)+10^(R50/10)+10^(R51/10)+10^(R52/10)+10^(R53/10)+10^(R54/10)+10^(R55/10)+10^(R56/10)+10^(R57/10)+10^(R58/10)+10^(R59/10)+10^(R60/10)+10^(R61/10)+10^(R62/10)+10^(R63/10)+10^(R64/10)+10^(R65/10)+10^(R66/10))","v":35.080549078155975}," - 1. Raster",null,{"$f":"IFERROR($C$12+10*LOG(Y24*($C$13/(4*PI()*W24^2))+4/$H$7),-1000000)","v":28.965998378090379},null,{"$f":"10*LOG(10^(W47/10)+10^(W48/10)+10^(W49/10)+10^(W50/10)+10^(W51/10)+10^(W52/10)+10^(W53/10)+10^(W54/10)+10^(W55/10)+10^(W56/10)+10^(W57/10)+10^(W58/10)+10^(W59/10)+10^(W60/10)+10^(W61/10)+10^(W62/10)+10^(W63/10)+10^(W64/10)+10^(W65/10)+10^(W66/10))","v":34.738610694047026}," - 1. Raster",null,{"$f":"IFERROR($C$12+10*LOG(AD24*($C$13/(4*PI()*AB24^2))+4/$H$7),-1000000)","v":25.945244437061071},null,{"$f":"10*LOG(10^(AB47/10)+10^(AB48/10)+10^(AB49/10)+10^(AB50/10)+10^(AB51/10)+10^(AB52/10)+10^(AB53/10)+10^(AB54/10)+10^(AB55/10)+10^(AB56/10)+10^(AB57/10)+10^(AB58/10)+10^(AB59/10)+10^(AB60/10)+10^(AB61/10)+10^(AB62/10)+10^(AB63/10)+10^(AB64/10)+10^(AB65/10)+10^(AB66/10))","v":31.978924209845466}," - 1. Raster",null,{"$f":"IFERROR($C$12+10*LOG(AI24*($C$13/(4*PI()*AG24^2))+4/$H$7),-1000000)","v":-1000000},null,{"$f":"10*LOG(10^(AG47/10)+10^(AG48/10)+10^(AG49/10)+10^(AG50/10)+10^(AG51/10)+10^(AG52/10)+10^(AG53/10)+10^(AG54/10)+10^(AG55/10)+10^(AG56/10)+10^(AG57/10)+10^(AG58/10)+10^(AG59/10)+10^(AG60/10)+10^(AG61/10)+10^(AG62/10)+10^(AG63/10)+10^(AG64/10)+10^(AG65/10)+10^(AG66/10))","v":{"$error":"#NUM!"}}," - 1. Raster",null,{"$f":"IFERROR($C$12+10*LOG(AN24*($C$13/(4*PI()*AL24^2))+4/$H$7),-1000000)","v":-1000000},null,{"$f":"10*LOG(10^(AL47/10)+10^(AL48/10)+10^(AL49/10)+10^(AL50/10)+10^(AL51/10)+10^(AL52/10)+10^(AL53/10)+10^(AL54/10)+10^(AL55/10)+10^(AL56/10)+10^(AL57/10)+10^(AL58/10)+10^(AL59/10)+10^(AL60/10)+10^(AL61/10)+10^(AL62/10)+10^(AL63/10)+10^(AL64/10)+10^(AL65/10)+10^(AL66/10))","v":{"$error":"#NUM!"}}]
[" - 1. Raster",null,{"$f":"$C$12+10*LOG(D24*($C$13/(4*PI()*C24^2))+4/$H$7)","v":27.463571518498092},null,{"$f":"IFERROR(E47,-1)","v":33.21230775580301}," - 2. Raster",null,{"$f":"IFERROR($C$12+10*LOG(J25*($C$13/(4*PI()*H25^2))+4/$H$7),-1000000)","v":29.344690613983619},null,{"$f":"IFERROR(J47,-1)","v":35.526732828438433}," - 2. Raster",null,{"$f":"IFERROR($C$12+10*LOG(O25*($C$13/(4*PI()*M25^2))+4/$H$7),-1000000)","v":29.144154554592351},null,{"$f":"IFERROR(O47,-1)","v":35.351475412617802}," - 2. Raster",null,{"$f":"IFERROR($C$12+10*LOG(T25*($C$13/(4*PI()*R25^2))+4/$H$7),-1000000)","v":28.833461590105664},null,{"$f":"IFERROR(T47,-1)","v":35.080549078155975}," - 2. Raster",null,{"$f":"IFERROR($C$12+10*LOG(Y25*($C$13/(4*PI()*W25^2))+4/$H$7),-1000000)","v":28.440665292918965},null,{"$f":"IFERROR(Y47,-1)","v":34.738610694047026}," - 2. Raster",null,{"$f":"IFERROR($C$12+10*LOG(AD25*($C$13/(4*PI()*AB25^2))+4/$H$7),-1000000)","v":25.541691612460458},null,{"$f":"IFERROR(AD47,-1)","v":31.978924209845466}," - 2. Raster",null,{"$f":"IFERROR($C$12+10*LOG(AI25*($C$13/(4*PI()*AG25^2))+4/$H$7),-1000000)","v":-1000000},null,{"$f":"IFERROR(AI47,-1)","v":-1}," - 2. Raster",null,{"$f":"IFERROR($C$12+10*LOG(AN25*($C$13/(4*PI()*AL25^2))+4/$H$7),-1000000)","v":-1000000},null,{"$f":"IFERROR(AN47,-1)","v":-1}]
[" - 2. Raster (= 1. Raster * 1,41)",null,{"$f":"IFERROR($C$12+10*LOG(D25*($C$13/(4*PI()*C25^2))+4/$H$7),-1000000)","v":26.812869380075313},null,null," - 3. Raster ",null,{"$f":"IFERROR($C$12+10*LOG(J26*($C$13/(4*PI()*H26^2))+4/$H$7),-1000000)","v":28.424141704659938},null,null," - 3. Raster ",null,{"$f":"IFERROR($C$12+10*LOG(O26*($C$13/(4*PI()*M26^2))+4/$H$7),-1000000)","v":28.269500200472862},null,null," - 3. Raster ",null,{"$f":"IFERROR($C$12+10*LOG(T26*($C$13/(4*PI()*R26^2))+4/$H$7),-1000000)","v":28.026653694111051},null,null," - 3. Raster ",null,{"$f":"IFERROR($C$12+10*LOG(Y26*($C$13/(4*PI()*W26^2))+4/$H$7),-1000000)","v":27.714168769429278},null,null," - 3. Raster ",null,{"$f":"IFERROR($C$12+10*LOG(AD26*($C$13/(4*PI()*AB26^2))+4/$H$7),-1000000)","v":24.981941239682101},null,null," - 3. Raster ",null,{"$f":"IFERROR($C$12+10*LOG(AI26*($C$13/(4*PI()*AG26^2))+4/$H$7),-1000000)","v":-1000000},null,null," - 3. Raster ",null,{"$f":"IFERROR($C$12+10*LOG(AN26*($C$13/(4*PI()*AL26^2))+4/$H$7),-1000000)","v":-1000000}]
[" - 3. Raster ",null,25.969008515814473,null,null," - 4. Raster",null,27.451194758190603,null,null," - 4. Raster",null,27.33568258091266,null,null," - 4. Raster",null,27.152122548299879,null,null," - 4. Raster",null,26.912135383164166,null,null," - 4. Raster",null,24.36522252205204,null,null," - 4. Raster",null,-1000000,null,null," - 4. Raster",null,-1000000]
[" - 4. Raster",null,25.101624958447957,null,null," - 5. Raster",null,26.524002301467288,null,null," - 5. Raster",null,26.438363368364062,null,null," - 5. Raster",null,26.300996460385061,null,null," - 5. Raster",null,26.119076029785422,null,null," - 5. Raster",null,23.760721256519343,null,null," - 5. Raster",null,-1000000,null,null," - 5. Raster",null,-1000000]
[" - 5. Raster",null,{"$f":"IFERROR($C$12+10*LOG(D28*($C$13/(4*PI()*C28^2))+4/$H$7),-1000000)","v":-1000000},null,null," - 6. Raster",null,-1000000,null,null," - 6. Raster",null,-1000000,null,null," - 6. Raster",null,-1000000,null,null," - 6. Raster",null,-1000000,null,null," - 6. Raster",null,-1000000,null,null," - 6. Raster",null,-1000000,null,null," - 6. Raster",null,-1000000]
[" - 6. Raster",null,-1000000,null,null," - 7. Raster",null,-1000000,null,null," - 7. Raster",null,-1000000,null,null," - 7. Raster",null,-1000000,null,null," - 7. Raster",null,-1000000,null,null," - 7. Raster",null,-1000000,null,null," - 7. Raster",null,-1000000,null,null," - 7. Raster",null,-1000000]
[" - 7. Raster",null,-1000000,null,null," - 8. Raster",null,-1000000,null,null," - 8. Raster",null,-1000000,null,null," - 8. Raster",null,-1000000,null,null," - 8. Raster",null,-1000000,null,null," - 8. Raster",null,-1000000,null,null," - 8. Raster",null,-1000000,null,null," - 8. Raster",null,-1000000]
[" - 8. Raster",null,-1000000,null,null," - 9. Raster",null,-1000000,null,null," - 9. Raster",null,-1000000,null,null," - 9. Raster",null,-1000000,null,null," - 9. Raster",null,-1000000,null,null," - 9. Raster",null,-1000000,null,null," - 9. Raster",null,-1000000,null,null," - 9. Raster",null,-1000000]
[" - 9. Raster",null,-1000000,null,null," - 10. Raster",null,-1000000,null,null," - 10. Raster",null,-1000000,null,null," - 10. Raster",null,-1000000,null,null," - 10. Raster",null,-1000000,null,null," - 10. Raster",null,-1000000,null,null," - 10. Raster",null,-1000000,null,null," - 10. Raster",null,-1000000]
[" - 10. Raster",null,-1000000,null,null," - 11. Raster",null,-1000000,null,null," - 11. Raster",null,-1000000,null,null," - 11. Raster",null,-1000000,null,null," - 11. Raster",null,-1000000,null,null," - 11. Raster",null,-1000000,null,null," - 11. Raster",null,-1000000,null,null," - 11. Raster",null,-1000000]
[" - 11. Raster",null,-1000000,null,null," - 12. Raster",null,-1000000,null,null," - 12. Raster",null,-1000000,null,null," - 12. Raster",null,-1000000,null,null," - 12. Raster",null,-1000000,null,null," - 12. Raster",null,-1000000,null,null," - 12. Raster",null,-1000000,null,null," - 12. Raster",null,-1000000]
[" - 12. Raster",null,-1000000,null,null," - 13. Raster",null,-1000000,null,null," - 13. Raster",null,-1000000,null,null," - 13. Raster",null,-1000000,null,null," - 13. Raster",null,-1000000,null,null," - 13. Raster",null,-1000000,null,null," - 13. Raster",null,-1000000,null,null," - 13. Raster",null,-1000000]
[" - 13. Raster",null,-1000000,null,null," - 14. Raster",null,-1000000,null,null," - 14. Raster",null,-1000000,null,null," - 14. Raster",null,-1000000,null,null," - 14. Raster",null,-1000000,null,null," - 14. Raster",null,-1000000,null,null," - 14. Raster",null,-1000000,null,null," - 14. Raster",null,-1000000]
[" - 14. Raster",null,-1000000,null,null," - 15. Raster",null,-1000000,null,null," - 15. Raster",null,-1000000,null,null," - 15. Raster",null,-1000000,null,null," - 15. Raster",null,-1000000,null,null," - 15. Raster",null,-1000000,null,null," - 15. Raster",null,-1000000,null,null," - 15. Raster",null,-1000000]
[" - 15. Raster",null,-1000000,null,null," - 16. Raster",null,-1000000,null,null," - 16. Raster",null,-1000000,null,null," - 16. Raster",null,-1000000,null,null," - 16. Raster",null,-1000000,null,null," - 16. Raster",null,-1000000,null,null," - 16. Raster",null,-1000000,null,null," - 16. Raster",null,-1000000]
[" - 16. Raster",null,-1000000,null,null," - 17. Raster",null,-1000000,null,null," - 17. Raster",null,-1000000,null,null," - 17. Raster",null,-1000000,null,null," - 17. Raster",null,-1000000,null,null," - 17. Raster",null,-1000000,null,null," - 17. Raster",null,-1000000,null,null," - 17. Raster",null,-1000000]
[" - 17. Raster",null,-1000000,null,null," - 18. Raster",null,-1000000,null,null," - 18. Raster",null,-1000000,null,null," - 18. Raster",null,-1000000,null,null," - 18. Raster",null,-1000000,null,null," - 18. Raster",null,-1000000,null,null," - 18. Raster",null,-1000000,null,null," - 18. Raster",null,-1000000]
[" - 18. Raster",null,-1000000,null,null," - 19. Raster",null,-1000000,null,null," - 19. Raster",null,-1000000,null,null," - 19. Raster",null,-1000000,null,null," - 19. Raster",null,-1000000,null,null," - 19. Raster",null,-1000000,null,null," - 19. Raster",null,-1000000,null,null," - 19. Raster",null,-1000000]
[" - 19. Raster",null,-1000000,null,null," - 20. Raster",null,-1000000,null,null," - 20. Raster",null,-1000000,null,null," - 20. Raster",null,-1000000,null,null," - 20. Raster",null,-1000000,null,null," - 20. Raster",null,-1000000,null,null," - 20. Raster",null,-1000000,null,null," - 20. Raster",null,-1000000]
[" - 20. Raster",null,-1000000]
[]
["Summe, gesamt:"]

{"sheet":"Datenblatt Akustik","index":31,"n_rows":40,"n_cols":9,"rows_kept":40,"cut":false,"hidden":true,"merged":[[22,2,22,3],[1,1,1,7],[5,6,5,7],[9,0,9,8],[15,2,15,3],[17,2,17,3],[18,2,18,3],[19,2,19,3],[19,6,19,7],[20,2,20,3],[21,2,21,3],[5,2,5,5],[34,0,34,8],[35,0,35,5],[36,0,36,5],[23,2,23,3],[24,2,24,3],[27,2,27,3],[27,5,27,6],[28,2,28,3],[28,5,28,6]]}
[]
[{"$f":"Übersetzung!F86","v":"Typ"},{"$f":"'LW Auswahl'!C20","v":"VLD"},null,null,null,null,null,null,{"$f":"TODAY()","v":"2020-12-07"}]
[{"$f":"Übersetzung!F87","v":"Projekt"}]
[]
[{"$f":"Übersetzung!F88","v":"Definition:"}]
[{"$f":"Akustikberechnung!A8","v":"Durchlass Typ"},{"$f":"'LW Auswahl'!C20","v":"VLD"},{"$f":"CONCATENATE('LW Auswahl'!$B$25,\":\")","v":"Nenndurchmesser:"},null,null,null,{"$f":"'LW Auswahl'!D20","v":400}]
["Schlitzanzahl:",{"$f":"'Auslegung-L'!D20","v":315},"Farbe Abdeckprofil:",null,{"$f":"'Auslegung-L'!B83","v":"xxkr"}]
["Innenauskleidung:",{"$f":"'Auslegung-L'!G96","v":0},"Drossel fb:",null,{"$f":"'Auslegung-L'!B94","v":0}]
[]
[{"$f":"Übersetzung!F137","v":"Akustische Auslegung eines gewählten Luftdurchlasses in einer definierten Einbausituation"}]
[{"$f":"Übersetzung!F81","v":"Einsatzbereich"}]
[{"$f":"Übersetzung!F39","v":"Minimaler Volumenstrom"},"V°min",{"$f":"'LW Auswahl'!$E$20","v":700},"m³/h"]
[{"$f":"Übersetzung!F40","v":"Maximaler Volumenstrom"},"V°max",{"$f":"'LW Auswahl'!$F$20","v":4500},"m³/h"]
[]
[{"$f":"Übersetzung!F134","v":"Akustische Vorgaben"},null,null,null,null,{"$f":"Akustikberechnung!A20","v":"Raumdaten"}]
[{"$f":"Akustikberechnung!A10","v":"Luftvolumenstrom"},"V°",{"$f":"Akustikberechnung!C10","v":3000},null,{"$f":"Akustikberechnung!D10","v":"m³/h"},{"$f":"Akustikberechnung!A23","v":"Raumhöhe"},{"$f":"Akustikberechnung!C23","v":30},"m"]
[null,null,null,null,null,{"$f":"Akustikberechnung!A24","v":"Raumbreite"},{"$f":"Akustikberechnung!C24","v":100},"m"]
[{"$f":"Akustikberechnung!A21","v":"Montagehöhe"},"H´",{"$f":"Akustikberechnung!C21","v":15},null,"m",{"$f":"Akustikberechnung!A25","v":"Raumlänge"},{"$f":"Akustikberechnung!C25","v":100},"m"]
[{"$f":"Akustikberechnung!A22","v":"Bezugshöhe zur Schalldruckpegelberechnung"},"h´",{"$f":"Akustikberechnung!C22","v":1.8},null,"m"]
[{"$f":"Akustikberechnung!A28","v":"Durchlassabstand in Längsrichtung der Halle"},"DB",{"$f":"Akustikberechnung!C28","v":3.5},null,"m"]
[{"$f":"Akustikberechnung!A29","v":"Anzahl Durchlässe in Längsrichtung der Halle"},"NB",{"$f":"Akustikberechnung!C29","v":10},null,"Stck."]
[{"$f":"Akustikberechnung!A30","v":"Durchlassabstand in Querrichtung der Halle"},"DL",{"$f":"Akustikberechnung!C30","v":2},null,"m"]
[{"$f":"Akustikberechnung!A31","v":"Anzahl Durchlässe in Querrichtung der Halle"},"NL",{"$f":"Akustikberechnung!C31","v":10},null,"Stck."]
[{"$f":"Übersetzung!F135","v":"Schallabsorptionsgrad"},"a",0.2,null," -/-"]
[{"$f":"Akustikberechnung!A40","v":"Anzahl Durchlässe, gesamt"},"nGes",{"$f":"Akustikberechnung!C40","v":100},null,"Stck."]
[]
[{"$f":"Übersetzung!F136","v":"Akustische Ergebnisse"}]
[{"$f":"Akustikberechnung!A50","v":"Schallleistungspegel im Kühlfall [dB]"},"LWAK",{"$f":"Akustikberechnung!I50","v":51.401162151607735},null,"dB(A)"]
[{"$f":"Akustikberechnung!A53","v":"Schallleistungspegel im Heizfall [dB]"},"LWAH",{"$f":"Akustikberechnung!I53","v":51.401162151607735},null,"dB(A)"]
[]
[{"$f":"Übersetzung!F34","v":"Oktavspektrum Schallleistung [dB]"},"f [Hz]",125,250,500,1000,2000,4000,8000]
["Schallleistungspegel Kühlfall im Oktavband","LWAK_Okt",{"$f":"Akustikberechnung!B50","v":63.765824257200173},{"$f":"Akustikberechnung!C50","v":55.166922126888934},{"$f":"Akustikberechnung!D50","v":46.807571914190724},{"$f":"Akustikberechnung!E50","v":37.299591884101545},{"$f":"Akustikberechnung!F50","v":29.735077409825585},{"$f":"Akustikberechnung!G50","v":26.228973570729075},{"$f":"Akustikberechnung!H50","v":28.514613009352708}]
[{"$f":"Akustikberechnung!A53","v":"Schallleistungspegel im Heizfall [dB]"},"LWAH_Okt",{"$f":"Akustikberechnung!B53","v":63.527171525942926},{"$f":"Akustikberechnung!C53","v":53.784502778587004},{"$f":"Akustikberechnung!D53","v":47.759558232785579},{"$f":"Akustikberechnung!E53","v":40.39604730096363},{"$f":"Akustikberechnung!F53","v":33.749450947374235},{"$f":"Akustikberechnung!G53","v":29.31078136103563},{"$f":"Akustikberechnung!I53","v":51.401162151607735}]
[]
[{"$f":"Akustikberechnung!A93","v":"Näherungsrechnung des Schalldruckpegels nach VDI 2081"}]
[{"$f":"Akustikberechnung!A94:G94","v":"Mit der Anzahl der gewälten Durchlässe berechneter Schalldruckpegel in einer Höhe von 1,8 m im Kühlfall"},null,null,null,null,null,"LPA,K",{"$f":"Akustikberechnung!I94","v":42.271655037625578},"dB(A)"]
[{"$f":"Akustikberechnung!A95:G95","v":"Mit der Anzahl der gewälten Durchlässe berechneter Schalldruckpegel in einer Höhe von 1,8 m im Heizfall"},null,null,null,null,null,"LPA,H",{"$f":"Akustikberechnung!I95","v":42.271655037625578},"dB(A)"]
[]
[null,null,null,null,null,null,null,null,{"$f":"Übersetzung!F44","v":"Änderungen vorbehalten"}]
[null,null,null,null,null,null,null,{"$f":"Übersetzung!F45","v":"Stand:"},{"$f":"'Grunddaten-IVA'!E36","v":"2020-10-30"}]

{"sheet":"LW Auswahl","index":32,"n_rows":25,"n_cols":35,"rows_kept":25,"cut":false,"hidden":true,"merged":[[2,14,2,20],[2,22,2,28],[1,0,18,1]]}
[]
["Achtung! Die hier dargestellten Auslegungsparameter sind nicht für die Weiterverwendung in strömungstechnischen Auslegungen verwendbar. Sie stammen aus den Grunddaten-Arbeitsblättern bzw. den Auslegungsblättern des jeweiligen Durchlasses!",null,"Auswahltabelle zur Übergabe an Akustikrechner"]
[null,null,null,null,null,null,null,null,null,null,null,null,null,null,"Kühlbetrieb",null,null,null,null,null,null,null,"Heizbetrieb",null,null,null,null,null,null,null,"CAP-Konstanten Akustik zur Berechnung des Schallleistungspegels im Heizfall für VLV, VLD, WKD"]
[null,null,"Durchlass","DN gewählt","V° min","V° max","V° gewählt","Raumlänge","Raumbreite","Raumhöhe","Montagehöhe","LW Kühlen","LW Heizen",null,125,250,500,1000,2000,4000,8000,null,125,250,500,1000,2000,4000,8000]
[null,null,"VLV",{"$f":"'Auslegung-V'!$D$20","v":400},{"$f":"'Grunddaten-V'!$H$37","v":700},{"$f":"'Grunddaten-V'!$I$37","v":4500},{"$f":"'Auslegung-V'!$D$37","v":3000},{"$f":"'Auslegung-V'!$D$44","v":100},{"$f":"'Auslegung-V'!$D$45","v":100},{"$f":"'Auslegung-V'!$D$46","v":30},{"$f":"'Auslegung-V'!$D$42","v":15},{"$f":"'Auslegung-V'!$D$118","v":51.401162151607735},{"$f":"IF($AH$23+$AI$23*LOG(G5)<25,\"<25\",$AH$23+$AI$23*LOG(G5))","v":51.401162151607735},null,{"$f":"Lw!B$98","v":63.765824257200173},{"$f":"Lw!C$98","v":55.166922126888934},{"$f":"Lw!D$98","v":46.807571914190724},{"$f":"Lw!E$98","v":37.299591884101545},{"$f":"Lw!F$98","v":29.735077409825585},{"$f":"Lw!G$98","v":26.228973570729075},{"$f":"Lw!H$98","v":28.514613009352708},null,{"$f":"Lw!B$99","v":63.527171525942926},{"$f":"Lw!C$99","v":53.784502778587004},{"$f":"Lw!D$99","v":47.759558232785579},{"$f":"Lw!E$99","v":40.39604730096363},{"$f":"Lw!F$99","v":33.749450947374235},{"$f":"Lw!G$99","v":29.31078136103563},{"$f":"Lw!H$99","v":30.259901842953752},null,"Typ","DN",null,"K021","K022"]
[null,null,"VLD",{"$f":"'Auslegung-V'!$D$20","v":400},{"$f":"'Grunddaten-V'!$H$37","v":700},{"$f":"'Grunddaten-V'!$I$37","v":4500},{"$f":"'Auslegung-V'!$D$37","v":3000},{"$f":"'Auslegung-V'!$D$44","v":100},{"$f":"'Auslegung-V'!$D$45","v":100},{"$f":"'Auslegung-V'!$D$46","v":30},{"$f":"'Auslegung-V'!$D$42","v":15},{"$f":"'Auslegung-V'!$D$118","v":51.401162151607735},{"$f":"IF($AH$23+$AI$23*LOG(G6)<25,\"<25\",$AH$23+$AI$23*LOG(G6))","v":51.401162151607735},null,{"$f":"Lw!B$98","v":63.765824257200173},{"$f":"Lw!C$98","v":55.166922126888934},{"$f":"Lw!D$98","v":46.807571914190724},{"$f":"Lw!E$98","v":37.299591884101545},{"$f":"Lw!F$98","v":29.735077409825585},{"$f":"Lw!G$98","v":26.228973570729075},{"$f":"Lw!H$98","v":28.514613009352708},null,{"$f":"Lw!B$99","v":63.527171525942926},{"$f":"Lw!C$99","v":53.784502778587004},{"$f":"Lw!D$99","v":47.759558232785579},{"$f":"Lw!E$99","v":40.39604730096363},{"$f":"Lw!F$99","v":33.749450947374235},{"$f":"Lw!G$99","v":29.31078136103563},{"$f":"Lw!H$99","v":30.259901842953752},null,"VLV",250,{"$f":"CONCATENATE(AE6,AF6)","v":"VLV250"},-155.47999999999999,67.599999999999994]
[null,null,"WKD 380",{"$f":"'Auslegung-V'!$D$20","v":400},{"$f":"'Grunddaten-V'!$H$37","v":700},{"$f":"'Grunddaten-V'!$I$37","v":4500},{"$f":"'Auslegung-V'!$D$37","v":3000},{"$f":"'Auslegung-V'!$D$44","v":100},{"$f":"'Auslegung-V'!$D$45","v":100},{"$f":"'Auslegung-V'!$D$46","v":30},{"$f":"'Auslegung-V'!$D$42","v":15},{"$f":"'Auslegung-V'!$D$118","v":51.401162151607735},51.401162151607735,null,{"$f":"Lw!B$98","v":63.765824257200173},{"$f":"Lw!C$98","v":55.166922126888934},{"$f":"Lw!D$98","v":46.807571914190724},{"$f":"Lw!E$98","v":37.299591884101545},{"$f":"Lw!F$98","v":29.735077409825585},{"$f":"Lw!G$98","v":26.228973570729075},{"$f":"Lw!H$98","v":28.514613009352708},null,{"$f":"Lw!B$99","v":63.527171525942926},{"$f":"Lw!C$99","v":53.784502778587004},{"$f":"Lw!D$99","v":47.759558232785579},{"$f":"Lw!E$99","v":40.39604730096363},{"$f":"Lw!F$99","v":33.749450947374235},{"$f":"Lw!G$99","v":29.31078136103563},{"$f":"Lw!H$99","v":30.259901842953752},null,"VLV",315,{"$f":"CONCATENATE(AE7,AF7)","v":"VLV315"},-193.75,74.430000000000007]
[null,null,"WKD 381-1",{"$f":"'Auslegung-V'!$D$20","v":400},{"$f":"'Grunddaten-V'!$H$37","v":700},{"$f":"'Grunddaten-V'!$I$37","v":4500},{"$f":"'Auslegung-V'!$D$37","v":3000},{"$f":"'Auslegung-V'!$D$44","v":100},{"$f":"'Auslegung-V'!$D$45","v":100},{"$f":"'Auslegung-V'!$D$46","v":30},{"$f":"'Auslegung-V'!$D$42","v":15},{"$f":"'Auslegung-V'!$D$118","v":51.401162151607735},51.401162151607735,null,{"$f":"Lw!B$98","v":63.765824257200173},{"$f":"Lw!C$98","v":55.166922126888934},{"$f":"Lw!D$98","v":46.807571914190724},{"$f":"Lw!E$98","v":37.299591884101545},{"$f":"Lw!F$98","v":29.735077409825585},{"$f":"Lw!G$98","v":26.228973570729075},{"$f":"Lw!H$98","v":28.514613009352708},null,{"$f":"Lw!B$99","v":63.527171525942926},{"$f":"Lw!C$99","v":53.784502778587004},{"$f":"Lw!D$99","v":47.759558232785579},{"$f":"Lw!E$99","v":40.39604730096363},{"$f":"Lw!F$99","v":33.749450947374235},{"$f":"Lw!G$99","v":29.31078136103563},{"$f":"Lw!H$99","v":30.259901842953752},null,"VLV",400,"VLV400",-198.43,71.849999999999994]
[null,null,"WKD 381-2",{"$f":"'Auslegung-V'!$D$20","v":400},{"$f":"'Grunddaten-V'!$H$37","v":700},{"$f":"'Grunddaten-V'!$I$37","v":4500},{"$f":"'Auslegung-V'!$D$37","v":3000},{"$f":"'Auslegung-V'!$D$44","v":100},{"$f":"'Auslegung-V'!$D$45","v":100},{"$f":"'Auslegung-V'!$D$46","v":30},{"$f":"'Auslegung-V'!$D$42","v":15},{"$f":"'Auslegung-V'!$D$118","v":51.401162151607735},51.401162151607735,null,{"$f":"Lw!B$98","v":63.765824257200173},{"$f":"Lw!C$98","v":55.166922126888934},{"$f":"Lw!D$98","v":46.807571914190724},{"$f":"Lw!E$98","v":37.299591884101545},{"$f":"Lw!F$98","v":29.735077409825585},{"$f":"Lw!G$98","v":26.228973570729075},{"$f":"Lw!H$98","v":28.514613009352708},null,{"$f":"Lw!B$99","v":63.527171525942926},{"$f":"Lw!C$99","v":53.784502778587004},{"$f":"Lw!D$99","v":47.759558232785579},{"$f":"Lw!E$99","v":40.39604730096363},{"$f":"Lw!F$99","v":33.749450947374235},{"$f":"Lw!G$99","v":29.31078136103563},{"$f":"Lw!H$99","v":30.259901842953752},null,"VLV",500,"VLV500",-220.98,73.97]
[null,null,"WKD 381-3",{"$f":"'Auslegung-V'!$D$20","v":400},{"$f":"'Grunddaten-V'!$H$37","v":700},{"$f":"'Grunddaten-V'!$I$37","v":4500},{"$f":"'Auslegung-V'!$D$37","v":3000},{"$f":"'Auslegung-V'!$D$44","v":100},{"$f":"'Auslegung-V'!$D$45","v":100},{"$f":"'Auslegung-V'!$D$46","v":30},{"$f":"'Auslegung-V'!$D$42","v":15},{"$f":"'Auslegung-V'!$D$118","v":51.401162151607735},51.401162151607735,null,{"$f":"Lw!B$98","v":63.765824257200173},{"$f":"Lw!C$98","v":55.166922126888934},{"$f":"Lw!D$98","v":46.807571914190724},{"$f":"Lw!E$98","v":37.299591884101545},{"$f":"Lw!F$98","v":29.735077409825585},{"$f":"Lw!G$98","v":26.228973570729075},{"$f":"Lw!H$98","v":28.514613009352708},null,{"$f":"Lw!B$99","v":63.527171525942926},{"$f":"Lw!C$99","v":53.784502778587004},{"$f":"Lw!D$99","v":47.759558232785579},{"$f":"Lw!E$99","v":40.39604730096363},{"$f":"Lw!F$99","v":33.749450947374235},{"$f":"Lw!G$99","v":29.31078136103563},{"$f":"Lw!H$99","v":30.259901842953752},null,"VLD",250,"VLD250",-155.47999999999999,67.599999999999994]
[null,null,"LDI",{"$f":"'Auslegung-L'!$D$20","v":315},{"$f":"'Grunddaten-L'!$H$33","v":560},{"$f":"'Grunddaten-L'!$I$33","v":1700},{"$f":"'Auslegung-L'!$D$29","v":1000},{"$f":"'Auslegung-L'!$D$42","v":21},{"$f":"'Auslegung-L'!$D$43","v":12.7},{"$f":"'Auslegung-L'!$D$44","v":14},{"$f":"'Auslegung-L'!$D$40","v":8},{"$f":"'Auslegung-L'!$D$91","v":42.720495855420182},{"$f":"'Auslegung-L'!$E$91","v":33.564518218164245},null,{"$f":"'Lw LDI'!B97","v":46.37466967747033},{"$f":"'Lw LDI'!C97","v":42.479218601200706},{"$f":"'Lw LDI'!D97","v":40.284690342541147},{"$f":"'Lw LDI'!E97","v":38.054276644273614},{"$f":"'Lw LDI'!F97","v":33.562260378693786},{"$f":"'Lw LDI'!G97","v":26.684769575782095},{"$f":"'Lw LDI'!H97","v":21.912910269227773},null,{"$f":"'Lw LDI'!B115","v":20.000775726437006},{"$f":"'Lw LDI'!C115","v":24.334656873049788},{"$f":"'Lw LDI'!D115","v":27.992995451252568},{"$f":"'Lw LDI'!E115","v":31.0166687473519},{"$f":"'Lw LDI'!F115","v":25.571069216310871},{"$f":"'Lw LDI'!G115","v":20.89011920166061},{"$f":"'Lw LDI'!H115","v":16.789542181657872},null,"VLD",315,"VLD315",-193.75,74.430000000000007]
[null,null,"IVA",{"$f":"'Auslegung-IVA'!D20","v":400},{"$f":"'Grunddaten-IVA'!$H$33","v":1400},{"$f":"'Grunddaten-IVA'!$I$33","v":4500},{"$f":"'Auslegung-IVA'!$D$29","v":4000},{"$f":"'Auslegung-IVA'!$D$43","v":100},{"$f":"'Auslegung-IVA'!$D$44","v":100},{"$f":"'Auslegung-IVA'!$D$45","v":12},{"$f":"'Auslegung-IVA'!$D$41","v":3},{"$f":"'Auslegung-IVA'!$D$92","v":59.288790630188359},{"$f":"'Auslegung-IVA'!$E$92","v":56.75136963934446},null,{"$f":"'LW-IVA'!G22","v":53.929676044021726},{"$f":"'LW-IVA'!H22","v":55.211301539383868},{"$f":"'LW-IVA'!I22","v":56.35579904266703},{"$f":"'LW-IVA'!J22","v":56.149105028480093},{"$f":"'LW-IVA'!K22","v":50.61658813763129},{"$f":"'LW-IVA'!L22","v":42.841449729439802},{"$f":"'LW-IVA'!M22","v":34.257392708980092},null,{"$f":"'LW-IVA'!G21","v":53.852825308186418},{"$f":"'LW-IVA'!H21","v":53.362938332640411},{"$f":"'LW-IVA'!I21","v":53.407114662537467},{"$f":"'LW-IVA'!J21","v":53.617268884165775},{"$f":"'LW-IVA'!K21","v":47.920399976194979},{"$f":"'LW-IVA'!L21","v":41.558472183329854},{"$f":"'LW-IVA'!M21","v":35.607840621816372},null,"VLD",400,"VLD400",-198.43,71.849999999999994]
[null,null,"IVA-T",{"$f":"CONCATENATE('Auslegung-IVAT'!$D$13,\" / \",'Auslegung-IVAT'!$D$21)","v":"290 / 2000"},{"$f":"'Grunddaten-IVAT'!$K$33","v":1500},{"$f":"'Grunddaten-IVAT'!$L$33","v":5000},{"$f":"'Grunddaten-IVAT'!$J$33","v":1800},{"$f":"'Auslegung-IVAT'!$D$38","v":100},{"$f":"'Auslegung-IVAT'!$D$39","v":100},{"$f":"'Auslegung-IVAT'!$D$40","v":8},{"$f":"'Auslegung-IVAT'!$D$36","v":5},{"$f":"'Auslegung-IVAT'!$D$52","v":44.922837817840637}," -/-",null,{"$f":"'LW,vY-IVAT'!G21","v":45.688505600393967},{"$f":"'LW,vY-IVAT'!H21","v":45.939068264400476},{"$f":"'LW,vY-IVAT'!I21","v":44.800532513082949},{"$f":"'LW,vY-IVAT'!J21","v":38.933533704230157},{"$f":"'LW,vY-IVAT'!K21","v":28.934217897823618},{"$f":"'LW,vY-IVAT'!L21","v":28.897578711744671},{"$f":"'LW,vY-IVAT'!M21","v":27.637446840321978},null," -/-"," -/-"," -/-"," -/-"," -/-"," -/-"," -/-",null,"VLD",500,"VLD500",-220.98,73.97]
[null,null,"IVA-TH",{"$f":"CONCATENATE('Auslegung-IVATH'!$D$13,\" / \",'Auslegung-IVATH'!$D$21)","v":"250 / 1000"},{"$f":"'Grunddaten-IVATH'!$K$33","v":250},{"$f":"'Grunddaten-IVATH'!$L$33","v":800},{"$f":"'Auslegung-IVATH'!$D$31","v":700},{"$f":"'Auslegung-IVATH'!$D$38","v":100},{"$f":"'Auslegung-IVATH'!$D$39","v":5},{"$f":"'Auslegung-IVATH'!$D$40","v":8},{"$f":"'Auslegung-IVATH'!$D$36","v":2.5},{"$f":"'LW,vY-IVATH'!$AA$15","v":35.026613606118723}," -/-",null,{"$f":"'LW,vY-IVATH'!G21","v":35.685699576626263},{"$f":"'LW,vY-IVATH'!H21","v":35.903495124585767},{"$f":"'LW,vY-IVATH'!I21","v":34.847319350253578},{"$f":"'LW,vY-IVATH'!J21","v":28.374682552568146},{"$f":"'LW,vY-IVATH'!K21","v":20.274163400793313},{"$f":"'LW,vY-IVATH'!L21","v":18.730043266253659},{"$f":"'LW,vY-IVATH'!M21","v":23.401331370584423},null," -/-"," -/-"," -/-"," -/-"," -/-"," -/-"," -/-",null,"WKD 380",600,"WKD 380600",-167.5,71.349999999999994]
[null,null,"LUWIRO",{"$f":"'Auslegung-LUW'!$D$13","v":450},{"$f":"'Grunddaten-LUW'!$G$132","v":2700},{"$f":"'Grunddaten-LUW'!$H$132","v":4000},{"$f":"'Grunddaten-LUW'!$F$132","v":1600},{"$f":"'Auslegung-LUW'!$D$40","v":100},{"$f":"'Auslegung-LUW'!$D$41","v":100},{"$f":"'Auslegung-LUW'!$D$42","v":8},{"$f":"'Auslegung-LUW'!$D$38","v":5},{"$f":"'Grunddaten-LUW'!$S$132","v":45.35190612164223}," -/-",null,null,null,null,null,null,null,null,null,null,null,null,null,null,null,null,null,"WKD 380",800,"WKD 380800",-132,54.98]
[null,null,"IQA",{"$f":"'Auslegung-IQA'!$D$20","v":355},{"$f":"'Auslegung-IQA'!$K$107","v":420},{"$f":"'Auslegung-IQA'!$K$108","v":2000},{"$f":"'Auslegung-IQA'!$D$29","v":1500},{"$f":"'Auslegung-IQA'!$D$47","v":100},{"$f":"'Auslegung-IQA'!$D$48","v":100},{"$f":"'Auslegung-IQA'!$D$49","v":12},{"$f":"'Auslegung-IQA'!$D$45","v":1},{"$f":"'Auslegung-IQA'!$D$98","v":36.970389808164107},{"$f":"'Auslegung-IQA'!$E$98","v":38.089647445799159},null,{"$f":"'LW,v,LN-IQA'!$I$61","v":31.800588998101386},{"$f":"'LW,v,LN-IQA'!$J$61","v":31.338492468454877},{"$f":"'LW,v,LN-IQA'!$K$61","v":35.268879176456274},{"$f":"'LW,v,LN-IQA'!$L$61","v":32.946665399684619},{"$f":"'LW,v,LN-IQA'!$M$61","v":27.863059585953515},{"$f":"'LW,v,LN-IQA'!$N$61","v":22.447909607654921},{"$f":"'LW,v,LN-IQA'!$O$61","v":24.718900104813475},null,{"$f":"'LW,v,LN-IQA'!$I$95","v":37.176599359196366},{"$f":"'LW,v,LN-IQA'!$J$95","v":36.058494596682323},{"$f":"'LW,v,LN-IQA'!$K$95","v":34.920562516945395},{"$f":"'LW,v,LN-IQA'!$L$95","v":33.483643876514265},{"$f":"'LW,v,LN-IQA'!$M$95","v":30.455264024079852},{"$f":"'LW,v,LN-IQA'!$N$95","v":25.591557717948888},{"$f":"'LW,v,LN-IQA'!$O$95","v":24.726597992346488},null,"WKD 380",1000,"WKD 3801000",-131.30000000000001,53.2]
[null,null,null,null,null,null,null,null,null,null,null,null,null,null,null,null,null,null,null,null,null,null,null,null,null,null,null,null,null,null,"WKD 381-1",300,"WKD 381-1300",-107,68]
[null,null,null,null,null,null,null,null,null,null,null,null,null,null,null,null,null,null,null,null,null,null,null,null,null,null,null,null,null,null,"WKD 381-1",500,"WKD 381-1500",-97,53]
[null,null,1,2,3,4,5,6,7,8,9,10,11,12,13,14,15,16,17,18,19,20,21,22,23,24,25,26,27,null,"WKD 381-1",600,"WKD 381-1600",-90,48]
["Auswahl durch Makro:","VLD",{"$f":"IF(B20=\"WKD 381\",'Auslegung-V'!D12,B20)","v":"VLD"},{"$f":"VLOOKUP($C$20,$C$5:$M$16,D19,FALSE)","v":400},{"$f":"VLOOKUP($C$20,$C$5:$M$16,E19,FALSE)","v":700},4500,3000,100,100,30,15,51.401162151607735,51.401162151607735,{"$f":"VLOOKUP($C$20,$C$5:$M$15,N19,FALSE)","v":{"$error":"#REF!"}},{"$f":"VLOOKUP($C$20,$C$5:$AC$17,O19,FALSE)","v":63.765824257200173},{"$f":"VLOOKUP($C$20,$C$5:$AC$17,P19,FALSE)","v":55.166922126888934},46.807571914190724,37.299591884101545,29.735077409825585,26.228973570729075,28.514613009352708,0,63.527171525942926,53.784502778587004,47.759558232785579,40.39604730096363,33.749450947374235,29.31078136103563,30.259901842953752,null,"WKD 381-2",600,"WKD 381-2600",-75,40]
[null,null,null,null,null,null,null,null,null,null,null,null,null,null,null,null,null,null,null,null,null,null,null,null,null,null,null,null,null,null,"WKD 381-3",600,"WKD 381-3600",-76,37]
[null,null,null,null,null,null,null,null,null,null,null,null,null,null,null,null,null,null,null,null,null,null,null,null,null,null,null,null,null,null,null,null,1,2,3]
[null,null,null,null,null,null,null,null,null,null,null,null,null,null,null,null,null,null,null,null,null,null,null,null,null,null,null,null,null,null,{"$f":"'Auslegung-V'!$D$12","v":"VLD"},{"$f":"'Auslegung-V'!$D$20","v":400},{"$f":"CONCATENATE(AE23,AF23)","v":"VLD400"},{"$f":"VLOOKUP(AG23,$AG$6:$AI$21,AH22,FALSE)","v":-198.43},{"$f":"VLOOKUP(AG23,$AG$6:$AI$21,AI22,FALSE)","v":71.849999999999994}]
["Texte zur Ansicht in der Akustikberechnung und im Akustikdatenblatt"]
[null,{"$f":"IF($B$20=\"IVA-T\",Übersetzung!F130,Übersetzung!F46)","v":"Nenndurchmesser"},{"$f":"IF($B$20=\"IVA-T\",\"L / B\",\"DN\")","v":"DN"},{"$f":"IF($B$20=\"IVA-T\",\"mm/mm\",\"-/-\")","v":"-/-"}]

{"sheet":"Grunddaten-IVAT","index":33,"n_rows":48,"n_cols":32,"rows_kept":48,"cut":false,"hidden":true,"merged":[[0,28,0,31],[1,22,1,26],[0,6,0,7]]}
["Typ","Breite","Länge",null,"Breite","Länge","Höhen",null,"Aktive Breite","Soll-Volumenstrom","V° Auslegung min","V° Auslegung max","Durchmesser Anschluss","Anzahl Stutzen","Anströmgeschwindigkeit","Ausströmgeschwindigkeit","Montagehöhe minimal","Montagehöhe maximal","Totaldruckverlust","Kritischer Strahlweg","vertikale Eindringtiefe",null,null,null,null,null,null,null,"Vorauswahl zur Anzeige"]
[null,null,null,null,null,null,"Kasten","gesamt","b","V°","V°min","V°max","d","n","v","vaus","hmin","hmax","Dpt","x","ymax",null,"Schallleistungspegel",null,null,null,null,"Auslass freigegeben?"]
[null,null,null,null,null,null,"mm","mm","mm","m³/h","m³/h","m³/h","mm",1,"m/s",null,"m","m","Pa","mm","m","kleiner als V°max?","K021","K022","dB","größer als 0dB(A)?","kleiner als LW,Amax?",null,null,null,{"$f":"IF(ROW(AD3)>COUNTA(AD:AD),\"\",INDEX(AD3:AD28,SMALL(IF(AD$4:AD$29<>\"\",ROW($4:$29)),ROW($AD3))))","v":{"$error":"#VALUE!"}}]
["IVA-T",null,null,null,null,null,null,null,null,{"$f":"Einheiten!$E$73","v":1800},null,null,null,2,{"$f":"(J4/N4)/(PI()/4*('Grunddaten-IVAT'!M4/1000)^2*3600)","v":{"$error":"#DIV/0!"}},{"$f":"J4/(C4/1000)/(I4/1000)/3600","v":{"$error":"#DIV/0!"}},2.5,5,null,null,null,null,null,null,null,null,null,null,{"$f":"IF(AND(U4=\"x\",V4=\"x\",Z4=\"x\",AA4=\"x\",AB4=\"x\"),\"x\",\"\")","v":""},{"$f":"IF(AC4=\"x\",CONCATENATE(A4,\" DN \",B4),\"\")","v":""},{"$f":"IF(ROW(AD1)>COUNTA(AD:AD),\"\",INDEX(AD:AD,SMALL(IF(AD$1:AD$29<>\"\",ROW($1:$29)),ROW($AD1))))","v":{"$error":"#NUM!"}},{"$f":"IFERROR(AE4,\"\")","v":""}]
["IVA-T",null,null,null,null,null,null,null,null,{"$f":"Einheiten!$E$73","v":1800},null,null,null,2,{"$f":"(J5/N5)/(PI()/4*('Grunddaten-IVAT'!M5/1000)^2*3600)","v":{"$error":"#DIV/0!"}},{"$error":"#DIV/0!"},2.5,5,null,null,null,null,null,null,null,null,null,null,{"$f":"IF(AND(U5=\"x\",V5=\"x\",Z5=\"x\",AA5=\"x\",AB5=\"x\"),\"x\",\"\")","v":""},"",{"$f":"IF(ROW(AD2)>COUNTA(AD:AD),\"\",INDEX(AD:AD,SMALL(IF(AD$1:AD$29<>\"\",ROW($1:$29)),ROW($AD2))))","v":{"$error":"#NUM!"}},{"$f":"IFERROR(AE5,\"\")","v":""}]
["IVA-T",null,null,null,null,null,null,null,null,{"$f":"Einheiten!$E$73","v":1800},null,null,null,3,{"$f":"(J6/N6)/(PI()/4*('Grunddaten-IVAT'!M6/1000)^2*3600)","v":{"$error":"#DIV/0!"}},{"$error":"#DIV/0!"},2.5,5,null,null,null,null,null,null,null,null,null,null,"","",{"$f":"IF(ROW(AD3)>COUNTA(AD:AD),\"\",INDEX(AD:AD,SMALL(IF(AD$1:AD$29<>\"\",ROW($1:$29)),ROW($AD3))))","v":{"$error":"#NUM!"}},""]
["IVA-T",290,1000,{"$f":"CONCATENATE(A7,B7,C7)","v":"IVA-T2901000"},290,1000,174,281,215,{"$f":"Einheiten!$E$73","v":1800},500,2000,249,2,{"$f":"(J7/N7)/(PI()/4*('Grunddaten-IVAT'!M7/1000)^2*3600)","v":5.1339476167124838},{"$f":"J7/(C7/1000)/(I7/1000)/3600","v":2.3255813953488373},2.5,5,{"$f":"$T$37*O7^$T$38","v":25.874581014092104},null,null,null,null,null,null,null,null,null,"","",{"$f":"IF(ROW(AD4)>COUNTA(AD:AD),\"\",INDEX(AD:AD,SMALL(IF(AD$1:AD$29<>\"\",ROW($1:$29)),ROW($AD4))))","v":{"$error":"#NUM!"}},""]
["IVA-T",290,1500,{"$f":"CONCATENATE(A8,B8,C8)","v":"IVA-T2901500"},290,1500,174,281,215,{"$f":"Einheiten!$E$73","v":1800},1000,4000,249,2,{"$f":"(J8/N8)/(PI()/4*('Grunddaten-IVAT'!M8/1000)^2*3600)","v":5.1339476167124838},{"$f":"J8/(C8/1000)/(I8/1000)/3600","v":1.5503875968992247},2.5,5,{"$f":"$T$37*O8^$T$38","v":25.874581014092104},null,null,null,null,null,null,null,null,null,"","",{"$f":"IF(ROW(AD5)>COUNTA(AD:AD),\"\",INDEX(AD:AD,SMALL(IF(AD$1:AD$29<>\"\",ROW($1:$29)),ROW($AD5))))","v":{"$error":"#NUM!"}},""]
["IVA-T",290,2000,"IVA-T2902000",290,2000,174,281,215,{"$f":"Einheiten!$E$73","v":1800},1500,5000,249,3,{"$f":"(J9/N9)/(PI()/4*('Grunddaten-IVAT'!M9/1000)^2*3600)","v":3.4226317444749887},1.1627906976744187,2.5,5,14.699594469657111,null,null,null,null,null,null,null,null,null,"","",{"$f":"IF(ROW(AD6)>COUNTA(AD:AD),\"\",INDEX(AD:AD,SMALL(IF(AD$1:AD$29<>\"\",ROW($1:$29)),ROW($AD6))))","v":{"$error":"#NUM!"}},""]
["IVA-T",null,null,null,null,null,null,null,null,{"$f":"Einheiten!$E$73","v":1800},null,null,null,2,{"$f":"(J10/N10)/(PI()/4*('Grunddaten-IVAT'!M10/1000)^2*3600)","v":{"$error":"#DIV/0!"}},{"$error":"#DIV/0!"},2.5,5,null,null,null,null,null,null,null,null,null,null,"","",{"$f":"IF(ROW(AD7)>COUNTA(AD:AD),\"\",INDEX(AD:AD,SMALL(IF(AD$1:AD$29<>\"\",ROW($1:$29)),ROW($AD7))))","v":{"$error":"#NUM!"}},""]
["IVA-T",null,null,null,null,null,null,null,null,{"$f":"Einheiten!$E$73","v":1800},null,null,null,2,{"$f":"(J11/N11)/(PI()/4*('Grunddaten-IVAT'!M11/1000)^2*3600)","v":{"$error":"#DIV/0!"}},{"$error":"#DIV/0!"},2.5,5,null,null,null,null,null,null,null,null,null,null,"","",{"$f":"IF(ROW(AD8)>COUNTA(AD:AD),\"\",INDEX(AD:AD,SMALL(IF(AD$1:AD$29<>\"\",ROW($1:$29)),ROW($AD8))))","v":{"$error":"#NUM!"}},""]
["IVA-T",null,null,null,null,null,null,null,null,{"$f":"Einheiten!$E$73","v":1800},null,null,null,3,{"$f":"(J12/N12)/(PI()/4*('Grunddaten-IVAT'!M12/1000)^2*3600)","v":{"$error":"#DIV/0!"}},{"$error":"#DIV/0!"},2.5,5,null,null,null,null,null,null,null,null,null,null,"","",{"$f":"IF(ROW(AD9)>COUNTA(AD:AD),\"\",INDEX(AD:AD,SMALL(IF(AD$1:AD$29<>\"\",ROW($1:$29)),ROW($AD9))))","v":{"$error":"#NUM!"}},""]
[null,null,null,null,null,null,null,null,null,null,null,null,null,null,null,null,null,null,null,null,null,null,null,null,null,null,null,null,"","",{"$f":"IF(ROW(AD10)>COUNTA(AD:AD),\"\",INDEX(AD:AD,SMALL(IF(AD$1:AD$29<>\"\",ROW($1:$29)),ROW($AD10))))","v":{"$error":"#NUM!"}},""]
[null,null,null,null,null,null,null,null,null,null,null,null,null,null,null,null,null,null,null,null,null,null,null,null,null,null,null,null,"","",{"$f":"IF(ROW(AD11)>COUNTA(AD:AD),\"\",INDEX(AD:AD,SMALL(IF(AD$1:AD$29<>\"\",ROW($1:$29)),ROW($AD11))))","v":{"$error":"#NUM!"}},""]
[null,null,null,null,null,null,null,null,null,null,null,null,null,null,null,null,null,null,null,null,null,null,null,null,null,null,null,null,"","",{"$f":"IF(ROW(AD12)>COUNTA(AD:AD),\"\",INDEX(AD:AD,SMALL(IF(AD$1:AD$29<>\"\",ROW($1:$29)),ROW($AD12))))","v":{"$error":"#NUM!"}},""]
[null,null,null,null,null,null,null,null,null,null,null,null,null,null,null,null,null,null,null,null,null,null,null,null,null,null,null,null,"","",{"$f":"IF(ROW(AD13)>COUNTA(AD:AD),\"\",INDEX(AD:AD,SMALL(IF(AD$1:AD$29<>\"\",ROW($1:$29)),ROW($AD13))))","v":{"$error":"#NUM!"}},""]
[null,null,null,null,null,null,null,null,null,null,null,null,null,null,null,null,null,null,null,null,null,null,null,null,null,null,null,null,"","",{"$f":"IF(ROW(AD14)>COUNTA(AD:AD),\"\",INDEX(AD:AD,SMALL(IF(AD$1:AD$29<>\"\",ROW($1:$29)),ROW($AD14))))","v":{"$error":"#NUM!"}},""]
[null,null,null,null,null,null,null,null,null,null,null,null,null,null,null,null,null,null,null,null,null,null,null,null,null,null,null,null,"","",{"$f":"IF(ROW(AD15)>COUNTA(AD:AD),\"\",INDEX(AD:AD,SMALL(IF(AD$1:AD$29<>\"\",ROW($1:$29)),ROW($AD15))))","v":{"$error":"#NUM!"}},""]
[null,null,null,null,null,null,null,null,null,null,null,null,null,null,null,null,null,null,null,null,null,null,null,null,null,null,null,null,"","",{"$f":"IF(ROW(AD16)>COUNTA(AD:AD),\"\",INDEX(AD:AD,SMALL(IF(AD$1:AD$29<>\"\",ROW($1:$29)),ROW($AD16))))","v":{"$error":"#NUM!"}},""]
[null,null,null,null,null,null,null,null,null,null,null,null,null,null,null,null,null,null,null,null,null,null,null,null,null,null,null,null,"","",{"$f":"IF(ROW(AD17)>COUNTA(AD:AD),\"\",INDEX(AD:AD,SMALL(IF(AD$1:AD$29<>\"\",ROW($1:$29)),ROW($AD17))))","v":{"$error":"#NUM!"}},""]
[null,null,null,null,null,null,null,null,null,null,null,null,null,null,null,null,null,null,null,null,null,null,null,null,null,null,null,null,"","",{"$f":"IF(ROW(AD18)>COUNTA(AD:AD),\"\",INDEX(AD:AD,SMALL(IF(AD$1:AD$29<>\"\",ROW($1:$29)),ROW($AD18))))","v":{"$error":"#NUM!"}},""]
[null,null,null,null,null,null,null,null,null,null,null,null,null,null,null,null,null,null,null,null,null,null,null,null,null,null,null,null,"","",{"$f":"IF(ROW(AD19)>COUNTA(AD:AD),\"\",INDEX(AD:AD,SMALL(IF(AD$1:AD$29<>\"\",ROW($1:$29)),ROW($AD19))))","v":{"$error":"#NUM!"}},""]
[null,null,null,null,null,null,null,null,null,null,null,null,null,null,null,null,null,null,null,null,null,null,null,null,null,null,null,null,"","",{"$f":"IF(ROW(AD20)>COUNTA(AD:AD),\"\",INDEX(AD:AD,SMALL(IF(AD$1:AD$29<>\"\",ROW($1:$29)),ROW($AD20))))","v":{"$error":"#NUM!"}},""]
[null,null,null,null,null,null,null,null,null,null,null,null,null,null,null,null,null,null,null,null,null,null,null,null,null,null,null,null,"","",{"$f":"IF(ROW(AD21)>COUNTA(AD:AD),\"\",INDEX(AD:AD,SMALL(IF(AD$1:AD$29<>\"\",ROW($1:$29)),ROW($AD21))))","v":{"$error":"#NUM!"}},""]
[null,null,null,null,null,null,null,null,null,null,null,null,null,null,null,null,null,null,null,null,null,null,null,null,null,null,null,null,"","",{"$f":"IF(ROW(AD22)>COUNTA(AD:AD),\"\",INDEX(AD:AD,SMALL(IF(AD$1:AD$29<>\"\",ROW($1:$29)),ROW($AD22))))","v":{"$error":"#NUM!"}},""]
[null,null,null,null,null,null,null,null,null,null,null,null,null,null,null,null,null,null,null,null,null,null,null,null,null,null,null,null,"","",{"$f":"IF(ROW(AD23)>COUNTA(AD:AD),\"\",INDEX(AD:AD,SMALL(IF(AD$1:AD$29<>\"\",ROW($1:$29)),ROW($AD23))))","v":{"$error":"#NUM!"}},""]
[null,null,null,null,null,null,null,null,null,null,null,null,null,null,null,null,null,null,null,null,null,null,null,null,null,null,null,null,"","",{"$f":"IF(ROW(AD24)>COUNTA(AD:AD),\"\",INDEX(AD:AD,SMALL(IF(AD$1:AD$29<>\"\",ROW($1:$29)),ROW($AD24))))","v":{"$error":"#NUM!"}},""]
[null,null,null,null,null,null,null,null,null,null,null,null,null,null,null,null,null,null,null,null,null,null,null,null,null,null,null,null,"","",{"$f":"IF(ROW(AD25)>COUNTA(AD:AD),\"\",INDEX(AD:AD,SMALL(IF(AD$1:AD$29<>\"\",ROW($1:$29)),ROW($AD25))))","v":{"$error":"#NUM!"}},""]
[null,null,null,null,null,null,null,null,null,null,null,null,null,null,null,null,null,null,null,null,null,null,null,null,null,null,null,null,"","",{"$f":"IF(ROW(AD26)>COUNTA(AD:AD),\"\",INDEX(AD:AD,SMALL(IF(AD$1:AD$29<>\"\",ROW($1:$29)),ROW($AD26))))","v":{"$error":"#NUM!"}},""]
[null,null,null,null,null,null,null,null,null,null,null,null,null,null,null,null,null,null,null,null,null,null,null,null,null,null,null,null,null,null,{"$f":"IF(ROW(AD27)>COUNTA(AD:AD),\"\",INDEX(AD:AD,SMALL(IF(AD$1:AD$29<>\"\",ROW($1:$29)),ROW($AD27))))","v":""}]
[null,null,null,null,2,3,4,5,6,7,8,9,10,11,12,13,14,15,16,17,18,19,20,21,22,23,24,25,26,null,{"$f":"IF(ROW(AD28)>COUNTA(AD:AD),\"\",INDEX(AD:AD,SMALL(IF(AD$1:AD$29<>\"\",ROW($1:$29)),ROW($AD28))))","v":""}]
[null,null,null,null,{"$f":"VLOOKUP($C$33,$D$4:$Q$30,E31,FALSE)","v":290},{"$f":"VLOOKUP($C$33,$D$4:$Q$30,F31,FALSE)","v":2000},null,null,null,null,null,null,null,null,null,null,null,null,null,null,null,null,null,null,null,null,null,null,null,null,"Formel in Spalte AB ist Matrixformel!"]
["Auswahl:","Zuluft",{"$f":"CONCATENATE('Auslegung-IVAT'!$D$12,'Auslegung-IVAT'!$D$13,'Auslegung-IVAT'!$D$21)","v":"IVA-T2902000"},null,{"$f":"IF(Einheiten!$F$2=3,VLOOKUP($C$33,$D$4:$Q$30,E31,FALSE)/Einheiten!$F$15,VLOOKUP($C$33,$D$4:$Q$30,E31,FALSE))","v":290},{"$f":"IF(Einheiten!$F$2=3,VLOOKUP($C$33,$D$4:$Q$30,F31,FALSE)/Einheiten!$F$15,VLOOKUP($C$33,$D$4:$Q$30,F31,FALSE))","v":2000},{"$f":"IF(Einheiten!$F$2=3,VLOOKUP($C$33,$D$4:$Q$30,G31,FALSE)/Einheiten!$F$15,VLOOKUP($C$33,$D$4:$Q$30,G31,FALSE))","v":174},{"$f":"IF(Einheiten!$F$2=3,VLOOKUP($C$33,$D$4:$Q$30,H31,FALSE)/Einheiten!$F$15,VLOOKUP($C$33,$D$4:$Q$30,H31,FALSE))","v":281},{"$f":"IF(Einheiten!$F$2=3,VLOOKUP($C$33,$D$4:$Q$30,I31,FALSE)/Einheiten!$F$15,VLOOKUP($C$33,$D$4:$Q$30,I31,FALSE))","v":215},{"$f":"VLOOKUP($C$33,$D$4:$Q$30,J31,FALSE)","v":1800},{"$f":"IF(Einheiten!$F$2=3,VLOOKUP($C$33,$D$4:$Q$30,K31,FALSE)/Einheiten!$F$11,VLOOKUP($C$33,$D$4:$Q$30,K31,FALSE))","v":1500},{"$f":"IF(Einheiten!$F$2=3,VLOOKUP($C$33,$D$4:$Q$30,L31,FALSE)/Einheiten!$F$11,VLOOKUP($C$33,$D$4:$Q$30,L31,FALSE))","v":5000},{"$f":"IF(Einheiten!$F$2=3,VLOOKUP($C$33,$D$4:$Q$30,M31,FALSE)/Einheiten!$F$15,VLOOKUP($C$33,$D$4:$Q$30,M31,FALSE))","v":249},3,{"$f":"VLOOKUP($C$33,$D$4:$Q$30,O31,FALSE)","v":3.4226317444749887},1.1627906976744187,{"$f":"IF(Einheiten!$F$2=3,VLOOKUP($C$33,$D$4:$R$30,Q31,FALSE)/Einheiten!$F$5,VLOOKUP($C$33,$D$4:$R$30,Q31,FALSE))","v":2.5},{"$f":"IF(Einheiten!$F$2=3,VLOOKUP($C$33,$D$4:$R$30,R31,FALSE)/Einheiten!$F$5,VLOOKUP($C$33,$D$4:$R$30,R31,FALSE))","v":5},{"$f":"VLOOKUP($C$33,$D$4:$AC$29,S31,FALSE)","v":14.699594469657111},{"$f":"VLOOKUP($C$33,$D$4:$AC$29,T31,FALSE)","v":0},0,0,0,0,0,{"$f":"VLOOKUP($C$33,$D$4:$AC$29,Z31,FALSE)","v":0},0,0,{"$f":"VLOOKUP($C$33,$C$4:$AC$30,AC31,FALSE)","v":{"$error":"#N/A"}},null,"Funktioniert nur bei Bestätigung"]
[null,"Anzeige Datenblatt",null,{"$f":"CONCATENATE(E32,\" / \",F32)","v":"290 / 2000"},null,null,null,null,null,null,null,null,null,null,null,null,null,null,null,null,null,null,null,null,null,null,null,null,null,null,"mit Strg+Shift+Enter!"]
[]
[null,null,null,null,null,null,"Stand:","2020-10-30"]
[null,null,null,null,null,null,null,null,null,null,null,null,null,null,null,null,null,"Koeffizienten:","k1",2.6431003671726829]
[null,null,null,null,null,null,null,null,null,null,null,null,null,"Ausgabedaten:","Totaldruckverlust",null,null,"Totaldruck","k2",1.3945494720731759]
[null,null,null,null,null,null,null,null,null,null,null,null,null,null,"Schallleistung als Summe und spektral"]
[null,null,null,null,null,null,null,null,null,null,null,null,null,null,"mittlere Geschwindigkeit unterhalb im Kühlfall"]
[null,null,null,null,null,null,null,null,null,null,null,null,null,null,"vertikale Eindringtiefe im Heizfall (Walzenstellung beachten)"]
[]
[]
[]
[]
[null,null,"Festlegungen:",null,null,null,"2017-11-09","Baubreite 290mm bleibt, alternativen Breiten auf Anfrage nachpflegen."]
[null,null,null,null,null,null,null,"vorerst nur runder Anschlussstutzen"]
[null,null,null,null,null,null,null,"Montagehöhe 2,5 - 5m als empfohlene Einbauhöhe"]

{"sheet":"Einheiten","index":34,"n_rows":124,"n_cols":12,"rows_kept":124,"cut":false,"hidden":true,"merged":[[88,1,88,2],[88,0,103,0],[104,0,123,0],[104,1,104,2],[71,1,71,2],[71,0,87,0],[16,1,16,2],[16,0,34,0],[35,1,35,2],[35,0,55,0],[56,1,56,2],[56,0,70,0]]}
[]
[null,"Einheitenumrechnung, falls Optionsfeld in der Vorauswahl den Wert 3 annimt.",null,null,"Wert:",{"$f":"Übersetzung!$B$2","v":1}]
[]
[null,null,"SI - Einheit","angloamerikanisch",null,null,null,1,2,3,1]
[null,"Längenangaben","m","ft","1 ft =",{"$f":"IF($F$2=3,0.3048,1)","v":1},"m","m",{"$f":"H5","v":"m"},"ft",2,{"$f":"HLOOKUP($F$2,$H$4:$J$10,K5,FALSE)","v":"m"}]
[null,"Rauminhalt","m³","ft³","1 ft³ =",{"$f":"IF($F$2=3,28.317,1000)","v":1000},"dm³","m/s",{"$f":"H6","v":"m/s"},"ft/min",3,"m/s"]
[null,null,null,null,null,{"$f":"IF($F$2=3,F6/1000,1)","v":1},"m³","m³/h","m³/h","ft³/min",4,"m³/h"]
[null,"Geschwindigkeit","m/s","ft/min","1 ft/min =",{"$f":"IF($F$2=3,0.508,100)","v":100},"cm/s","Pa","Pa","in w.g.",5,"Pa"]
[null,null,null,null,null,{"$f":"IF($F$2=3,F8/100,1)","v":1},"m/s","°C","°C","°F",6,"°C"]
[null,"Volumenstrom","m³/h","ft³/min","1 ft³/min =",{"$f":"IF($F$2=3,28.317,1)","v":1},"l/min","mm","mm","in","7",{"$f":"HLOOKUP($F$2,$H$4:$J$11,K10,FALSE)","v":"mm"}]
[null,null,null,null,null,{"$f":"IF($F$2=3,F10*6/100,1)","v":1},"m³/h","St.","St.","pcs","8",{"$f":"HLOOKUP($F$2,$H$4:$J$11,K11,FALSE)","v":"St."}]
[null,"Leistung","W","BTU/h","1 BTU/h =",{"$f":"IF($F$2=3,0.2931,1)","v":1},"W"]
[null,null,null,null,null,{"$f":"IF($F$2=3,F12/1000,0.001)","v":1E-3},"kW"]
[null,null,"Pa","in. Wg","1 in w.g. =",{"$f":"IF($F$2=3,254,1)","v":1},"Pa"]
[null,null,"mm","in","1 in =",{"$f":"IF($F$2=3,25.4,1)","v":1},"mm"]
[]
["Auslegung LDI","Größen aus Vorgabe/Auslegung (Zahlenwerte imperial)",null,null,"Größen zur Weiterberechnung (SI - Einheit)"]
[null,"Luftvolumenstrom",{"$f":"'Auslegung-L'!D29","v":1000},"ft³/min",{"$f":"C18*$F$11","v":1000},"m³/h","Einzelvolumenstrom!"]
[null,"Klappenwinkel Kühlfall",{"$f":"'Auslegung-L'!D30","v":50},"°",{"$f":"C19","v":50},"°"]
[null,"Klappenwinkel Heizfall",{"$f":"'Auslegung-L'!E30","v":25},"°",{"$f":"C20","v":25},"°"]
[null,"Temperatur Zuluft Kühlfall",{"$f":"'Auslegung-L'!D37","v":16},"°F",{"$f":"IF($F$2=3,(5/9)*C21-17.77,C21)","v":16},"°C"]
[null,"Temperatur Raum Kühlfall",{"$f":"'Auslegung-L'!D38","v":24},"°F",{"$f":"IF($F$2=3,(5/9)*C22-17.77,C22)","v":24},"°C"]
[null,"Temperatur Zuluft Heizfall",{"$f":"'Auslegung-L'!E37","v":30},"°F",30,"°C"]
[null,"Temperatur Raum Heizfall",{"$f":"'Auslegung-L'!E38","v":20},"°F",20,"°C"]
[null,"Montagehöhe",{"$f":"'Auslegung-L'!D40","v":8},"ft",{"$f":"C25*$F$5","v":8},"m"]
[null,"Obergrenze Aufenthaltsbereich",{"$f":"'Auslegung-L'!D41","v":1.8},"ft",{"$f":"C26*$F$5","v":1.8},"m"]
[null,"Raumlänge",{"$f":"'Auslegung-L'!D42","v":21},"ft",21,"m"]
[null,"Raumbreite",{"$f":"'Auslegung-L'!D43","v":12.7},"ft",12.7,"m"]
[null,"Raumhöhe",{"$f":"'Auslegung-L'!D44","v":14},"ft",{"$f":"C29*$F$5","v":14},"m"]
[null,"Größen von Weiterberechnung (SI - Einheit)",null,null,"Größen zur Vorgabe/Auslegung (imperial)"]
[null,"Totaldruckverlust Kühlen",{"$f":"'Lw LDI'!B88","v":44.44412733714109},"Pa",{"$f":"C31/$F$14","v":44.44412733714109},"in w.g."]
[null,"Totaldruckverlust heizen",{"$f":"'Lw LDI'!B106","v":17.640815493930841},"Pa",{"$f":"C32/$F$14","v":17.640815493930841},"in w.g."]
[null,"kleinster Abstand zwischen 2 Durchlässen",{"$f":"'vx_vy LDI'!C32","v":3.5515163992614398},"m",{"$f":"C33/F5","v":3.5515163992614398},"ft"]
[null,"Mittlere Geschwindigkeit im Aufenthaltsbereich",{"$f":"'vx_vy LDI'!E32","v":0.16712715254911567},"m/s",{"$f":"C34/$F$9","v":0.16712715254911567},"ft/min"]
[null,"Vertikale Eindringtiefe",{"$f":"'vx_vy LDI'!F32","v":4.8991523098481276},"m",{"$f":"C35/$F$5","v":4.8991523098481276},"ft"]
["Auslegung VLV, VLD, WKD","Größen aus Vorgabe/Auslegung (Zahlenwerte imperial)",null,null,"Größen zur Weiterberechnung (SI - Einheit)"]
[null,"Luftvolumenstrom",{"$f":"'Auslegung-V'!D37","v":3000},"ft³/min",{"$f":"C37*$F$11","v":3000},"m³/h"]
[null,"Temperatur Zuluft",{"$f":"'Auslegung-V'!D39","v":30},"°F",{"$f":"IF($F$2=3,(5/9)*C38-17.77,C38)","v":30},"°C"]
[null,"Temperatur Raum",{"$f":"'Auslegung-V'!D40","v":20},"°F",{"$f":"IF($F$2=3,(5/9)*C39-17.77,C39)","v":20},"°C"]
[null,"Montagehöhe",{"$f":"'Auslegung-V'!D42","v":15},"ft",{"$f":"C40*$F$5","v":15},"m"]
[null,"Obergrenze Aufenthaltsbereich",{"$f":"'Auslegung-V'!D43","v":1.8},"ft",{"$f":"C41*$F$5","v":1.8},"m"]
[null,"Raumlänge",{"$f":"'Auslegung-V'!D44","v":100},"ft",100,"m"]
[null,"Raumbreite",{"$f":"'Auslegung-V'!D45","v":100},"ft",100,"m"]
[null,"Raumhöhe",{"$f":"'Auslegung-V'!D46","v":30},"ft",30,"m"]
[null,"Abstand Durchlass zur nächstgelegenen Wand",{"$f":"'Auslegung-V'!D47","v":3},"ft",3,"m"]
[null,"kleinster Abstand zwischen 2 Durchlässen",{"$f":"'Auslegung-V'!D48","v":3},"ft",3,"m"]
[null,"Größen von Weiterberechnung (SI - Einheit)",null,null,"Größen zur Vorgabe/Auslegung (imperial)"]
[null,"Totaldruckverlust",{"$f":"'Grunddaten-V'!L37","v":35.456298319145546},"Pa",{"$f":"C48/$F$14","v":35.456298319145546},"in w.g."]
[null,"Kritischer Strahlweg deckenbündig",{"$f":"xkr._vx!$G$11","v":0},"m",{"$f":"C49/$F$5","v":0},"ft"]
[null,"Geschwindigkeit am Fußboden",{"$f":"xkr._vx!$N$24","v":0},"m",{"$f":"C50/$F$9","v":0},"ft/min"]
[null,"Zugluftrisiko am Fußboden**",{"$f":"DR!$C$16","v":0},"%",{"$f":"C51","v":0},"%"]
[null,"Geschwindigkeit im Aufenthaltsbereich nach Stoß*",{"$f":"xkr._vx!$N$26","v":0},"m/s",{"$f":"C52/$F$9","v":0},"ft/min"]
[null,"Zugluftrisiko im Aufenthaltsbereich**",{"$f":"DR!$C$24","v":0},"%",{"$f":"C53","v":0},"%"]
[null,"Geschwindigkeit nach Ablösen an Xkr.",{"$f":"xkr._vx!$N$28","v":0},"m/s",{"$f":"C54/$F$9","v":0},"ft/min"]
[null,"Zugluftrisiko nach Ablösepunkt**",{"$f":"DR!$C$32","v":0},"%",{"$f":"C55","v":0},"%"]
[null,"Eindringtiefe",{"$f":"xkr._vx!M31","v":7.4281902237355233},"m",{"$f":"IFERROR(C56/$F$5,\">Montagehöhe\")","v":7.4281902237355233},"ft"]
["Auslegung IVA","Größen aus Vorgabe/Auslegung (Zahlenwerte imperial)",null,null,"Größen zur Weiterberechnung (SI - Einheit)"]
[null,"Luftvolumenstrom",{"$f":"'Auslegung-IVA'!D29","v":4000},"ft³/min",{"$f":"C58*$F$11","v":4000},"m³/h"]
[null,"Temperatur Zuluft Kühlfall",{"$f":"'Auslegung-IVA'!D38","v":18},"°F",{"$f":"IF($F$2=3,(5/9)*C59-17.77,C59)","v":18},"°C"]
[null,"Temperatur Raum Kühlfall",{"$f":"'Auslegung-IVA'!D39","v":26},"°F",{"$f":"IF($F$2=3,(5/9)*C60-17.77,C60)","v":26},"°C"]
[null,"Temperatur Zuluft Heizfall",{"$f":"'Auslegung-IVA'!E38","v":30},"°F",{"$f":"IF($F$2=3,(5/9)*C61-17.77,C61)","v":30},"°C"]
[null,"Temperatur Raum Heizfall",{"$f":"'Auslegung-IVA'!E39","v":20},"°F",20,"°C"]
[null,"Montagehöhe",{"$f":"'Auslegung-IVA'!D41","v":3},"ft",{"$f":"C63*$F$5","v":3},"m"]
[null,"Obergrenze Aufenthaltsbereich",{"$f":"'Auslegung-IVA'!D42","v":1.8},"ft",{"$f":"C64*$F$5","v":1.8},"m"]
[null,"Raumlänge",{"$f":"'Auslegung-IVA'!D43","v":100},"ft",100,"m"]
[null,"Raumbreite",{"$f":"'Auslegung-IVA'!D44","v":100},"ft",100,"m"]
[null,"Raumhöhe",{"$f":"'Auslegung-IVA'!D45","v":12},"ft",12,"m"]
[null,"Größen von Weiterberechnung (SI - Einheit)",null,null,"Größen zur Vorgabe/Auslegung (imperial)"]
[null,"Totaldruckverlust",{"$f":"'Grunddaten-IVA'!$O$33","v":81.819687571960102},"Pa",{"$f":"C69/$F$14","v":81.819687571960102},"in w.g."]
[null,"Horizontale Wurfweite",{"$f":"Xhor_IVA!$F$30","v":3.1491720852645066},"m",{"$f":"C70/$F$5","v":3.1491720852645066},"ft"]
[null,"Vertikale Eindringtiefe",{"$f":"'Grunddaten-IVA'!$R$33","v":15.099308505792695},"m",{"$f":"C71/$F$5","v":15.099308505792695},"ft"]
["Auslegung IVA-T","Größen aus Vorgabe/Auslegung (Zahlenwerte imperial)",null,null,"Größen zur Weiterberechnung (SI - Einheit)"]
[null,"Luftvolumenstrom",{"$f":"'Auslegung-IVAT'!D31","v":1800},"ft³/min",{"$f":"C73*$F$11","v":1800},"m³/h"]
[null,"Temperatur Zuluft",{"$f":"'Auslegung-IVAT'!D33","v":18},"°F",{"$f":"IF($F$2=3,(5/9)*C74-17.77,C74)","v":18},"°C"]
[null,"Temperatur Raum",{"$f":"'Auslegung-IVAT'!D34","v":26},"°F",{"$f":"IF($F$2=3,(5/9)*C75-17.77,C75)","v":26},"°C"]
[null,"Montagehöhe",{"$f":"'Auslegung-IVAT'!D36","v":5},"ft",{"$f":"C76*$F$5","v":5},"m"]
[null,"Obergrenze Aufenthaltsbereich",{"$f":"'Auslegung-IVAT'!D37","v":1.8},"ft",1.8,"m"]
[null,"Raumlänge",{"$f":"'Auslegung-IVAT'!D38","v":100},"ft",100,"m"]
[null,"Raumbreite",{"$f":"'Auslegung-IVAT'!D39","v":100},"ft",100,"m"]
[null,"Raumhöhe",{"$f":"'Auslegung-IVAT'!D40","v":8},"ft",8,"m"]
[null,"Abstand Durchlass zur nächstgelegenen Wand",{"$f":"'Auslegung-IVAT'!D41","v":3},"ft",3,"m"]
[null,"kleinster Abstand zwischen 2 Durchlässen",{"$f":"'Auslegung-IVAT'!D42","v":5},"ft",5,"m"]
[null,"Größen von Weiterberechnung (SI - Einheit)",null,null,"Größen zur Vorgabe/Auslegung (imperial)"]
[null,"Totaldruckverlust",{"$f":"'Grunddaten-IVAT'!S33","v":14.699594469657111},"Pa",{"$f":"C84/$F$14","v":14.699594469657111},"in w.g."]
[null,"Geschwindigkeit im Stutzen",{"$f":"'Grunddaten-IVAT'!O33","v":3.4226317444749887},"m/s",{"$f":"C85/$F$9","v":3.4226317444749887},"ft/min"]
[null,"Strahlbreite an Oberkante Aufenthaltsbereich",{"$f":"'LW,vY-IVAT'!D30","v":3.1844080246313009},"m",{"$f":"C86/$F$5","v":3.1844080246313009},"ft"]
[null,"Mittlere Geschwindigkeit im Aufenthaltsbereich",{"$f":"'LW,vY-IVAT'!D47","v":0.52984983032828448},"m",{"$f":"C87/$F$5","v":0.52984983032828448},"ft"]
[null,"Vertikale Eindringtiefe",{"$f":"'LW,vY-IVAT'!$D$58","v":3.4},"m",{"$f":"C88/$F$5","v":3.4},"ft"]
["Auslegung IVA-TH","Größen aus Vorgabe/Auslegung (Zahlenwerte imperial)",null,null,"Größen zur Weiterberechnung (SI - Einheit)"]
[null,"Luftvolumenstrom",{"$f":"'Auslegung-IVATH'!$D$31","v":700},"ft³/min",{"$f":"C90*$F$11","v":700},"m³/h"]
[null,"Temperatur Zuluft",{"$f":"'Auslegung-IVATH'!D33","v":18},"°F",{"$f":"IF($F$2=3,(5/9)*C91-17.77,C91)","v":18},"°C"]
[null,"Temperatur Raum",{"$f":"'Auslegung-IVATH'!D34","v":26},"°F",{"$f":"IF($F$2=3,(5/9)*C92-17.77,C92)","v":26},"°C"]
[null,"Montagehöhe",{"$f":"'Auslegung-IVATH'!$D$36","v":2.5},"ft",{"$f":"C93*$F$5","v":2.5},"m"]
[null,"Obergrenze Aufenthaltsbereich",{"$f":"'Auslegung-IVATH'!$D$37","v":1.8},"ft",1.8,"m"]
[null,"Raumlänge",{"$f":"'Auslegung-IVATH'!$D$38","v":100},"ft",100,"m"]
[null,"Raumbreite",{"$f":"'Auslegung-IVATH'!$D$39","v":5},"ft",5,"m"]
[null,"Raumhöhe",{"$f":"'Auslegung-IVATH'!$D$40","v":8},"ft",8,"m"]
[null,"Größen von Weiterberechnung (SI - Einheit)",null,null,"Größen zur Vorgabe/Auslegung (imperial)"]
[null,"Totaldruckverlust",{"$f":"'Grunddaten-IVATH'!$S$33","v":11.611188396657747},"Pa",{"$f":"C99/$F$14","v":11.611188396657747},"in w.g."]
[null,"Geschwindigkeit im Stutzen",{"$f":"'Grunddaten-IVATH'!$O$33","v":2.5117112645151178},"m/s",{"$f":"C100/$F$9","v":2.5117112645151178},"ft/min"]
[null,"Austrittsgeschwindigkeit",{"$f":"'Grunddaten-IVATH'!$P$33","v":0.948509485094851},"m/s",{"$f":"C101/$F$9","v":0.948509485094851},"ft/min"]
[null,"Wurfweite an Oberkante Aufenthaltsbereich",{"$f":"'LW,vY-IVATH'!$N$65","v":2.0493224445773377},"m",{"$f":"C102/$F$5","v":2.0493224445773377},"ft"]
[null,"Nicht durchströmte Weite unterhalb des Durchlasses",{"$f":"'LW,vY-IVATH'!$N$66","v":0.26853016153433662},"m",{"$f":"C103/$F$5","v":0.26853016153433662},"ft"]
[null,"Mittlere Geschwindigkeit an Oberkante Aufenthaltsbereich",{"$f":"'LW,vY-IVATH'!$R$65","v":0.53286768824913644},"m/s",{"$f":"C104/$F$9","v":0.53286768824913644},"ft/min"]
["Auslegung IQA","Größen aus Vorgabe/Auslegung (Zahlenwerte imperial)",null,null,"Größen zur Weiterberechnung (SI - Einheit)"]
[null,"Luftvolumenstrom",{"$f":"'Auslegung-IQA'!$D$29","v":1500},"ft³/min",{"$f":"C106*$F$11","v":1500},"m³/h"]
[null,"Montagehöhe",{"$f":"'Auslegung-IQA'!D45","v":1},"ft",{"$f":"C107*$F$5","v":1},"m"]
[null,"Temperatur Zuluft Kühlfall",{"$f":"'Auslegung-IQA'!$D$38","v":20},"°F",{"$f":"IF($F$2=3,(5/9)*C108-17.77,C108)","v":20},"°C"]
[null,"Temperatur Raum Kühlfall",{"$f":"'Auslegung-IQA'!$D$39","v":26},"°F",{"$f":"IF($F$2=3,(5/9)*C109-17.77,C109)","v":26},"°C"]
[null,"Temperatur Zuluft Heizfall",{"$f":"'Auslegung-IQA'!$E$38","v":29},"°F",{"$f":"IF($F$2=3,(5/9)*C110-17.77,C110)","v":29},"°C"]
[null,"Temperatur Raum Heizfall",{"$f":"'Auslegung-IQA'!$E$39","v":20},"°F",20,"°C"]
[null,"Raumlänge",{"$f":"'Auslegung-IQA'!$D$47","v":100},"ft",{"$f":"C112*$F$5","v":100},"m"]
[null,"Raumbreite",{"$f":"'Auslegung-IQA'!$D$48","v":100},"ft",100,"m"]
[null,"Raumhöhe",{"$f":"'Auslegung-IQA'!$D$49","v":12},"ft",12,"m"]
[null,"Montagehöhe",{"$f":"'Auslegung-IQA'!$D$45","v":1},"ft",1,"m"]
[null,"Maximalgeschwindigkeit",{"$f":"'Auslegung-IQA'!$D$46","v":0.2},"ft",0.2,"m"]
[null,"Größen von Weiterberechnung (SI - Einheit)",null,null,"Größen zur Vorgabe/Auslegung (imperial)"]
[null,"Totaldruckverlust Kühlfall",{"$f":"'Grunddaten-IQA'!$T$33","v":16.537818249717411},"Pa",{"$f":"C118/$F$14","v":16.537818249717411},"in w.g."]
[null,"Totaldruckverlust Heizfall",{"$f":"'Grunddaten-IQA'!$U$33","v":10.632504911667752},"Pa",{"$f":"C119/$F$14","v":10.632504911667752},"in w.g."]
[null,"Geschwindigkeit im Stutzen",{"$f":"'Grunddaten-IQA'!$O$33","v":4.2096129892718466},"m/s",{"$f":"C120/$F$9","v":4.2096129892718466},"ft/min"]
[null,"Austrittsgeschwindigkeit Kühlfall",{"$f":"'Grunddaten-IQA'!$P$33","v":0.5291829359743293},"m/s",{"$f":"C121/$F$9","v":0.5291829359743293},"ft/min"]
[null,"Austrittsgeschwindigkeit Heizfall",{"$f":"'Grunddaten-IQA'!$Q$33","v":1.6828970846751188},"m/s",1.6828970846751188,"ft/min"]
[null,"Nahzone Kühlfall",{"$f":"'LW,v,LN-IQA'!$K$105","v":4.9305981292387537},"m",{"$f":"C123/$F$5","v":4.9305981292387537},"ft"]
[null,"Horizontale Lauflänge Heizfall",{"$f":"'LW,v,LN-IQA'!$K$113","v":4.1191906779403089},"m",{"$f":"C124/$F$5","v":4.1191906779403089},"ft"]

{"sheet":"Version","index":35,"n_rows":2,"n_cols":2,"rows_kept":2,"cut":false,"hidden":true,"merged":[]}
["Service",{"$f":"MID(CELL(\"dateiname\"),FIND(\"[\",CELL(\"dateiname\"))+1,FIND(\"]\",CELL(\"dateiname\"))-FIND(\"[\",CELL(\"dateiname\"))-1)","v":"656_Auslegungstool_Industrie_201030.xlsm"}]
["Version:","1.0"]

{"sheet":"Datenblatt IVAT","index":36,"n_rows":44,"n_cols":9,"rows_kept":44,"cut":false,"hidden":true,"merged":[[32,2,32,3],[32,0,32,1],[36,0,36,1],[37,0,37,1],[33,2,33,3],[34,2,34,3],[35,2,35,3],[36,2,36,3],[37,2,37,3],[33,0,33,1],[34,0,34,1],[35,0,35,1],[18,4,18,5],[1,1,1,7],[5,2,5,4],[5,6,5,7],[9,0,9,8],[22,0,22,2],[23,2,23,3],[24,2,24,3],[31,0,31,1],[25,2,25,3],[23,0,23,1],[26,2,26,3],[27,2,27,3],[28,2,28,3],[31,2,31,3]]}
[]
[{"$f":"Übersetzung!F86","v":"Typ"},{"$f":"'Auslegung-IVAT'!D12","v":"IVA-T"},null,null,null,null,null,null,{"$f":"TODAY()","v":"2020-12-07"}]
[{"$f":"Übersetzung!F87","v":"Projekt"},"bitte Projektname / VIS-Nr. eintragen"]
[]
[{"$f":"Übersetzung!F88","v":"Definition:"}]
[{"$f":"'Auslegung-IVAT'!A12","v":"Durchlass Typ"},{"$f":"'Auslegung-IVAT'!D12","v":"IVA-T"},{"$f":"Übersetzung!F104","v":"Breite / Länge:"},null,null,{"$f":"'Grunddaten-IVAT'!D34","v":"290 / 2000"}]
["Schlitzanzahl:",{"$f":"'Auslegung-L'!D20","v":315},"Farbe Abdeckprofil:",null,{"$f":"'Auslegung-L'!B83","v":"xxkr"}]
["Innenauskleidung:",{"$f":"'Auslegung-L'!G96","v":0},"Drossel fb:",null,{"$f":"'Auslegung-L'!B94","v":0}]
[]
[{"$f":"Übersetzung!F105","v":"Beschreibung:\nQuellluftdurchlass für die Belüftung industrieller Bereiche. In Abhängigkeit des Haupt-Einsatzbereiches findet eine werksseitige Voreinstellung auf den Kühlfall (Walzenstellung DE) oder den Heizfall statt (Walzenstellung A1). Die Einstellung der Walzen kann jederzeit durch den Kunden nachjustiert werden."}]
[{"$f":"Übersetzung!F81","v":"Einsatzbereich"}]
[{"$f":"'Auslegung-IVAT'!J60","v":"Minimaler Volumenstrom"},"V°min",{"$f":"'Auslegung-IVAT'!$K$60","v":1500},{"$f":"Einheiten!$L$7","v":"m³/h"}]
[{"$f":"'Auslegung-IVAT'!J61","v":"Maximaler Volumenstrom"},"V°max",{"$f":"'Auslegung-IVAT'!$K$61","v":5000},{"$f":"Einheiten!L7","v":"m³/h"}]
[]
[{"$f":"Übersetzung!F90","v":"technische Vorgaben"},null,null,null,null,{"$f":"'Auslegung-IVAT'!A35","v":"Raumdaten"}]
[{"$f":"'Auslegung-IVAT'!A31","v":"Luftvolumenstrom"},"V·SUP",{"$f":"'Auslegung-IVAT'!$D$31","v":1800},{"$f":"Einheiten!$L$7","v":"m³/h"},null,{"$f":"'Auslegung-IVAT'!A40","v":"Raumhöhe"},{"$f":"'Auslegung-IVAT'!$D$40","v":8},{"$f":"Einheiten!$L$5","v":"m"}]
[{"$f":"'Auslegung-IVAT'!A33","v":"Temperatur Zuluft"},"tZUL",{"$f":"'Auslegung-IVAT'!D33","v":18},{"$f":"Einheiten!L9","v":"°C"},null,{"$f":"'Auslegung-IVAT'!A39","v":"Raumbreite"},{"$f":"'Auslegung-IVAT'!D39","v":100},{"$f":"Einheiten!$L$5","v":"m"}]
[{"$f":"'Auslegung-IVAT'!A34","v":"Temperatur Raum"},"tRAUM",{"$f":"'Auslegung-IVAT'!$D$34","v":26},{"$f":"Einheiten!L10","v":"mm"},null,{"$f":"'Auslegung-IVAT'!A38","v":"Raumlänge"},{"$f":"'Auslegung-IVAT'!$D$38","v":100},{"$f":"Einheiten!$L$5","v":"m"}]
[{"$f":"'Auslegung-IVAT'!A36","v":"Montagehöhe"},"H1",{"$f":"'Auslegung-IVAT'!D36","v":5},{"$f":"'Auslegung-IVAT'!C36","v":"m"},{"$f":"'Auslegung-IVAT'!A37","v":"Obergrenze Aufenthaltsbereich"},null,{"$f":"'Auslegung-IVAT'!D37","v":1.8},{"$f":"Einheiten!$L$5","v":"m"}]
[{"$f":"'Auslegung-V'!A47","v":"Abstand Durchlass zur nächstgelegenen Wand"},"a",{"$f":"'Auslegung-IVAT'!$D$41","v":3},{"$f":"Einheiten!$L$5","v":"m"}]
[{"$f":"'Auslegung-V'!A48","v":"kleinster Abstand zwischen 2 Durchlässen"},"smin",{"$f":"'Auslegung-IVAT'!D42","v":5},{"$f":"Einheiten!$L$5","v":"m"}]
[]
[{"$f":"'Auslegung-IVAT'!A44","v":"Berechnung strömungstechnische und Akustische Daten"}]
[{"$f":"'Auslegung-IVAT'!A53","v":"Werksseitig voreingestellte Walzenstellung"},null,{"$f":"IF(C17>C18,\"A1\",\"DE\")","v":"DE"}]
[{"$f":"'Auslegung-IVAT'!A45","v":"Totaldruckverlust"},"Dp_SUP",{"$f":"'Auslegung-IVAT'!D45","v":"15"},null,{"$f":"Einheiten!$L$8","v":"Pa"}]
[{"$f":"'Auslegung-IVAT'!A46","v":"Geschwindigkeit im Stutzen"},"vSt",{"$f":"'Auslegung-IVAT'!D46","v":3.4226317444749887},null,{"$f":"Einheiten!$L$6","v":"m/s"}]
[{"$f":"'Auslegung-IVAT'!A47","v":"Strahlbreite an Oberkante Aufenthaltsbereich"},"XY",{"$f":"'Auslegung-IVAT'!D47","v":3.1844080246313009},null,{"$f":"Einheiten!$L$5","v":"m"}]
[{"$f":"'Auslegung-IVAT'!A48","v":"Mittlere Geschwindigkeit im Aufenthaltsbereich"},"vy",{"$f":"'Auslegung-IVAT'!D48","v":0.52984983032828448},null,{"$f":"Einheiten!$L$6","v":"m/s"}]
[{"$f":"'Auslegung-IVAT'!A52","v":"Schallleistungspegel, Einzeldurchlass"},"LWA_SUP",{"$f":"'Auslegung-IVAT'!D52","v":44.922837817840637},null,"dB(A)"]
[]
[{"$f":"Übersetzung!F70","v":"Abmessungen"}]
[{"$f":"'Auslegung-IVAT'!J56","v":"Länge, Durchlass"},null,{"$f":"'Auslegung-IVAT'!K56","v":"2000"},null,{"$f":"Einheiten!$L$10","v":"mm"}]
[{"$f":"'Auslegung-IVAT'!J57","v":"Breite, Durchlass"},null,{"$f":"'Auslegung-IVAT'!K57","v":"290"},null,{"$f":"Einheiten!$L$10","v":"mm"}]
[{"$f":"'Auslegung-IVAT'!J58","v":"Gesamthöhe"},null,{"$f":"'Auslegung-IVAT'!K58","v":"281"},null,{"$f":"Einheiten!$L$10","v":"mm"}]
[{"$f":"'Auslegung-IVAT'!J59","v":"Aktive Höhe"},null,{"$f":"'Auslegung-IVAT'!K59","v":"174"},null,{"$f":"Einheiten!$L$10","v":"mm"}]
[{"$f":"'Auslegung-IVAT'!J62","v":"Empfohlene maximale Einbauhöhe"},null,{"$f":"'Auslegung-IVAT'!K62","v":5},null,{"$f":"Einheiten!$L$5","v":"m"}]
[{"$f":"'Auslegung-IVAT'!J63","v":"Durchmesser Anschlussstutzen"},null,{"$f":"'Auslegung-IVAT'!K63","v":"249"},null,{"$f":"Einheiten!$L$10","v":"mm"}]
[{"$f":"'Auslegung-IVAT'!J64","v":"Stutzenanzahl"},null,{"$f":"'Auslegung-IVAT'!K64","v":3},null,{"$f":"Einheiten!$L$11","v":"St."}]
[]
[]
[{"$f":"'Auslegung-IVAT'!A57","v":"Oktavspektrum Schallleistung [dB]"},"f [Hz]",125,250,500,1000,2000,4000,8000]
[null,"LWA_Okt",{"$f":"IF('Auslegung-IVAT'!$D$58=\"\",\"\",'Auslegung-IVAT'!$D$58)","v":45.688505600393967},{"$f":"IF('Auslegung-IVAT'!$D$59=\"\",\"\",'Auslegung-IVAT'!$D$59)","v":45.939068264400476},{"$f":"IF('Auslegung-IVAT'!$D$60=\"\",\"\",'Auslegung-IVAT'!$D$60)","v":44.800532513082949},{"$f":"IF('Auslegung-IVAT'!$D$61=\"\",\"\",'Auslegung-IVAT'!$D$61)","v":38.933533704230157},{"$f":"IF('Auslegung-IVAT'!$D$62=\"\",\"\",'Auslegung-IVAT'!$D$62)","v":28.934217897823618},{"$f":"IF('Auslegung-IVAT'!$D$63=\"\",\"\",'Auslegung-IVAT'!$D$63)","v":28.897578711744671},{"$f":"IF('Auslegung-IVAT'!$D$64=\"\",\"\",'Auslegung-IVAT'!$D$64)","v":27.637446840321978}]
[null,null,null,null,null,null,null,null,{"$f":"'Auslegung-IVAT'!A66","v":"Änderungen vorbehalten"}]
[null,null,null,null,null,null,null,{"$f":"'Auslegung-IVAT'!A67","v":"Stand:"},{"$f":"'Grunddaten-IVAT'!$H$36","v":"2020-10-30"}]

{"sheet":"Auslegung-IVAT","index":37,"n_rows":68,"n_cols":12,"rows_kept":68,"cut":false,"hidden":true,"merged":[[13,3,13,4],[0,0,0,3],[5,0,5,4],[6,3,6,4],[7,3,7,4],[12,3,12,4],[11,3,11,4],[25,3,25,4],[14,3,14,4],[15,3,15,4],[16,3,16,4],[17,3,17,4],[18,3,18,4],[19,3,19,4],[20,3,20,4],[21,3,21,4],[22,3,22,4],[23,3,23,4],[24,3,24,4],[30,3,30,4],[26,3,26,4],[27,3,27,4],[28,3,28,4],[29,3,29,4],[37,3,37,4],[38,3,38,4],[39,3,39,4],[40,3,40,4],[41,3,41,4],[32,3,32,4],[33,3,33,4],[34,0,34,4],[35,3,35,4],[36,3,36,4],[50,3,50,4],[44,3,44,4],[45,3,45,4],[46,3,46,4],[47,3,47,4],[48,3,48,4],[49,3,49,4],[60,3,60,4],[61,3,61,4],[62,3,62,4],[63,3,63,4],[51,3,51,4],[54,3,54,4],[57,3,57,4],[58,3,58,4],[59,3,59,4],[52,3,52,4]]}
[{"$f":"Übersetzung!F5","v":"Auslegung Kampmann Industrieluftdurchlässe"}]
[]
[{"$f":"Übersetzung!F6","v":"Eingabefelder sind gelb gekennzeichnet"}]
[{"$f":"Übersetzung!F7","v":"Ergebnisfelder sind blau gekennzeichnet"}]
[]
[{"$f":"Übersetzung!F8","v":"Vorgaben"}]
[{"$f":"Übersetzung!F9","v":"Lüftungstechnik"},{"$f":"Übersetzung!F10","v":"Symbol"},{"$f":"Übersetzung!F11","v":"Einheit"},{"$f":"Übersetzung!F12","v":"Wert"}]
["Bezeichung","Symbol","Einheit"]
[null,"L","mm"]
[null,"L","mm"]
[null,"L","mm"]
[{"$f":"Übersetzung!F13","v":"Durchlass Typ"},null,null,"IVA-T"]
[{"$f":"Übersetzung!F14","v":"Baubreite"},null,null,290]
[null,null,null,290]
[]
[]
[]
[]
[]
[]
[{"$f":"Übersetzung!F15","v":"Baulänge"},"DN","[-]",2000]
[null,null,null,1000]
[null,null,null,1500]
[null,null,null,2000]
[]
[]
[]
[]
[]
[]
[{"$f":"Übersetzung!F16","v":"Luftvolumenstrom"},"V·SUP",{"$f":"Einheiten!$L$7","v":"m³/h"},1800]
["max. Luftgeschwindigkeit im Aufenthaltsbereich","vMax","m/s",0.2]
[{"$f":"Übersetzung!F18","v":"Temperatur Zuluft"},"tSUP",{"$f":"Einheiten!$L$9","v":"°C"},18]
[{"$f":"Übersetzung!F19","v":"Temperatur Raum"},"tRaum",{"$f":"Einheiten!$L$9","v":"°C"},26]
[{"$f":"Übersetzung!F20","v":"Raumdaten"}]
[{"$f":"Übersetzung!F21","v":"Montagehöhe"},"H1",{"$f":"Einheiten!$L$5","v":"m"},5]
[{"$f":"Übersetzung!F22","v":"Obergrenze Aufenthaltsbereich"},"H2",{"$f":"Einheiten!$L$5","v":"m"},1.8]
[{"$f":"Übersetzung!F23","v":"Raumlänge"},"LR",{"$f":"Einheiten!$L$5","v":"m"},100]
[{"$f":"Übersetzung!F24","v":"Raumbreite"},"BR",{"$f":"Einheiten!$L$5","v":"m"},100]
[{"$f":"Übersetzung!F25","v":"Raumhöhe"},"HR",{"$f":"Einheiten!$L$5","v":"m"},8]
[{"$f":"Übersetzung!F48","v":"Abstand Durchlass zur nächstgelegenen Wand"},"a",{"$f":"Einheiten!$L$5","v":"m"},3]
[{"$f":"Übersetzung!F49","v":"kleinster Abstand zwischen 2 Durchlässen"},"smin",{"$f":"Einheiten!$L$5","v":"m"},5]
[]
[{"$f":"Übersetzung!F26","v":"Berechnung strömungstechnische und Akustische Daten"}]
[{"$f":"Übersetzung!F27","v":"Totaldruckverlust"},"Dpt",{"$f":"Einheiten!$L$8","v":"Pa"},{"$f":"IF(Einheiten!$F$2=3,FIXED('Grunddaten-IVAT'!$S$33,3,TRUE),FIXED('Grunddaten-IVAT'!$S$33,0,TRUE))","v":"15"}]
[{"$f":"Übersetzung!F28","v":"Geschwindigkeit im Stutzen"},"vST",{"$f":"Einheiten!$L$6","v":"m/s"},{"$f":"'Grunddaten-IVAT'!$O$33","v":3.4226317444749887}]
[{"$f":"IF(D33>D34,Übersetzung!F54,Übersetzung!F62)","v":"Strahlbreite an Oberkante Aufenthaltsbereich"},"Xa",{"$f":"Einheiten!$L$5","v":"m"},{"$f":"IF(D33>D34,IF(Einheiten!$E$88>Einheiten!$E$76,\"> Montagehöhe\",Einheiten!$E$88),'LW,vY-IVAT'!$D$30)","v":3.1844080246313009}]
[{"$f":"IF(D33<D34,Übersetzung!F63,Übersetzung!F64)","v":"Mittlere Geschwindigkeit im Aufenthaltsbereich"},"vy",{"$f":"Einheiten!$L$6","v":"m/s"},{"$f":"IF(D33<=D34,Einheiten!$E$87,Einheiten!$E$88)","v":0.52984983032828448}]
[null,"vx3","m/s"]
[null,"DR3","%"]
[null,"RAL","[-]"]
[{"$f":"Übersetzung!F33","v":"Schallleistungspegel, Einzeldurchlass"},"LWA_SUP/ETA","dB(A)",{"$f":"IF('LW,vY-IVAT'!$AA$15<25,\"<25\",'LW,vY-IVAT'!$AA$15)","v":44.922837817840637}]
[{"$f":"Übersetzung!F65","v":"Werksseitig voreingestellte Walzenstellung"},null,null,{"$f":"'Datenblatt IVAT'!C24","v":"DE"}]
[{"$f":"CONCATENATE(\"Schallldruckpegel in \",#REF!,\"m Entfernung, Einzeldurchlass\")","v":{"$error":"#REF!"}},"LPA_SUP/ETA","dB(A)"]
["Schalldruckpegel rechnerisch "]
[null,null,null,null,null,null,null,null,1,{"$f":"Übersetzung!F35","v":"Länge, Durchlass"},{"$f":"IF(Einheiten!$F$2=3,FIXED('Grunddaten-IVAT'!$F$33,1,TRUE),FIXED('Grunddaten-IVAT'!$F$33,0,TRUE))","v":"2000"},{"$f":"Einheiten!$L$10","v":"mm"}]
[{"$f":"Übersetzung!F34","v":"Oktavspektrum Schallleistung [dB]"},"LW_Okt","dB",null,null,null,null,null,2,{"$f":"Übersetzung!F36","v":"Breite, Durchlass"},{"$f":"IF(Einheiten!$F$2=3,FIXED('Grunddaten-IVAT'!$E$33,1,TRUE),FIXED('Grunddaten-IVAT'!$E$33,0,TRUE))","v":"290"},{"$f":"Einheiten!$L$10","v":"mm"}]
[null,"LW_125","dB",{"$f":"IF($D$52=\"<25\",\"\",'LW,vY-IVAT'!$G$21)","v":45.688505600393967},null,null,null,null,3,{"$f":"Übersetzung!F37","v":"Gesamthöhe"},{"$f":"IF(Einheiten!$F$2=3,FIXED('Grunddaten-IVAT'!$H$33,1,TRUE),FIXED('Grunddaten-IVAT'!$H$33,0,TRUE))","v":"281"},{"$f":"Einheiten!$L$10","v":"mm"}]
[null,"LW_250","dB",{"$f":"IF($D$52=\"<25\",\"\",'LW,vY-IVAT'!$H$21)","v":45.939068264400476},null,null,null,null,4,{"$f":"Übersetzung!F38","v":"Aktive Höhe"},{"$f":"IF(Einheiten!$F$2=3,FIXED('Grunddaten-IVAT'!$G$33,1,TRUE),FIXED('Grunddaten-IVAT'!$G$33,0,TRUE))","v":"174"},{"$f":"Einheiten!$L$10","v":"mm"}]
[null,"LW_500","dB",{"$f":"IF($D$52=\"<25\",\"\",'LW,vY-IVAT'!$I$21)","v":44.800532513082949},null,null,null,null,5,{"$f":"Übersetzung!F39","v":"Minimaler Volumenstrom"},{"$f":"'Grunddaten-IVAT'!$K$33","v":1500},{"$f":"Einheiten!$L$7","v":"m³/h"}]
[null,"LW_1000","dB",{"$f":"IF($D$52=\"<25\",\"\",'LW,vY-IVAT'!$J$21)","v":38.933533704230157},null,null,null,null,6,{"$f":"Übersetzung!F40","v":"Maximaler Volumenstrom"},{"$f":"'Grunddaten-IVAT'!$L$33","v":5000},{"$f":"Einheiten!$L$7","v":"m³/h"}]
[null,"LW_2000","dB",{"$f":"IF($D$52=\"<25\",\"\",'LW,vY-IVAT'!$K$21)","v":28.934217897823618},null,null,null,null,7,{"$f":"Übersetzung!F41","v":"Empfohlene maximale Einbauhöhe"},{"$f":"'Grunddaten-IVAT'!$R$33","v":5},{"$f":"Einheiten!$L$5","v":"m"}]
[null,"LW_4000","dB",{"$f":"IF($D$52=\"<25\",\"\",'LW,vY-IVAT'!$L$21)","v":28.897578711744671},null,null,null,null,8,{"$f":"Übersetzung!F42","v":"Durchmesser Anschlussstutzen"},{"$f":"IF(Einheiten!$F$2=3,FIXED('Grunddaten-IVAT'!$M$33,1,TRUE),FIXED('Grunddaten-IVAT'!$M$33,0,TRUE))","v":"249"},{"$f":"Einheiten!$L$10","v":"mm"}]
[null,"LW_8000","dB",{"$f":"IF($D$52=\"<25\",\"\",'LW,vY-IVAT'!$M$21)","v":27.637446840321978},null,null,null,null,9,{"$f":"Übersetzung!F43","v":"Stutzenanzahl"},{"$f":"'Grunddaten-IVAT'!$N$33","v":3},{"$f":"Einheiten!L11","v":"St."}]
[]
[{"$f":"Übersetzung!F44","v":"Änderungen vorbehalten"}]
[{"$f":"Übersetzung!F45","v":"Stand:"}]
[{"$f":"'Grunddaten-IVAT'!$H$36","v":"2020-10-30"}]

{"sheet":"LW,vY-IVAT","index":38,"n_rows":147,"n_cols":27,"rows_kept":147,"cut":false,"hidden":true,"merged":[[63,12,71,15],[9,3,12,3],[4,1,4,3],[5,1,8,3],[38,7,46,10],[49,10,49,11],[50,10,50,11]]}
[]
["Übergabewerte Akustik:"]
[null,null,"Anströmgeschwindigkeit:",{"$f":"'Grunddaten-IVAT'!$O$33*Einheiten!$F$9","v":3.4226317444749887}]
[null,null,"Druckverlust",{"$f":"'Grunddaten-IVAT'!$S$33*Einheiten!$F$14","v":14.699594469657111}]
[null,"Frequenz",null,null,"Hz",100,125,160,200,250,315,400,500,630,800,1000,1250,1600,2000,2500,3150,4000,5000,6300,8000,10000]
[null,"Koeffizienten",null,null,"K1",-32.407288730672981,-49.11209697026527,-13.288564291935579,1.3862484824452677,3.3953438575160653,-0.59303340575432573,2.6008644933841438,-5.7164582938196808,-17.934230461741059,-8.701536956976355,-36.595973786492706,-51.123747087693303,-46.674249743704884,-41.806886759653004,-22.239972506813437,-52.461660180859035,-48.826218513403198,-45.92401472227111,-33.049779955576696,-3.6797263664222188,7.7402419928601196]
[null,null,null,null,"K2",-32.736997908325598,-150.59952201964202,13.660985684201734,51.631905943739824,64.45346696801542,53.68379503707866,62.7399650538568,40.73577228719833,-2.6579486938499062,40.601982747633841,-39.835475748545065,-119.73127803240165,-136.7594229602069,-127.60377713079266,-73.680482229349934,-183.77074507584135,-136.43005665887853,-235.91788493394833,-166.03912755659252,-59.680221472213958,-31.320695513045603]
[null,null,null,null,"K3",61.691534728144589,125.82372119703722,25.516093456796785,-1.457000893794578,-8.0229274050642889,3.0881777313792638,-1.8098856648173869,15.441005686171623,45.162027486895504,17.542738284002702,76.202660257919291,121.05166189281042,121.15664401972097,110.94215235380361,73.752965690898009,145.79527636486674,125.77963402648784,163.48406501926334,120.60864135416941,46.642428766282364,23.457590229407355]
[]
[]
[]
[]
[]
[]
[null,null,null,null,"LW,A",{"$f":"F$6+F$7*LOG($D$3)+F$8*LOG($D$4)","v":22.112222132441538},{"$f":"G$6+G$7*LOG($D$3)+G$8*LOG($D$4)","v":17.288219600685011},23.796394892655321,{"$f":"I$6+I$7*LOG($D$3)+I$8*LOG($D$4)","v":27.275517785913632},28.471503573287901,31.698295053278962,34.013913913949629,34.075484679321811,33.363344079095697,33.472277927922846,31.069307740885506,26.200879339366168,21.673760394616721,{"$f":"S$6+S$7*LOG($D$3)+S$8*LOG($D$4)","v":19.510105071169761},{"$f":"T$6+T$7*LOG($D$3)+T$8*LOG($D$4)","v":24.480343883551768},19.526179132331947,25.094232843833623,18.846687555687197,19.012635692915197,18.875496906335606,18.385880345581629,{"$f":"10*LOG(10^(0.1*F15)+10^(0.1*G15)+10^(0.1*H15)+10^(0.1*I15)+10^(0.1*J15)+10^(0.1*K15)+10^(0.1*L15)+10^(0.1*M15)+10^(0.1*N15)+10^(0.1*O15)+10^(0.1*P15)+10^(0.1*Q15)+10^(0.1*R15)+10^(0.1*S15)+10^(0.1*T15)+10^(0.1*U15)+10^(0.1*V15)+10^(0.1*W15)+10^(0.1*X15)+10^(0.1*Y15)+10^(0.1*Z15))+$C$16","v":44.922837817840637}]
["Baulängenkorrektur:",null,{"$f":"IF('Auslegung-IVAT'!$D$21=1000,0,IF('Auslegung-IVAT'!$D$21=1500,2,3))","v":3},"dB",null,null,null,null,null,null,null,null,null,null,null,null,null,null,null,null,null,null,null,53,61,59,{"$f":"10*LOG(10^(0.1*X16)+10^(0.1*Y16)+10^(0.1*Z16))","v":63.5271875833119}]
[]
[null,null,null,null,"LW,A Okt",null,{"$f":"10*LOG(10^(0.1*F15)+10^(0.1*G15)+10^(0.1*H15))+C16","v":29.588505600393965},{"$f":"10*LOG(10^(0.1*I15)+10^(0.1*J15)+10^(0.1*K15))+C16","v":37.339068264400474},{"$f":"10*LOG(10^(0.1*L15)+10^(0.1*M15)+10^(0.1*N15))+C16","v":41.600532513082946},{"$f":"10*LOG(10^(0.1*O15)+10^(0.1*P15)+10^(0.1*Q15))+C16","v":38.933533704230157},{"$f":"10*LOG(10^(0.1*R15)+10^(0.1*S15)+10^(0.1*T15))+C16","v":30.134217897823618},{"$f":"10*LOG(10^(0.1*U15)+10^(0.1*V15)+10^(0.1*W15))+C16","v":29.897578711744671},{"$f":"10*LOG(10^(0.1*X15)+10^(0.1*Y15)+10^(0.1*Z15))+C16","v":26.537446840321977}]
[]
[null,null,null,null,"A-Bewertung",null,-16.100000000000001,-8.6,-3.2,0,1.2,1,-1.1000000000000001]
[null,null,null,null,"LW,Z Okt",null,{"$f":"G18-G$20","v":45.688505600393967},{"$f":"H18-H$20","v":45.939068264400476},44.800532513082949,38.933533704230157,28.934217897823618,28.897578711744671,27.637446840321978]
[]
[]
[]
["Übergabewerte Austrittswinkel:"]
[null,null,"Austrittsgeschwindigkeit:",{"$f":"'Grunddaten-IVAT'!$P$33","v":1.1627906976744187},null,"k1",4848.1993060810728]
[null,null,"Temperaturdifferenz:",{"$f":"IF(Einheiten!$E$75-Einheiten!$E$74=0,1,Einheiten!$E$75-Einheiten!$E$74)","v":8},null,"k2",3.5415148442160898E-3]
[null,null,"1/2 Strahlbreite (Wand):",{"$f":"IF(TAN(PI()*$G$34/180)*(Einheiten!$E$76-Einheiten!$E$77)>Einheiten!$E$82,Einheiten!$E$81,TAN(PI()*$G$34/180)*(Einheiten!$E$76-Einheiten!$E$77))","v":1.5922040123156505},null,"k3",-2.984147426023211]
[null,null,"1/2 Strahlbreite (zw. Durchlässen):",{"$f":"IF(TAN(PI()*$G$34/180)*(Einheiten!$E$76-Einheiten!$E$77)>Einheiten!$E$82,Einheiten!$E$82,TAN(PI()*$G$34/180)*(Einheiten!$E$76-Einheiten!$E$77))","v":1.5922040123156505},null,"k4",-4789.3821197586931]
[null,null,"Strahlbreite gesamt",{"$f":"D28+D29","v":3.1844080246313009}]
[null,null,"durchströmte Fläche Kühlfall:",{"$f":"D30*'Auslegung-IVAT'!$D$21/1000","v":6.3688160492626018}]
[]
[null,null,null,null,null,null,null,null,"09.11.17, TU:","Fläche Heizfall wird berechnet aus:",null,null,"Austrittswinkel 0° (da für Heizfall Walzenstellung A1)"]
[null,null,null,null,"Austrittswinkel:","a=",{"$f":"$G$26*($D$26/$D$40)^$G$27+$D$26^$G$28+$G$29","v":26.453273093316056},null,null,null,null,null,"Bei Sichtung des Geschwindigkeitsmappings ergaben sich für jeden Volumenstrom konstante Strahlbreiten"]
[null,null,null,null,null,null,null,null,null,null,null,null,"Die Strahlbreiten bewegen sich je nach Volumenstrom zwischen 0,5 und 1,5m, es wird ein Mittelwert von ca. 1,0m angenommen."]
[null,null,null,null,null,null,null,null,null,null,null,null,"damit dieses nicht direkt ins Auge fällt, wird der Wert volumenstromabhängig dargestellt"]
[null,null,null,null,null,null,null,null,null,null,null,null,null,null,null,null,"K1",0.53571439936175613]
[null,null,null,null,null,null,null,null,null,null,null,null,null,null,null,null,"K2",0.48392846452977978]
["Berechnung mittlere Geschwindigkeit:",null,null,null,null,"k1",0.35029340314656532,"Walzenstellung DE",null,null,null,null,null,null,"v","x","sum",{"$f":"SUM(R40:R43)","v":6.2500000001367169E-4}]
[null,null,"Temperaturdifferenz:",{"$f":"ABS(D27)","v":8},null,"k2",3.393063842135319,null,null,null,null,null,null,null,0.2,0.6,{"$f":"$R$37*O40+$R$38","v":0.59107134440213105},{"$f":"(Q40-P40)^2","v":7.9720890785356152E-5}]
[null,null,"Länge",{"$f":"'Auslegung-IVAT'!D21/1000","v":2},null,null,null,null,null,null,null,null,null,null,0.5,0.75,{"$f":"$R$37*O41+$R$38","v":0.75178566421065784},{"$f":"(Q41-P41)^2","v":3.1885966732243032E-6}]
[null,null,"aktive Breite",{"$f":"'Grunddaten-IVAT'!I33/1000","v":0.215},null,null,null,null,null,null,null,null,null,null,1,1,1.0196428638915358,3.8584210186140094E-4]
[null,null,"Umfang",{"$f":"2*D41+2*D42","v":4.43},null,null,null,null,null,null,null,null,null,null,1.5,1.3,1.2875000635724141,1.5624841069369034E-4]
[null,null,"Austrittsfläche",{"$f":"D41*D42","v":0.43}]
[null,null,"char. Länge (=dhydr)",{"$f":"4*D44/D43","v":0.38826185101580135}]
[null,null,"Mischzahl",0.185]
[null,null,"mittl. Geschw:",{"$f":"$G$39*$D$26+((9.81*$D$45*$D$40)/($G$40*$D$26^2*(273+20)*$D$46))","v":0.52984983032828448}]
[]
["Berechnung Eindringtiefe über Geschwindigkeit im Vertikalstrahl:"]
[null,null,null,null,null,"k1",1.1554910125175373,null,"Vert. Abstand","Geschwindigkeit","Eindringtiefe"]
[null,null,null,null,null,"k2",0.59515119214387724,null,"Y","v","Ymax"]
[null,null,null,null,null,"k3",5.3408561908900962,null,"m","m/s","m/s","m"]
[null,null,null,null,null,null,null,null,1,{"$f":"$G$50*$D$26/(I53^$G$51)-SQRT((9.81*$D$45*$D$40)/($G$52*$D$26^2*293*$D$46)*(2.83*SQRT(2*I53^$G$51/$G$50)-1))","v":0.88317208154400317},null,{"$f":"IF(K53<>\"\",I53,\"\")","v":""}]
[null,null,"Lauflänge bis OK-A-Ber",{"$f":"Einheiten!$E$76-Einheiten!$E$77","v":3.2},null,null,null,null,1.1000000000000001,0.80011203373135831,{"$f":"IF(AND(J54<$D$57,J53>$D$57),J53,\"\")","v":""},{"$f":"IF(K54<>\"\",I54,\"\")","v":""}]
[null,null,"Geschw. Bei Eintritt in A-Ber",{"$f":"$G$50*$D$26/(D54^$G$51)-SQRT((9.81*$D$45*$D$40)/($G$52*$D$26^2*293*$D$46)*(2.83*SQRT(2*D54^$G$51/$G$50)-1))","v":9.6328718455097939E-2},null,null,null,null,1.2,0.72778557949715761,"",""]
[null,null,"Gesch. Anzeige",{"$f":"IF(D55<=0,0,D55)","v":9.6328718455097939E-2},null,null,null,null,1.3,0.66404842007201259,"",""]
[null,null,"festgelegte Randgeschw.",7.0000000000000007E-2,null,null,null,null,1.4,0.60731090223348683,"",""]
[null,null,"Eindringtiefe",{"$f":"SUM(L53:L147)","v":3.4},null,null,null,null,1.5,0.55636649564609963,"",""]
[null,null,"durchströmte Fläche Heizfall:",{"$f":"($R$37*D26+$R$38)*'Auslegung-IVAT'!D21/1000","v":2.213704369435737},null,null,null,null,1.6,0.51028086869337497,"",""]
[null,null,null,null,null,null,null,null,1.7,0.46831780593018113,"",""]
[null,null,null,null,null,null,null,null,1.8,0.42988833990461417,"",""]
[null,null,null,null,null,null,null,null,1.9,0.39451496988837664,"",""]
[null,null,null,null,null,null,null,null,2,0.36180595370373569,"",""]
[null,null,null,null,null,null,null,null,2.1,0.33143648684691451,"","","Walzenstellung A1"]
[null,null,null,null,null,null,null,null,2.2000000000000002,0.30313469110529823,"",""]
[null,null,null,null,null,null,null,null,2.2999999999999998,0.27667102567076984,"",""]
[null,null,null,null,null,null,null,null,2.4,0.25185017542323052,"",""]
[null,null,null,null,null,null,null,null,2.5,0.22850475989373398,"",""]
[null,null,null,null,null,null,null,null,2.6,0.20649039919266088,"",""]
[null,null,null,null,null,null,null,null,2.7,0.18568180425356573,"",""]
[null,null,null,null,null,null,null,null,2.8,0.16596964936740666,"",""]
[null,null,null,null,null,null,null,null,2.9,0.1472580486179017,"",""]
[null,null,null,null,null,null,null,null,3,0.12946250315216146,"",""]
[null,null,null,null,null,null,null,null,3.1,0.11250821892646123,"",""]
[null,null,null,null,null,null,null,null,3.2,9.6328718455097939E-2,"",""]
[null,null,null,null,null,null,null,null,3.3,8.0864687735096474E-2,"",""]
[null,null,null,null,null,null,null,null,3.4,6.6063012689745459E-2,8.0864687735096474E-2,3.4]
[null,null,null,null,null,null,null,null,3.5,5.1875969400602684E-2,"",""]
[null,null,null,null,null,null,null,null,3.6,3.8260539948109851E-2,"",""]
[null,null,null,null,null,null,null,null,3.7,2.5177831473343071E-2,"",""]
[null,null,null,null,null,null,null,null,3.8,1.2592580552917343E-2,"",""]
[null,null,null,null,null,null,null,null,3.9,4.7272846948853697E-4,"",""]
[null,null,null,null,null,null,null,null,4,-1.1210944300504844E-2,"",""]
[null,null,null,null,null,null,null,null,4.0999999999999996,-2.2485133896091303E-2,"",""]
[null,null,null,null,null,null,null,null,4.2,{"$f":"$G$50*$D$26/(I85^$G$51)-SQRT((9.81*$D$45*$D$40)/($G$52*$D$26^2*293*$D$46)*(2.83*SQRT(2*I85^$G$51/$G$50)-1))","v":-3.3374286971493916E-2},"",""]
[null,null,null,null,null,null,null,null,4.3,-4.3900839103391265E-2,{"$f":"IF(AND(J86<$D$57,J85>$D$57),J85,\"\")","v":""},""]
[null,null,null,null,null,null,null,null,4.4000000000000004,-5.4085423015428735E-2,"",""]
[null,null,null,null,null,null,null,null,4.5,-6.3947051033976465E-2,"",""]
[null,null,null,null,null,null,null,null,4.5999999999999996,-7.3503275460865547E-2,"",""]
[null,null,null,null,null,null,null,null,4.7,-8.2770329953767652E-2,"",""]
[null,null,null,null,null,null,null,null,4.8,-9.1763254516383341E-2,"",""]
[null,null,null,null,null,null,null,null,4.9000000000000004,-0.10049600629779232,"",""]
[null,null,null,null,null,null,null,null,5,-0.10898155806671672,"",{"$f":"IF(K93<>\"\",I93,\"\")","v":""}]
[null,null,null,null,null,null,null,null,5.0999999999999996,-0.11723198594906037,"",""]
[null,null,null,null,null,null,null,null,5.2,-0.12525854778551038,"",""]
[null,null,null,null,null,null,null,null,5.3,-0.13307175327194409,"",""]
[null,null,null,null,null,null,null,null,5.4,-0.14068142688220076,"",""]
[null,null,null,null,null,null,null,null,5.5,-0.14809676443505831,"",""]
[null,null,null,null,null,null,null,null,5.6,-0.15532638405066634,"",""]
[null,null,null,null,null,null,null,null,5.7,-0.16237837214263795,"",""]
[null,null,null,null,null,null,null,null,5.8000000000000096,-0.16926032500762117,"",""]
[null,null,null,null,null,null,null,null,5.9000000000000101,-0.17597938650206085,"",""]
[null,null,null,null,null,null,null,null,6.0000000000000098,-0.18254228223406455,"",""]
[null,null,null,null,null,null,null,null,6.5,-0.21322408617115718,"",""]
[null,null,null,null,null,null,null,null,7,-0.24081748228303701,"",""]
[null,null,null,null,null,null,null,null,7.5,-0.26583772800849631,"",""]
[null,null,null,null,null,null,null,null,8,-0.28868587735215112,"",""]
[null,null,null,null,null,null,null,null,9,-0.32907392484264314,"",""]
[null,null,null,null,null,null,null,null,10,-0.36386029404805842,"",""]
[null,null,null,null,null,null,null,null,11,-0.39431525448098237,{"$f":"IF(AND(J110<$D$57,J109>$D$57),J109,\"\")","v":""},{"$f":"IF(K110<>\"\",I110,\"\")","v":""}]
[null,null,null,null,null,null,null,null,12,-0.42133366793145871,"",""]
[null,null,null,null,null,null,null,null,13,-0.44556725538207204,"",""]
[null,null,null,null,null,null,null,null,14,-0.4675039072383515,"",""]
[null,null,null,null,null,null,null,null,15,-0.48751742623496919,"",""]
[null,null,null,null,null,null,null,null,16,-0.50589992202495582,"",""]
[null,null,null,null,null,null,null,null,17,-0.52288359320524647,"",""]
[null,null,null,null,null,null,null,null,18,{"$f":"$G$50*$D$26/(I117^$G$51)-SQRT((9.81*$D$45*$D$40)/($G$52*$D$26^2*293*$D$46)*(2.83*SQRT(2*I117^$G$51/$G$50)-1))","v":-0.53865578207626674},"",""]
[null,null,null,null,null,null,null,null,19,-0.55336963191367916,"",""]
[null,null,null,null,null,null,null,null,20,-0.56715179153785333,"",{"$f":"IF(K119<>\"\",I119,\"\")","v":""}]
[null,null,null,null,null,null,null,null,25,-0.62527411266205157,"",""]
[null,null,null,null,null,null,null,null,30,-0.67081235678817852,"",""]
[null,null,null,null,null,null,null,null,35,-0.70815410851353888,"",""]
[null,null,null,null,null,null,null,null,40,-0.73975981841546545,"",""]
[null,null,null,null,null,null,null,null,45,-0.76713950125780883,"",""]
[null,null,null,null,null,null,null,null,50,-0.79128290688630432,"",""]
[null,null,null,null,null,null,null,null,55,-0.81287217624352737,"",""]
[null,null,null,null,null,null,null,null,60,-0.83239643573485578,"",""]
[null,null,null,null,null,null,null,null,65,-0.85021783322301248,"",""]
[null,null,null,null,null,null,null,null,70,-0.8666116945053951,"",""]
[null,null,null,null,null,null,null,null,75,-0.8817920444723516,"",""]
[null,null,null,null,null,null,null,null,80,-0.89592843672834599,"",""]
[null,null,null,null,null,null,null,null,85,-0.90915740496838771,"",""]
[null,null,null,null,null,null,null,null,90,-0.92159046766753194,{"$f":"IF(AND(J133<$D$57,J132>$D$57),J132,\"\")","v":""},""]
[null,null,null,null,null,null,null,null,95,-0.93331985611463275,"",""]
[null,null,null,null,null,null,null,null,100,-0.94442269844094429,"",""]
[null,null,null,null,null,null,null,null,105,-0.95496413192525664,"",""]
[null,null,null,null,null,null,null,null,110,-0.96499965591600345,"",""]
[null,null,null,null,null,null,null,null,115,-0.97457693669293766,"",""]
[null,null,null,null,null,null,null,null,120,-0.98373721018945393,"",""]
[null,null,null,null,null,null,null,null,125,-0.99251638520310281,"",""]
[null,null,null,null,null,null,null,null,130,-1.0009459204830899,"",""]
[null,null,null,null,null,null,null,null,135,-1.0090535289746805,"",""]
[null,null,null,null,null,null,null,null,140,-1.0168637484397469,"",{"$f":"IF(K143<>\"\",I143,\"\")","v":""}]
[null,null,null,null,null,null,null,null,145,-1.02439840769096,"",""]
[null,null,null,null,null,null,null,null,150,-1.0316770104917405,"",""]
[null,null,null,null,null,null,null,null,155,-1.0387170539348791,"",""]
[null,null,null,null,null,null,null,null,160,-1.0455342942469512,"",""]

{"sheet":"Funktion-IVAT","index":39,"n_rows":0,"n_cols":0,"rows_kept":0,"cut":false,"hidden":true,"merged":[]}

{"sheet":"Grunddaten-LUW","index":40,"n_rows":135,"n_cols":21,"rows_kept":135,"cut":false,"hidden":true,"merged":[[0,16,0,17],[0,19,0,20]]}
["Typ","DN",null,"Montagepos.","Klappenwinkel","Soll-Volumenstrom","V° Auslegung min","V° Auslegung max","Höhe, gelocht","Höhe, ungelocht","Gesamthöhe","Durchmesser Anschluss","Durchmesser Öffnung","Anströmgeschwindigkeit","Druckverlust, Zuluft","Druckverlust, Abluft","Konstanten Druckverlust",null,"Schallleistungspegel","Konstanten Schallleistungspegel"]
[null,"Lochbild",null,null,"alpha","V°","V°min","V°max","hg","hu","Hges","d","di","v","Dp","Dp","K011","K012","LW,A","K021","K022"]
[null,null,null,null,"°","m³/h","m³/h","m³/h","mm","mm","mm","mm","mm","m/s","Pa","Pa",null,null,"dB(A)"]
["Luwiro",200,{"$f":"CONCATENATE(A4,B4,D4,E4)","v":"Luwiro200b0"},"b",0,{"$f":"'Auslegung-LUW'!$D$26","v":1600},400,700,1000,400,{"$f":"J4+I4","v":1400},203,0,{"$f":"F4/(PI()/4*('Grunddaten-LUW'!L4/1000)^2*3600)","v":13.732054699325795},{"$f":"Q4*F4^R4","v":95.402073764966119},null,2.9469469077156083E-6,2.3439151917240624,{"$f":"T4+U4*LOG(F4)","v":70.827286837301131},-170.05917332594649,75.180224669231833]
["Luwiro",200,{"$f":"CONCATENATE(A5,B5,D5,E5)","v":"Luwiro200b15"},"b",15,{"$f":"'Auslegung-LUW'!$D$26","v":1600},400,700,1000,400,{"$f":"J5+I5","v":1400},203,0,{"$f":"F5/(PI()/4*('Grunddaten-LUW'!L5/1000)^2*3600)","v":13.732054699325795},{"$f":"Q5*F5^R5","v":127.87322417087479},null,4.254555866211569E-6,2.3338468675632029,{"$f":"T5+U5*LOG(F5)","v":72.728071987814474},-165.43940648945201,74.331635446387764]
["Luwiro",200,"Luwiro200b20","b",20,{"$f":"'Auslegung-LUW'!$D$26","v":1600},400,700,1000,400,1400,203,0,{"$f":"F6/(PI()/4*('Grunddaten-LUW'!L6/1000)^2*3600)","v":13.732054699325795},166.86339471372446,null,4.0991353556082551E-6,2.3749637519028748,75.305527617942317,-169.2750432009349,76.333149864176477]
["Luwiro",200,"Luwiro200b25","b",25,{"$f":"'Auslegung-LUW'!$D$26","v":1600},400,700,1000,400,1400,203,0,{"$f":"F7/(PI()/4*('Grunddaten-LUW'!L7/1000)^2*3600)","v":13.732054699325795},177.0231966565228,null,7.1346480802982583E-6,2.3078591509435524,76.756060127412354,-167.01044255697502,76.079080684839738]
["Luwiro",200,"Luwiro200b30","b",30,{"$f":"'Auslegung-LUW'!$D$26","v":1600},400,700,1000,400,1400,203,0,{"$f":"F8/(PI()/4*('Grunddaten-LUW'!L8/1000)^2*3600)","v":13.732054699325795},239.11485426789045,null,7.5317277087268614E-6,2.3412706097112896,77.348869316459087,-159.84262130327201,74.027031416944908]
["Luwiro",200,"Luwiro200b37","b",37,{"$f":"'Auslegung-LUW'!$D$26","v":1600},400,700,1000,400,1400,203,0,{"$f":"F9/(PI()/4*('Grunddaten-LUW'!L9/1000)^2*3600)","v":13.732054699325795},357.41374259816479,null,1.1612227974769247E-5,2.3370709381210082,80.827126218187146,-160.05856237532277,75.179983863724587]
["Luwiro",200,"Luwiro200b45","b",45,{"$f":"'Auslegung-LUW'!$D$26","v":1600},400,700,1000,400,1400,203,0,{"$f":"F10/(PI()/4*('Grunddaten-LUW'!L10/1000)^2*3600)","v":13.732054699325795},570.37813833964776,null,1.6868431948554936E-5,2.3498146756966558,84.656746167152761,-156.39033769414019,75.230355032300253]
["Luwiro",250,"Luwiro250b0","b",0,{"$f":"'Auslegung-LUW'!$D$26","v":1600},700,1000,1000,400,1400,253,0,{"$f":"F11/(PI()/4*('Grunddaten-LUW'!L11/1000)^2*3600)","v":8.8406980597184273},38.169237784213507,null,3.3473912702728715E-6,2.2024790102918352,60.459882959184853,-187.65360711466232,77.435767517102661]
["Luwiro",250,"Luwiro250b15","b",15,{"$f":"'Auslegung-LUW'!$D$26","v":1600},700,1000,1000,400,1400,253,0,{"$f":"F12/(PI()/4*('Grunddaten-LUW'!L12/1000)^2*3600)","v":8.8406980597184273},61.833712920719911,null,3.5698368874504853E-6,2.2591466585684237,62.393878227446748,-183.73266863108861,76.815646165197222]
["Luwiro",250,"Luwiro250b20","b",20,{"$f":"'Auslegung-LUW'!$D$26","v":1600},700,1000,1000,400,1400,253,0,{"$f":"F13/(PI()/4*('Grunddaten-LUW'!L13/1000)^2*3600)","v":8.8406980597184273},76.270127021329017,null,2.49276092894829E-6,2.3362651464962192,64.687494279056295,-188.00104635833657,78.863632449848836]
["Luwiro",250,"Luwiro250b25","b",25,{"$f":"'Auslegung-LUW'!$D$26","v":1600},700,1000,1000,400,1400,253,0,{"$f":"F14/(PI()/4*('Grunddaten-LUW'!L14/1000)^2*3600)","v":8.8406980597184273},96.041879930390422,null,2.3164978321440396E-6,2.3774480342499378,66.753419519459385,-187.92158479027546,79.483604137268415]
["Luwiro",250,"Luwiro250b30","b",30,{"$f":"'Auslegung-LUW'!$D$26","v":1600},700,1000,1000,400,1400,253,0,{"$f":"F15/(PI()/4*('Grunddaten-LUW'!L15/1000)^2*3600)","v":8.8406980597184273},119.44573903178069,null,3.3237448088816829E-6,2.3580711804483947,67.621469239282618,-183.08000990011638,78.243474182134165]
["Luwiro",250,"Luwiro250b37","b",37,{"$f":"'Auslegung-LUW'!$D$26","v":1600},700,1000,1000,400,1400,253,0,{"$f":"F16/(PI()/4*('Grunddaten-LUW'!L16/1000)^2*3600)","v":8.8406980597184273},189.32443272143428,null,2.2229208072552289E-6,2.4750267518491467,70.952511023768551,-181.83049637900993,78.89311535495132]
["Luwiro",250,"Luwiro250b45","b",45,{"$f":"'Auslegung-LUW'!$D$26","v":1600},700,1000,1000,400,1400,253,0,{"$f":"F17/(PI()/4*('Grunddaten-LUW'!L17/1000)^2*3600)","v":8.8406980597184273},245.14520628603168,null,5.2528438421807377E-6,2.3934899306344923,74.151620246736087,-176.73951012854829,78.30266398679565]
["Luwiro",315,"Luwiro315b0","b",0,{"$f":"'Auslegung-LUW'!$D$26","v":1600},1000,1800,1100,400,1500,318,0,{"$f":"F18/(PI()/4*('Grunddaten-LUW'!L18/1000)^2*3600)","v":5.5959440103686235},16.364222177506154,null,2.200999702748214E-6,2.1445125090785733,45.264136084388383,-200.75358622229137,76.781682221136236]
["Luwiro",315,"Luwiro315b15","b",15,{"$f":"'Auslegung-LUW'!$D$26","v":1600},1000,1800,1100,400,1500,318,0,{"$f":"F19/(PI()/4*('Grunddaten-LUW'!L19/1000)^2*3600)","v":5.5959440103686235},24.832271514389873,null,3.3977309537597712E-6,2.1421880262364481,47.149039518406255,-194.52321473250856,75.425469570147143]
["Luwiro",315,"Luwiro315b20","b",20,{"$f":"'Auslegung-LUW'!$D$26","v":1600},1000,1800,1100,400,1500,318,0,{"$f":"F20/(PI()/4*('Grunddaten-LUW'!L20/1000)^2*3600)","v":5.5959440103686235},27.651577247227735,null,3.244739888135595E-6,2.1630088942868939,48.485295142263283,-196.44444295706316,76.442124335275963]
["Luwiro",315,"Luwiro315b25","b",25,{"$f":"'Auslegung-LUW'!$D$26","v":1600},1000,1800,1100,400,1500,318,0,{"$f":"F21/(PI()/4*('Grunddaten-LUW'!L21/1000)^2*3600)","v":5.5959440103686235},34.881984686037868,null,3.7203624041600261E-6,2.1759534530021258,50.264041858901805,-195.75144660897917,76.780985044123241]
["Luwiro",315,"Luwiro315b30","b",30,{"$f":"'Auslegung-LUW'!$D$26","v":1600},1000,1800,1100,400,1500,318,0,{"$f":"F22/(PI()/4*('Grunddaten-LUW'!L22/1000)^2*3600)","v":5.5959440103686235},42.714935025845882,null,5.1076512083117609E-6,2.1604554620589638,51.676443415675465,-191.02995193177114,75.748223119368035]
["Luwiro",315,"Luwiro315b37","b",37,{"$f":"'Auslegung-LUW'!$D$26","v":1600},1000,1800,1100,400,1500,318,0,{"$f":"F23/(PI()/4*('Grunddaten-LUW'!L23/1000)^2*3600)","v":5.5959440103686235},61.005972138287945,null,5.9072874002192462E-6,2.1890516864033924,53.140262777598593,-178.75900825954966,72.37533934198207]
["Luwiro",315,"Luwiro315b45","b",45,{"$f":"'Auslegung-LUW'!$D$26","v":1600},1000,1800,1100,400,1500,318,0,{"$f":"F24/(PI()/4*('Grunddaten-LUW'!L24/1000)^2*3600)","v":5.5959440103686235},80.186854496165822,null,1.1851810837668472E-5,2.1317299300232611,57.923041814019626,-181.56015324130348,74.742268189599216]
["Luwiro",355,"Luwiro355b0","b",0,{"$f":"'Auslegung-LUW'!$D$26","v":1600},1200,1900,1100,400,1500,357,0,{"$f":"F25/(PI()/4*('Grunddaten-LUW'!L25/1000)^2*3600)","v":4.4400838147377915},11.810422230119842,null,2.8107112300757111E-6,2.067166407990555,37.962973507329139,-207.28018416758249,76.539942012916541]
["Luwiro",355,"Luwiro355b15","b",15,{"$f":"'Auslegung-LUW'!$D$26","v":1600},1200,1900,1100,400,1500,357,0,{"$f":"F26/(PI()/4*('Grunddaten-LUW'!L26/1000)^2*3600)","v":4.4400838147377915},16.303267477819631,null,4.9794635922105804E-6,2.0333483539143544,40.243323191945592,-204.3098328082728,76.324593749297122]
["Luwiro",355,"Luwiro355b20","b",20,{"$f":"'Auslegung-LUW'!$D$26","v":1600},1200,1900,1100,400,1500,357,0,{"$f":"F27/(PI()/4*('Grunddaten-LUW'!L27/1000)^2*3600)","v":4.4400838147377915},17.006055273050983,null,3.854379235390384E-6,2.0737828730690646,41.755524505809575,-208.20390544927838,78.01188198573459]
["Luwiro",355,"Luwiro355b25","b",25,{"$f":"'Auslegung-LUW'!$D$26","v":1600},1200,1900,1100,400,1500,357,0,{"$f":"F28/(PI()/4*('Grunddaten-LUW'!L28/1000)^2*3600)","v":4.4400838147377915},22.187572687960266,null,2.9252374827271809E-6,2.147219423982611,43.254523604643424,-218.09571354978564,81.566932127739321]
["Luwiro",355,"Luwiro355b30","b",30,{"$f":"'Auslegung-LUW'!$D$26","v":1600},1200,1900,1100,400,1500,357,0,{"$f":"F29/(PI()/4*('Grunddaten-LUW'!L29/1000)^2*3600)","v":4.4400838147377915},26.887168282063389,null,3.6963246707693253E-6,2.1415474425252148,44.721244230798504,-203.35165469241008,77.423099093055399]
["Luwiro",355,"Luwiro355b37","b",37,{"$f":"'Auslegung-LUW'!$D$26","v":1600},1200,1900,1100,400,1500,357,0,{"$f":"F30/(PI()/4*('Grunddaten-LUW'!L30/1000)^2*3600)","v":4.4400838147377915},34.591296148650848,null,2.7875993578663871E-6,2.213942211304885,47.491298830193813,-194.58887211213542,75.552779625208274]
["Luwiro",355,"Luwiro355b45","b",45,{"$f":"'Auslegung-LUW'!$D$26","v":1600},1200,1900,1100,400,1500,357,0,{"$f":"F31/(PI()/4*('Grunddaten-LUW'!L31/1000)^2*3600)","v":4.4400838147377915},55.597897513090579,null,8.0225903534895521E-6,2.1349836425229149,51.721294182587201,-196.3506875717602,77.422812846327389]
["Luwiro",400,"Luwiro400b0","b",0,{"$f":"'Auslegung-LUW'!$D$26","v":1600},1800,2000,1250,400,1650,403,0,{"$f":"F32/(PI()/4*('Grunddaten-LUW'!L32/1000)^2*3600)","v":3.484315783635862},9.7876378654840615,null,6.0703634944653034E-6,1.9373379363304555,33.682628166339356,-212.25076351150074,76.755362785754244]
["Luwiro",400,"Luwiro400b15","b",15,{"$f":"'Auslegung-LUW'!$D$26","v":1600},1800,2000,1250,400,1650,403,0,{"$f":"F33/(PI()/4*('Grunddaten-LUW'!L33/1000)^2*3600)","v":3.484315783635862},11.777343648391469,null,2.6608426130499147E-6,2.0742132617666451,35.682633978423155,-210.25054356452637,76.755295954645632]
["Luwiro",400,"Luwiro400b20","b",20,{"$f":"'Auslegung-LUW'!$D$26","v":1600},1800,2000,1250,400,1650,403,0,{"$f":"F34/(PI()/4*('Grunddaten-LUW'!L34/1000)^2*3600)","v":3.484315783635862},14.388891066874676,null,4.039942585257835E-6,2.044758675430177,36.841620221969634,-211.16074077696345,77.401084335600203]
["Luwiro",400,"Luwiro400b25","b",25,{"$f":"'Auslegung-LUW'!$D$26","v":1600},1800,2000,1250,400,1650,403,0,{"$f":"F35/(PI()/4*('Grunddaten-LUW'!L35/1000)^2*3600)","v":3.484315783635862},15.685114374280758,null,3.2031970371529033E-6,2.0879068424397258,38.841626223584854,-209.16052320467668,77.401018304779669]
["Luwiro",400,"Luwiro400b30","b",30,{"$f":"'Auslegung-LUW'!$D$26","v":1600},1800,2000,1250,400,1650,403,0,{"$f":"F36/(PI()/4*('Grunddaten-LUW'!L36/1000)^2*3600)","v":3.484315783635862},16.680516555093025,null,2.3869981085212782E-6,2.1361114620352302,39.914509128907298,-212.11442891599864,78.657771684316529]
["Luwiro",400,"Luwiro400b37","b",37,{"$f":"'Auslegung-LUW'!$D$26","v":1600},1800,2000,1250,400,1650,403,0,{"$f":"F37/(PI()/4*('Grunddaten-LUW'!L37/1000)^2*3600)","v":3.484315783635862},29.055564439656919,null,2.8688242593179317E-6,2.1864116855070077,42.84163609049773,-205.16009162642635,77.400886689440753]
["Luwiro",400,"Luwiro400b45","b",45,{"$f":"'Auslegung-LUW'!$D$26","v":1600},1800,2000,1250,400,1650,403,0,{"$f":"F38/(PI()/4*('Grunddaten-LUW'!L38/1000)^2*3600)","v":3.484315783635862},42.018855891301982,null,4.6348241324074812E-6,2.1713952664561162,46.951273860695807,-207.11373084190211,79.293224372952821]
["Luwiro",450,"Luwiro450b0","b",0,{"$f":"'Auslegung-LUW'!$D$26","v":1600},1800,2700,1250,400,1650,453,0,{"$f":"F39/(PI()/4*('Grunddaten-LUW'!L39/1000)^2*3600)","v":2.757599530744347},5.7474986156110175,null,2.1275702350174043E-6,2.0072890541843367,27.375746853840099,-212.41125848152959,74.837086823636369]
["Luwiro",450,"Luwiro450b15","b",15,{"$f":"'Auslegung-LUW'!$D$26","v":1600},1800,2700,1250,400,1650,453,0,{"$f":"F40/(PI()/4*('Grunddaten-LUW'!L40/1000)^2*3600)","v":2.757599530744347},8.0861070020843187,null,3.3562934008610574E-6,1.9917729671494542,29.375795161236596,-210.41070226792942,74.836928307036985]
["Luwiro",450,"Luwiro450b20","b",20,{"$f":"'Auslegung-LUW'!$D$26","v":1600},1800,2700,1250,400,1650,453,0,{"$f":"F41/(PI()/4*('Grunddaten-LUW'!L41/1000)^2*3600)","v":2.757599530744347},9.7835173791497141,null,4.7443162865815843E-6,1.9706881829684071,31.362485055022347,-203.48464688532866,73.295361350883013]
["Luwiro",450,"Luwiro450b25","b",25,{"$f":"'Auslegung-LUW'!$D$26","v":1600},1800,2700,1250,400,1650,453,0,{"$f":"F42/(PI()/4*('Grunddaten-LUW'!L42/1000)^2*3600)","v":2.757599530744347},12.315523973589853,null,9.9404418514314092E-6,1.9016289145802854,31.943902332775565,-217.3017701016891,77.789119565947914]
["Luwiro",450,"Luwiro450b30","b",30,{"$f":"'Auslegung-LUW'!$D$26","v":1600},1800,2700,1250,400,1650,453,0,{"$f":"F43/(PI()/4*('Grunddaten-LUW'!L43/1000)^2*3600)","v":2.757599530744347},14.260513804557382,null,6.331194647749128E-6,1.9826503195830636,34.37590997883629,-205.40931444670201,74.836531004927636]
["Luwiro",450,"Luwiro450b37","b",37,{"$f":"'Auslegung-LUW'!$D$26","v":1600},1800,2700,1250,400,1650,453,0,{"$f":"F44/(PI()/4*('Grunddaten-LUW'!L44/1000)^2*3600)","v":2.757599530744347},18.013088927215453,null,4.2526914126233474E-6,2.0682509889486758,36.332694659165185,-206.42863292196319,75.765367369264766]
["Luwiro",450,"Luwiro450b45","b",45,{"$f":"'Auslegung-LUW'!$D$26","v":1600},1800,2700,1250,400,1650,453,0,{"$f":"F45/(PI()/4*('Grunddaten-LUW'!L45/1000)^2*3600)","v":2.757599530744347},30.108077028722548,null,8.085765612604147E-6,2.0507852096781365,39.965187134293643,-206.66781896210281,76.973711169192882]
["Luwiro",500,"Luwiro500b0","b",0,{"$f":"'Auslegung-LUW'!$D$26","v":1600},2000,3200,1500,400,1900,503,0,{"$f":"F46/(PI()/4*('Grunddaten-LUW'!L46/1000)^2*3600)","v":2.2366170456565451},3.577091428690002,null,2.7732700075463544E-6,1.9070877241997817,18.986818008543395,-227.28544035348588,76.861122459556569]
["Luwiro",500,"Luwiro500b15","b",15,{"$f":"'Auslegung-LUW'!$D$26","v":1600},2000,3200,1500,400,1900,503,0,{"$f":"F47/(PI()/4*('Grunddaten-LUW'!L47/1000)^2*3600)","v":2.2366170456565451},4.7380367838537643,null,1.6773572784792418E-6,2.0133368554964131,20.986866968781726,-225.2848834323697,76.860963925893472]
["Luwiro",500,"Luwiro500b20","b",20,{"$f":"'Auslegung-LUW'!$D$26","v":1600},2000,3200,1500,400,1900,503,0,{"$f":"F48/(PI()/4*('Grunddaten-LUW'!L48/1000)^2*3600)","v":2.2366170456565451},5.7125224433912409,null,3.2888083917655266E-6,1.9474268695277308,22.58477948833675,-225.23064660135336,77.342742291527301]
["Luwiro",500,"Luwiro500b25","b",25,{"$f":"'Auslegung-LUW'!$D$26","v":1600},2000,3200,1500,400,1900,503,0,{"$f":"F49/(PI()/4*('Grunddaten-LUW'!L49/1000)^2*3600)","v":2.2366170456565451},6.5878566511791901,null,1.7786315406964543E-6,2.0500662230679261,24.196120325484799,-230.10221184435363,79.366045449723828]
["Luwiro",500,"Luwiro500b30","b",30,{"$f":"'Auslegung-LUW'!$D$26","v":1600},2000,3200,1500,400,1900,503,0,{"$f":"F50/(PI()/4*('Grunddaten-LUW'!L50/1000)^2*3600)","v":2.2366170456565451},8.4802513711043925,null,2.4859452875847211E-6,2.0389115248449663,25.584850345870223,-222.22980835434365,77.342502790672029]
["Luwiro",500,"Luwiro500b37","b",37,{"$f":"'Auslegung-LUW'!$D$26","v":1600},2000,3200,1500,400,1900,503,0,{"$f":"F51/(PI()/4*('Grunddaten-LUW'!L51/1000)^2*3600)","v":2.2366170456565451},10.813768012293041,null,3.7099654241919499E-6,2.0175921068128138,28.628182505196889,-216.20910174223002,76.4132696567995]
["Luwiro",500,"Luwiro500b45","b",45,{"$f":"'Auslegung-LUW'!$D$26","v":1600},2000,3200,1500,400,1900,503,0,{"$f":"F52/(PI()/4*('Grunddaten-LUW'!L52/1000)^2*3600)","v":2.2366170456565451},16.792701826745226,null,2.8072281623408434E-6,2.1150402922617291,31.987125909481563,-214.28181737868337,76.860087831052553]
["Luwiro",560,"Luwiro560b0","b",0,{"$f":"'Auslegung-LUW'!$D$26","v":1600},2800,4300,1700,400,2100,563,0,{"$f":"F53/(PI()/4*('Grunddaten-LUW'!L53/1000)^2*3600)","v":1.7852983796665189},2.0155428317800879,null,1.2787850106969249E-6,1.934257932966472,12.016514001730826,-226.34192142536685,74.391232761989201]
["Luwiro",560,"Luwiro560b15","b",15,{"$f":"'Auslegung-LUW'!$D$26","v":1600},2800,4300,1700,400,2100,563,0,{"$f":"F54/(PI()/4*('Grunddaten-LUW'!L54/1000)^2*3600)","v":1.7852983796665189},2.8667148425500151,null,1.7866771823373567E-6,1.9366747929356358,15.405323973040964,-216.46912206915061,72.367591506354486]
["Luwiro",560,"Luwiro560b20","b",20,{"$f":"'Auslegung-LUW'!$D$26","v":1600},2800,4300,1700,400,2100,563,0,{"$f":"F55/(PI()/4*('Grunddaten-LUW'!L55/1000)^2*3600)","v":1.7852983796665189},3.4883304714479539,null,2.6446560503973608E-6,1.9101183653295639,16.016610621395017,-222.34079105076157,74.390910128958382]
["Luwiro",560,"Luwiro560b25","b",25,{"$f":"'Auslegung-LUW'!$D$26","v":1600},2800,4300,1700,400,2100,563,0,{"$f":"F56/(PI()/4*('Grunddaten-LUW'!L56/1000)^2*3600)","v":1.7852983796665189},4.2122415607829291,null,2.4554947105862113E-6,1.9457368324694486,16.973373637626025,-224.36038034728315,75.3198242547913]
["Luwiro",560,"Luwiro560b30","b",30,{"$f":"'Auslegung-LUW'!$D$26","v":1600},2800,4300,1700,400,2100,563,0,{"$f":"F57/(PI()/4*('Grunddaten-LUW'!L57/1000)^2*3600)","v":1.7852983796665189},5.0353566856428396,null,2.0194039860916011E-6,1.9964318019329779,19.016682925981627,-219.33994805237674,74.39066959683025]
["Luwiro",560,"Luwiro560b37","b",37,{"$f":"'Auslegung-LUW'!$D$26","v":1600},2800,4300,1700,400,2100,563,0,{"$f":"F58/(PI()/4*('Grunddaten-LUW'!L58/1000)^2*3600)","v":1.7852983796665189},7.1435610032189567,null,5.3245300426573229E-6,1.9124232267060166,21.375605470571173,-218.41293566513841,74.837566144120061]
["Luwiro",560,"Luwiro560b45","b",45,{"$f":"'Auslegung-LUW'!$D$26","v":1600},2800,4300,1700,400,2100,563,0,{"$f":"F59/(PI()/4*('Grunddaten-LUW'!L59/1000)^2*3600)","v":1.7852983796665189},9.6840338956745491,null,2.3452040165950412E-6,2.0648027250421337,26.405584846090107,-205.46603685784675,72.366710035538787]
["Luwiro",630,"Luwiro630b0","b",0,{"$f":"'Auslegung-LUW'!$D$26","v":1600},3200,5500,2000,400,2400,633,0,{"$f":"F60/(PI()/4*('Grunddaten-LUW'!L60/1000)^2*3600)","v":1.4122779564812529},1.2650842487569625,null,2.1292792415279286E-6,1.8020195434564694,2.9431687330513796,-246.30983852801714,77.791408751947046]
["Luwiro",630,"Luwiro630b15","b",15,{"$f":"'Auslegung-LUW'!$D$26","v":1600},3200,5500,2000,400,2400,633,0,{"$f":"F61/(PI()/4*('Grunddaten-LUW'!L61/1000)^2*3600)","v":1.4122779564812529},1.5625638129490411,null,1.2596870919410376E-6,1.9017936644698146,5.9731054454563264,-235.36348640676573,75.320709948001365]
["Luwiro",630,"Luwiro630b20","b",20,{"$f":"'Auslegung-LUW'!$D$26","v":1600},3200,5500,2000,400,2400,633,0,{"$f":"F62/(PI()/4*('Grunddaten-LUW'!L62/1000)^2*3600)","v":1.4122779564812529},2.0898458972023226,null,2.9163151084215396E-6,1.8274221461221285,7.9597564237807319,-228.43729387810441,73.779088043367665]
["Luwiro",630,"Luwiro630b25","b",25,{"$f":"'Auslegung-LUW'!$D$26","v":1600},3200,5500,2000,400,2400,633,0,{"$f":"F63/(PI()/4*('Grunddaten-LUW'!L63/1000)^2*3600)","v":1.4122779564812529},2.5292494043166971,null,3.3188558132451371E-6,1.835762488048015,10.003066754910293,-223.41685897455633,72.849932896702171]
["Luwiro",630,"Luwiro630b30","b",30,{"$f":"'Auslegung-LUW'!$D$26","v":1600},3200,5500,2000,400,2400,633,0,{"$f":"F64/(PI()/4*('Grunddaten-LUW'!L64/1000)^2*3600)","v":1.4122779564812529},3.0612049633575693,null,2.7676778646996305E-6,1.8862517325078509,10.959830121403712,-225.43644547042976,73.778846257774163]
["Luwiro",630,"Luwiro630b37","b",37,{"$f":"'Auslegung-LUW'!$D$26","v":1600},3200,5500,2000,400,2400,633,0,{"$f":"F65/(PI()/4*('Grunddaten-LUW'!L65/1000)^2*3600)","v":1.4122779564812529},3.8817443327598591,null,1.5511147586314574E-6,1.9969236583338381,14.003164109147889,-219.4157270732851,72.849610016460716]
["Luwiro",630,"Luwiro630b45","b",45,{"$f":"'Auslegung-LUW'!$D$26","v":1600},3200,5500,2000,400,2400,633,0,{"$f":"F66/(PI()/4*('Grunddaten-LUW'!L66/1000)^2*3600)","v":1.4122779564812529},6.0745918062248956,null,2.4770628091938567E-6,1.9941762842083732,{"$f":"T66+U66*LOG(F66)","v":18.003259099971444},-215.41459525590454,72.849286424784182]
["Luwiro",200,{"$f":"CONCATENATE(A67,B67,D67,E67)","v":"Luwiro200f0"},"f",0,{"$f":"'Auslegung-LUW'!$D$26","v":1600},700,900,1000,400,{"$f":"J67+I67","v":1400},203,91,{"$f":"F67/(PI()/4*('Grunddaten-LUW'!L67/1000)^2*3600)","v":13.732054699325795},51.049450045666646,null,1.874876886343548E-4,1.6962592980729827,{"$f":"T67+U67*LOG(F67)","v":62.41616908113788},-102.15782470253781,51.363243160219859]
["Luwiro",200,{"$f":"CONCATENATE(A68,B68,D68,E68)","v":"Luwiro200f15"},"f",15,{"$f":"'Auslegung-LUW'!$D$26","v":1600},700,900,1000,400,{"$f":"J68+I68","v":1400},203,91,{"$f":"F68/(PI()/4*('Grunddaten-LUW'!L68/1000)^2*3600)","v":13.732054699325795},80.611124504533279,null,1.6528696775126294E-4,1.7752632229220104,64.245885283002735,-101.5795055436389,51.75380189389395]
["Luwiro",200,"Luwiro200f20","f",20,{"$f":"'Auslegung-LUW'!$D$26","v":1600},700,900,1000,400,1400,203,91,{"$f":"F69/(PI()/4*('Grunddaten-LUW'!L69/1000)^2*3600)","v":13.732054699325795},{"$f":"Q69*F69^R69","v":88.659592350209081},null,3.3113576782637684E-4,1.69398139446554,65.795015927569025,-99.753294276959238,51.667325537323897]
["Luwiro",200,"Luwiro200f25","f",25,{"$f":"'Auslegung-LUW'!$D$26","v":1600},700,900,1000,400,1400,203,91,{"$f":"F70/(PI()/4*('Grunddaten-LUW'!L70/1000)^2*3600)","v":13.732054699325795},132.30544594493955,null,1.3314265346011124E-4,1.8717340628492896,67.17442152620383,-100.44033168926917,52.312258630382374]
["Luwiro",200,"Luwiro200f30","f",30,{"$f":"'Auslegung-LUW'!$D$26","v":1600},700,900,1000,400,1400,203,91,{"$f":"F71/(PI()/4*('Grunddaten-LUW'!L71/1000)^2*3600)","v":13.732054699325795},127.20503983412125,null,9.729287771282866E-4,1.5968263663412794,69.174387680839061,-98.440224010065407,52.312214460822773]
["Luwiro",200,"Luwiro200f37","f",37,{"$f":"'Auslegung-LUW'!$D$26","v":1600},700,900,1000,400,1400,203,91,{"$f":"F72/(PI()/4*('Grunddaten-LUW'!L72/1000)^2*3600)","v":13.732054699325795},165.60558751349961,null,1.8378732278098351E-3,1.5463713784425117,72.174342295162276,-95.440055715443421,52.312147771591427]
["Luwiro",200,"Luwiro200f45","f",45,{"$f":"'Auslegung-LUW'!$D$26","v":1600},700,900,1000,400,1400,203,91,{"$f":"F73/(PI()/4*('Grunddaten-LUW'!L73/1000)^2*3600)","v":13.732054699325795},245.51603717655993,null,3.2605046839005022E-3,1.5220388323748379,75.217759902063591,-85.007593249467391,50.00604035393166]
["Luwiro",250,"Luwiro250f0","f",0,{"$f":"'Auslegung-LUW'!$D$26","v":1600},1000,1400,1000,400,1400,253,115,{"$f":"F74/(PI()/4*('Grunddaten-LUW'!L74/1000)^2*3600)","v":8.8406980597184273},23.540205697685547,null,4.8712486025076268E-5,1.7740190723232034,51.426984832323001,-110.53527457867756,50.548125628163447]
["Luwiro",250,"Luwiro250f15","f",15,{"$f":"'Auslegung-LUW'!$D$26","v":1600},1000,1400,1000,400,1400,253,115,{"$f":"F75/(PI()/4*('Grunddaten-LUW'!L75/1000)^2*3600)","v":8.8406980597184273},34.142774772704215,null,1.166741261387943E-4,1.7060298259654054,53.885896467887434,-108.56254073945523,50.699860831268765]
["Luwiro",250,"Luwiro250f20","f",20,{"$f":"'Auslegung-LUW'!$D$26","v":1600},1000,1400,1000,400,1400,253,115,{"$f":"F76/(PI()/4*('Grunddaten-LUW'!L76/1000)^2*3600)","v":8.8406980597184273},41.38802679326664,null,1.8984979537016807E-4,1.6661250568297805,55.426954057701352,-106.53511746627692,50.548066988966625]
["Luwiro",250,"Luwiro250f25","f",25,{"$f":"'Auslegung-LUW'!$D$26","v":1600},1000,1400,1000,400,1400,253,115,{"$f":"F77/(PI()/4*('Grunddaten-LUW'!L77/1000)^2*3600)","v":8.8406980597184273},48.264624142469593,null,2.2086568074271669E-4,1.6664484224132805,57.510739148753103,-108.44355793632268,51.794033301934824]
["Luwiro",250,"Luwiro250f30","f",30,{"$f":"'Auslegung-LUW'!$D$26","v":1600},1000,1400,1000,400,1400,253,115,{"$f":"F78/(PI()/4*('Grunddaten-LUW'!L78/1000)^2*3600)","v":8.8406980597184273},62.291306004810998,null,3.3915774591181439E-4,1.6428928144689969,58.511792023652191,-104.15041416512722,50.766577740308968]
["Luwiro",250,"Luwiro250f37","f",37,{"$f":"'Auslegung-LUW'!$D$26","v":1600},1000,1400,1000,400,1400,253,115,{"$f":"F79/(PI()/4*('Grunddaten-LUW'!L79/1000)^2*3600)","v":8.8406980597184273},84.37258457471512,null,7.3867740286022053E-4,1.5785134660398372,61.414106592310546,-102.09245032730102,51.030098062707211]
["Luwiro",250,"Luwiro250f45","f",45,{"$f":"'Auslegung-LUW'!$D$26","v":1600},1000,1400,1000,400,1400,253,115,{"$f":"F80/(PI()/4*('Grunddaten-LUW'!L80/1000)^2*3600)","v":8.8406980597184273},135.93281510744779,null,3.9089774056553177E-4,1.7294174939963718,64.344235248259125,-90.333156640314016,48.274531767177962]
["Luwiro",315,"Luwiro315f0","f",0,{"$f":"'Auslegung-LUW'!$D$26","v":1600},1500,2100,1100,400,1500,318,145,{"$f":"F81/(PI()/4*('Grunddaten-LUW'!L81/1000)^2*3600)","v":5.5959440103686235},14.75081293066799,null,1.9612927604987704E-4,1.5218760709517651,43.829756328574064,-120.04531346436002,51.145110258042379]
["Luwiro",315,"Luwiro315f15","f",15,{"$f":"'Auslegung-LUW'!$D$26","v":1600},1500,2100,1100,400,1500,318,145,{"$f":"F82/(PI()/4*('Grunddaten-LUW'!L82/1000)^2*3600)","v":5.5959440103686235},19.751624827767568,null,1.9501701020668849E-4,1.5622168835370389,46.377931177497274,-120.01878919813988,51.932112803625223]
["Luwiro",315,"Luwiro315f20","f",20,{"$f":"'Auslegung-LUW'!$D$26","v":1600},1500,2100,1100,400,1500,318,145,{"$f":"F83/(PI()/4*('Grunddaten-LUW'!L83/1000)^2*3600)","v":5.5959440103686235},23.769940061992777,null,3.9962028635737352E-4,1.4900754609024982,48.026252334640262,-122.5963280022588,53.250995986569905]
["Luwiro",315,"Luwiro315f25","f",25,{"$f":"'Auslegung-LUW'!$D$26","v":1600},1500,2100,1100,400,1500,318,145,{"$f":"F84/(PI()/4*('Grunddaten-LUW'!L84/1000)^2*3600)","v":5.5959440103686235},30.233582409938876,null,2.9583720630985475E-4,1.5634360900094821,50.026243712125449,-120.59626175718438,53.250972620531911]
["Luwiro",315,"Luwiro315f30","f",30,{"$f":"'Auslegung-LUW'!$D$26","v":1600},1500,2100,1100,400,1500,318,145,{"$f":"F85/(PI()/4*('Grunddaten-LUW'!L85/1000)^2*3600)","v":5.5959440103686235},37.103548572380006,null,3.0034912498609579E-4,1.5891380796954224,51.18317853575104,-115.30301405605979,51.960036919032255]
["Luwiro",315,"Luwiro315f37","f",37,{"$f":"'Auslegung-LUW'!$D$26","v":1600},1500,2100,1100,400,1500,318,145,{"$f":"F86/(PI()/4*('Grunddaten-LUW'!L86/1000)^2*3600)","v":5.5959440103686235},53.829613674032402,null,3.0114991172500361E-4,1.6392140591477782,53.73520533096918,-111.93339397549524,51.704867546545557]
["Luwiro",315,"Luwiro315f45","f",45,{"$f":"'Auslegung-LUW'!$D$26","v":1600},1500,2100,1100,400,1500,318,145,{"$f":"F87/(PI()/4*('Grunddaten-LUW'!L87/1000)^2*3600)","v":5.5959440103686235},80.883106741891268,null,5.9038922851155698E-4,1.6031607513988821,57.772990500274673,-111.94209689503832,52.967769095411526]
["Luwiro",355,"Luwiro355f0","f",0,{"$f":"'Auslegung-LUW'!$D$26","v":1600},1800,2600,1100,400,1500,357,162,{"$f":"F88/(PI()/4*('Grunddaten-LUW'!L88/1000)^2*3600)","v":4.4400838147377915},8.0366707568452824,null,8.561566459772743E-6,1.8640135128356266,37.964170439893394,-111.18050194615327,46.547780106043113]
["Luwiro",355,"Luwiro355f15","f",15,{"$f":"'Auslegung-LUW'!$D$26","v":1600},1800,2600,1100,400,1500,357,162,{"$f":"F89/(PI()/4*('Grunddaten-LUW'!L89/1000)^2*3600)","v":4.4400838147377915},11.74080386879378,null,5.0258184899192805E-6,1.9875944308859625,42.145434875382819,-120.29448316384668,50.697202014445651]
["Luwiro",355,"Luwiro355f20","f",20,{"$f":"'Auslegung-LUW'!$D$26","v":1600},1800,2600,1100,400,1500,357,162,{"$f":"F90/(PI()/4*('Grunddaten-LUW'!L90/1000)^2*3600)","v":4.4400838147377915},13.402357424520631,null,5.6113236447055037E-6,1.99059832719261,42.945145729793765,-116.08638953404052,49.633451969551892]
["Luwiro",355,"Luwiro355f25","f",25,{"$f":"'Auslegung-LUW'!$D$26","v":1600},1800,2600,1100,400,1500,357,162,{"$f":"F91/(PI()/4*('Grunddaten-LUW'!L91/1000)^2*3600)","v":4.4400838147377915},16.416219868131467,null,4.1330936822681461E-6,2.0595352067249473,44.10207781200495,-110.79313755038874,48.342514075892879]
["Luwiro",355,"Luwiro355f30","f",30,{"$f":"'Auslegung-LUW'!$D$26","v":1600},1800,2600,1100,400,1500,357,162,{"$f":"F92/(PI()/4*('Grunddaten-LUW'!L92/1000)^2*3600)","v":4.4400838147377915},21.58499489793077,null,4.1020678183320708E-6,2.0976583743928141,46.691817966138714,-111.43233862850634,49.350260742600064]
["Luwiro",355,"Luwiro355f37","f",37,{"$f":"'Auslegung-LUW'!$D$26","v":1600},1800,2600,1100,400,1500,357,162,{"$f":"F93/(PI()/4*('Grunddaten-LUW'!L93/1000)^2*3600)","v":4.4400838147377915},36.359284154344408,null,2.6534048208888566E-4,1.6031895928186572,49.402485763558531,-110.6050404306234,49.93805695801386]
["Luwiro",355,"Luwiro355f45","f",45,{"$f":"'Auslegung-LUW'!$D$26","v":1600},1800,2600,1100,400,1500,357,162,{"$f":"F94/(PI()/4*('Grunddaten-LUW'!L94/1000)^2*3600)","v":4.4400838147377915},50.947250866345968,null,8.0484626207349605E-4,1.4985106203426695,52.302331527353019,-106.00090805507129,49.406152216311604]
["Luwiro",400,"Luwiro400f0","f",0,{"$f":"'Auslegung-LUW'!$D$26","v":1600},2100,3100,1250,400,1650,403,180,{"$f":"F95/(PI()/4*('Grunddaten-LUW'!L95/1000)^2*3600)","v":3.484315783635862},7.0271639187323673,null,7.2004876658609201E-5,1.5571883076830018,32.245091147160537,-139.59990601550135,53.632510047335366]
["Luwiro",400,"Luwiro400f15","f",15,{"$f":"'Auslegung-LUW'!$D$26","v":1600},2100,3100,1250,400,1650,403,180,{"$f":"F96/(PI()/4*('Grunddaten-LUW'!L96/1000)^2*3600)","v":3.484315783635862},10.706207905477676,null,2.0189132575465979E-4,1.4745134509377136,34.737296407818832,-135.71204611368009,53.196928780492136]
["Luwiro",400,"Luwiro400f20","f",20,{"$f":"'Auslegung-LUW'!$D$26","v":1600},2100,3100,1250,400,1650,403,180,{"$f":"F97/(PI()/4*('Grunddaten-LUW'!L97/1000)^2*3600)","v":3.484315783635862},14.089485721492172,null,8.0030290940697152E-4,1.3250567296262923,36.685556475283732,-137.57356893989953,54.385955069865474]
["Luwiro",400,"Luwiro400f25","f",25,{"$f":"'Auslegung-LUW'!$D$26","v":1600},2100,3100,1250,400,1650,403,180,{"$f":"F98/(PI()/4*('Grunddaten-LUW'!L98/1000)^2*3600)","v":3.484315783635862},14.846043188030581,null,2.3457837043774576E-4,1.4984840706909237,38.122749780993871,-135.57344649171264,54.210265911680416]
["Luwiro",400,"Luwiro400f30","f",30,{"$f":"'Auslegung-LUW'!$D$26","v":1600},2100,3100,1250,400,1650,403,180,{"$f":"F99/(PI()/4*('Grunddaten-LUW'!L99/1000)^2*3600)","v":3.484315783635862},17.238916834443444,null,1.8905265596194133E-4,1.5479842260270333,39.894732813333491,-131.19861645002609,53.397922109501884]
["Luwiro",400,"Luwiro400f37","f",37,{"$f":"'Auslegung-LUW'!$D$26","v":1600},2100,3100,1250,400,1650,403,180,{"$f":"F100/(PI()/4*('Grunddaten-LUW'!L100/1000)^2*3600)","v":3.484315783635862},31.635621684061679,null,2.7403040772990532E-4,1.5799588167354404,42.611785128512466,-126.71135108645218,52.845441847221693]
["Luwiro",400,"Luwiro400f45","f",45,{"$f":"'Auslegung-LUW'!$D$26","v":1600},2100,3100,1250,400,1650,403,180,{"$f":"F101/(PI()/4*('Grunddaten-LUW'!L101/1000)^2*3600)","v":3.484315783635862},29.93232159822551,null,1.0584544748167416E-5,2.0134914592205888,46.196746829104654,-132.43442380859926,55.750462406103438]
["Luwiro",450,"Luwiro450f0","f",0,{"$f":"'Auslegung-LUW'!$D$26","v":1600},2700,4000,1250,400,1650,453,200,{"$f":"F102/(PI()/4*('Grunddaten-LUW'!L102/1000)^2*3600)","v":2.757599530744347},6.1006534005202333,null,7.1323752383916123E-5,1.539312571006251,32.207373804700211,-128.10122448956434,50.032021011080644]
["Luwiro",450,"Luwiro450f15","f",15,{"$f":"'Auslegung-LUW'!$D$26","v":1600},2700,4000,1250,400,1650,453,200,{"$f":"F103/(PI()/4*('Grunddaten-LUW'!L103/1000)^2*3600)","v":2.757599530744347},8.1623150982351511,null,4.8533218638313547E-5,1.6309546117630609,34.281255557694692,-130.96272663955506,51.572345321562359]
["Luwiro",450,"Luwiro450f20","f",20,{"$f":"'Auslegung-LUW'!$D$26","v":1600},2700,4000,1250,400,1650,453,200,{"$f":"F104/(PI()/4*('Grunddaten-LUW'!L104/1000)^2*3600)","v":2.757599530744347},9.4401509868533235,null,5.796284863777126E-5,1.6266023892968193,35.789055472326993,-130.85023892982773,52.007819714674312]
["Luwiro",450,"Luwiro450f25","f",25,{"$f":"'Auslegung-LUW'!$D$26","v":1600},2700,4000,1250,400,1650,453,200,{"$f":"F105/(PI()/4*('Grunddaten-LUW'!L105/1000)^2*3600)","v":2.757599530744347},13.314224715257264,null,2.4346379057849343E-4,1.4786841718934651,37.158913993902189,-129.93651869132947,52.150179640502948]
["Luwiro",450,"Luwiro450f30","f",30,{"$f":"'Auslegung-LUW'!$D$26","v":1600},2700,4000,1250,400,1650,453,200,{"$f":"F106/(PI()/4*('Grunddaten-LUW'!L106/1000)^2*3600)","v":2.757599530744347},15.959381403554868,null,2.1327515683845509E-4,1.5211901583510725,39.278008532747791,-122.98822300310822,50.642994773670125]
["Luwiro",450,"Luwiro450f37","f",37,{"$f":"'Auslegung-LUW'!$D$26","v":1600},2700,4000,1250,400,1650,453,200,{"$f":"F107/(PI()/4*('Grunddaten-LUW'!L107/1000)^2*3600)","v":2.757599530744347},23.121397268431995,null,4.1695467643354989E-4,1.4805704069513987,41.840830065765175,-120.98798741813255,50.818576821498247]
["Luwiro",450,"Luwiro450f45","f",45,{"$f":"'Auslegung-LUW'!$D$26","v":1600},2700,4000,1250,400,1650,453,200,{"$f":"F108/(PI()/4*('Grunddaten-LUW'!L108/1000)^2*3600)","v":2.757599530744347},33.983738571054545,null,2.2191799416260098E-4,1.6182535809848315,45.35190612164223,-121.84937007081589,52.183213205974717]
["Luwiro",500,"Luwiro500f0","f",0,{"$f":"'Auslegung-LUW'!$D$26","v":1600},3200,4700,1500,400,1900,503,225,{"$f":"F109/(PI()/4*('Grunddaten-LUW'!L109/1000)^2*3600)","v":2.2366170456565451},4.4929614295749438,null,5.0850520494786868E-5,1.5437116320549316,27.647811699818448,-135.07569723721096,50.78571021617811]
["Luwiro",500,"Luwiro500f15","f",15,{"$f":"'Auslegung-LUW'!$D$26","v":1600},3200,4700,1500,400,1900,503,225,{"$f":"F110/(PI()/4*('Grunddaten-LUW'!L110/1000)^2*3600)","v":2.2366170456565451},6.0253850114734657,null,4.2100229816583603E-5,1.6090846672801384,30.435388679199406,-132.4760627776719,50.844366733680332]
["Luwiro",500,"Luwiro500f20","f",20,{"$f":"'Auslegung-LUW'!$D$26","v":1600},3200,4700,1500,400,1900,503,225,{"$f":"F111/(PI()/4*('Grunddaten-LUW'!L111/1000)^2*3600)","v":2.2366170456565451},7.4621130137883673,null,8.0032082315578692E-5,1.551002375789226,31.438662446945727,-134.45001525196585,51.77355361124927]
["Luwiro",500,"Luwiro500f25","f",25,{"$f":"'Auslegung-LUW'!$D$26","v":1600},3200,4700,1500,400,1900,503,225,{"$f":"F112/(PI()/4*('Grunddaten-LUW'!L112/1000)^2*3600)","v":2.2366170456565451},9.7515807072426419,null,1.6656013141946714E-4,1.4879292880555537,33.155628775368342,-130.96283766415507,51.221073907314825]
["Luwiro",500,"Luwiro500f30","f",30,{"$f":"'Auslegung-LUW'!$D$26","v":1600},3200,4700,1500,400,1900,503,225,{"$f":"F113/(PI()/4*('Grunddaten-LUW'!L113/1000)^2*3600)","v":2.2366170456565451},12.875742076723883,null,3.9532345565010954E-4,1.4084427892354014,34.875864720094086,-130.44970529232407,51.597808729802395]
["Luwiro",500,"Luwiro500f37","f",37,{"$f":"'Auslegung-LUW'!$D$26","v":1600},3200,4700,1500,400,1900,503,225,{"$f":"F114/(PI()/4*('Grunddaten-LUW'!L114/1000)^2*3600)","v":2.2366170456565451},15.295444624160519,null,5.7692079566097135E-5,1.6926475729976749,37.316332116209509,-130.42353380703747,52.351306078184336]
["Luwiro",500,"Luwiro500f45","f",45,{"$f":"'Auslegung-LUW'!$D$26","v":1600},3200,4700,1500,400,1900,503,225,{"$f":"F115/(PI()/4*('Grunddaten-LUW'!L115/1000)^2*3600)","v":2.2366170456565451},19.625051730731684,null,1.7395340812315783E-5,1.888936088856398,41.001512592783854,-125.44914032177763,51.948945050612309]
["Luwiro",560,"Luwiro560f0","f",0,{"$f":"'Auslegung-LUW'!$D$26","v":1600},4300,6300,1700,400,2100,563,255,{"$f":"F116/(PI()/4*('Grunddaten-LUW'!L116/1000)^2*3600)","v":1.7852983796665189},2.0155428317800879,null,1.2787850106969249E-6,1.934257932966472,21.072012900705715,-147.33943294390201,52.560904946203024]
["Luwiro",560,"Luwiro560f15","f",15,{"$f":"'Auslegung-LUW'!$D$26","v":1600},4300,6300,1700,400,2100,563,255,{"$f":"F117/(PI()/4*('Grunddaten-LUW'!L117/1000)^2*3600)","v":1.7852983796665189},3.7846697618970508,null,2.614901301607582E-5,1.61060531972647,24.123773781139022,-140.47752857135768,51.371766114718703]
["Luwiro",560,"Luwiro560f20","f",20,{"$f":"'Auslegung-LUW'!$D$26","v":1600},4300,6300,1700,400,2100,563,255,{"$f":"F118/(PI()/4*('Grunddaten-LUW'!L118/1000)^2*3600)","v":1.7852983796665189},4.1367776073656488,null,1.2008700208342764E-5,1.7281394582230041,25.123775845685913,-139.47749748976432,51.371757058551445]
["Luwiro",560,"Luwiro560f25","f",25,{"$f":"'Auslegung-LUW'!$D$26","v":1600},4300,6300,1700,400,2100,563,255,{"$f":"F119/(PI()/4*('Grunddaten-LUW'!L119/1000)^2*3600)","v":1.7852983796665189},4.9209288088580241,null,1.1306920057932623E-5,1.7598288425596715,27.123780304176279,-137.47743037318261,51.371737503075472]
["Luwiro",560,"Luwiro560f30","f",30,{"$f":"'Auslegung-LUW'!$D$26","v":1600},4300,6300,1700,400,2100,563,255,{"$f":"F120/(PI()/4*('Grunddaten-LUW'!L120/1000)^2*3600)","v":1.7852983796665189},6.5371517522440552,null,2.1587431053340623E-5,1.7106686493864194,28.631582277671896,-137.36496496581037,51.807219499279242]
["Luwiro",560,"Luwiro560f37","f",37,{"$f":"'Auslegung-LUW'!$D$26","v":1600},4300,6300,1700,400,2100,563,255,{"$f":"F121/(PI()/4*('Grunddaten-LUW'!L121/1000)^2*3600)","v":1.7852983796665189},10.553180694149384,null,1.3610326111221477E-4,1.5260086605664545,31.351822799364641,-135.85181958710041,52.183951690806666]
["Luwiro",560,"Luwiro560f45","f",45,{"$f":"'Auslegung-LUW'!$D$26","v":1600},4300,6300,1700,400,2100,563,255,{"$f":"F122/(PI()/4*('Grunddaten-LUW'!L122/1000)^2*3600)","v":1.7852983796665189},12.692728132413677,null,2.0327946534943361E-5,1.8087529491728274,35.049937829781015,-124.6152299124056,49.831207509850707]
["Luwiro",630,"Luwiro630f0","f",0,{"$f":"'Auslegung-LUW'!$D$26","v":1600},5300,7900,2000,400,2400,633,285,{"$f":"F123/(PI()/4*('Grunddaten-LUW'!L123/1000)^2*3600)","v":1.4122779564812529},1.4778090504071355,null,2.6474700776870956E-6,1.7935618181391006,15.721616608767079,-151.93910397854469,52.326604963256166]
["Luwiro",630,"Luwiro630f15","f",15,{"$f":"'Auslegung-LUW'!$D$26","v":1600},5300,7900,2000,400,2400,633,285,{"$f":"F124/(PI()/4*('Grunddaten-LUW'!L124/1000)^2*3600)","v":1.4122779564812529},2.1816467356667228,null,7.5289481167335099E-6,1.7046958771169876,18.281169706254417,-146.96488100454732,51.572990900867502]
["Luwiro",630,"Luwiro630f20","f",20,{"$f":"'Auslegung-LUW'!$D$26","v":1600},5300,7900,2000,400,2400,633,285,{"$f":"F125/(PI()/4*('Grunddaten-LUW'!L125/1000)^2*3600)","v":1.4122779564812529},2.4102739061583125,null,3.5730141391970458E-6,1.8192301461329241,19.564210358872685,-147.45190689888841,52.125425440316967]
["Luwiro",630,"Luwiro630f25","f",25,{"$f":"'Auslegung-LUW'!$D$26","v":1600},5300,7900,2000,400,2400,633,285,{"$f":"F126/(PI()/4*('Grunddaten-LUW'!L126/1000)^2*3600)","v":1.4122779564812529},3.3390863147244949,null,1.5663102818451987E-5,1.6630931037727807,20.792237977791245,-148.82651995060513,52.937704844560109]
["Luwiro",630,"Luwiro630f30","f",30,{"$f":"'Auslegung-LUW'!$D$26","v":1600},5300,7900,2000,400,2400,633,285,{"$f":"F127/(PI()/4*('Grunddaten-LUW'!L127/1000)^2*3600)","v":1.4122779564812529},4.1367776073656488,null,1.2008700208342764E-5,1.7281394582230041,22.72163979444835,-144.93875505030005,52.326503299596524]
["Luwiro",630,"Luwiro630f37","f",37,{"$f":"'Auslegung-LUW'!$D$26","v":1600},5300,7900,2000,400,2400,633,285,{"$f":"F128/(PI()/4*('Grunddaten-LUW'!L128/1000)^2*3600)","v":1.4122779564812529},6.1870441843654325,null,2.9984743434811616E-5,1.6586716193981652,25.371275096016149,-141.53795066760387,52.09206480004142]
["Luwiro",630,"Luwiro630f45","f",45,{"$f":"'Auslegung-LUW'!$D$26","v":1600},5300,7900,2000,400,2400,633,285,{"$f":"F129/(PI()/4*('Grunddaten-LUW'!L129/1000)^2*3600)","v":1.4122779564812529},{"$f":"Q129*F129^R129","v":9.9012361399524398},null,8.0097628780206222E-5,1.5892256802350753,29.979310589792078,-127.72790224559301,49.220133356136095]
["Luwiro",null,null,2,3,4,5,6,7,8,9,10,11,12,13,14,15,16,17,18,19]
[]
["Auswahl:","Zuluft",{"$f":"CONCATENATE(\"Luwiro\",'Auslegung-LUW'!$D$13,'Auslegung-LUW'!$E$24,'Auslegung-LUW'!$D$27)","v":"Luwiro450f45"},{"$f":"VLOOKUP($C$132,$C$4:$O$129,D130,FALSE)","v":"f"},45,1600,2700,4000,1250,{"$f":"VLOOKUP($C$132,$C$4:$O$129,J130,FALSE)","v":400},1650,453,{"$f":"VLOOKUP($C$132,$C$4:$O$129,M130,FALSE)","v":200},{"$f":"VLOOKUP($C$132,$C$4:$O$129,N130,FALSE)","v":2.757599530744347},{"$f":"VLOOKUP($C$132,$C$4:$O$129,O130,FALSE)","v":33.983738571054545},{"$f":"VLOOKUP($C$132,$C$4:$P$129,P130,FALSE)","v":0},{"$f":"VLOOKUP($C$132,$C$4:$Q$129,Q130,FALSE)","v":2.2191799416260098E-4},{"$f":"VLOOKUP($C$132,$C$4:$T$129,R130,FALSE)","v":1.6182535809848315},{"$f":"VLOOKUP($C$132,$C$4:$T$129,S130,FALSE)","v":45.35190612164223},{"$f":"VLOOKUP($C$132,$C$4:$T$129,T130,FALSE)","v":-121.84937007081589},{"$f":"VLOOKUP($C$132,$C$4:$U$129,U130,FALSE)","v":52.183213205974717}]
[null,"Abluft",{"$f":"CONCATENATE('Auslegung-V'!$D$12,'Auslegung-V'!$D$30)","v":"VLDdeckenbündig"},{"$f":"VLOOKUP($C$133,$C$4:$O$129,D130,FALSE)","v":{"$error":"#N/A"}},{"$error":"#N/A"},{"$error":"#N/A"},{"$error":"#N/A"},{"$error":"#N/A"},{"$error":"#N/A"},null,null,null,{"$f":"VLOOKUP($C$133,$C$4:$O$129,M130,FALSE)","v":{"$error":"#N/A"}},{"$f":"VLOOKUP($C$133,$C$4:$O$129,N130,FALSE)","v":{"$error":"#N/A"}},{"$f":"VLOOKUP($C$133,$C$4:$O$129,O130,FALSE)","v":{"$error":"#N/A"}},{"$f":"VLOOKUP($C$132,$C$4:$P$129,P130,FALSE)","v":0},{"$f":"VLOOKUP($C$133,$C$4:$Q$129,Q130,FALSE)","v":{"$error":"#N/A"}},{"$f":"VLOOKUP($C$133,$C$4:$T$129,R130,FALSE)","v":{"$error":"#N/A"}},{"$f":"VLOOKUP($C$133,$C$4:$T$129,S130,FALSE)","v":{"$error":"#N/A"}},{"$f":"VLOOKUP($C$133,$C$4:$T$129,T130,FALSE)","v":{"$error":"#N/A"}},{"$f":"VLOOKUP($C$133,$C$4:$U$129,U130,FALSE)","v":{"$error":"#N/A"}}]
[]
[null,null,null,"Stand:","2020-10-30"]

{"sheet":"Auslegung-LUW","index":41,"n_rows":70,"n_cols":12,"rows_kept":70,"cut":false,"hidden":true,"merged":[[64,3,64,4],[65,3,65,4],[26,3,26,4],[22,3,22,4],[56,3,56,4],[59,3,59,4],[60,3,60,4],[61,3,61,4],[62,3,62,4],[63,3,63,4],[48,3,48,4],[49,3,49,4],[50,3,50,4],[51,3,51,4],[52,3,52,4],[53,3,53,4],[47,3,47,4],[34,3,34,4],[35,3,35,4],[36,0,36,4],[37,3,37,4],[38,3,38,4],[39,3,39,4],[40,3,40,4],[41,3,41,4],[42,3,42,4],[43,3,43,4],[46,3,46,4],[25,3,25,4],[12,3,12,4],[13,3,13,4],[14,3,14,4],[15,3,15,4],[16,3,16,4],[17,3,17,4],[18,3,18,4],[19,3,19,4],[20,3,20,4],[21,3,21,4],[0,0,0,3],[5,0,5,4],[6,3,6,4],[7,3,7,4],[11,3,11,4]]}
[{"$f":"Übersetzung!F5","v":"Auslegung Kampmann Industrieluftdurchlässe"}]
[]
[{"$f":"Übersetzung!F6","v":"Eingabefelder sind gelb gekennzeichnet"}]
[{"$f":"Übersetzung!F7","v":"Ergebnisfelder sind blau gekennzeichnet"}]
[]
[{"$f":"Übersetzung!F8","v":"Vorgaben"}]
[{"$f":"Übersetzung!F9","v":"Lüftungstechnik"},{"$f":"Übersetzung!F10","v":"Symbol"},{"$f":"Übersetzung!F11","v":"Einheit"},{"$f":"Übersetzung!F12","v":"Wert"}]
["Bezeichung","Symbol","Einheit"]
[null,"L","mm"]
[null,"L","mm"]
[null,"L","mm"]
[{"$f":"Übersetzung!F13","v":"Durchlass Typ"},null,null,"LUWIRO"]
[{"$f":"Übersetzung!F46","v":"Nenndurchmesser"},"DN","[-]",450]
[null,null,null,200]
[null,null,null,250]
[null,null,null,315]
[null,null,null,400]
[null,null,null,450]
[null,null,null,500]
[null,null,null,560]
[null,null,null,630]
[]
[{"$f":"Übersetzung!F47","v":"Montageart"}," -/-"," -/-","freihängend"]
[null,null,null,{"$f":"Übersetzung!F66","v":"bodenstehend"},{"$f":"IF(OR($D$23=\"bodenstehend\",$D$23=\"floor standing\"),\"b\",\"f\")","v":"f"}]
[null,null,null,{"$f":"Übersetzung!F51","v":"freihängend"}]
[{"$f":"Übersetzung!F16","v":"Luftvolumenstrom"},"V·SUP","m³/h",1600]
[{"$f":"Übersetzung!F67","v":"Leitschaufelwinkel"},"a","°",45]
[null,null,null,0]
[null,null,null,15]
[null,null,null,20]
[null,null,null,25]
[null,null,null,30]
[null,null,null,37]
[null,null,null,45]
[{"$f":"Übersetzung!F18","v":"Temperatur Zuluft"},"tSUP","°C",22]
[{"$f":"Übersetzung!F19","v":"Temperatur Raum"},"tRaum","°C",26]
[{"$f":"Übersetzung!F20","v":"Raumdaten"}]
[{"$f":"Übersetzung!F21","v":"Montagehöhe"},"H1","m",5]
[{"$f":"Übersetzung!F22","v":"Obergrenze Aufenthaltsbereich"},"H2","m",1.8]
[{"$f":"Übersetzung!F23","v":"Raumlänge"},"LR","m",100]
[{"$f":"Übersetzung!F24","v":"Raumbreite"},"BR","m",100]
[{"$f":"Übersetzung!F25","v":"Raumhöhe"},"HR","m",8]
["Abstand Durchlass zur nächstgelegenen Wand","a","m",3]
["kleinster Abstand zwischen 2 Durchlässen","smin","m",5]
[]
[{"$f":"Übersetzung!F26","v":"Berechnung strömungstechnische und Akustische Daten"}]
[{"$f":"Übersetzung!F27","v":"Totaldruckverlust"},"Dpt","Pa",{"$f":"'Grunddaten-LUW'!$O$132","v":33.983738571054545}]
[{"$f":"Übersetzung!F28","v":"Geschwindigkeit im Stutzen"},"vST","m/s",{"$f":"'Grunddaten-LUW'!$N$132","v":2.757599530744347}]
[{"$f":"IF(D35>D36,\"Vertikale Eindringtiefe\",\"Strahlbreite an Oberkante Aufenthaltsbereich\")","v":"Strahlbreite an Oberkante Aufenthaltsbereich"},"Av","m",{"$f":"IF(D35>D36,IF('LW,vY-IVAT'!$D$58>$D$38,\"> Montagehöhe\",'LW,vY-IVAT'!$D$58),'LW,vY-IVAT'!$D$31)","v":6.3688160492626018}]
["Mittlere Geschwindigkeit im Aufenthaltsbereich","vy","m/s",{"$f":"IF(D35<=D36,'LW,vY-IVAT'!$D$47,'LW,vY-IVAT'!$D$56)","v":0.52984983032828448}]
[null,"vx3","m/s"]
[null,"DR3","%"]
[null,"RAL","[-]"]
[{"$f":"Übersetzung!F33","v":"Schallleistungspegel, Einzeldurchlass"},"LWA_SUP/ETA","dB(A)",{"$f":"IF('Grunddaten-LUW'!$S$132<25,\"<25\",'Grunddaten-LUW'!$S$132)","v":45.35190612164223}]
["Schalldruckpegel, Zahlenwert Zuluft + Abluft",null,null,{"$f":"D54+10*LOG(Lw!$F$106/(4*PI()*'Auslegung-LUW'!#REF!^2)+4/(Lw!$H$106))","v":{"$error":"#REF!"}},{"$f":"E54+10*LOG(Lw!$F$106/(4*PI()*'Auslegung-LUW'!#REF!^2)+4/(Lw!$H$106))","v":{"$error":"#REF!"}}]
[{"$f":"CONCATENATE(\"Schallldruckpegel in \",#REF!,\"m Entfernung, Einzeldurchlass\")","v":{"$error":"#REF!"}},"LPA_SUP/ETA","dB(A)",{"$f":"IF(#REF!=\"Zuluft\",IF(D54=\"<25\",\"<25\",IF(D54+10*LOG(Lw!$F$106/(4*PI()*'Auslegung-LUW'!#REF!^2)+4/(Lw!$H$106))>=25,D54+10*LOG(Lw!$F$106/(4*PI()*'Auslegung-LUW'!#REF!^2)+4/(Lw!$H$106)),\"<25\")),\"\")","v":{"$error":"#REF!"}},{"$f":"IF(#REF!=\"Abluft\",IFERROR(IF(E54=\"<25\",\"<25\",IF(E54+10*LOG(Lw!$F$106/(4*PI()*'Auslegung-LUW'!#REF!^2)+4/(Lw!$H$106))>=25,E54+10*LOG(Lw!$F$106/(4*PI()*'Auslegung-LUW'!#REF!^2)+4/(Lw!$H$106)),\"<25\")),\"a. Anf\"),\"\")","v":{"$error":"#REF!"}}]
["Schalldruckpegel rechnerisch ",null,null,{"$f":"IF(10*LOG(10^(D55/10)+10^(E55/10))<25,\"<25\",10*LOG(10^(D55/10)+10^(E55/10)))","v":{"$error":"#REF!"}}]
[]
[{"$f":"Übersetzung!F34","v":"Oktavspektrum Schallleistung [dB]"},"LW_Okt","dB"]
[null,"LW_125","dB",{"$f":"IF($D$54=\"<25\",\"\",\"\")","v":""}]
[null,"LW_250","dB","",null,null,null,null,1,{"$f":"Übersetzung!F68","v":"Höhe Durchlass"},{"$f":"'Grunddaten-LUW'!$K$132","v":1650},"mm"]
[null,"LW_500","dB","",null,null,null,null,2,{"$f":"Übersetzung!F38","v":"Aktive Höhe"},{"$f":"'Grunddaten-LUW'!$I$132","v":1250},"mm"]
[null,"LW_1000","dB","",null,null,null,null,3,{"$f":"Übersetzung!F42","v":"Durchmesser Anschlussstutzen"},{"$f":"'Grunddaten-LUW'!$L$132","v":453},"mm"]
[null,"LW_2000","dB","",null,null,null,null,4,{"$f":"Übersetzung!F39","v":"Minimaler Volumenstrom"},{"$f":"'Grunddaten-LUW'!$G$132","v":2700},"m³/h"]
[null,"LW_4000","dB","",null,null,null,null,5,{"$f":"Übersetzung!F40","v":"Maximaler Volumenstrom"},{"$f":"'Grunddaten-LUW'!$H$132","v":4000},"m³/h"]
[null,"LW_8000","dB",""]
[]
[{"$f":"Übersetzung!F44","v":"Änderungen vorbehalten"}]
[{"$f":"Übersetzung!F45","v":"Stand:"}]
[{"$f":"'Grunddaten-LUW'!$E$135","v":"2020-10-30"}]

{"sheet":"Datenblatt-LUW","index":42,"n_rows":42,"n_cols":9,"rows_kept":42,"cut":false,"hidden":true,"merged":[[33,0,33,1],[33,2,33,3],[34,0,34,1],[34,2,34,3],[35,0,35,1],[35,2,35,3],[30,0,30,1],[30,2,30,3],[31,0,31,1],[31,2,31,3],[32,0,32,1],[32,2,32,3],[29,0,29,1],[29,2,29,3],[1,1,1,7],[5,2,5,4],[5,6,5,7],[9,0,9,8],[18,4,18,5],[21,2,21,3],[22,2,22,3],[23,2,23,3],[24,2,24,3],[25,2,25,3],[26,2,26,3],[20,0,20,2]]}
[]
[{"$f":"Übersetzung!F86","v":"Typ"},{"$f":"'Auslegung-LUW'!D12","v":"LUWIRO"},null,null,null,null,null,null,{"$f":"TODAY()","v":"2020-12-07"}]
[{"$f":"Übersetzung!F87","v":"Projekt"},{"$f":"Übersetzung!F89","v":"bitte Projektname / VIS-Nr. eintragen"}]
[]
[{"$f":"Übersetzung!F88","v":"Definition:"}]
[{"$f":"'Auslegung-LUW'!A12","v":"Durchlass Typ"},{"$f":"'Auslegung-LUW'!D12","v":"LUWIRO"},{"$f":"'Auslegung-LUW'!A13","v":"Nenndurchmesser"},null,null,{"$f":"'Auslegung-LUW'!$D$13","v":450}]
["Schlitzanzahl:",{"$f":"'Auslegung-L'!D20","v":315},"Farbe Abdeckprofil:",null,{"$f":"'Auslegung-L'!B83","v":"xxkr"}]
["Innenauskleidung:",{"$f":"'Auslegung-L'!G96","v":0},"Drossel fb:",null,{"$f":"'Auslegung-L'!B94","v":0}]
[]
[{"$f":"Übersetzung!F103","v":"Beschreibung:\nQuellluftdurchlass für die Belüftung industrieller Bereiche. In Abhängigkeit des vorgegebenen Klappenwinkels sind erfolgt eine Änderung des Resultierenden Strömunnggsprofils von horizontaler bis vertikaler Luftströmung. "}]
[{"$f":"Übersetzung!F81","v":"Einsatzbereich"}]
[{"$f":"'Auslegung-LUW'!J64","v":"Minimaler Volumenstrom"},"V°min",{"$f":"'Auslegung-LUW'!$K$64","v":2700},"m³/h"]
[{"$f":"'Auslegung-LUW'!J65","v":"Maximaler Volumenstrom"},"V°max",{"$f":"'Auslegung-LUW'!$K$65","v":4000},"m³/h"]
[]
[{"$f":"Übersetzung!F90","v":"technische Vorgaben"},null,null,null,null,{"$f":"'Auslegung-LUW'!A37","v":"Raumdaten"}]
[{"$f":"'Auslegung-LUW'!A26","v":"Luftvolumenstrom"},"V·SUP",{"$f":"'Auslegung-LUW'!$D$26","v":1600},"m³/h",null,{"$f":"'Auslegung-LUW'!A42","v":"Raumhöhe"},{"$f":"'Auslegung-LUW'!$D$42","v":8},"m"]
[{"$f":"'Auslegung-LUW'!A35","v":"Temperatur Zuluft"},"tZUL",{"$f":"'Auslegung-LUW'!D35","v":22},"°C",null,{"$f":"'Auslegung-LUW'!A41","v":"Raumbreite"},{"$f":"'Auslegung-LUW'!$D$41","v":100},"m"]
[{"$f":"'Auslegung-LUW'!A36","v":"Temperatur Raum"},"tRAUM",{"$f":"'Auslegung-LUW'!$D$36","v":26},"°C",null,{"$f":"'Auslegung-LUW'!A40","v":"Raumlänge"},{"$f":"'Auslegung-LUW'!$D$40","v":100},"m"]
[{"$f":"'Auslegung-IVAT'!A36","v":"Montagehöhe"},"H1",{"$f":"'Auslegung-LUW'!$D$38","v":5},{"$f":"'Auslegung-IVAT'!C36","v":"m"},{"$f":"'Auslegung-LUW'!A39","v":"Obergrenze Aufenthaltsbereich"},null,{"$f":"'Auslegung-LUW'!$D$39","v":1.8},"m"]
[]
[{"$f":"'Auslegung-LUW'!A46","v":"Berechnung strömungstechnische und Akustische Daten"}]
[{"$f":"'Auslegung-LUW'!A27","v":"Leitschaufelwinkel"},"aS",{"$f":"'Auslegung-LUW'!$D$27","v":45},null,"°"]
[{"$f":"'Auslegung-LUW'!A47","v":"Totaldruckverlust"},"Dp_SUP",{"$f":"'Auslegung-LUW'!$D$47","v":33.983738571054545},null,"Pa"]
[{"$f":"'Auslegung-IVAT'!A46","v":"Geschwindigkeit im Stutzen"},"vSt",{"$f":"'Auslegung-LUW'!$D$48","v":2.757599530744347},null,"m/s"]
[{"$f":"'Auslegung-IVAT'!A47","v":"Strahlbreite an Oberkante Aufenthaltsbereich"},"AY",{"$f":"'Auslegung-IVAT'!D47","v":3.1844080246313009},null,"m²"]
[{"$f":"'Auslegung-IVAT'!A48","v":"Mittlere Geschwindigkeit im Aufenthaltsbereich"},"vy",{"$f":"'Auslegung-IVAT'!D48","v":0.52984983032828448},null,"m/s"]
[{"$f":"'Auslegung-IVAT'!A52","v":"Schallleistungspegel, Einzeldurchlass"},"LWA_SUP",{"$f":"'Auslegung-LUW'!$D$54","v":45.35190612164223},null,"dB(A)"]
[]
[{"$f":"Übersetzung!F70","v":"Abmessungen"}]
[{"$f":"'Auslegung-LUW'!$J$61","v":"Höhe Durchlass"},null,{"$f":"'Auslegung-LUW'!$K$61","v":1650},null,"mm"]
[{"$f":"'Auslegung-LUW'!$J$62","v":"Aktive Höhe"},null,{"$f":"'Auslegung-LUW'!$K$62","v":1250},null,"mm"]
[{"$f":"'Auslegung-LUW'!$J$63","v":"Durchmesser Anschlussstutzen"},null,{"$f":"'Auslegung-LUW'!$K$63","v":453},null,"mm"]
[{"$f":"'Auslegung-IVAT'!J59","v":"Aktive Höhe"},null,{"$f":"'Auslegung-IVAT'!K59","v":"174"},null,"mm"]
[{"$f":"'Auslegung-IVAT'!J62","v":"Empfohlene maximale Einbauhöhe"},null,{"$f":"'Auslegung-IVAT'!K62","v":5},null,"m"]
[{"$f":"'Auslegung-IVAT'!J63","v":"Durchmesser Anschlussstutzen"},null,{"$f":"'Auslegung-IVAT'!K63","v":"249"},null,"mm"]
[{"$f":"'Auslegung-IVAT'!J64","v":"Stutzenanzahl"},null,{"$f":"'Auslegung-IVAT'!K64","v":3},null,"St."]
[]
[]
["Oktavspektrum Schallleistungspegel","f [Hz]",125,250,500,1000,2000,4000,8000]
[null,"LWA_Okt",{"$f":"IF('Auslegung-V'!$D$126=\"\",'Auslegung-V'!$E$126,'Auslegung-V'!$D$126)","v":63.765824257200173},{"$f":"IF('Auslegung-V'!$D$127=\"\",'Auslegung-V'!$E$127,'Auslegung-V'!$D$127)","v":55.166922126888934},{"$f":"IF('Auslegung-V'!$D$128=\"\",'Auslegung-V'!$E$128,'Auslegung-V'!$D$128)","v":46.807571914190724},{"$f":"IF('Auslegung-V'!$D$129=\"\",'Auslegung-V'!$E$103,'Auslegung-V'!$D$129)","v":37.299591884101545},{"$f":"IF('Auslegung-V'!$D$130=\"\",'Auslegung-V'!$E$130,'Auslegung-V'!$D$130)","v":29.735077409825585},{"$f":"IF('Auslegung-V'!$D$130=\"\",'Auslegung-V'!$E$130,'Auslegung-V'!$D$130)","v":29.735077409825585},{"$f":"IF('Auslegung-V'!$D$132=\"\",'Auslegung-V'!$E$132,'Auslegung-V'!$D$132)","v":28.514613009352708}]
[null,null,null,null,null,null,null,null,{"$f":"'Auslegung-LUW'!A68","v":"Änderungen vorbehalten"}]
[null,null,null,null,null,null,null,{"$f":"'Auslegung-LUW'!A69","v":"Stand:"},{"$f":"'Grunddaten-LUW'!$E$135","v":"2020-10-30"}]

{"sheet":"Funktion-LUW","index":43,"n_rows":0,"n_cols":0,"rows_kept":0,"cut":false,"hidden":true,"merged":[]}

{"sheet":"Funktion-LDA","index":44,"n_rows":0,"n_cols":0,"rows_kept":0,"cut":false,"hidden":true,"merged":[]}

{"sheet":"Grunddaten-IVATH","index":45,"n_rows":48,"n_cols":32,"rows_kept":48,"cut":false,"hidden":true,"merged":[[0,6,0,7],[0,28,0,31],[1,22,1,26]]}
["Typ","Breite","Länge",null,"Breite","Länge","Höhen",null,"Aktive Breite","Soll-Volumenstrom","V° Auslegung min","V° Auslegung max","Durchmesser Anschluss","Anzahl Stutzen","Anströmgeschwindigkeit","Ausströmgeschwindigkeit","Montagehöhe minimal","Montagehöhe maximal","Totaldruckverlust","Kritischer Strahlweg","vertikale Eindringtiefe",null,null,null,null,null,null,null,"Vorauswahl zur Anzeige"]
[null,null,null,null,null,null,"Kasten","gesamt","b","V°","V°min","V°max","d","n","v","vaus","hmin","hmax","Dpt","x","ymax",null,"Schallleistungspegel",null,null,null,null,"Auslass freigegeben?"]
[null,null,null,null,null,null,"mm","mm","mm","m³/h","m³/h","m³/h","mm",1,"m/s",null,"m","m","Pa","mm","m","kleiner als V°max?","K021","K022","dB","größer als 0dB(A)?","kleiner als LW,Amax?",null,null,null,{"$f":"IF(ROW(AD3)>COUNTA(AD:AD),\"\",INDEX(AD3:AD28,SMALL(IF(AD$4:AD$29<>\"\",ROW($4:$29)),ROW($AD3))))","v":{"$error":"#VALUE!"}}]
["IVA-TH",null,null,null,null,null,null,null,null,{"$f":"Einheiten!$E$90","v":700},null,null,null,2,{"$f":"(J4/N4)/(PI()/4*('Grunddaten-IVATH'!M4/1000)^2*3600)","v":{"$error":"#DIV/0!"}},{"$f":"J4/(C4/1000)/(I4/1000)/3600","v":{"$error":"#DIV/0!"}},2.5,5,null,null,null,null,null,null,null,null,null,null,{"$f":"IF(AND(U4=\"x\",V4=\"x\",Z4=\"x\",AA4=\"x\",AB4=\"x\"),\"x\",\"\")","v":""},{"$f":"IF(AC4=\"x\",CONCATENATE(A4,\" DN \",B4),\"\")","v":""},{"$f":"IF(ROW(AD1)>COUNTA(AD:AD),\"\",INDEX(AD:AD,SMALL(IF(AD$1:AD$29<>\"\",ROW($1:$29)),ROW($AD1))))","v":{"$error":"#NUM!"}},{"$f":"IFERROR(AE4,\"\")","v":""}]
["IVA-TH",null,null,null,null,null,null,null,null,{"$f":"Einheiten!$E$90","v":700},null,null,null,2,{"$f":"(J5/N5)/(PI()/4*('Grunddaten-IVATH'!M5/1000)^2*3600)","v":{"$error":"#DIV/0!"}},{"$error":"#DIV/0!"},2.5,5,null,null,null,null,null,null,null,null,null,null,{"$f":"IF(AND(U5=\"x\",V5=\"x\",Z5=\"x\",AA5=\"x\",AB5=\"x\"),\"x\",\"\")","v":""},"",{"$f":"IF(ROW(AD2)>COUNTA(AD:AD),\"\",INDEX(AD:AD,SMALL(IF(AD$1:AD$29<>\"\",ROW($1:$29)),ROW($AD2))))","v":{"$error":"#NUM!"}},{"$f":"IFERROR(AE5,\"\")","v":""}]
["IVA-TH",null,null,null,null,null,null,null,null,{"$f":"Einheiten!$E$90","v":700},null,null,null,3,{"$f":"(J6/N6)/(PI()/4*('Grunddaten-IVATH'!M6/1000)^2*3600)","v":{"$error":"#DIV/0!"}},{"$error":"#DIV/0!"},2.5,5,null,null,null,null,null,null,null,null,null,null,"","",{"$f":"IF(ROW(AD3)>COUNTA(AD:AD),\"\",INDEX(AD:AD,SMALL(IF(AD$1:AD$29<>\"\",ROW($1:$29)),ROW($AD3))))","v":{"$error":"#NUM!"}},""]
["IVA-TH",250,1000,{"$f":"CONCATENATE(A7,B7,C7)","v":"IVA-TH2501000"},250,1000,250,357,205,{"$f":"Einheiten!$E$90","v":700},250,800,222,2,{"$f":"(J7/N7)/(PI()/4*('Grunddaten-IVATH'!M7/1000)^2*3600)","v":2.5117112645151178},{"$f":"J7/(C7/1000)/(I7/1000)/3600","v":0.948509485094851},2.5,5,{"$f":"$T$37*J7^$T$38","v":11.611188396657747},null,null,null,null,null,null,null,null,null,"","",{"$f":"IF(ROW(AD4)>COUNTA(AD:AD),\"\",INDEX(AD:AD,SMALL(IF(AD$1:AD$29<>\"\",ROW($1:$29)),ROW($AD4))))","v":{"$error":"#NUM!"}},""]
["IVA-TH",250,1150,{"$f":"CONCATENATE(A8,B8,C8)","v":"IVA-TH2501150"},250,1150,250,357,205,{"$f":"Einheiten!$E$90","v":700},300,1000,222,2,{"$f":"(J8/N8)/(PI()/4*('Grunddaten-IVATH'!M8/1000)^2*3600)","v":2.5117112645151178},{"$f":"J8/(C8/1000)/(I8/1000)/3600","v":0.82479085660421836},2.5,5,{"$f":"$T$37*J8^$T$38","v":11.611188396657747},null,null,null,null,null,null,null,null,null,"","",{"$f":"IF(ROW(AD5)>COUNTA(AD:AD),\"\",INDEX(AD:AD,SMALL(IF(AD$1:AD$29<>\"\",ROW($1:$29)),ROW($AD5))))","v":{"$error":"#NUM!"}},""]
["IVA-TH",250,1300,"IVA-TH2501300",250,1300,250,357,205,{"$f":"Einheiten!$E$90","v":700},400,1200,222,2,{"$f":"(J9/N9)/(PI()/4*('Grunddaten-IVATH'!M9/1000)^2*3600)","v":2.5117112645151178},0.72962268084219306,2.5,5,11.611188396657747,null,null,null,null,null,null,null,null,null,"","",{"$f":"IF(ROW(AD6)>COUNTA(AD:AD),\"\",INDEX(AD:AD,SMALL(IF(AD$1:AD$29<>\"\",ROW($1:$29)),ROW($AD6))))","v":{"$error":"#NUM!"}},""]
["IVA-TH",250,1450,"IVA-TH2501450",250,1450,250,357,205,{"$f":"Einheiten!$E$90","v":700},500,1400,222,2,{"$f":"(J10/N10)/(PI()/4*('Grunddaten-IVATH'!M10/1000)^2*3600)","v":2.5117112645151178},0.65414447247920759,2.5,5,11.611188396657747,null,null,null,null,null,null,null,null,null,"","",{"$f":"IF(ROW(AD7)>COUNTA(AD:AD),\"\",INDEX(AD:AD,SMALL(IF(AD$1:AD$29<>\"\",ROW($1:$29)),ROW($AD7))))","v":{"$error":"#NUM!"}},""]
["IVA-TH",250,1600,{"$f":"CONCATENATE(A11,B11,C11)","v":"IVA-TH2501600"},250,1600,250,357,205,{"$f":"Einheiten!$E$90","v":700},600,1600,222,2,{"$f":"(J11/N11)/(PI()/4*('Grunddaten-IVATH'!M11/1000)^2*3600)","v":2.5117112645151178},0.59281842818428199,2.5,5,11.611188396657747,null,null,null,null,null,null,null,null,null,"","",{"$f":"IF(ROW(AD8)>COUNTA(AD:AD),\"\",INDEX(AD:AD,SMALL(IF(AD$1:AD$29<>\"\",ROW($1:$29)),ROW($AD8))))","v":{"$error":"#NUM!"}},""]
["IVA-TH",250,1750,"IVA-TH2501750",250,1750,250,357,205,{"$f":"Einheiten!$E$90","v":700},700,1800,222,2,{"$f":"(J12/N12)/(PI()/4*('Grunddaten-IVATH'!M12/1000)^2*3600)","v":2.5117112645151178},0.5420054200542006,2.5,5,11.611188396657747,null,null,null,null,null,null,null,null,null,"","",{"$f":"IF(ROW(AD9)>COUNTA(AD:AD),\"\",INDEX(AD:AD,SMALL(IF(AD$1:AD$29<>\"\",ROW($1:$29)),ROW($AD9))))","v":{"$error":"#NUM!"}},""]
[null,null,null,null,null,null,null,null,null,null,null,null,null,null,null,null,null,null,null,null,null,null,null,null,null,null,null,null,"","",{"$f":"IF(ROW(AD10)>COUNTA(AD:AD),\"\",INDEX(AD:AD,SMALL(IF(AD$1:AD$29<>\"\",ROW($1:$29)),ROW($AD10))))","v":{"$error":"#NUM!"}},""]
[null,null,null,null,null,null,null,null,null,null,null,null,null,null,null,null,null,null,null,null,null,null,null,null,null,null,null,null,"","",{"$f":"IF(ROW(AD11)>COUNTA(AD:AD),\"\",INDEX(AD:AD,SMALL(IF(AD$1:AD$29<>\"\",ROW($1:$29)),ROW($AD11))))","v":{"$error":"#NUM!"}},""]
[null,null,null,null,null,null,null,null,null,null,null,null,null,null,null,null,null,null,null,null,null,null,null,null,null,null,null,null,"","",{"$f":"IF(ROW(AD12)>COUNTA(AD:AD),\"\",INDEX(AD:AD,SMALL(IF(AD$1:AD$29<>\"\",ROW($1:$29)),ROW($AD12))))","v":{"$error":"#NUM!"}},""]
[null,null,null,null,null,null,null,null,null,null,null,null,null,null,null,null,null,null,null,null,null,null,null,null,null,null,null,null,"","",{"$f":"IF(ROW(AD13)>COUNTA(AD:AD),\"\",INDEX(AD:AD,SMALL(IF(AD$1:AD$29<>\"\",ROW($1:$29)),ROW($AD13))))","v":{"$error":"#NUM!"}},""]
[null,null,null,null,null,null,null,null,null,null,null,null,null,null,null,null,null,null,null,null,null,null,null,null,null,null,null,null,"","",{"$f":"IF(ROW(AD14)>COUNTA(AD:AD),\"\",INDEX(AD:AD,SMALL(IF(AD$1:AD$29<>\"\",ROW($1:$29)),ROW($AD14))))","v":{"$error":"#NUM!"}},""]
[null,null,null,null,null,null,null,null,null,null,null,null,null,null,null,null,null,null,null,null,null,null,null,null,null,null,null,null,"","",{"$f":"IF(ROW(AD15)>COUNTA(AD:AD),\"\",INDEX(AD:AD,SMALL(IF(AD$1:AD$29<>\"\",ROW($1:$29)),ROW($AD15))))","v":{"$error":"#NUM!"}},""]
[null,null,null,null,null,null,null,null,null,null,null,null,null,null,null,null,null,null,null,null,null,null,null,null,null,null,null,null,"","",{"$f":"IF(ROW(AD16)>COUNTA(AD:AD),\"\",INDEX(AD:AD,SMALL(IF(AD$1:AD$29<>\"\",ROW($1:$29)),ROW($AD16))))","v":{"$error":"#NUM!"}},""]
[null,null,null,null,null,null,null,null,null,null,null,null,null,null,null,null,null,null,null,null,null,null,null,null,null,null,null,null,"","",{"$f":"IF(ROW(AD17)>COUNTA(AD:AD),\"\",INDEX(AD:AD,SMALL(IF(AD$1:AD$29<>\"\",ROW($1:$29)),ROW($AD17))))","v":{"$error":"#NUM!"}},""]
[null,null,null,null,null,null,null,null,null,null,null,null,null,null,null,null,null,null,null,null,null,null,null,null,null,null,null,null,"","",{"$f":"IF(ROW(AD18)>COUNTA(AD:AD),\"\",INDEX(AD:AD,SMALL(IF(AD$1:AD$29<>\"\",ROW($1:$29)),ROW($AD18))))","v":{"$error":"#NUM!"}},""]
[null,null,null,null,null,null,null,null,null,null,null,null,null,null,null,null,null,null,null,null,null,null,null,null,null,null,null,null,"","",{"$f":"IF(ROW(AD19)>COUNTA(AD:AD),\"\",INDEX(AD:AD,SMALL(IF(AD$1:AD$29<>\"\",ROW($1:$29)),ROW($AD19))))","v":{"$error":"#NUM!"}},""]
[null,null,null,null,null,null,null,null,null,null,null,null,null,null,null,null,null,null,null,null,null,null,null,null,null,null,null,null,"","",{"$f":"IF(ROW(AD20)>COUNTA(AD:AD),\"\",INDEX(AD:AD,SMALL(IF(AD$1:AD$29<>\"\",ROW($1:$29)),ROW($AD20))))","v":{"$error":"#NUM!"}},""]
[null,null,null,null,null,null,null,null,null,null,null,null,null,null,null,null,null,null,null,null,null,null,null,null,null,null,null,null,"","",{"$f":"IF(ROW(AD21)>COUNTA(AD:AD),\"\",INDEX(AD:AD,SMALL(IF(AD$1:AD$29<>\"\",ROW($1:$29)),ROW($AD21))))","v":{"$error":"#NUM!"}},""]
[null,null,null,null,null,null,null,null,null,null,null,null,null,null,null,null,null,null,null,null,null,null,null,null,null,null,null,null,"","",{"$f":"IF(ROW(AD22)>COUNTA(AD:AD),\"\",INDEX(AD:AD,SMALL(IF(AD$1:AD$29<>\"\",ROW($1:$29)),ROW($AD22))))","v":{"$error":"#NUM!"}},""]
[null,null,null,null,null,null,null,null,null,null,null,null,null,null,null,null,null,null,null,null,null,null,null,null,null,null,null,null,"","",{"$f":"IF(ROW(AD23)>COUNTA(AD:AD),\"\",INDEX(AD:AD,SMALL(IF(AD$1:AD$29<>\"\",ROW($1:$29)),ROW($AD23))))","v":{"$error":"#NUM!"}},""]
[null,null,null,null,null,null,null,null,null,null,null,null,null,null,null,null,null,null,null,null,null,null,null,null,null,null,null,null,"","",{"$f":"IF(ROW(AD24)>COUNTA(AD:AD),\"\",INDEX(AD:AD,SMALL(IF(AD$1:AD$29<>\"\",ROW($1:$29)),ROW($AD24))))","v":{"$error":"#NUM!"}},""]
[null,null,null,null,null,null,null,null,null,null,null,null,null,null,null,null,null,null,null,null,null,null,null,null,null,null,null,null,"","",{"$f":"IF(ROW(AD25)>COUNTA(AD:AD),\"\",INDEX(AD:AD,SMALL(IF(AD$1:AD$29<>\"\",ROW($1:$29)),ROW($AD25))))","v":{"$error":"#NUM!"}},""]
[null,null,null,null,null,null,null,null,null,null,null,null,null,null,null,null,null,null,null,null,null,null,null,null,null,null,null,null,"","",{"$f":"IF(ROW(AD26)>COUNTA(AD:AD),\"\",INDEX(AD:AD,SMALL(IF(AD$1:AD$29<>\"\",ROW($1:$29)),ROW($AD26))))","v":{"$error":"#NUM!"}},""]
[null,null,null,null,null,null,null,null,null,null,null,null,null,null,null,null,null,null,null,null,null,null,null,null,null,null,null,null,null,null,{"$f":"IF(ROW(AD27)>COUNTA(AD:AD),\"\",INDEX(AD:AD,SMALL(IF(AD$1:AD$29<>\"\",ROW($1:$29)),ROW($AD27))))","v":""}]
[null,null,null,null,2,3,4,5,6,7,8,9,10,11,12,13,14,15,16,17,18,19,20,21,22,23,24,25,26,null,{"$f":"IF(ROW(AD28)>COUNTA(AD:AD),\"\",INDEX(AD:AD,SMALL(IF(AD$1:AD$29<>\"\",ROW($1:$29)),ROW($AD28))))","v":""}]
[null,null,null,null,{"$f":"VLOOKUP($C$33,$D$4:$Q$30,E31,FALSE)","v":250},{"$f":"VLOOKUP($C$33,$D$4:$Q$30,F31,FALSE)","v":1000},null,null,null,null,null,null,null,null,null,null,null,null,null,null,null,null,null,null,null,null,null,null,null,null,"Formel in Spalte AB ist Matrixformel!"]
["Auswahl:","Zuluft",{"$f":"CONCATENATE('Auslegung-IVATH'!$D$12,'Auslegung-IVATH'!$D$13,'Auslegung-IVATH'!$D$21)","v":"IVA-TH2501000"},null,{"$f":"IF(Einheiten!$F$2=3,VLOOKUP($C$33,$D$4:$Q$30,E31,FALSE)/Einheiten!$F$15,VLOOKUP($C$33,$D$4:$Q$30,E31,FALSE))","v":250},{"$f":"IF(Einheiten!$F$2=3,VLOOKUP($C$33,$D$4:$Q$30,F31,FALSE)/Einheiten!$F$15,VLOOKUP($C$33,$D$4:$Q$30,F31,FALSE))","v":1000},{"$f":"IF(Einheiten!$F$2=3,VLOOKUP($C$33,$D$4:$Q$30,G31,FALSE)/Einheiten!$F$15,VLOOKUP($C$33,$D$4:$Q$30,G31,FALSE))","v":250},{"$f":"IF(Einheiten!$F$2=3,VLOOKUP($C$33,$D$4:$Q$30,H31,FALSE)/Einheiten!$F$15,VLOOKUP($C$33,$D$4:$Q$30,H31,FALSE))","v":357},{"$f":"IF(Einheiten!$F$2=3,VLOOKUP($C$33,$D$4:$Q$30,I31,FALSE)/Einheiten!$F$15,VLOOKUP($C$33,$D$4:$Q$30,I31,FALSE))","v":205},{"$f":"VLOOKUP($C$33,$D$4:$Q$30,J31,FALSE)","v":700},{"$f":"IF(Einheiten!$F$2=3,VLOOKUP($C$33,$D$4:$Q$30,K31,FALSE)/Einheiten!$F$11,VLOOKUP($C$33,$D$4:$Q$30,K31,FALSE))","v":250},{"$f":"IF(Einheiten!$F$2=3,VLOOKUP($C$33,$D$4:$Q$30,L31,FALSE)/Einheiten!$F$11,VLOOKUP($C$33,$D$4:$Q$30,L31,FALSE))","v":800},{"$f":"IF(Einheiten!$F$2=3,VLOOKUP($C$33,$D$4:$Q$30,M31,FALSE)/Einheiten!$F$15,VLOOKUP($C$33,$D$4:$Q$30,M31,FALSE))","v":222},2,{"$f":"VLOOKUP($C$33,$D$4:$Q$30,O31,FALSE)","v":2.5117112645151178},{"$f":"VLOOKUP($C$33,$D$4:$Q$30,P31,FALSE)","v":0.948509485094851},{"$f":"IF(Einheiten!$F$2=3,VLOOKUP($C$33,$D$4:$S$29,Q31,FALSE)/Einheiten!$F$5,VLOOKUP($C$33,$D$4:$S$29,Q31,FALSE))","v":2.5},{"$f":"IF(Einheiten!$F$2=3,VLOOKUP($C$33,$D$4:$S$29,R31,FALSE)/Einheiten!$F$5,VLOOKUP($C$33,$D$4:$S$29,R31,FALSE))","v":5},{"$f":"VLOOKUP($C$33,$D$4:$AC$29,S31,FALSE)","v":11.611188396657747},{"$f":"VLOOKUP($C$33,$D$4:$AC$29,T31,FALSE)","v":0},0,0,0,0,0,{"$f":"VLOOKUP($C$33,$D$4:$AC$29,Z31,FALSE)","v":0},0,0,{"$f":"VLOOKUP($C$33,$C$4:$AC$30,AC31,FALSE)","v":{"$error":"#N/A"}},null,"Funktioniert nur bei Bestätigung"]
[null,"Anzeige Datenblatt",null,{"$f":"CONCATENATE(E32,\" / \",F32)","v":"250 / 1000"},null,null,null,null,null,null,null,null,null,null,null,null,null,null,null,null,null,null,null,null,null,null,null,null,null,null,"mit Strg+Shift+Enter!"]
[]
[null,null,null,null,null,null,"Stand:","2020-10-30"]
[null,null,null,null,null,null,null,null,null,null,null,null,null,null,null,null,null,"Koeffizienten:","k1",1.9011564885422868E-4]
[null,null,null,null,null,null,null,null,null,null,null,null,null,"Ausgabedaten:","Totaldruckverlust",null,null,"Totaldruck","k2",1.6821419642899293]
[null,null,null,null,null,null,null,null,null,null,null,null,null,null,"Schallleistung als Summe und spektral"]
[null,null,null,null,null,null,null,null,null,null,null,null,null,null,"mittlere Geschwindigkeit unterhalb im Kühlfall"]
[null,null,null,null,null,null,null,null,null,null,null,null,null,null,"vertikale Eindringtiefe im Heizfall (Walzenstellung beachten)"]
[]
[]
[]
[]
[null,null,"Festlegungen:",null,null,null,"2017-11-09","Baubreite 290mm bleibt, alternativen Breiten auf Anfrage nachpflegen."]
[null,null,null,null,null,null,null,"vorerst nur runder Anschlussstutzen"]
[null,null,null,null,null,null,null,"Montagehöhe 2,5 - 5m als empfohlene Einbauhöhe"]

{"sheet":"Datenblatt IVATH","index":46,"n_rows":44,"n_cols":9,"rows_kept":44,"cut":false,"hidden":true,"merged":[[35,0,35,1],[35,2,35,3],[36,0,36,1],[36,2,36,3],[37,0,37,1],[37,2,37,3],[32,0,32,1],[32,2,32,3],[33,0,33,1],[33,2,33,3],[34,0,34,1],[34,2,34,3],[31,0,31,1],[31,2,31,3],[1,1,1,7],[5,2,5,4],[5,6,5,7],[9,0,9,8],[18,4,18,5],[23,2,23,3],[24,2,24,3],[26,2,26,3],[27,2,27,3],[28,2,28,3],[22,0,22,2]]}
[]
[{"$f":"Übersetzung!F86","v":"Typ"},{"$f":"'Auslegung-IVATH'!D12","v":"IVA-TH"},null,null,null,null,null,null,{"$f":"TODAY()","v":"2020-12-07"}]
[{"$f":"Übersetzung!F87","v":"Projekt"},{"$f":"Übersetzung!F89","v":"bitte Projektname / VIS-Nr. eintragen"}]
[]
[{"$f":"Übersetzung!F88","v":"Definition:"}]
[{"$f":"'Auslegung-IVATH'!A12","v":"Durchlass Typ"},{"$f":"'Auslegung-IVATH'!D12","v":"IVA-TH"},{"$f":"Übersetzung!F104","v":"Breite / Länge:"},null,null,{"$f":"'Grunddaten-IVATH'!D34","v":"250 / 1000"}]
["Schlitzanzahl:",{"$f":"'Auslegung-L'!D20","v":315},"Farbe Abdeckprofil:",null,{"$f":"'Auslegung-L'!B83","v":"xxkr"}]
["Innenauskleidung:",{"$f":"'Auslegung-L'!G96","v":0},"Drossel fb:",null,{"$f":"'Auslegung-L'!B94","v":0}]
[]
["Beschreibung:\nQuellluftdurchlass für die Belüftung industrieller Bereiche. Der Durchlass ist in halbtrapezförmiger Bauweise ausgeführt."]
[{"$f":"Übersetzung!F81","v":"Einsatzbereich"}]
[{"$f":"'Auslegung-IVATH'!J61","v":"Minimaler Volumenstrom"},"V°min",{"$f":"'Auslegung-IVATH'!$K$61","v":250},{"$f":"Einheiten!$L$7","v":"m³/h"}]
[{"$f":"'Auslegung-IVATH'!J62","v":"Maximaler Volumenstrom"},"V°max",{"$f":"'Auslegung-IVATH'!$K$62","v":800},{"$f":"Einheiten!$L$7","v":"m³/h"}]
[]
[{"$f":"Übersetzung!F90","v":"technische Vorgaben"},null,null,null,null,{"$f":"'Auslegung-IVATH'!A35","v":"Raumdaten"}]
[{"$f":"'Auslegung-IVATH'!A31","v":"Luftvolumenstrom"},"V·SUP",{"$f":"'Auslegung-IVATH'!$D$31","v":700},{"$f":"Einheiten!$L$7","v":"m³/h"},null,{"$f":"'Auslegung-IVATH'!A40","v":"Raumhöhe"},{"$f":"'Auslegung-IVATH'!$D$40","v":8},{"$f":"Einheiten!$L$5","v":"m"}]
[{"$f":"'Auslegung-IVATH'!A33","v":"Temperatur Zuluft"},"tZUL",{"$f":"'Auslegung-IVATH'!D33","v":18},{"$f":"Einheiten!$L$9","v":"°C"},null,{"$f":"'Auslegung-IVATH'!A39","v":"Raumbreite"},{"$f":"'Auslegung-IVATH'!D39","v":5},{"$f":"Einheiten!$L$5","v":"m"}]
[{"$f":"'Auslegung-IVATH'!A34","v":"Temperatur Raum"},"tRAUM",{"$f":"'Auslegung-IVATH'!$D$34","v":26},{"$f":"Einheiten!$L$9","v":"°C"},null,{"$f":"'Auslegung-IVATH'!A38","v":"Raumlänge"},{"$f":"'Auslegung-IVATH'!$D$38","v":100},{"$f":"Einheiten!$L$5","v":"m"}]
[{"$f":"'Auslegung-IVATH'!A36","v":"Montagehöhe"},"H1",{"$f":"'Auslegung-IVATH'!D36","v":2.5},{"$f":"Einheiten!$L$5","v":"m"},{"$f":"'Auslegung-IVATH'!A37","v":"Obergrenze Aufenthaltsbereich"},null,{"$f":"'Auslegung-IVATH'!D37","v":1.8},{"$f":"Einheiten!$L$5","v":"m"}]
[]
[]
[]
[{"$f":"'Auslegung-IVATH'!A44","v":"Berechnung strömungstechnische und Akustische Daten"}]
[{"$f":"'Auslegung-IVATH'!A45","v":"Totaldruckverlust"},"Dp_SUP",{"$f":"'Auslegung-IVATH'!D45","v":"12"},null,{"$f":"Einheiten!$L$8","v":"Pa"}]
[{"$f":"'Auslegung-IVATH'!A46","v":"Geschwindigkeit im Stutzen"},"vSt",{"$f":"'Auslegung-IVATH'!D46","v":"2,5"},null,{"$f":"Einheiten!$L$6","v":"m/s"}]
[{"$f":"'Auslegung-IVATH'!$A$47","v":"Austrittsgeschwindigkeit"},"vAus",{"$f":"'Auslegung-IVATH'!$D$47","v":0.948509485094851},null,{"$f":"Einheiten!$L$6","v":"m/s"}]
[{"$f":"'Auslegung-IVATH'!A48","v":"Wurfweite an Oberkante Aufenthaltsbereich"},"Xmax",{"$f":"'Auslegung-IVATH'!D48","v":2.0493224445773377},null,{"$f":"Einheiten!$L$5","v":"m"}]
[{"$f":"'Auslegung-IVATH'!A49","v":"Nicht durchströmte Weite unterhalb des Durchlasses"},"Xmin",{"$f":"'Auslegung-IVATH'!D49","v":0.26853016153433662},null,{"$f":"Einheiten!$L$5","v":"m"}]
[{"$f":"'Auslegung-IVATH'!A53","v":"Schallleistungspegel, Einzeldurchlass"},"LWA_SUP",{"$f":"'Auslegung-IVATH'!D53","v":35.026613606118723},null,"dB(A)"]
[]
[{"$f":"Übersetzung!F70","v":"Abmessungen"}]
[{"$f":"'Auslegung-IVATH'!J57","v":"Länge, Durchlass"},null,{"$f":"'Auslegung-IVATH'!K57","v":"1000"},null,{"$f":"Einheiten!$L$10","v":"mm"}]
[{"$f":"'Auslegung-IVATH'!J58","v":"Breite, Durchlass"},null,{"$f":"'Auslegung-IVATH'!K58","v":"250,0"},null,{"$f":"Einheiten!$L$10","v":"mm"}]
[{"$f":"'Auslegung-IVATH'!J59","v":"Gesamthöhe"},null,{"$f":"'Auslegung-IVATH'!K59","v":"357"},null,{"$f":"Einheiten!$L$10","v":"mm"}]
[{"$f":"'Auslegung-IVATH'!J60","v":"Aktive Höhe"},null,{"$f":"'Auslegung-IVATH'!K60","v":"250"},null,{"$f":"Einheiten!$L$10","v":"mm"}]
[{"$f":"'Auslegung-IVATH'!J63","v":"Empfohlene maximale Einbauhöhe"},null,{"$f":"'Auslegung-IVATH'!K63","v":5},null,{"$f":"Einheiten!$L$5","v":"m"}]
[{"$f":"'Auslegung-IVATH'!J64","v":"Durchmesser Anschlussstutzen"},null,{"$f":"'Auslegung-IVATH'!K64","v":"222"},null,{"$f":"Einheiten!$L$10","v":"mm"}]
[{"$f":"'Auslegung-IVATH'!J65","v":"Stutzenanzahl"},null,{"$f":"'Auslegung-IVATH'!K65","v":2},null,{"$f":"Einheiten!$L$11","v":"St."}]
[]
[]
[{"$f":"'Auslegung-IVATH'!A58","v":"Oktavspektrum Schallleistung [dB]"},"f [Hz]",125,250,500,1000,2000,4000,8000]
[null,"LWA_Okt",{"$f":"IF('Auslegung-IVATH'!$D$59=\"\",\"\",'Auslegung-IVATH'!$D$59)","v":35.685699576626263},{"$f":"IF('Auslegung-IVATH'!$D$60=\"\",\"\",'Auslegung-IVATH'!$D$60)","v":35.903495124585767},{"$f":"IF('Auslegung-IVATH'!$D$61=\"\",\"\",'Auslegung-IVATH'!$D$61)","v":34.847319350253578},{"$f":"IF('Auslegung-IVATH'!$D$62=\"\",\"\",'Auslegung-IVATH'!$D$62)","v":28.374682552568146},{"$f":"IF('Auslegung-IVATH'!$D$63=\"\",\"\",'Auslegung-IVATH'!$D$63)","v":20.274163400793313},{"$f":"IF('Auslegung-IVATH'!$D$64=\"\",\"\",'Auslegung-IVATH'!$D$64)","v":18.730043266253659},{"$f":"IF('Auslegung-IVATH'!$D$65=\"\",\"\",'Auslegung-IVATH'!$D$65)","v":23.401331370584423}]
[null,null,null,null,null,null,null,null,{"$f":"'Auslegung-IVATH'!A67","v":"Änderungen vorbehalten"}]
[null,null,null,null,null,null,null,{"$f":"'Auslegung-IVATH'!A68","v":"Stand:"},{"$f":"'Grunddaten-IVATH'!$H$36","v":"2020-10-30"}]

{"sheet":"Auslegung-IVATH","index":47,"n_rows":69,"n_cols":12,"rows_kept":69,"cut":false,"hidden":true,"merged":[[62,3,62,4],[63,3,63,4],[64,3,64,4],[53,3,53,4],[55,3,55,4],[58,3,58,4],[59,3,59,4],[60,3,60,4],[61,3,61,4],[52,3,52,4],[38,3,38,4],[39,3,39,4],[40,3,40,4],[41,3,41,4],[44,3,44,4],[45,3,45,4],[47,3,47,4],[48,3,48,4],[49,3,49,4],[50,3,50,4],[51,3,51,4],[21,3,21,4],[22,3,22,4],[23,3,23,4],[37,3,37,4],[25,3,25,4],[26,3,26,4],[27,3,27,4],[28,3,28,4],[29,3,29,4],[30,3,30,4],[32,3,32,4],[33,3,33,4],[34,0,34,4],[35,3,35,4],[36,3,36,4],[12,3,12,4],[46,3,46,4],[0,0,0,3],[5,0,5,4],[6,3,6,4],[7,3,7,4],[11,3,11,4],[24,3,24,4],[13,3,13,4],[14,3,14,4],[15,3,15,4],[16,3,16,4],[17,3,17,4],[18,3,18,4],[19,3,19,4],[20,3,20,4]]}
[{"$f":"Übersetzung!F5","v":"Auslegung Kampmann Industrieluftdurchlässe"}]
[]
[{"$f":"Übersetzung!F6","v":"Eingabefelder sind gelb gekennzeichnet"}]
[{"$f":"Übersetzung!F7","v":"Ergebnisfelder sind blau gekennzeichnet"}]
[]
[{"$f":"Übersetzung!F8","v":"Vorgaben"}]
[{"$f":"Übersetzung!F9","v":"Lüftungstechnik"},{"$f":"Übersetzung!F10","v":"Symbol"},{"$f":"Übersetzung!F11","v":"Einheit"},{"$f":"Übersetzung!F12","v":"Wert"}]
["Bezeichung","Symbol","Einheit"]
[null,"L","mm"]
[null,"L","mm"]
[null,"L","mm"]
[{"$f":"Übersetzung!F13","v":"Durchlass Typ"},null,null,"IVA-TH"]
[{"$f":"Übersetzung!F14","v":"Baubreite"},null,null,250]
[null,null,null,250]
[]
[]
[]
[]
[]
[]
[{"$f":"Übersetzung!F15","v":"Baulänge"},"DN","[-]",1000]
[null,null,null,1000]
[null,null,null,1150]
[null,null,null,1300]
[null,null,null,1450]
[null,null,null,1600]
[null,null,null,1750]
[]
[]
[]
[{"$f":"Übersetzung!F16","v":"Luftvolumenstrom"},"V·SUP",{"$f":"Einheiten!$L$7","v":"m³/h"},700]
["max. Luftgeschwindigkeit im Aufenthaltsbereich","vMax","m/s",0.2]
[{"$f":"Übersetzung!F18","v":"Temperatur Zuluft"},"tSUP",{"$f":"Einheiten!$L$9","v":"°C"},18]
[{"$f":"Übersetzung!F19","v":"Temperatur Raum"},"tRaum",{"$f":"Einheiten!$L$9","v":"°C"},26]
[{"$f":"Übersetzung!F20","v":"Raumdaten"}]
[{"$f":"Übersetzung!F21","v":"Montagehöhe"},"H1",{"$f":"Einheiten!$L$5","v":"m"},2.5]
[{"$f":"Übersetzung!F22","v":"Obergrenze Aufenthaltsbereich"},"H2",{"$f":"Einheiten!$L$5","v":"m"},1.8]
[{"$f":"Übersetzung!F23","v":"Raumlänge"},"LR",{"$f":"Einheiten!$L$5","v":"m"},100]
[{"$f":"Übersetzung!F24","v":"Raumbreite"},"BR",{"$f":"Einheiten!$L$5","v":"m"},5]
[{"$f":"Übersetzung!F25","v":"Raumhöhe"},"HR",{"$f":"Einheiten!$L$5","v":"m"},8]
["Abstand Durchlass zur nächstgelegenen Wand","a","m","irrelevant"]
["kleinster Abstand zwischen 2 Durchlässen","smin","m",5]
[]
[{"$f":"Übersetzung!F26","v":"Berechnung strömungstechnische und Akustische Daten"}]
[{"$f":"Übersetzung!F27","v":"Totaldruckverlust"},"Dpt",{"$f":"Einheiten!$L$8","v":"Pa"},{"$f":"IF(Einheiten!$F$2=3,FIXED(Einheiten!$E$99,3,TRUE),FIXED(Einheiten!$E$99,0,TRUE))","v":"12"}]
[{"$f":"Übersetzung!F28","v":"Geschwindigkeit im Stutzen"},"vST",{"$f":"Einheiten!$L$6","v":"m/s"},{"$f":"IF(Einheiten!$F$2=3,FIXED(Einheiten!$E$100,1,TRUE),FIXED(Einheiten!$E$100,1,TRUE))","v":"2,5"}]
[{"$f":"Übersetzung!F29","v":"Austrittsgeschwindigkeit"},"vaus",{"$f":"Einheiten!$L$6","v":"m/s"},{"$f":"'Grunddaten-IVATH'!$P$33","v":0.948509485094851}]
[{"$f":"Übersetzung!F30","v":"Wurfweite an Oberkante Aufenthaltsbereich"},"Xmax",{"$f":"Einheiten!$L$5","v":"m"},{"$f":"IF('LW,vY-IVATH'!$N$65>$D$39,\"> Raumbreite\",Einheiten!$E$102)","v":2.0493224445773377}]
[{"$f":"Übersetzung!F31","v":"Nicht durchströmte Weite unterhalb des Durchlasses"},"Xmin",{"$f":"Einheiten!$L$5","v":"m"},{"$f":"Einheiten!$E$103","v":0.26853016153433662}]
[{"$f":"Übersetzung!F32","v":"Mittlere Geschwindigkeit an Oberkante Aufenthaltsbereich"},"vy",{"$f":"Einheiten!$L$6","v":"m/s"},{"$f":"Einheiten!$E$104","v":0.53286768824913644}]
[null,"DR3","%"]
[null,"RAL","[-]"]
[{"$f":"Übersetzung!F33","v":"Schallleistungspegel, Einzeldurchlass"},"LWA_SUP/ETA","dB(A)",{"$f":"IF('LW,vY-IVATH'!$AA$15<25,\"<25\",'LW,vY-IVATH'!$AA$15)","v":35.026613606118723}]
["Werksseitig voreingestellte Walzenstellung",null,null,{"$f":"'Datenblatt IVATH'!#REF!","v":{"$error":"#REF!"}}]
[{"$f":"CONCATENATE(\"Schallldruckpegel in \",#REF!,\"m Entfernung, Einzeldurchlass\")","v":{"$error":"#REF!"}},"LPA_SUP/ETA","dB(A)"]
["Schalldruckpegel rechnerisch "]
[null,null,null,null,null,null,null,null,1,{"$f":"Übersetzung!F35","v":"Länge, Durchlass"},{"$f":"IF(Einheiten!$F$2=3,FIXED('Grunddaten-IVATH'!$F$33,1,TRUE),FIXED('Grunddaten-IVATH'!$F$33,0,TRUE))","v":"1000"},{"$f":"Einheiten!$L$10","v":"mm"}]
[{"$f":"Übersetzung!F34","v":"Oktavspektrum Schallleistung [dB]"},"LW_Okt","dB",null,null,null,null,null,2,{"$f":"Übersetzung!F36","v":"Breite, Durchlass"},{"$f":"IF(Einheiten!$F$2=3,FIXED('Grunddaten-IVATH'!$E$33,1,TRUE),FIXED('Grunddaten-IVATH'!$E$33,1,TRUE))","v":"250,0"},{"$f":"Einheiten!$L$10","v":"mm"}]
[null,"LW_125","dB",{"$f":"IF($D$53=\"<25\",\"\",'LW,vY-IVATH'!$G$21)","v":35.685699576626263},null,null,null,null,3,{"$f":"Übersetzung!F37","v":"Gesamthöhe"},{"$f":"IF(Einheiten!$F$2=3,FIXED('Grunddaten-IVATH'!$H$33,1,TRUE),FIXED('Grunddaten-IVATH'!$H$33,0,TRUE))","v":"357"},{"$f":"Einheiten!$L$10","v":"mm"}]
[null,"LW_250","dB",{"$f":"IF($D$53=\"<25\",\"\",'LW,vY-IVATH'!$H$21)","v":35.903495124585767},null,null,null,null,4,{"$f":"Übersetzung!F38","v":"Aktive Höhe"},{"$f":"IF(Einheiten!$F$2=3,FIXED('Grunddaten-IVATH'!$G$33,1,TRUE),FIXED('Grunddaten-IVATH'!$G$33,0,TRUE))","v":"250"},{"$f":"Einheiten!$L$10","v":"mm"}]
[null,"LW_500","dB",{"$f":"IF($D$53=\"<25\",\"\",'LW,vY-IVATH'!$I$21)","v":34.847319350253578},null,null,null,null,5,{"$f":"Übersetzung!F39","v":"Minimaler Volumenstrom"},{"$f":"'Grunddaten-IVATH'!$K$33","v":250},{"$f":"Einheiten!$L$7","v":"m³/h"}]
[null,"LW_1000","dB",{"$f":"IF($D$53=\"<25\",\"\",'LW,vY-IVATH'!$J$21)","v":28.374682552568146},null,null,null,null,6,{"$f":"Übersetzung!F40","v":"Maximaler Volumenstrom"},{"$f":"'Grunddaten-IVATH'!$L$33","v":800},{"$f":"Einheiten!$L$7","v":"m³/h"}]
[null,"LW_2000","dB",{"$f":"IF($D$53=\"<25\",\"\",'LW,vY-IVATH'!$K$21)","v":20.274163400793313},null,null,null,null,7,{"$f":"Übersetzung!F41","v":"Empfohlene maximale Einbauhöhe"},{"$f":"'Grunddaten-IVATH'!$R$33","v":5},{"$f":"Einheiten!$L$5","v":"m"}]
[null,"LW_4000","dB",{"$f":"IF($D$53=\"<25\",\"\",'LW,vY-IVATH'!$L$21)","v":18.730043266253659},null,null,null,null,8,{"$f":"Übersetzung!F42","v":"Durchmesser Anschlussstutzen"},{"$f":"IF(Einheiten!$F$2=3,FIXED('Grunddaten-IVATH'!$M$33,1,TRUE),FIXED('Grunddaten-IVATH'!$M$33,0,TRUE))","v":"222"},{"$f":"Einheiten!$L$10","v":"mm"}]
[null,"LW_8000","dB",{"$f":"IF($D$53=\"<25\",\"\",'LW,vY-IVATH'!$M$21)","v":23.401331370584423},null,null,null,null,9,{"$f":"Übersetzung!F43","v":"Stutzenanzahl"},{"$f":"'Grunddaten-IVATH'!$N$33","v":2},{"$f":"Einheiten!$L$11","v":"St."}]
[]
[{"$f":"Übersetzung!F44","v":"Änderungen vorbehalten"}]
[{"$f":"Übersetzung!F45","v":"Stand:"}]
[{"$f":"'Grunddaten-IVATH'!$H$36","v":"2020-10-30"}]

{"sheet":"Übersetzung","index":48,"n_rows":142,"n_cols":6,"rows_kept":142,"cut":false,"hidden":true,"merged":[]}
[]
["Sprachauswahl:",1]
[]
[1,2,3,null,"Index","Auswahl"]
["Auslegung Kampmann Industrieluftdurchlässe","Calculation Kampmann industrial diffusers",{"$f":"B5","v":"Calculation Kampmann industrial diffusers"},null,2,{"$f":"HLOOKUP($B$2,Übersetzung!$A$4:$D$137,E5,FALSE)","v":"Auslegung Kampmann Industrieluftdurchlässe"}]
["Eingabefelder sind gelb gekennzeichnet","Input cells are marked yellow",{"$f":"B6","v":"Input cells are marked yellow"},null,3,{"$f":"HLOOKUP($B$2,Übersetzung!$A$4:$D$137,E6,FALSE)","v":"Eingabefelder sind gelb gekennzeichnet"}]
["Ergebnisfelder sind blau gekennzeichnet","Output cells are marked blue","Output cells are marked blue",null,4,{"$f":"HLOOKUP($B$2,Übersetzung!$A$4:$D$137,E7,FALSE)","v":"Ergebnisfelder sind blau gekennzeichnet"}]
["Vorgaben","Settings","Settings",null,5,{"$f":"HLOOKUP($B$2,Übersetzung!$A$4:$D$137,E8,FALSE)","v":"Vorgaben"}]
["Lüftungstechnik","Ventilation technology","Ventilation technology",null,6,{"$f":"HLOOKUP($B$2,Übersetzung!$A$4:$D$137,E9,FALSE)","v":"Lüftungstechnik"}]
["Symbol","Symbol","Symbol",null,7,{"$f":"HLOOKUP($B$2,Übersetzung!$A$4:$D$137,E10,FALSE)","v":"Symbol"}]
["Einheit","Unit","Unit",null,8,{"$f":"HLOOKUP($B$2,Übersetzung!$A$4:$D$137,E11,FALSE)","v":"Einheit"}]
["Wert","Value","Value",null,9,{"$f":"HLOOKUP($B$2,Übersetzung!$A$4:$D$137,E12,FALSE)","v":"Wert"}]
["Durchlass Typ","Diffuser type","Diffuser type",null,10,{"$f":"HLOOKUP($B$2,Übersetzung!$A$4:$D$137,E13,FALSE)","v":"Durchlass Typ"}]
["Baubreite","Diffuser width","Diffuser width",null,11,{"$f":"HLOOKUP($B$2,Übersetzung!$A$4:$D$137,E14,FALSE)","v":"Baubreite"}]
["Baulänge","Diffuser length","Diffuser length",null,12,{"$f":"HLOOKUP($B$2,Übersetzung!$A$4:$D$137,E15,FALSE)","v":"Baulänge"}]
["Luftvolumenstrom","Volume-flow rate","Volume-flow rate",null,13,{"$f":"HLOOKUP($B$2,Übersetzung!$A$4:$D$137,E16,FALSE)","v":"Luftvolumenstrom"}]
["max. Luftgeschwindigkeit im Aufenthaltsbereich","Max. air speeed, habitation area","Max. air speeed, habitation area",null,14,{"$f":"HLOOKUP($B$2,Übersetzung!$A$4:$D$137,E17,FALSE)","v":"max. Luftgeschwindigkeit im Aufenthaltsbereich"}]
["Temperatur Zuluft","Supply air temperature","Supply air temperature",null,15,{"$f":"HLOOKUP($B$2,Übersetzung!$A$4:$D$137,E18,FALSE)","v":"Temperatur Zuluft"}]
["Temperatur Raum","Room temperature","Room temperature",null,16,{"$f":"HLOOKUP($B$2,Übersetzung!$A$4:$D$137,E19,FALSE)","v":"Temperatur Raum"}]
["Raumdaten","Room parameters","Room parameters",null,17,{"$f":"HLOOKUP($B$2,Übersetzung!$A$4:$D$137,E20,FALSE)","v":"Raumdaten"}]
["Montagehöhe","Installation height","Installation height",null,18,{"$f":"HLOOKUP($B$2,Übersetzung!$A$4:$D$137,E21,FALSE)","v":"Montagehöhe"}]
["Obergrenze Aufenthaltsbereich","Upper limit, habitation area","Upper limit, habitation area",null,19,{"$f":"HLOOKUP($B$2,Übersetzung!$A$4:$D$137,E22,FALSE)","v":"Obergrenze Aufenthaltsbereich"}]
["Raumlänge","Room length","Room length",null,20,{"$f":"HLOOKUP($B$2,Übersetzung!$A$4:$D$137,E23,FALSE)","v":"Raumlänge"}]
["Raumbreite","Room width","Room width",null,21,{"$f":"HLOOKUP($B$2,Übersetzung!$A$4:$D$137,E24,FALSE)","v":"Raumbreite"}]
["Raumhöhe","Room height","Room height",null,22,{"$f":"HLOOKUP($B$2,Übersetzung!$A$4:$D$137,E25,FALSE)","v":"Raumhöhe"}]
["Berechnung strömungstechnische und Akustische Daten","Calculation, fluidic and acoustical parameters","Calculation, fluidic and acoustical parameters",null,23,{"$f":"HLOOKUP($B$2,Übersetzung!$A$4:$D$137,E26,FALSE)","v":"Berechnung strömungstechnische und Akustische Daten"}]
["Totaldruckverlust","Total pressure drop","Total pressure drop",null,24,{"$f":"HLOOKUP($B$2,Übersetzung!$A$4:$D$137,E27,FALSE)","v":"Totaldruckverlust"}]
["Geschwindigkeit im Stutzen","Velocity, duct connector","Velocity, duct connector",null,25,{"$f":"HLOOKUP($B$2,Übersetzung!$A$4:$D$137,E28,FALSE)","v":"Geschwindigkeit im Stutzen"}]
["Austrittsgeschwindigkeit","Outlet velocity","Outlet velocity",null,26,{"$f":"HLOOKUP($B$2,Übersetzung!$A$4:$D$137,E29,FALSE)","v":"Austrittsgeschwindigkeit"}]
["Wurfweite an Oberkante Aufenthaltsbereich","Throw distance at upper limit, habitation area","Throw distance at upper limit, habitation area",null,27,{"$f":"HLOOKUP($B$2,Übersetzung!$A$4:$D$137,E30,FALSE)","v":"Wurfweite an Oberkante Aufenthaltsbereich"}]
["Nicht durchströmte Weite unterhalb des Durchlasses","Not perfused width below the diffuser","Not perfused width below the diffuser",null,28,{"$f":"HLOOKUP($B$2,Übersetzung!$A$4:$D$137,E31,FALSE)","v":"Nicht durchströmte Weite unterhalb des Durchlasses"}]
["Mittlere Geschwindigkeit an Oberkante Aufenthaltsbereich","Mediate air velocity at upper limit, habitation area","Mediate air velocity at upper limit, habitation area",null,29,{"$f":"HLOOKUP($B$2,Übersetzung!$A$4:$D$137,E32,FALSE)","v":"Mittlere Geschwindigkeit an Oberkante Aufenthaltsbereich"}]
["Schallleistungspegel, Einzeldurchlass","Sound Power Level, single diffuser","Sound Power Level, single diffuser",null,30,{"$f":"HLOOKUP($B$2,Übersetzung!$A$4:$D$137,E33,FALSE)","v":"Schallleistungspegel, Einzeldurchlass"}]
["Oktavspektrum Schallleistung [dB]","Sound Power Level, octave bandwidth [dB]","Sound Power Level, octave bandwidth [dB]",null,31,{"$f":"HLOOKUP($B$2,Übersetzung!$A$4:$D$137,E34,FALSE)","v":"Oktavspektrum Schallleistung [dB]"}]
["Länge, Durchlass","Diffuser length","Diffuser length",null,32,{"$f":"HLOOKUP($B$2,Übersetzung!$A$4:$D$137,E35,FALSE)","v":"Länge, Durchlass"}]
["Breite, Durchlass","Diffuser width","Diffuser width",null,33,{"$f":"HLOOKUP($B$2,Übersetzung!$A$4:$D$137,E36,FALSE)","v":"Breite, Durchlass"}]
["Gesamthöhe","Total height","Total height",null,34,{"$f":"HLOOKUP($B$2,Übersetzung!$A$4:$D$137,E37,FALSE)","v":"Gesamthöhe"}]
["Aktive Höhe","Active height","Active height",null,35,{"$f":"HLOOKUP($B$2,Übersetzung!$A$4:$D$137,E38,FALSE)","v":"Aktive Höhe"}]
["Minimaler Volumenstrom","Minimum air volume flow","Minimum air volume flow",null,36,{"$f":"HLOOKUP($B$2,Übersetzung!$A$4:$D$137,E39,FALSE)","v":"Minimaler Volumenstrom"}]
["Maximaler Volumenstrom","Maximum air volume flow","Maximum air volume flow",null,37,{"$f":"HLOOKUP($B$2,Übersetzung!$A$4:$D$137,E40,FALSE)","v":"Maximaler Volumenstrom"}]
["Empfohlene maximale Einbauhöhe","Recommended max. installation height","Recommended max. installation height",null,38,{"$f":"HLOOKUP($B$2,Übersetzung!$A$4:$D$137,E41,FALSE)","v":"Empfohlene maximale Einbauhöhe"}]
["Durchmesser Anschlussstutzen","Branch diameter","Branch diameter",null,39,{"$f":"HLOOKUP($B$2,Übersetzung!$A$4:$D$137,E42,FALSE)","v":"Durchmesser Anschlussstutzen"}]
["Stutzenanzahl","No. Of branches","No. Of branches",null,40,{"$f":"HLOOKUP($B$2,Übersetzung!$A$4:$D$137,E43,FALSE)","v":"Stutzenanzahl"}]
["Änderungen vorbehalten","Subject to modifications","Subject to modifications",null,41,{"$f":"HLOOKUP($B$2,Übersetzung!$A$4:$D$137,E44,FALSE)","v":"Änderungen vorbehalten"}]
["Stand:","Date issued:","Date issued:",null,42,{"$f":"HLOOKUP($B$2,Übersetzung!$A$4:$D$137,E45,FALSE)","v":"Stand:"}]
["Nenndurchmesser","Nominal diameter","Nominal diameter",null,43,{"$f":"HLOOKUP($B$2,Übersetzung!$A$4:$D$137,E46,FALSE)","v":"Nenndurchmesser"}]
["Montageart","Type of installation","Type of installation",null,44,{"$f":"HLOOKUP($B$2,Übersetzung!$A$4:$D$137,E47,FALSE)","v":"Montageart"}]
["Abstand Durchlass zur nächstgelegenen Wand","Distance between diffuser and next wall","Distance between diffuser and next wall",null,45,{"$f":"HLOOKUP($B$2,Übersetzung!$A$4:$D$137,E48,FALSE)","v":"Abstand Durchlass zur nächstgelegenen Wand"}]
["kleinster Abstand zwischen 2 Durchlässen","Minimum distance between 2 diffusers","Minimum distance between 2 diffusers",null,46,{"$f":"HLOOKUP($B$2,Übersetzung!$A$4:$D$137,E49,FALSE)","v":"kleinster Abstand zwischen 2 Durchlässen"}]
["deckenbündig","flush installed","flush installed",null,47,{"$f":"HLOOKUP($B$2,Übersetzung!$A$4:$D$137,E50,FALSE)","v":"deckenbündig"}]
["freihängend","hanging installed","hanging installed",null,48,{"$f":"HLOOKUP($B$2,Übersetzung!$A$4:$D$137,E51,FALSE)","v":"freihängend"}]
["Geschwindigkeit im Fußbodenbereich in Wandnähe","Velocity at the floor next to the wall","Velocity at the floor next to the wall",null,49,{"$f":"HLOOKUP($B$2,Übersetzung!$A$4:$D$137,E52,FALSE)","v":"Geschwindigkeit im Fußbodenbereich in Wandnähe"}]
["Zugluftrisiko am Fußboden**","Draught rating at the floor **","Draught rating at the floor **",null,50,{"$f":"HLOOKUP($B$2,Übersetzung!$A$4:$D$137,E53,FALSE)","v":"Zugluftrisiko am Fußboden**"}]
["Vertikale Eindringtiefe","Vertical penetration depth","Vertical penetration depth",null,51,{"$f":"HLOOKUP($B$2,Übersetzung!$A$4:$D$137,E54,FALSE)","v":"Vertikale Eindringtiefe"}]
["Geschwindigkeit im Aufenthaltsbereich nach Stoß*","Velocity after stream impact *","Velocity after stream impact *",null,52,{"$f":"HLOOKUP($B$2,Übersetzung!$A$4:$D$137,E55,FALSE)","v":"Geschwindigkeit im Aufenthaltsbereich nach Stoß*"}]
["Zugluftrisiko im Aufenthaltsbereich**","Draught rating, habitation area **","Draught rating, habitation area **",null,53,{"$f":"HLOOKUP($B$2,Übersetzung!$A$4:$D$137,E56,FALSE)","v":"Zugluftrisiko im Aufenthaltsbereich**"}]
["Geschwindigkeit nach Ablösen an Xkr.","Velocity after stream release at Xkr.","Velocity after stream release at Xkr.",null,54,{"$f":"HLOOKUP($B$2,Übersetzung!$A$4:$D$137,E57,FALSE)","v":"Geschwindigkeit nach Ablösen an Xkr."}]
["Zugluftrisiko nach Ablösepunkt**","Draught rating after releasing point **","Draught rating after releasing point **",null,55,{"$f":"HLOOKUP($B$2,Übersetzung!$A$4:$D$137,E58,FALSE)","v":"Zugluftrisiko nach Ablösepunkt**"}]
["Resultierende Raumkategorie","Resulting room category","Resulting room category",null,56,{"$f":"HLOOKUP($B$2,Übersetzung!$A$4:$D$137,E59,FALSE)","v":"Resultierende Raumkategorie"}]
["*Gilt für Eintritt der Luftströmung in den Aufenthaltbereich nach dem Stoßpunkt","* Valid for an air stream entering the habitation area after the collision point.","* Valid for an air stream entering the habitation area after the collision point.",null,57,{"$f":"HLOOKUP($B$2,Übersetzung!$A$4:$D$137,E60,FALSE)","v":"*Gilt für Eintritt der Luftströmung in den Aufenthaltbereich nach dem Stoßpunkt"}]
["** Berechnung gemäß DIN EN ISO 7730","** Calculation according to DIN EN ISO 7730","** Calculation according to DIN EN ISO 7730",null,58,{"$f":"HLOOKUP($B$2,Übersetzung!$A$4:$D$137,E61,FALSE)","v":"** Berechnung gemäß DIN EN ISO 7730"}]
["Strahlbreite an Oberkante Aufenthaltsbereich","Width of the air stream, upper limit habitation area","Width of the air stream, upper limit habitation area",null,59,{"$f":"HLOOKUP($B$2,Übersetzung!$A$4:$D$137,E62,FALSE)","v":"Strahlbreite an Oberkante Aufenthaltsbereich"}]
["Mittlere Geschwindigkeit im Aufenthaltsbereich","Mediate air velocity in the habitation area","Mediate air velocity in the habitation area",null,60,{"$f":"HLOOKUP($B$2,Übersetzung!$A$4:$D$137,E63,FALSE)","v":"Mittlere Geschwindigkeit im Aufenthaltsbereich"}]
["Strahlgeschwindigkeit bei Eintritt in den Aufenthaltsbereich","Air velocity at the upper limit of the habitation area","Air velocity at the upper limit of the habitation area",null,61,{"$f":"HLOOKUP($B$2,Übersetzung!$A$4:$D$137,E64,FALSE)","v":"Strahlgeschwindigkeit bei Eintritt in den Aufenthaltsbereich"}]
["Werksseitig voreingestellte Walzenstellung","Factory presetted drum setting","Factory presetted drum setting",null,62,{"$f":"HLOOKUP($B$2,Übersetzung!$A$4:$D$137,E65,FALSE)","v":"Werksseitig voreingestellte Walzenstellung"}]
["bodenstehend","floor standing","floor standing",null,63,{"$f":"HLOOKUP($B$2,Übersetzung!$A$4:$D$137,E66,FALSE)","v":"bodenstehend"}]
["Leitschaufelwinkel","Guide vane angle","Guide vane angle",null,64,{"$f":"HLOOKUP($B$2,Übersetzung!$A$4:$D$137,E67,FALSE)","v":"Leitschaufelwinkel"}]
["Höhe Durchlass","Diffuser height","Diffuser height",null,65,{"$f":"HLOOKUP($B$2,Übersetzung!$A$4:$D$137,E68,FALSE)","v":"Höhe Durchlass"}]
["Klappenwinkel Kühlfall / Heizfall","Guide vane angle Cooling-/Heating mode","Guide vane angle Cooling-/Heating mode",null,66,{"$f":"HLOOKUP($B$2,Übersetzung!$A$4:$D$137,E69,FALSE)","v":"Klappenwinkel Kühlfall / Heizfall"}]
["Abmessungen","Dimensions",{"$f":"B70","v":"Dimensions"},null,67,{"$f":"HLOOKUP($B$2,Übersetzung!$A$4:$D$137,E70,FALSE)","v":"Abmessungen"}]
["Anschlussdurchmesser LDI","Branch diameter LDI","Branch diameter LDI",null,68,{"$f":"HLOOKUP($B$2,Übersetzung!$A$4:$D$137,E71,FALSE)","v":"Anschlussdurchmesser LDI"}]
["Höhe Anschlusskasten","Height plenum box","Height plenum box",null,69,{"$f":"HLOOKUP($B$2,Übersetzung!$A$4:$D$137,E72,FALSE)","v":"Höhe Anschlusskasten"}]
["Außendurchmesser, einfache Düsenkontur","Outer diameter standard nozzle contour","Outer diameter standard nozzle contour",null,70,{"$f":"HLOOKUP($B$2,Übersetzung!$A$4:$D$137,E73,FALSE)","v":"Außendurchmesser, einfache Düsenkontur"}]
["Außendurchmesser, verlängerte Düsenkontur","Outer diameter long nozzle contour","Outer diameter long nozzle contour",null,71,{"$f":"HLOOKUP($B$2,Übersetzung!$A$4:$D$137,E74,FALSE)","v":"Außendurchmesser, verlängerte Düsenkontur"}]
["Höhe LDI","Height LDI","Height LDI",null,72,{"$f":"HLOOKUP($B$2,Übersetzung!$A$4:$D$137,E75,FALSE)","v":"Höhe LDI"}]
["Anschlussdurchmesser opt. RAK","Branch diameter, opt. plenum box","Branch diameter, opt. plenum box",null,73,{"$f":"HLOOKUP($B$2,Übersetzung!$A$4:$D$137,E76,FALSE)","v":"Anschlussdurchmesser opt. RAK"}]
["Außendurchmesser opt. RAK","Outer diameter, opt. plenum box","Outer diameter, opt. plenum box",null,74,{"$f":"HLOOKUP($B$2,Übersetzung!$A$4:$D$137,E77,FALSE)","v":"Außendurchmesser opt. RAK"}]
["Höhe opt. RAK","Height, opt. plenum box","Height, opt. plenum box",null,75,{"$f":"HLOOKUP($B$2,Übersetzung!$A$4:$D$137,E78,FALSE)","v":"Höhe opt. RAK"}]
["minimale Einbauhöhe","Minimum installation height","Minimum installation height",null,76,{"$f":"HLOOKUP($B$2,Übersetzung!$A$4:$D$137,E79,FALSE)","v":"minimale Einbauhöhe"}]
["maximale Einbauhöhe","Maximum installation height","Maximum installation height",null,77,{"$f":"HLOOKUP($B$2,Übersetzung!$A$4:$D$137,E80,FALSE)","v":"maximale Einbauhöhe"}]
["Einsatzbereich","Range of application","Range of application",null,78,{"$f":"HLOOKUP($B$2,Übersetzung!$A$4:$D$137,E81,FALSE)","v":"Einsatzbereich"}]
["Temperaturvorgabe Kühlfall / Heizfall","Specified temperature","Specified temperature",null,79,{"$f":"HLOOKUP($B$2,Übersetzung!$A$4:$D$137,E82,FALSE)","v":"Temperaturvorgabe Kühlfall / Heizfall"}]
["Horizontale Wurfweite","Horizontal throw distance","Horizontal throw distance",null,80,{"$f":"HLOOKUP($B$2,Übersetzung!$A$4:$D$137,E83,FALSE)","v":"Horizontale Wurfweite"}]
["Abmessungen und Einsatzbereich","Dimensions and range of application","Dimensions and range of application",null,81,{"$f":"HLOOKUP($B$2,Übersetzung!$A$4:$D$137,E84,FALSE)","v":"Abmessungen und Einsatzbereich"}]
["Empfohlene minimale Einbauhöhe","Recommended min. installation height","Recommended min. installation height",null,82,{"$f":"HLOOKUP($B$2,Übersetzung!$A$4:$D$137,E85,FALSE)","v":"Empfohlene minimale Einbauhöhe"}]
["Typ","Type","Type",null,83,{"$f":"HLOOKUP($B$2,Übersetzung!$A$4:$D$137,E86,FALSE)","v":"Typ"}]
["Projekt","Project","Project",null,84,{"$f":"HLOOKUP($B$2,Übersetzung!$A$4:$D$137,E87,FALSE)","v":"Projekt"}]
["Definition:","Definition:","Definition:",null,85,{"$f":"HLOOKUP($B$2,Übersetzung!$A$4:$D$137,E88,FALSE)","v":"Definition:"}]
["bitte Projektname / VIS-Nr. eintragen","Please enter project- or VIS-No.","Please enter project- or VIS-No.",null,86,{"$f":"HLOOKUP($B$2,Übersetzung!$A$4:$D$137,E89,FALSE)","v":"bitte Projektname / VIS-Nr. eintragen"}]
["technische Vorgaben","Technical parameters","Technical parameters",null,87,{"$f":"HLOOKUP($B$2,Übersetzung!$A$4:$D$137,E90,FALSE)","v":"technische Vorgaben"}]
["Kritischer Strahlweg","Critical airflow distance","Critical airflow distance",null,88,{"$f":"HLOOKUP($B$2,Übersetzung!$A$4:$D$137,E91,FALSE)","v":"Kritischer Strahlweg"}]
["** Raumkategorie nach DIN EN ISO 7730: DR<10 % = A; DR<20 % = B; DR<30 % = C","** Room category according to DIN EN ISO 7730: DR<10 % = A; DR<20 % = B; DR<30 % = C","** Room category according to DIN EN ISO 7730: DR<10 % = A; DR<20 % = B; DR<30 % = C",null,89,{"$f":"HLOOKUP($B$2,Übersetzung!$A$4:$D$137,E92,FALSE)","v":"** Raumkategorie nach DIN EN ISO 7730: DR<10 % = A; DR<20 % = B; DR<30 % = C"}]
["Durchmesser Anschlusskasten","Diameter plenum box","Diameter plenum box",null,90,{"$f":"HLOOKUP($B$2,Übersetzung!$A$4:$D$137,E93,FALSE)","v":"Durchmesser Anschlusskasten"}]
["Beschreibung:\nLuftdurchlass für die Belüftung industrieller Bereiche. In Abhängigkeit des ausgewählten Durchlasses erfolgt eine Umschaltung zwischen Kühl- und Heizbetrieb manuell oder elektrisch.\n","Description: Diffuser for the ventilation of industrial areas. Depending on the Type of diffuser, a change in airflow characteristics between heating- and cooling mode is executed manually or electrically.","Description: Diffuser for the ventilation of industrial areas. Depending on the Type of diffuser, a change in airflow characteristics between heating- and cooling mode is executed manually or electrically.",null,91,{"$f":"HLOOKUP($B$2,Übersetzung!$A$4:$D$137,E94,FALSE)","v":"Beschreibung:\nLuftdurchlass für die Belüftung industrieller Bereiche. In Abhängigkeit des ausgewählten Durchlasses erfolgt eine Umschaltung zwischen Kühl- und Heizbetrieb manuell oder elektrisch.\n"}]
["Zulufttemperatur Kühlfall","Supply air temperature cooling mode","Supply air temperature cooling mode",null,92,{"$f":"HLOOKUP($B$2,Übersetzung!$A$4:$D$137,E95,FALSE)","v":"Zulufttemperatur Kühlfall"}]
["Raumtemperatur Kühlfall","Room temperature cooling mode","Room temperature cooling mode",null,93,{"$f":"HLOOKUP($B$2,Übersetzung!$A$4:$D$137,E96,FALSE)","v":"Raumtemperatur Kühlfall"}]
["Zulufttemperatur Heizfall","Supply air temperature heating mode","Supply air temperature heating mode",null,94,{"$f":"HLOOKUP($B$2,Übersetzung!$A$4:$D$137,E97,FALSE)","v":"Zulufttemperatur Heizfall"}]
["Raumtemperatur Heizfall","Room temperature heating mode","Room temperature heating mode",null,95,{"$f":"HLOOKUP($B$2,Übersetzung!$A$4:$D$137,E98,FALSE)","v":"Raumtemperatur Heizfall"}]
["Klappenwinkel Kühlfall","Guide vane angle cooling mode","Guide vane angle cooling mode",null,96,{"$f":"HLOOKUP($B$2,Übersetzung!$A$4:$D$137,E99,FALSE)","v":"Klappenwinkel Kühlfall"}]
["Klappenwinkel Heizfall","Guide vane angle heating mode","Guide vane angle heating mode",null,97,{"$f":"HLOOKUP($B$2,Übersetzung!$A$4:$D$137,E100,FALSE)","v":"Klappenwinkel Heizfall"}]
["Kühlfall","Cooling mode","Cooling mode",null,98,{"$f":"HLOOKUP($B$2,Übersetzung!$A$4:$D$137,E101,FALSE)","v":"Kühlfall"}]
["Heizfall","Heating mode","Heating mode",null,99,{"$f":"HLOOKUP($B$2,Übersetzung!$A$4:$D$137,E102,FALSE)","v":"Heizfall"}]
["Beschreibung:\nQuellluftdurchlass für die Belüftung industrieller Bereiche. In Abhängigkeit des vorgegebenen Klappenwinkels sind erfolgt eine Änderung des Resultierenden Strömunnggsprofils von horizontaler bis vertikaler Luftströmung. ","Description: Displacement air diffuser for the ventilation of industrial areas. Depending on the given guide vane angle a change in the resulting air flow characterists between horizontal and vertical airflows is implemented.","Description: Displacement air diffuser for the ventilation of industrial areas. Depending on the given guide vane angle a change in the resulting air flow characterists between horizontal and vertical airflows is implemented.",null,100,{"$f":"HLOOKUP($B$2,Übersetzung!$A$4:$D$137,E103,FALSE)","v":"Beschreibung:\nQuellluftdurchlass für die Belüftung industrieller Bereiche. In Abhängigkeit des vorgegebenen Klappenwinkels sind erfolgt eine Änderung des Resultierenden Strömunnggsprofils von horizontaler bis vertikaler Luftströmung. "}]
["Breite / Länge:","Width / Length:","Width / Length:",null,101,{"$f":"HLOOKUP($B$2,Übersetzung!$A$4:$D$137,E104,FALSE)","v":"Breite / Länge:"}]
["Beschreibung:\nQuellluftdurchlass für die Belüftung industrieller Bereiche. In Abhängigkeit des Haupt-Einsatzbereiches findet eine werksseitige Voreinstellung auf den Kühlfall (Walzenstellung DE) oder den Heizfall statt (Walzenstellung A1). Die Einstellung der Walzen kann jederzeit durch den Kunden nachjustiert werden.","Description: Displacement air diffuser for the ventilation of industrial areas. Depending on the main application area a factory drum setting for heating (drum setting DE) or cooling mode (drum setting CD) is presetted. The drum setting can be adjusted by the custumer at any time.","Description: Displacement air diffuser for the ventilation of industrial areas. Depending on the main application area a factory drum setting for heating (drum setting DE) or cooling mode (drum setting CD) is presetted. The drum setting can be adjusted by the custumer at any time.",null,102,{"$f":"HLOOKUP($B$2,Übersetzung!$A$4:$D$137,E105,FALSE)","v":"Beschreibung:\nQuellluftdurchlass für die Belüftung industrieller Bereiche. In Abhängigkeit des Haupt-Einsatzbereiches findet eine werksseitige Voreinstellung auf den Kühlfall (Walzenstellung DE) oder den Heizfall statt (Walzenstellung A1). Die Einstellung der Walzen kann jederzeit durch den Kunden nachjustiert werden."}]
["Bitte wählen Sie einen Durchlasstypen","Please choose a diffuser type","Please choose a diffuser type",null,103,{"$f":"HLOOKUP($B$2,Übersetzung!$A$4:$D$137,E106,FALSE)","v":"Bitte wählen Sie einen Durchlasstypen"}]
["Durch Klick auf einen Durchlass glangen sie direkt zur technischen Auslegung","By clicking the shape of a diffuser You get to the technical calculation directly","By clicking the shape of a diffuser You get to the technical calculation directly",null,104,{"$f":"HLOOKUP($B$2,Übersetzung!$A$4:$D$137,E107,FALSE)","v":"Durch Klick auf einen Durchlass glangen sie direkt zur technischen Auslegung"}]
["Akustische Projektauslegung Kampmann Industrieluftdurchlässe","Acoustical project design Kampmann industrial diffusers","Acoustical project design Kampmann industrial diffusers",null,105,{"$f":"HLOOKUP($B$2,Übersetzung!$A$4:$D$137,E108,FALSE)","v":"Akustische Projektauslegung Kampmann Industrieluftdurchlässe"}]
["Grunddaten Luftdurchlass","Basic data, choosen diffuser","Basic data, choosen diffuser",null,106,{"$f":"HLOOKUP($B$2,Übersetzung!$A$4:$D$137,E109,FALSE)","v":"Grunddaten Luftdurchlass"}]
["Bezugshöhe zur Schalldruckpegelberechnung","Refefrence height for Sound Pressure calculations","Refefrence height for Sound Pressure calculations",null,107,{"$f":"HLOOKUP($B$2,Übersetzung!$A$4:$D$137,E110,FALSE)","v":"Bezugshöhe zur Schalldruckpegelberechnung"}]
["Angaben Montageraster","Details about the installation pattern","Details about the installation pattern",null,108,{"$f":"HLOOKUP($B$2,Übersetzung!$A$4:$D$137,E111,FALSE)","v":"Angaben Montageraster"}]
["Durchlassabstand in Längsrichtung der Halle","Distance between 2 diffusers in longitudinal direction","Distance between 2 diffusers in longitudinal direction",null,109,{"$f":"HLOOKUP($B$2,Übersetzung!$A$4:$D$137,E112,FALSE)","v":"Durchlassabstand in Längsrichtung der Halle"}]
["Anzahl Durchlässe in Längsrichtung der Halle","Number of diffusers in longitudinal direction","Number of diffusers in longitudinal direction",null,110,{"$f":"HLOOKUP($B$2,Übersetzung!$A$4:$D$137,E113,FALSE)","v":"Anzahl Durchlässe in Längsrichtung der Halle"}]
["Durchlassabstand in Querrichtung der Halle","Distance between 2 diffusers in transversal direction","Distance between 2 diffusers in transversal direction",null,111,{"$f":"HLOOKUP($B$2,Übersetzung!$A$4:$D$137,E114,FALSE)","v":"Durchlassabstand in Querrichtung der Halle"}]
["Anzahl Durchlässe in Querrichtung der Halle","Number of diffusers in transversal direction","Number of diffusers in transversal direction",null,112,{"$f":"HLOOKUP($B$2,Übersetzung!$A$4:$D$137,E115,FALSE)","v":"Anzahl Durchlässe in Querrichtung der Halle"}]
["Zwischenergebnisse","Intermediate results","Intermediate results",null,113,{"$f":"HLOOKUP($B$2,Übersetzung!$A$4:$D$137,E116,FALSE)","v":"Zwischenergebnisse"}]
["Anzahl Durchlässe, gesamt","Total number of diffusers","Total number of diffusers",null,114,{"$f":"HLOOKUP($B$2,Übersetzung!$A$4:$D$137,E117,FALSE)","v":"Anzahl Durchlässe, gesamt"}]
["Gesamtvolumenstrom","Total air volume flow","Total air volume flow",null,115,{"$f":"HLOOKUP($B$2,Übersetzung!$A$4:$D$137,E118,FALSE)","v":"Gesamtvolumenstrom"}]
["Thermische Leistung","Total thermal capacity","Total thermal capacity",null,116,{"$f":"HLOOKUP($B$2,Übersetzung!$A$4:$D$137,E119,FALSE)","v":"Thermische Leistung"}]
["Heizleistung","Heating capacity","Heating capacity",null,117,{"$f":"HLOOKUP($B$2,Übersetzung!$A$4:$D$137,E120,FALSE)","v":"Heizleistung"}]
["Grundfläche","Floor space","Floor space",null,118,{"$f":"HLOOKUP($B$2,Übersetzung!$A$4:$D$137,E121,FALSE)","v":"Grundfläche"}]
["Raumvolumen","Room volume","Room volume",null,119,{"$f":"HLOOKUP($B$2,Übersetzung!$A$4:$D$137,E122,FALSE)","v":"Raumvolumen"}]
["Raumoberfläche","Room surface","Room surface",null,120,{"$f":"HLOOKUP($B$2,Übersetzung!$A$4:$D$137,E123,FALSE)","v":"Raumoberfläche"}]
["Oktavband, Mittenfrequenz f [Hz]","Octave bandwith Medium frequency [Hz]","Octave bandwith Medium frequency [Hz]",null,121,{"$f":"HLOOKUP($B$2,Übersetzung!$A$4:$D$137,E124,FALSE)","v":"Oktavband, Mittenfrequenz f [Hz]"}]
["Schallleistungspegel im Kühlfall [dB]","Sound Power Level, Cooling mode [dB(A)]","Sound Power Level, Cooling mode [dB(A)]",null,122,{"$f":"HLOOKUP($B$2,Übersetzung!$A$4:$D$137,E125,FALSE)","v":"Schallleistungspegel im Kühlfall [dB]"}]
["Schallleistungspegel im Heizfall [dB]","Sound Power Level, Heating mode [dB(A)]","Sound Power Level, Heating mode [dB(A)]",null,123,{"$f":"HLOOKUP($B$2,Übersetzung!$A$4:$D$137,E126,FALSE)","v":"Schallleistungspegel im Heizfall [dB]"}]
["Mit der Anzahl der gewälten Durchlässe berechneter Schalldruckpegel in einer Höhe von","With the given number of diffusers calculated Sound Pressure level in a height of","With the given number of diffusers calculated Sound Pressure level in a height of",null,124,{"$f":"HLOOKUP($B$2,Übersetzung!$A$4:$D$137,E127,FALSE)","v":"Mit der Anzahl der gewälten Durchlässe berechneter Schalldruckpegel in einer Höhe von"}]
["im Kühlfall","in cooling mode","in cooling mode",null,125,{"$f":"HLOOKUP($B$2,Übersetzung!$A$4:$D$137,E128,FALSE)","v":"im Kühlfall"}]
["im Heizfall","in heating mode","in heating mode",null,126,{"$f":"HLOOKUP($B$2,Übersetzung!$A$4:$D$137,E129,FALSE)","v":"im Heizfall"}]
["Abmessungen (Breite / Länge)","Dimensions (width/length)","Dimensions (width/length)",null,127,{"$f":"HLOOKUP($B$2,Übersetzung!$A$4:$D$137,E130,FALSE)","v":"Abmessungen (Breite / Länge)"}]
["Näherungsrechnung des Schalldruckpegels nach VDI 2081","Approximate calculation of the resulting Sound Pressure level according to VDI 2081","Approximate calculation of the resulting Sound Pressure level according to VDI 2081",null,128,{"$f":"HLOOKUP($B$2,Übersetzung!$A$4:$D$137,E131,FALSE)","v":"Näherungsrechnung des Schalldruckpegels nach VDI 2081"}]
["Hinweis: Die in diesem Arbeitsblatt durchgeführten Berechnungen erfolgen anhand von VDI2081. Als Grundannahmen werden ein kubischer Raum sowie eine symmetrische Verteilung der Luftdurchlässe vorausgesetzt. Als Ergebnis liefert das Arbeitsblatt einen angenäherten Schalldruckpegel unterhalb eines zentral gelegenen Durchlasses in Höhe einer vorzugebenden Bezugshöhe. Es werden ausschließlich die durch die Durchlässe emittierten Geräuschemissionen berücksichtigt.","Information: The calculation on the Sound Pressure level proceeded in this worksheet take place according to VDI 2081. A cubic room as welll as a symmetric arrangement of industrial diffusers are required. The worksheet results in an approximated Sound Pressure level below a centrally located diffuser in a specified reference height. Only the noise emissions caused by the diffusers are taken into account.","Information: The calculation on the Sound Pressure level proceeded in this worksheet take place according to VDI 2081. A cubic room as welll as a symmetric arrangement of industrial diffusers are required. The worksheet results in an approximated Sound Pressure level below a centrally located diffuser in a specified reference height. Only the noise emissions caused by the diffusers are taken into account.",null,129,{"$f":"HLOOKUP($B$2,Übersetzung!$A$4:$D$137,E132,FALSE)","v":"Hinweis: Die in diesem Arbeitsblatt durchgeführten Berechnungen erfolgen anhand von VDI2081. Als Grundannahmen werden ein kubischer Raum sowie eine symmetrische Verteilung der Luftdurchlässe vorausgesetzt. Als Ergebnis liefert das Arbeitsblatt einen angenäherten Schalldruckpegel unterhalb eines zentral gelegenen Durchlasses in Höhe einer vorzugebenden Bezugshöhe. Es werden ausschließlich die durch die Durchlässe emittierten Geräuschemissionen berücksichtigt."}]
["Oktavspektrum","1/1-octave spectrum","1/1-octave spectrum",null,130,{"$f":"HLOOKUP($B$2,Übersetzung!$A$4:$D$137,E133,FALSE)","v":"Oktavspektrum"}]
["Akustische Vorgaben","Acoustical parameters",{"$f":"B134","v":"Acoustical parameters"},null,131,{"$f":"HLOOKUP($B$2,Übersetzung!$A$4:$D$137,E134,FALSE)","v":"Akustische Vorgaben"}]
["Schallabsorptionsgrad","Sound absorption coefficient","Sound absorption coefficient",null,132,{"$f":"HLOOKUP($B$2,Übersetzung!$A$4:$D$137,E135,FALSE)","v":"Schallabsorptionsgrad"}]
["Akustische Ergebnisse","Acoustical results","Acoustical results",null,133,{"$f":"HLOOKUP($B$2,Übersetzung!$A$4:$D$137,E136,FALSE)","v":"Akustische Ergebnisse"}]
["Akustische Auslegung eines gewählten Luftdurchlasses in einer definierten Einbausituation","Acoustical calculation of a choosen diffuser in a predefined installing situation","Acoustical calculation of a choosen diffuser in a predefined installing situation",null,134,{"$f":"HLOOKUP($B$2,Übersetzung!$A$4:$D$138,E137,FALSE)","v":"Akustische Auslegung eines gewählten Luftdurchlasses in einer definierten Einbausituation"}]
["bodennah","near the floor","near the floor",null,135,{"$f":"HLOOKUP($B$2,Übersetzung!$A$4:$D$155,E138,FALSE)","v":"bodennah"}]
["Nahzone im Kühlbetrieb","Close-up zone in cooling mode","Close-up zone in cooling mode",null,136,{"$f":"HLOOKUP($B$2,Übersetzung!$A$4:$D$155,E139,FALSE)","v":"Nahzone im Kühlbetrieb"}]
["Horizontale Lauflänge im Heizfall","Horizontal run length in heating mode","Horizontal run length in heating mode",null,137,{"$f":"HLOOKUP($B$2,Übersetzung!$A$4:$D$155,E140,FALSE)","v":"Horizontale Lauflänge im Heizfall"}]
["Maximalgeschwindigkeit in 0,1m Höhe, Kühlfall","Maximum air-velocity in 0.1m height, cooling mode","Maximum air-velocity in 0.1m height, cooling mode",null,138,{"$f":"HLOOKUP($B$2,Übersetzung!$A$4:$D$155,E141,FALSE)","v":"Maximalgeschwindigkeit in 0,1m Höhe, Kühlfall"}]
["Maximalgeschwindigkeit unterhalb des Durchlasses","Maximum velocity below the diffuser","Maximum velocity below the diffuser",null,139,{"$f":"HLOOKUP($B$2,Übersetzung!$A$4:$D$155,E142,FALSE)","v":"Maximalgeschwindigkeit unterhalb des Durchlasses"}]

{"sheet":"LW,vY-IVATH","index":49,"n_rows":66,"n_cols":27,"rows_kept":66,"cut":false,"hidden":true,"merged":[[24,10,24,15],[4,1,4,3],[5,1,8,3],[9,3,12,3]]}
[]
["Übergabewerte Akustik:",null,"Austrittsgeschwindigkeit:",{"$f":"'Grunddaten-IVATH'!$P$33","v":0.948509485094851}]
[null,null,"Anströmgeschwindigkeit:",{"$f":"'Grunddaten-IVATH'!$O$33","v":2.5117112645151178}]
[null,null,"Druckverlust",{"$f":"'Grunddaten-IVATH'!$S$33","v":11.611188396657747}]
[null,"Frequenz",null,null,"Hz",100,125,160,200,250,315,400,500,630,800,1000,1250,1600,2000,2500,3150,4000,5000,6300,8000,10000]
[null,"Koeffizienten",null,null,"K1",-8.1980158794403604,-7.5036944795662484,-6.0074168794994343,-7.2867711758163818,-4.4633528583277373,-3.1946030619230767,-4.6433367817503228,-11.106963169930539,-18.783456246016517,-23.7441412022897,-21.500219735538725,-29.304599171548407,-27.469871494861746,-24.0283226276796,-16.469931944950112,-6.9978960234505427,-0.17924515735624069,7.7471133544287216,14.150160367066203,16.354606865052133,17.730427753433741]
[null,null,null,null,"K2",12.004556106240035,11.690111054372784,12.066281344189704,14.250762016292587,13.106626283664307,14.041427325545804,16.206909276694031,20.164196348330368,24.58401087428015,27.111142423491216,26.000136586649507,29.317146121592717,26.97815136218486,23.613245675122958,18.12813231749886,11.794069097854086,7.4150733240126154,2.4739815236211102,-1.2039787636876271,-2.2939032597840927,-2.6705191294488508]
[null,null,null,null,"K3",15.724375200275112,15.481275740163438,16.730012408785786,19.877897919509739,19.115644281230111,21.210397272247512,24.256592475755454,28.252330229897172,32.526786335716245,34.735519729434252,33.79045189263045,36.157150954543106,32.977972697556581,28.734598477649342,22.619595736509869,15.864370148015569,11.305418961683676,6.25694802215226,2.7061463889410979,1.7802683866737554,1.7131399183595719]
[]
[]
[]
[]
[]
[]
["Ausgewählte Baulänge:",null,{"$f":"'Auslegung-IVATH'!$D$21","v":1000},null,"LW,A",{"$f":"F$6+F$7*LOG($D$3)+F$8*LOG($D$4)+$C$16","v":13.347963313260406},{"$f":"G$6+G$7*LOG($D$3)+G$8*LOG($D$4)+$C$16","v":13.65764527190098},16.634130142501796,19.580611800016992,21.13470435918186,25.007999853499982,27.669215538635221,27.04335204676768,25.686419510982805,24.088539301014301,24.8817113890908,20.924277925889118,18.43804577805146,16.015064066017615,14.867851764949723,14.612972094859256,14.825436510769165,15.399509020238252,16.550317486003877,17.332881310261872,18.486583717306395,{"$f":"10*LOG(10^(0.1*F15)+10^(0.1*G15)+10^(0.1*H15)+10^(0.1*I15)+10^(0.1*J15)+10^(0.1*K15)+10^(0.1*L15)+10^(0.1*M15)+10^(0.1*N15)+10^(0.1*O15)+10^(0.1*P15)+10^(0.1*Q15)+10^(0.1*R15)+10^(0.1*S15)+10^(0.1*T15)+10^(0.1*U15)+10^(0.1*V15)+10^(0.1*W15)+10^(0.1*X15)+10^(0.1*Y15)+10^(0.1*Z15))+$C$16","v":35.026613606118723}]
["Baulängenkorrektur:",null,0,"dB"]
["Stutzenanzahlkorrektur:",null,0,"dB"]
[null,null,null,null,"LW,A Okt",null,{"$f":"10*LOG(10^(0.1*F15)+10^(0.1*G15)+10^(0.1*H15))","v":19.585699576626261},{"$f":"10*LOG(10^(0.1*I15)+10^(0.1*J15)+10^(0.1*K15))","v":27.303495124585766},{"$f":"10*LOG(10^(0.1*L15)+10^(0.1*M15)+10^(0.1*N15))","v":31.647319350253579},{"$f":"10*LOG(10^(0.1*O15)+10^(0.1*P15)+10^(0.1*Q15))","v":28.374682552568146},{"$f":"10*LOG(10^(0.1*R15)+10^(0.1*S15)+10^(0.1*T15))","v":21.474163400793312},{"$f":"10*LOG(10^(0.1*U15)+10^(0.1*V15)+10^(0.1*W15))","v":19.730043266253659},{"$f":"10*LOG(10^(0.1*X15)+10^(0.1*Y15)+10^(0.1*Z15))","v":22.301331370584421}]
[]
[null,null,null,null,"A-Bewertung",null,-16.100000000000001,-8.6,-3.2,0,1.2,1,-1.1000000000000001]
[null,null,null,null,"LW,Z Okt",null,{"$f":"G18-G$20","v":35.685699576626263},{"$f":"H18-H$20","v":35.903495124585767},34.847319350253578,28.374682552568146,20.274163400793313,18.730043266253659,23.401331370584423]
[]
[]
[]
[null,null,null,null,null,null,null,null,null,null,"Regressionsrechnung Baulängenkorrektur basierend auf Annahmen des IVA"]
[null,null,null,null,null,null,null,null,null,null,null,null,null,"k1",-30.10300480763399]
[null,null,null,null,null,null,null,null,null,null,null,null,null,"k2",10.056747859272548]
[null,null,null,null,null,null,null,null,null,null,null,"Länge","Delta L","sum",{"$f":"SUM(O29:O31)","v":3.9671599094993668E-2}]
[null,null,null,null,null,null,null,null,null,null,null,1000,0,{"$f":"$O$26+$O$27*LOG(L29)","v":6.7238770183653429E-2},{"$f":"(N29-M29)^2","v":4.5210522158101616E-3}]
[null,null,null,null,null,null,null,null,null,null,null,1500,2,{"$f":"$O$26+$O$27*LOG(L30)","v":1.8381441627284829},{"$f":"(N30-M30)^2","v":2.619731205886382E-2}]
[null,null,null,null,null,null,null,null,null,null,null,2000,3,3.0946215346542196,8.9532348203196863E-3]
[null,null,null,null,null,null,null,null,null,null,"Korektur um:",{"$f":"$O$26+$O$27*LOG(1300)","v":1.2131383345737738},"dB (Länge 1300 wurde vermessen!)"]
[]
[]
[]
[]
[]
[]
[]
[]
[]
[]
[]
[]
[]
[]
[]
[]
["Berechnung  Konstanten Wurfweite Stellung oben CD unten 12"]
[]
[null,null,null,null,null,"k1",4.0039499810793684,null,null,"k1",1578.0399072038433,null,null,"k1",333.24798512155667,null,null,"k1",-0.63215157224427421]
[null,null,null,null,null,"k2",0.92155047467803564,null,null,"k2",7.6619459554802391E-3,null,null,"k2",3.4331209216744089E-2,null,null,"K2",0.69911339309946796]
[null,null,null,null,null,"k3",0.75086588004232224,null,null,"k3",-2.1362098398370879,null,null,"k3",637.40654136051853,null,null,"K3",0.43069983800856954]
[null,null,null,null,null,"k4",0.50766914923848916,null,null,"k4",-1522.4527670166945,null,null,"k4",-288.73668572560933,null,null,"k4",-0.30225454760019688]
[null,null,null,null,null,"summe",{"$f":"SUM(G57:G62)","v":2.9990168666672198E-2},null,null,"Summe",{"$f":"SUM(K57:K62)","v":84.336694470408318},null,null,"Summe",{"$f":"SUM(O57:O62)","v":92.373093641305815},null,null,"Summe",{"$f":"SUM(S57:S62)","v":3.5329916830287625E-4}]
["Abstand zum Auslass (Oberkante) [m]","V° [m³/h]","vAustritt [m/s]","ΔT [K]","a [m]","aber. [m]",null,null,"α [°]","αber. [°]",null,null,"β [°]",null,null,null,"v mittel [m/s]","v mittel, ber. [m/s]"]
[null,350,0.36481134042109653,3,0.83,{"$f":"($G$51*C57)^$G$52/($G$53*D57)^$G$54","v":0.93886027035398467},{"$f":"(F57-E57)^2","v":1.1850558461542643E-2},null,43.29,{"$f":"$K$51*(C57/D57)^$K$52+C57^$K$53+$K$54","v":38.936522125093006},{"$f":"(J57-I57)^2","v":18.952769607304706},null,14.65,{"$f":"$O$51*(C57/D57)^$O$52+C57^$O$53+$O$54","v":21.25686517463032},{"$f":"(N57-M57)^2","v":43.650667435742932},null,0.2,{"$f":"$S$51*(C57/D57)^$S$52+C57^$S$53+$S$54","v":0.2005498444786219},{"$f":"(R57-Q57)^2","v":3.0232895067097353E-7}]
[null,350,0.36481134042109653,6,0.78,{"$f":"($G$51*C58)^$G$52/($G$53*D58)^$G$54","v":0.66035477060283365},{"$f":"(F58-E58)^2","v":1.4314980917500565E-2},null,25.51,{"$f":"$K$51*(C58/D58)^$K$52+C58^$K$53+$K$54","v":30.711847728744033},{"$f":"(J58-I58)^2","v":27.059219793039436},null,14.65,{"$f":"$O$51*(C58/D58)^$O$52+C58^$O$53+$O$54","v":13.967157624299318},{"$f":"(N58-M58)^2","v":0.46627371005255142},null,0.25,{"$f":"$S$51*(C58/D58)^$S$52+C58^$S$53+$S$54","v":0.25620206960435332},{"$f":"(R58-Q58)^2","v":3.8465667377243372E-5}]
[null,600,0.62539086929330834,3,1.58,1.5428384409401503,1.3809814717587008E-3,null,42.27,39.467822303968433,7.8521998401368007,null,26.04,27.046512117334998,1.0130666423421835,null,0.3,0.30348324770531865,1.2133014576607706E-5]
[null,600,0.62539086929330834,6,1.08,1.0851675770241442,2.6703852300462667E-5,null,34.29,31.209111727061554,9.4918725503296351,null,20.56,19.620657111970047,0.8823650612924504,null,0.4,0.38460423687769241,2.3702952211820713E-4]
[null,930,0.96935584740462788,3,2.33,2.3105784467112969,3.7719673214593838E-4,null,38.5,43.055361043858738,20.751314239905774,null,31.06,31.833652742375421,0.59853856578501075,null,0.4,0.39747777541504414,6.361616856955855E-6]
[null,930,0.96935584740462788,6,1.58,1.6251635608806911,2.0397472314238885E-3,null,34.29,34.768872049395213,0.22931843969197238,null,31.06,24.295224894640569,45.762182226090687,null,0.5,0.50768160259471884,5.9007018423191208E-5]
[]
[]
[{"$f":"'Auslegung-IVATH'!$D$36-'Auslegung-IVATH'!$D$37","v":0.7},{"$f":"'Grunddaten-IVATH'!$J$33","v":700},{"$f":"'Grunddaten-IVATH'!$P$33","v":0.948509485094851},{"$f":"'Auslegung-IVATH'!$D$34-'Auslegung-IVATH'!$D$33","v":8},null,{"$f":"($G$51*C65)^$G$52/($G$53*D65)^$G$54","v":1.3764760628574955},null,null,null,{"$f":"$K$51*(C65/D65)^$K$52+C65^$K$53+$K$54","v":31.13475772367542},null,"Wurfweite(h)  max=",null,{"$f":"F65+0.25+TAN(J65*PI()/180)*A65","v":2.0493224445773377},null,null,"v mittel [m/s] =",{"$f":"$S$51*(C65/D65)^$S$52+C65^$S$53+$S$54","v":0.53286768824913644}]
[null,null,{"$f":"'Grunddaten-IVATH'!$P$33","v":0.948509485094851},null,null,null,null,null,null,{"$f":"IF($O$51*(C65/D65)^$O$52+C65^$O$53+$O$54>40,40,$O$51*(C65/D65)^$O$52+C65^$O$53+$O$54)","v":20.987538646704195},null,"Wurfweite(h)  mind.=",null,{"$f":"TAN(J66*PI()/180)*A65","v":0.26853016153433662}]

{"sheet":"Grunddaten-IQA","index":50,"n_rows":46,"n_cols":33,"rows_kept":46,"cut":false,"hidden":true,"merged":[[0,6,0,7],[0,29,0,32],[1,23,1,27]]}
["Typ","Durchmesser","Länge",null,"Durchmesser","Gesamthöhe","Aktive Höhe",null,null,"Soll-Volumenstrom","V° Auslegung min","V° Auslegung max","Durchmesser Anschluss","Anzahl Stutzen","Anströmgeschwindigkeit","Ausströmgeschwindigkeit Kühlfall","Ausströmgeschwindigkeit Heizfall","Montagehöhe minimal","Montagehöhe maximal","Totaldruckverlust Kühlfall","Totaldruckverlust Heizfall","vertikale Eindringtiefe",null,null,null,null,null,null,null,"Vorauswahl zur Anzeige"]
[null,null,null,null,null,null,"Kühlfall","Heizfall",null,"V°","V°min","V°max","d","n","v","vaus",null,"hmin","hmax","Dptk","Dpth","ymax",null,"Schallleistungspegel",null,null,null,null,"Auslass freigegeben?"]
[null,null,null,null,null,null,"mm","mm",null,"m³/h","m³/h","m³/h","mm",1,"m/s",null,null,"m","m","Pa","Pa","m","kleiner als V°max?","K021","K022","dB","größer als 0dB(A)?","kleiner als LW,Amax?",null,null,null,{"$f":"IF(ROW(AE3)>COUNTA(AE:AE),\"\",INDEX(AE3:AE28,SMALL(IF(AE$4:AE$29<>\"\",ROW($4:$29)),ROW($AE3))))","v":{"$error":"#VALUE!"}}]
["IQA",null,null,null,null,null,null,null,null,null,null,null,null,null,null,null,null,null,null,null,null,null,null,null,null,null,null,null,null,{"$f":"IF(AND(V4=\"x\",W4=\"x\",AA4=\"x\",AB4=\"x\",AC4=\"x\"),\"x\",\"\")","v":""},{"$f":"IF(AD4=\"x\",CONCATENATE(A4,\" DN \",B4),\"\")","v":""},{"$f":"IF(ROW(AE1)>COUNTA(AE:AE),\"\",INDEX(AE:AE,SMALL(IF(AE$1:AE$29<>\"\",ROW($1:$29)),ROW($AE1))))","v":{"$error":"#NUM!"}},{"$f":"IFERROR(AF4,\"\")","v":""}]
["IQA",250,null,{"$f":"CONCATENATE(A5,B5,C5)","v":"IQA250"},250,841,520,222,null,{"$f":"Einheiten!$E$106","v":1500},220,1030,248,1,{"$f":"(J5/N5)/(PI()/4*('Grunddaten-IQA'!E5/1000)^2*3600)","v":8.4882636315677509},{"$f":"(J5/(PI()*(G5/1000)*(E5/1000)))/3600","v":1.0202239941788163},{"$f":"(J5/(PI()*(H5/1000)*(E5/1000)))/3600","v":2.3897138602386687},0,{"$f":"$Q$41","v":1.5},{"$f":"$T$38*P5^$T$39","v":62.321008394267928},{"$f":"(1.2/2)*O5^2","v":43.230371687397444},null,null,null,null,null,null,null,null,{"$f":"IF(AND(V5=\"x\",W5=\"x\",AA5=\"x\",AB5=\"x\",AC5=\"x\"),\"x\",\"\")","v":""},"",{"$f":"IF(ROW(AE2)>COUNTA(AE:AE),\"\",INDEX(AE:AE,SMALL(IF(AE$1:AE$29<>\"\",ROW($1:$29)),ROW($AE2))))","v":{"$error":"#NUM!"}},{"$f":"IFERROR(AF5,\"\")","v":""}]
["IQA",315,null,"IQA315",315,841,520,222,null,{"$f":"Einheiten!$E$106","v":1500},280,1300,313,1,{"$f":"(J6/N6)/(PI()/4*('Grunddaten-IQA'!E6/1000)^2*3600)","v":5.3466009269134238},0.8097015826816002,{"$f":"(J6/(PI()*(H6/1000)*(E6/1000)))/3600","v":1.8965983017767212},0,{"$f":"$Q$41","v":1.5},{"$f":"$T$38*P6^$T$39","v":39.065117192252927},{"$f":"(1.2/2)*O6^2","v":17.15168488300289},null,null,null,null,null,null,null,null,"","",{"$f":"IF(ROW(AE3)>COUNTA(AE:AE),\"\",INDEX(AE:AE,SMALL(IF(AE$1:AE$29<>\"\",ROW($1:$29)),ROW($AE3))))","v":{"$error":"#NUM!"}},""]
["IQA",355,null,{"$f":"CONCATENATE(A7,B7,C7)","v":"IQA355"},355,1027,706,222,null,{"$f":"Einheiten!$E$106","v":1500},420,2000,353,1,{"$f":"(J7/N7)/(PI()/4*('Grunddaten-IQA'!E7/1000)^2*3600)","v":4.2096129892718466},0.5291829359743293,1.6828970846751188,0,1.5,16.537818249717411,10.632504911667752,null,null,null,null,null,null,null,null,"","",{"$f":"IF(ROW(AE4)>COUNTA(AE:AE),\"\",INDEX(AE:AE,SMALL(IF(AE$1:AE$29<>\"\",ROW($1:$29)),ROW($AE4))))","v":{"$error":"#NUM!"}},""]
["IQA",400,null,{"$f":"CONCATENATE(A8,B8,C8)","v":"IQA400"},400,1027,706,222,null,{"$f":"Einheiten!$E$106","v":1500},480,2250,398,1,{"$f":"(J8/N8)/(PI()/4*('Grunddaten-IQA'!E8/1000)^2*3600)","v":3.3157279810811526},0.46964985567721718,1.4935711626491679,0,1.5,12.993564223249228,{"$f":"(1.2/2)*O8^2","v":6.5964312267146976},null,null,null,null,null,null,null,null,"","",{"$f":"IF(ROW(AE5)>COUNTA(AE:AE),\"\",INDEX(AE:AE,SMALL(IF(AE$1:AE$29<>\"\",ROW($1:$29)),ROW($AE5))))","v":{"$error":"#NUM!"}},""]
["IQA",450,null,"IQA450",450,1027,706,222,null,{"$f":"Einheiten!$E$106","v":1500},540,2500,448,1,{"$f":"(J9/N9)/(PI()/4*('Grunddaten-IQA'!E9/1000)^2*3600)","v":2.6198344541875773},0.41746653837974862,1.3276188112437048,0,1.5,10.241200038196123,4.1181195404089923,null,null,null,null,null,null,null,null,"","",{"$f":"IF(ROW(AE6)>COUNTA(AE:AE),\"\",INDEX(AE:AE,SMALL(IF(AE$1:AE$29<>\"\",ROW($1:$29)),ROW($AE6))))","v":{"$error":"#NUM!"}},""]
["IQA",500,null,"IQA500",500,1306,892,315,null,{"$f":"Einheiten!$E$106","v":1500},750,3550,498,1,{"$f":"(J10/N10)/(PI()/4*('Grunddaten-IQA'!E10/1000)^2*3600)","v":2.1220659078919377},0.29737470682342176,0.84208964598886438,0,1.5,5.1597311590825079,2.7018982304623402,null,null,null,null,null,null,null,null,"","",{"$f":"IF(ROW(AE7)>COUNTA(AE:AE),\"\",INDEX(AE:AE,SMALL(IF(AE$1:AE$29<>\"\",ROW($1:$29)),ROW($AE7))))","v":{"$error":"#NUM!"}},""]
["IQA",560,null,"IQA560",560,1306,892,315,null,{"$f":"Einheiten!$E$106","v":1500},850,4000,558,1,{"$f":"(J11/N11)/(PI()/4*('Grunddaten-IQA'!E11/1000)^2*3600)","v":1.6916979495312003},0.26551313109234081,0.75186575534720013,0,1.5,4.1035448239340608,1.7171051714688406,null,null,null,null,null,null,null,null,"","",{"$f":"IF(ROW(AE8)>COUNTA(AE:AE),\"\",INDEX(AE:AE,SMALL(IF(AE$1:AE$29<>\"\",ROW($1:$29)),ROW($AE8))))","v":{"$error":"#NUM!"}},""]
["IQA",630,null,"IQA630",630,1306,892,315,null,{"$f":"Einheiten!$E$106","v":1500},950,4500,627,1,{"$f":"(J12/N12)/(PI()/4*('Grunddaten-IQA'!E12/1000)^2*3600)","v":1.336650231728356},0.23601167208208076,0.66832511586417809,0,1.5,3.2343106699251747,1.0719803051876806,null,null,null,null,null,null,null,null,"","",{"$f":"IF(ROW(AE9)>COUNTA(AE:AE),\"\",INDEX(AE:AE,SMALL(IF(AE$1:AE$29<>\"\",ROW($1:$29)),ROW($AE9))))","v":{"$error":"#NUM!"}},""]
[null,null,null,null,null,null,null,null,null,null,null,null,null,null,null,null,null,null,null,null,null,null,null,null,null,null,null,null,null,"","",{"$f":"IF(ROW(AE10)>COUNTA(AE:AE),\"\",INDEX(AE:AE,SMALL(IF(AE$1:AE$29<>\"\",ROW($1:$29)),ROW($AE10))))","v":{"$error":"#NUM!"}},""]
[null,null,null,null,null,null,null,null,null,null,null,null,null,null,null,null,null,null,null,null,null,null,null,null,null,null,null,null,null,"","",{"$f":"IF(ROW(AE11)>COUNTA(AE:AE),\"\",INDEX(AE:AE,SMALL(IF(AE$1:AE$29<>\"\",ROW($1:$29)),ROW($AE11))))","v":{"$error":"#NUM!"}},""]
[null,null,null,null,null,null,null,null,null,null,null,null,null,null,null,null,null,null,null,null,null,null,null,null,null,null,null,null,null,"","",{"$f":"IF(ROW(AE12)>COUNTA(AE:AE),\"\",INDEX(AE:AE,SMALL(IF(AE$1:AE$29<>\"\",ROW($1:$29)),ROW($AE12))))","v":{"$error":"#NUM!"}},""]
[null,null,null,null,null,null,null,null,null,null,null,null,null,null,null,null,null,null,null,null,null,null,null,null,null,null,null,null,null,"","",{"$f":"IF(ROW(AE13)>COUNTA(AE:AE),\"\",INDEX(AE:AE,SMALL(IF(AE$1:AE$29<>\"\",ROW($1:$29)),ROW($AE13))))","v":{"$error":"#NUM!"}},""]
[null,null,null,null,null,null,null,null,null,null,null,null,null,null,null,null,null,null,null,null,null,null,null,null,null,null,null,null,null,"","",{"$f":"IF(ROW(AE14)>COUNTA(AE:AE),\"\",INDEX(AE:AE,SMALL(IF(AE$1:AE$29<>\"\",ROW($1:$29)),ROW($AE14))))","v":{"$error":"#NUM!"}},""]
[null,null,null,null,null,null,null,null,null,null,null,null,null,null,null,null,null,null,null,null,null,null,null,null,null,null,null,null,null,"","",{"$f":"IF(ROW(AE15)>COUNTA(AE:AE),\"\",INDEX(AE:AE,SMALL(IF(AE$1:AE$29<>\"\",ROW($1:$29)),ROW($AE15))))","v":{"$error":"#NUM!"}},""]
[null,null,null,null,null,null,null,null,null,null,null,null,null,null,null,null,null,null,null,null,null,null,null,null,null,null,null,null,null,"","",{"$f":"IF(ROW(AE16)>COUNTA(AE:AE),\"\",INDEX(AE:AE,SMALL(IF(AE$1:AE$29<>\"\",ROW($1:$29)),ROW($AE16))))","v":{"$error":"#NUM!"}},""]
[null,null,null,null,null,null,null,null,null,null,null,null,null,null,null,null,null,null,null,null,null,null,null,null,null,null,null,null,null,"","",{"$f":"IF(ROW(AE17)>COUNTA(AE:AE),\"\",INDEX(AE:AE,SMALL(IF(AE$1:AE$29<>\"\",ROW($1:$29)),ROW($AE17))))","v":{"$error":"#NUM!"}},""]
[null,null,null,null,null,null,null,null,null,null,null,null,null,null,null,null,null,null,null,null,null,null,null,null,null,null,null,null,null,"","",{"$f":"IF(ROW(AE18)>COUNTA(AE:AE),\"\",INDEX(AE:AE,SMALL(IF(AE$1:AE$29<>\"\",ROW($1:$29)),ROW($AE18))))","v":{"$error":"#NUM!"}},""]
[null,null,null,null,null,null,null,null,null,null,null,null,null,null,null,null,null,null,null,null,null,null,null,null,null,null,null,null,null,"","",{"$f":"IF(ROW(AE19)>COUNTA(AE:AE),\"\",INDEX(AE:AE,SMALL(IF(AE$1:AE$29<>\"\",ROW($1:$29)),ROW($AE19))))","v":{"$error":"#NUM!"}},""]
[null,null,null,null,null,null,null,null,null,null,null,null,null,null,null,null,null,null,null,null,null,null,null,null,null,null,null,null,null,"","",{"$f":"IF(ROW(AE20)>COUNTA(AE:AE),\"\",INDEX(AE:AE,SMALL(IF(AE$1:AE$29<>\"\",ROW($1:$29)),ROW($AE20))))","v":{"$error":"#NUM!"}},""]
[null,null,null,null,null,null,null,null,null,null,null,null,null,null,null,null,null,null,null,null,null,null,null,null,null,null,null,null,null,"","",{"$f":"IF(ROW(AE21)>COUNTA(AE:AE),\"\",INDEX(AE:AE,SMALL(IF(AE$1:AE$29<>\"\",ROW($1:$29)),ROW($AE21))))","v":{"$error":"#NUM!"}},""]
[null,null,null,null,null,null,null,null,null,null,null,null,null,null,null,null,null,null,null,null,null,null,null,null,null,null,null,null,null,"","",{"$f":"IF(ROW(AE22)>COUNTA(AE:AE),\"\",INDEX(AE:AE,SMALL(IF(AE$1:AE$29<>\"\",ROW($1:$29)),ROW($AE22))))","v":{"$error":"#NUM!"}},""]
[null,null,null,null,null,null,null,null,null,null,null,null,null,null,null,null,null,null,null,null,null,null,null,null,null,null,null,null,null,"","",{"$f":"IF(ROW(AE23)>COUNTA(AE:AE),\"\",INDEX(AE:AE,SMALL(IF(AE$1:AE$29<>\"\",ROW($1:$29)),ROW($AE23))))","v":{"$error":"#NUM!"}},""]
[null,null,null,null,null,null,null,null,null,null,null,null,null,null,null,null,null,null,null,null,null,null,null,null,null,null,null,null,null,"","",{"$f":"IF(ROW(AE24)>COUNTA(AE:AE),\"\",INDEX(AE:AE,SMALL(IF(AE$1:AE$29<>\"\",ROW($1:$29)),ROW($AE24))))","v":{"$error":"#NUM!"}},""]
[null,null,null,null,null,null,null,null,null,null,null,null,null,null,null,null,null,null,null,null,null,null,null,null,null,null,null,null,null,"","",{"$f":"IF(ROW(AE25)>COUNTA(AE:AE),\"\",INDEX(AE:AE,SMALL(IF(AE$1:AE$29<>\"\",ROW($1:$29)),ROW($AE25))))","v":{"$error":"#NUM!"}},""]
[null,null,null,null,null,null,null,null,null,null,null,null,null,null,null,null,null,null,null,null,null,null,null,null,null,null,null,null,null,"","",{"$f":"IF(ROW(AE26)>COUNTA(AE:AE),\"\",INDEX(AE:AE,SMALL(IF(AE$1:AE$29<>\"\",ROW($1:$29)),ROW($AE26))))","v":{"$error":"#NUM!"}},""]
[null,null,null,null,null,null,null,null,null,null,null,null,null,null,null,null,null,null,null,null,null,null,null,null,null,null,null,null,null,null,null,{"$f":"IF(ROW(AE27)>COUNTA(AE:AE),\"\",INDEX(AE:AE,SMALL(IF(AE$1:AE$29<>\"\",ROW($1:$29)),ROW($AE27))))","v":""}]
[null,null,null,null,2,3,4,5,6,7,8,9,10,11,12,13,14,15,16,17,18,19,19,20,21,22,23,24,25,26,null,{"$f":"IF(ROW(AE28)>COUNTA(AE:AE),\"\",INDEX(AE:AE,SMALL(IF(AE$1:AE$29<>\"\",ROW($1:$29)),ROW($AE28))))","v":""}]
[null,null,null,null,{"$f":"VLOOKUP($C$33,$D$4:$R$30,E31,FALSE)","v":355},{"$f":"VLOOKUP($C$33,$D$4:$R$30,F31,FALSE)","v":1027},null,null,null,null,null,null,null,null,null,null,null,null,null,null,null,null,null,null,null,null,null,null,null,null,null,"Formel in Spalte AB ist Matrixformel!"]
["Auswahl:","Zuluft",{"$f":"CONCATENATE('Auslegung-IQA'!$D$12,'Auslegung-IQA'!$D$20)","v":"IQA355"},null,{"$f":"IF(Einheiten!$F$2=3,VLOOKUP($C$33,$D$4:$R$30,E31,FALSE)/Einheiten!$F$15,VLOOKUP($C$33,$D$4:$R$30,E31,FALSE))","v":355},{"$f":"IF(Einheiten!$F$2=3,VLOOKUP($C$33,$D$4:$R$30,F31,FALSE)/Einheiten!$F$15,VLOOKUP($C$33,$D$4:$R$30,F31,FALSE))","v":1027},{"$f":"IF(Einheiten!$F$2=3,VLOOKUP($C$33,$D$4:$R$30,G31,FALSE)/Einheiten!$F$15,VLOOKUP($C$33,$D$4:$R$30,G31,FALSE))","v":706},{"$f":"IF(Einheiten!$F$2=3,VLOOKUP($C$33,$D$4:$R$30,H31,FALSE)/Einheiten!$F$15,VLOOKUP($C$33,$D$4:$R$30,H31,FALSE))","v":222},{"$f":"IF(Einheiten!$F$2=3,VLOOKUP($C$33,$D$4:$R$30,I31,FALSE)/Einheiten!$F$15,VLOOKUP($C$33,$D$4:$R$30,I31,FALSE))","v":0},{"$f":"VLOOKUP($C$33,$D$4:$R$30,J31,FALSE)","v":1500},{"$f":"IF(Einheiten!$F$2=3,VLOOKUP($C$33,$D$4:$R$30,K31,FALSE)/Einheiten!$F$11,VLOOKUP($C$33,$D$4:$R$30,K31,FALSE))","v":420},{"$f":"IF(Einheiten!$F$2=3,VLOOKUP($C$33,$D$4:$R$30,L31,FALSE)/Einheiten!$F$11,VLOOKUP($C$33,$D$4:$R$30,L31,FALSE))","v":2000},{"$f":"IF(Einheiten!$F$2=3,VLOOKUP($C$33,$D$4:$R$30,M31,FALSE)/Einheiten!$F$15,VLOOKUP($C$33,$D$4:$R$30,M31,FALSE))","v":353},{"$f":"VLOOKUP($C$33,$D$4:$R$30,N31,FALSE)","v":1},{"$f":"VLOOKUP($C$33,$D$4:$R$30,O31,FALSE)","v":4.2096129892718466},{"$f":"VLOOKUP($C$33,$D$4:$R$30,P31,FALSE)","v":0.5291829359743293},{"$f":"VLOOKUP($C$33,$D$4:$R$30,Q31,FALSE)","v":1.6828970846751188},{"$f":"IF(Einheiten!$F$2=3,VLOOKUP($C$33,$D$4:$T$29,R31,FALSE)/Einheiten!$F$5,VLOOKUP($C$33,$D$4:$T$29,R31,FALSE))","v":0},{"$f":"IF(Einheiten!$F$2=3,VLOOKUP($C$33,$D$4:$T$29,S31,FALSE)/Einheiten!$F$5,VLOOKUP($C$33,$D$4:$T$29,S31,FALSE))","v":1.5},{"$f":"VLOOKUP($C$33,$D$4:$AD$29,T31,FALSE)","v":16.537818249717411},10.632504911667752,0,0,0,0,0,0,0,0,{"$f":"VLOOKUP($C$33,$C$4:$AD$30,AD31,FALSE)","v":{"$error":"#N/A"}},null,"Funktioniert nur bei Bestätigung"]
[null,"Anzeige Datenblatt",null,{"$f":"CONCATENATE(E32,\" / \",F32)","v":"355 / 1027"},null,null,null,null,null,null,null,null,null,null,null,null,null,null,null,null,null,null,null,null,null,null,null,null,null,null,null,"mit Strg+Shift+Enter!"]
[]
[null,null,null,null,null,null,"Stand:","2020-10-30"]
[null,null,null,null,null,null,null,null,null,null,null,null,null,null,null,null,null,null,"Regressionskonstanten Druckverluste"]
[null,null,null,null,null,null,null,null,null,null,null,null,null,null,null,null,null,null,"K1",59.84957972345665]
[null,null,null,null,null,null,null,null,null,null,null,null,null,null,null,null,null,null,"K2",2.0209648174485966]
[]
[null,null,null,null,null,null,null,null,null,null,null,null,null,null,null,"Maximale Montagehöhe",{"$f":"IF(OR('Auslegung-IQA'!$D$41=\"bodenstehend\",'Auslegung-IQA'!$D$41=\"floor standing\"),0,IF(OR('Auslegung-IQA'!$D$41=\"bodennah\",'Auslegung-IQA'!$D$41=\"near the floor\"),1.5,IF(OR('Auslegung-IQA'!$D$41=\"freihängend\",'Auslegung-IQA'!$D$41=\"hanging installed\"),3,\"\")))","v":1.5}]
[]
[]
[]
[]
[null,null,"Festlegungen:"]

{"sheet":"LW,v,LN-IQA","index":51,"n_rows":144,"n_cols":30,"rows_kept":144,"cut":false,"hidden":true,"merged":[[5,25,5,26],[6,12,6,19],[8,22,8,23],[10,12,13,12],[14,12,17,12],[26,12,29,12],[30,12,33,12],[34,12,37,12],[38,12,41,12],[18,12,21,12],[22,12,25,12],[45,0,60,0],[24,6,24,7],[8,0,41,0],[24,2,24,3],[24,4,24,5],[79,0,92,0],[98,2,98,3],[96,0,104,0],[108,0,116,0],[63,0,76,0],[121,0,143,0],[109,2,109,5],[125,1,126,1],[122,7,122,8],[122,10,122,11],[123,1,124,1]]}
[]
[null,"Bearbeiter:","Untiet"]
[null,"Datum:","2018-01-08",null,null,null,null,null,null,"Regressionskonstanten Druckverluste"]
[null,null,null,null,null,null,null,null,null,"K1",59.84957972345665]
[null,null,null,null,null,null,null,null,null,"K2",2.0209648174485966]
["Kommentar Winkelhaus:"]
["Maße für die Nenngrößen wurden neu definiert. Ziel: Zusammenfassung der Höhenmaße für versch. Nenngrößen.",null,null,null,null,null,null,null,null,null,null,null,"Schnellauswahltabelle basierend auf Messungen von DN 315 (Kühl-, und Heizfall) und DN 400 (Kühlfall)"]
["Datum:","2019-02-21",null,null,null,null,null,null,"95mm pro Lochreihe",null,null,null,"Nenngröße","Schallleistungspegel","Volumenstrom Kühlfall","Totaldruckverlust Kühlfall","Nahzone *)","Volumenstrom Heizfall","Totaldruckverlust Heizfall","Horizontale Lauflänge **)"]
["Vorschlag zur Anpassung der Höhe (Erweiterung des Einsatzbereiches)","Nenngröße","aktive Länge, kühlen","freier Bereich Heizen","IQA","IVA","Lochreihen","Lochreihen",null,"Aquerschnitt","Amantelkühl","Amantelheiz","DN","LW,A","V°","DpT","XN","V°","DpT","XH",null,null,"Austrittsgeschwindigkeiten",null,"Anströmgeschw.","Schallleistung ","Nahzone","Eindringtiefe"]
[null,"DN","lakt1",null,"Bauhöhe gesamt","Bauhöhe gesamt","Kühlfall","Heizfall",null,null,null,null," -/-","dB(A)","m³/h","Pa","m","m³/h","Pa","m",null,null,"Kühlfall","Heizfall","Heizfall","Heizfall","Kühlen, Queller","Heizen, bodenstehend"]
[null,null,null,null,99,null,null,null,null,null,null,null,"DN 250","< 25",250,{"$f":"#REF!*W11^#REF!","v":{"$error":"#REF!"}},{"$f":"AA11+V11","v":1.1028085816631332},450,{"$f":"1.2/2*Y11^2","v":3.890733451865771},{"$f":"AB11","v":1.7547752288025715},250,{"$f":"(U11/1000)/2","v":0.125},{"$f":"O11/$K$13/3600","v":0.17003733236313603},{"$f":"R11/$L$13/3600","v":0.71691415807160053},{"$f":"R11/$J$13/3600","v":2.5464790894703255},{"$f":"#REF!+#REF!*LOG(Y11)","v":{"$error":"#REF!"}},{"$f":"-(($D$102*$K$99^$D$103-$D$104*U11^$D$105-$K$98)/($D$100*W11))^(-1/$D$101)","v":0.97780858166313322},{"$f":"$D$111*X11*($K$109-$D$113*$K$110^$D$114)^(-1/$D$112)","v":1.7547752288025715}]
[null,null,"mm",null,"mm","mm",null,null,null,"m²","m²",null,null,{"$f":"#REF!+#REF!*LOG(W12)","v":{"$error":"#REF!"}},520,{"$f":"$K$4*W12^$K$5","v":7.3250902842641299},{"$f":"AA12+V12","v":2.7165509831349492},570,{"$f":"1.2/2*Y12^2","v":6.2424656716601925},{"$f":"AB12","v":2.2227152898165912},250,{"$f":"(U12/1000)/2","v":0.125},{"$f":"O12/$K$13/3600","v":0.35367765131532292},{"$f":"R12/$L$13/3600","v":0.90809126689069408},{"$f":"R12/$J$13/3600","v":3.2255401799957459},{"$f":"#REF!+#REF!*LOG(Y12)","v":{"$error":"#REF!"}},2.5915509831349492,2.2227152898165912]
[null,250,520,222,{"$f":"D13+C13+$E$11","v":841},840.5,6,2,null,{"$f":"PI()*(B13/1000)^2/4","v":4.9087385212340517E-2},{"$f":"PI()*(B13/1000)*(C13/1000)","v":0.40840704496667313},{"$f":"PI()*(B13/1000)*(D13/1000)","v":0.17435839227423353},null,{"$f":"#REF!+#REF!*LOG(W13)","v":{"$error":"#REF!"}},690,{"$f":"$K$4*W13^$K$5","v":12.974179875852645},{"$f":"AA13+V13","v":3.9011861320221666},800,{"$f":"1.2/2*Y13^2","v":12.296639057748607},{"$f":"AB13","v":3.1196004067601275},250,{"$f":"(U13/1000)/2","v":0.125},{"$f":"O13/$K$13/3600","v":0.46930303732225542},{"$f":"R13/$L$13/3600","v":1.2745140587939565},{"$f":"R13/$J$13/3600","v":4.5270739368361337},{"$f":"#REF!+#REF!*LOG(Y13)","v":{"$error":"#REF!"}},3.7761861320221666,3.1196004067601275]
[null,315,520,{"$f":"$D$13","v":222},{"$f":"D14+C14+$E$11","v":841},840.5,6,2,null,{"$f":"PI()*(B14/1000)^2/4","v":7.793113276311181E-2},{"$f":"PI()*(B14/1000)*(C14/1000)","v":0.51459287665800812},{"$f":"PI()*(B14/1000)*(D14/1000)","v":0.21969157426553423},null,{"$f":"#REF!+#REF!*LOG(W14)","v":{"$error":"#REF!"}},900,22.196574359893091,5.5030994936652489,1140,{"$f":"1.2/2*Y14^2","v":24.96986268664077},4.4454305796331823,250,0.125,0.61213439650728974,1.8161825337813882,6.4510803599914919,{"$f":"#REF!+#REF!*LOG(Y14)","v":{"$error":"#REF!"}},5.3780994936652489,4.4454305796331823]
[null,null,null,null,null,null,null,null,null,null,null,null,"DN 315","< 25",380,2.4359721867304449,1.4126196939769067,750,{"$f":"1.2/2*Y15^2","v":4.2879212207507225},2.3211312550298566,315,0.1575,{"$f":"O15/$K$14/3600","v":0.2051244009460054},{"$f":"R15/$L$14/3600","v":0.94829915088836059},{"$f":"R15/$J$14/3600","v":2.6733004634567119},{"$f":"#REF!+#REF!*LOG(Y15)","v":{"$error":"#REF!"}},1.2551196939769067,2.3211312550298566]
[null,355,{"$f":"$C$14+2*93","v":706},{"$f":"$D$14","v":222},1027,950,8,2,null,{"$f":"PI()*(B16/1000)^2/4","v":9.8979803542163416E-2},0.78737736676920977,{"$f":"PI()*(B16/1000)*(D16/1000)","v":0.24758891702941158},null,{"$f":"#REF!+#REF!*LOG(W16)","v":{"$error":"#REF!"}},800,10.966376839421809,3.5379067763691898,900,6.174606557881039,2.7853575060358282,315,0.1575,{"$f":"O16/$K$14/3600","v":0.43184084409685347},{"$f":"R16/$L$14/3600","v":1.1379589810660327},{"$f":"R16/$J$14/3600","v":3.2079605561480542},{"$f":"#REF!+#REF!*LOG(Y16)","v":{"$error":"#REF!"}},3.3804067763691896,2.7853575060358282]
[null,400,{"$f":"$C$14+2*93","v":706},{"$f":"$D$14","v":222},1027,950,8,2,null,{"$f":"PI()*(B17/1000)^2/4","v":0.12566370614359174},0.88718576537375748,0.27897342763877364,null,{"$f":"#REF!+#REF!*LOG(W17)","v":{"$error":"#REF!"}},1050,18.999305244297105,5.0120126542573313,1250,11.910892279863116,3.8685520917164284,315,0.1575,{"$f":"O17/$K$14/3600","v":0.56679110787712017},{"$f":"R17/$L$14/3600","v":1.5804985848139343},{"$f":"R17/$J$14/3600","v":4.455500772427853},{"$f":"#REF!+#REF!*LOG(Y17)","v":{"$error":"#REF!"}},4.8545126542573316,3.8685520917164284]
[null,450,{"$f":"$C$14+2*93","v":706},222,1027,950,8,2,null,{"$f":"PI()*(B18/1000)^2/4","v":0.15904312808798329},0.99808398604547721,0.31384510609362032,null,{"$f":"#REF!+#REF!*LOG(W18)","v":{"$error":"#REF!"}},1400,33.980871367115753,7.2765952398297067,1800,24.698426231524156,5.5707150120716564,315,0.1575,0.75572147716949356,2.2759179621320653,6.4159211122961084,{"$f":"#REF!+#REF!*LOG(Y18)","v":{"$error":"#REF!"}},7.1190952398297069,5.5707150120716564]
[null,null,null,null,null,null,null,null,null,null,null,null,"DN 355","< 25",500,1.7956965377146623,1.2042590800083663,950,4.2648158590133987,2.6088207626955295,355,0.17749999999999999,{"$f":"O19/$K$16/3600","v":0.17639431199144306},{"$f":"R19/$L$16/3600","v":1.065834820294242},{"$f":"R19/$J$16/3600","v":2.6660882265388364},{"$f":"#REF!+#REF!*LOG(Y19)","v":{"$error":"#REF!"}},1.0267590800083664,2.6088207626955295]
[null,500,{"$f":"$C$16+2*93","v":892},{"$f":"D16+93","v":315},{"$f":"D20+C20+$E$11","v":1306},1059,10,3,null,{"$f":"PI()*(B20/1000)^2/4","v":0.19634954084936207},1.4011503235010478,0.49480084294039239,null,{"$f":"#REF!+#REF!*LOG(W20)","v":{"$error":"#REF!"}},1050,8.0431617664108579,2.9336672742007961,1150,6.2495501091913779,3.1580461864209042,355,0.17749999999999999,{"$f":"O20/$K$16/3600","v":0.37042805518203042},{"$f":"R20/$L$16/3600","v":1.2902210982509246},{"$f":"R20/$J$16/3600","v":3.227369958441749},{"$f":"#REF!+#REF!*LOG(Y20)","v":{"$error":"#REF!"}},2.7561672742007963,3.1580461864209042]
[null,560,{"$f":"$C$16+2*93","v":892},{"$f":"D17+93","v":315},{"$f":"D21+C21+$E$11","v":1306},1167,10,3,null,0.2463008640414398,1.5692883623211737,0.55417694409323959,null,{"$f":"#REF!+#REF!*LOG(W21)","v":{"$error":"#REF!"}},1400,14.385454723474673,4.2193923009150343,1600,12.097427810608639,4.3938033898029971,355,0.17749999999999999,{"$f":"O21/$K$16/3600","v":0.4939040735760406},{"$f":"R21/$L$16/3600","v":1.7950902236534603},{"$f":"R21/$J$16/3600","v":4.4902538552233029},{"$f":"#REF!+#REF!*LOG(Y21)","v":{"$error":"#REF!"}},4.041892300915034,4.3938033898029971]
[null,630,892,315,1306,1167,10,3,null,{"$f":"PI()*(B22/1000)^2/4","v":0.31172453105244724},{"$f":"PI()*(B22/1000)*(C22/1000)","v":1.7654494076113201},{"$f":"PI()*(B22/1000)*(D22/1000)","v":0.62344906210489437},null,{"$f":"#REF!+#REF!*LOG(W22)","v":{"$error":"#REF!"}},1850,25.26670668940422,6.0345650162497915,2300,24.998200436765512,6.3160923728418084,355,0.17749999999999999,0.65265895436833932,2.5804421965018491,6.454739916883498,{"$f":"#REF!+#REF!*LOG(Y22)","v":{"$error":"#REF!"}},5.8570650162497913,6.3160923728418084]
[null,null,null,null,null,null,null,null,null,null,null,null,"DN 400","< 25",650,2.3974995487501007,1.442030148985767,1200,4.221715985097406,2.9246253813376195,400,0.2,{"$f":"O23/$K$17/3600","v":0.20351493746012744},{"$f":"R23/$L$17/3600","v":1.1948569301193344},{"$f":"R23/$J$17/3600","v":2.6525823848649219},{"$f":"#REF!+#REF!*LOG(Y23)","v":{"$error":"#REF!"}},1.242030148985767,2.9246253813376195]
[null,null,null,null,null,null,null,null,null,null,null,null,null,{"$f":"#REF!+#REF!*LOG(W24)","v":{"$error":"#REF!"}},1380,10.978544598200518,3.5828763169663165,1450,6.1639985129634018,3.5339223357829574,400,0.2,{"$f":"O24/$K$17/3600","v":0.43207786722303981},{"$f":"R24/$L$17/3600","v":1.443785457227529},{"$f":"R24/$J$17/3600","v":3.2052037150451143},{"$f":"#REF!+#REF!*LOG(Y24)","v":{"$error":"#REF!"}},3.3828763169663163,3.5339223357829574]
[null,null,"Einsatzbereich",null,"Anströmgeschwindigkeit",null,"Austrittsgeschwindigkeit *1",null,null,null,null,null,null,{"$f":"#REF!+#REF!*LOG(W25)","v":{"$error":"#REF!"}},1800,18.782388086888268,5.0179419052275467,2050,12.320667657897118,4.9962350264517674,400,0.2,{"$f":"O25/$K$17/3600","v":0.56357982681266061},{"$f":"R25/$L$17/3600","v":2.0412139222871963},{"$f":"R25/$J$17/3600","v":4.5314949074775752},{"$f":"#REF!+#REF!*LOG(Y25)","v":{"$error":"#REF!"}},4.8179419052275465,4.9962350264517674]
[null,null,"minimal","maximal","minimal","maximal","minimal","maximal","Geschwindigkeit min:",0.15,null,null,null,{"$f":"#REF!+#REF!*LOG(W26)","v":{"$error":"#REF!"}},2400,33.592908021695926,7.2654645947212613,2900,24.655994051853607,7.0678446715659149,400,0.2,0.75143976908354759,2.8875709144550581,6.4104074300902285,{"$f":"#REF!+#REF!*LOG(Y26)","v":{"$error":"#REF!"}},7.0654645947212611,7.0678446715659149]
[null,null,null,null,null,null,null,null,null,null,null,null,"DN 450","< 25",850,3.2496361853329669,1.742433147385346,1500,4.1181195404089923,3.2495837570418002,450,0.22500000000000001,{"$f":"O27/$K$18/3600","v":0.23656437174852421},{"$f":"R27/$L$18/3600","v":1.3276188112437051},{"$f":"R27/$J$18/3600","v":2.6198344541875773},{"$f":"#REF!+#REF!*LOG(Y27)","v":{"$error":"#REF!"}},1.517433147385346,3.2495837570418002]
[null,"Nenngröße","V°min","V°max","vmin","vmax","vmin","vmax","Geschwindigkeit max:",0.7,null,null,null,{"$f":"#REF!+#REF!*LOG(W28)","v":{"$error":"#REF!"}},1750,13.984532598873086,4.1923520634336455,1850,6.2641173897999005,4.0078199670182197,450,0.22500000000000001,{"$f":"O28/$K$18/3600","v":0.48704429477637334},{"$f":"R28/$L$18/3600","v":1.637396533867236},{"$f":"R28/$J$18/3600","v":3.2311291601646785},{"$f":"#REF!+#REF!*LOG(Y28)","v":{"$error":"#REF!"}},3.9673520634336454,4.0078199670182197]
[null,"DN",null,null,null,null,null,null,null,null,null,null,null,{"$f":"#REF!+#REF!*LOG(W29)","v":{"$error":"#REF!"}},2300,24.294940514043528,5.9327280219060423,2600,12.372661374739909,5.6326118455391203,450,0.22500000000000001,{"$f":"O29/$K$18/3600","v":0.64011535884894788},{"$f":"R29/$L$18/3600","v":2.3012059394890887},{"$f":"R29/$J$18/3600","v":4.5410463872584677},{"$f":"#REF!+#REF!*LOG(Y29)","v":{"$error":"#REF!"}},5.7077280219060427,5.6326118455391203]
[null,null,null,null,null,null,null,null,null,"V°min","V°max",null,null,{"$f":"#REF!+#REF!*LOG(W30)","v":{"$error":"#REF!"}},3000,41.564434812008223,8.3540296906401661,3650,24.383843367599464,7.9073204754683797,450,0.22500000000000001,0.83493307675949724,3.2305391073596819,6.3749305051897709,{"$f":"#REF!+#REF!*LOG(Y30)","v":{"$error":"#REF!"}},8.1290296906401665,7.9073204754683797]
[null,null,null,null,null,null,null,null,null,null,null,null,"DN 500","< 25",1100,2.7568046654228415,1.6116669604832659,1900,4.3350456053195776,2.6108084356575834,500,0.25,{"$f":"O31/$K$20/3600","v":0.21807478500384264},{"$f":"R31/$L$20/3600","v":1.0666468849192281},{"$f":"R31/$J$20/3600","v":2.6879501499964547},{"$f":"#REF!+#REF!*LOG(Y31)","v":{"$error":"#REF!"}},1.3616669604832659,2.6108084356575834]
[null,250,200,850,{"$f":"(C32/$J13)/3600","v":1.1317684842090334},{"$f":"(D32/$J13)/3600","v":4.8100160578883928},{"$f":"C32/$K13/3600","v":0.13602986589050883},{"$f":"D32/$K13/3600","v":0.57812693003466253},null,{"$f":"$J$26*$K13*3600","v":220.53980428200347},{"$f":"$J$28*$K13*3600","v":1029.1857533160162},null,null,{"$f":"#REF!+#REF!*LOG(W32)","v":{"$error":"#REF!"}},2150,10.680688917610913,3.5721522411995501,2300,6.3524629507314598,3.1604523168486538,500,0.25,{"$f":"O32/$K$20/3600","v":0.42623707978023789},{"$f":"R32/$L$20/3600","v":1.2912041238495919},{"$f":"R32/$J$20/3600","v":3.2538343921009716},{"$f":"#REF!+#REF!*LOG(Y32)","v":{"$error":"#REF!"}},3.3221522411995501,3.1604523168486538]
[null,315,300,1300,{"$f":"(C33/$J14)/3600","v":1.0693201853826846},{"$f":"(D33/$J14)/3600","v":4.6337208033249668},{"$f":"C33/$K14/3600","v":0.16194031653632004},{"$f":"D33/$K14/3600","v":0.70174137165738681},null,{"$f":"$J$26*$K14*3600","v":277.88015339532438},{"$f":"$J$28*$K14*3600","v":1296.7740491781803},null,null,{"$f":"#REF!+#REF!*LOG(W33)","v":{"$error":"#REF!"}},2850,18.878969904393259,5.0842426531496629,3200,12.296639057748607,4.3971510495285608,500,0.25,{"$f":"O33/$K$20/3600","v":0.56501194296450141},{"$f":"R33/$L$20/3600","v":1.7964579114429104},{"$f":"R33/$J$20/3600","v":4.5270739368361337},{"$f":"#REF!+#REF!*LOG(Y33)","v":{"$error":"#REF!"}},4.8342426531496629,4.3971510495285608]
[null,355,400,1750,{"$f":"(C34/$J16)/3600","v":1.1225634638058257},{"$f":"(D34/$J16)/3600","v":4.9112151541504883},{"$f":"C34/$K16/3600","v":0.14111544959315445},{"$f":"D34/$K16/3600","v":0.61738009197005073},null,{"$f":"$J$26*$K16*3600","v":425.1837780553733},{"$f":"$J$28*$K16*3600","v":1984.1909642584083},null,null,{"$f":"#REF!+#REF!*LOG(W34)","v":{"$error":"#REF!"}},3800,33.765647723218663,7.3393694818238249,4500,24.31708407416107,6.1834936633995392,500,0.25,0.75334925728600188,2.5262689379665928,6.366197723675814,{"$f":"#REF!+#REF!*LOG(Y34)","v":{"$error":"#REF!"}},7.0893694818238249,6.1834936633995392]
[null,null,null,null,null,null,null,null,null,null,null,null,"DN 560","< 25",1300,3.0729850587312653,1.74259464976033,2350,4.2145392486385207,2.8831766089263717,560,0.28000000000000003,{"$f":"O35/$K$21/3600","v":0.23011138028002873},{"$f":"R35/$L$21/3600","v":1.1779230167106134},{"$f":"R35/$J$21/3600","v":2.6503267875988805},{"$f":"#REF!+#REF!*LOG(Y35)","v":{"$error":"#REF!"}},1.4625946497603299,2.8831766089263717]
[null,400,500,2250,{"$f":"(C36/$J17)/3600","v":1.1052426603603842},{"$f":"(D36/$J17)/3600","v":4.9735919716217287},{"$f":"C36/$K17/3600","v":0.15654995189240573},{"$f":"D36/$K17/3600","v":0.70447478351582582},null,{"$f":"$J$26*$K17*3600","v":479.08031330182905},{"$f":"$J$28*$K17*3600","v":2235.7081287418687},null,null,{"$f":"#REF!+#REF!*LOG(W36)","v":{"$error":"#REF!"}},2700,13.46033700339712,4.1487817977750989,2850,6.198749669002515,3.496618440612834,560,0.28000000000000003,{"$f":"O36/$K$21/3600","v":0.47792363596621346},{"$f":"R36/$L$21/3600","v":1.4285449351596802},{"$f":"R36/$J$21/3600","v":3.2142261041092808},{"$f":"#REF!+#REF!*LOG(Y36)","v":{"$error":"#REF!"}},3.8687817977750987,3.496618440612834]
[null,450,600,2850,{"$f":"(C37/$J18)/3600","v":1.0479337816750309},{"$f":"(D37/$J18)/3600","v":4.9776854629563969},{"$f":"C37/$K18/3600","v":0.16698661535189943},{"$f":"D37/$K18/3600","v":0.7931864229215223},null,{"$f":"$J$26*$K18*3600","v":538.96535246455767},{"$f":"$J$28*$K18*3600","v":2515.1716448346024},null,null,{"$f":"#REF!+#REF!*LOG(W37)","v":{"$error":"#REF!"}},3500,22.741929998173362,5.7447555460353952,4050,12.517696700007848,4.9688788366603429,560,0.28000000000000003,{"$f":"O37/$K$21/3600","v":0.61953063921546192},{"$f":"R37/$L$21/3600","v":2.0300375394374401},{"$f":"R37/$J$21/3600","v":4.5675844637342413},{"$f":"#REF!+#REF!*LOG(Y37)","v":{"$error":"#REF!"}},5.4647555460353949,4.9688788366603429]
[null,500,750,3500,{"$f":"(C38/$J20)/3600","v":1.0610329539459691},{"$f":"(D38/$J20)/3600","v":4.9514871184145219},{"$f":"C38/$K20/3600","v":0.14868735341171088},{"$f":"D38/$K20/3600","v":0.69387431592131743},null,{"$f":"$J$26*$K20*3600","v":756.62117469056591},{"$f":"$J$28*$K20*3600","v":3530.8988152226402},null,null,{"$f":"#REF!+#REF!*LOG(W38)","v":{"$error":"#REF!"}},4700,41.263975528762529,8.3702841408206883,5700,24.79499867601006,6.993236881225668,560,0.28000000000000003,0.83194114408933462,2.8570898703193603,6.4284522082185616,{"$f":"#REF!+#REF!*LOG(Y38)","v":{"$error":"#REF!"}},8.0902841408206889,6.993236881225668]
[null,null,null,null,null,null,null,null,null,null,null,null,"DN 630","< 25",1500,3.2343106699251765,1.827716622118196,3000,4.2879212207507225,3.2716897689944657,630,0.315,{"$f":"O39/$K$22/3600","v":0.23601167208208079},{"$f":"R39/$L$22/3600","v":1.3366502317283562},{"$f":"R39/$J$22/3600","v":2.6733004634567119},{"$f":"#REF!+#REF!*LOG(Y39)","v":{"$error":"#REF!"}},1.512716622118196,3.2716897689944657]
[null,560,900,4400,{"$f":"(C40/$J21)/3600","v":1.0150187697187201},{"$f":"(D40/$J21)/3600","v":4.9623139852915212},{"$f":"C40/$K21/3600","v":0.15930787865540449},{"$f":"D40/$K21/3600","v":0.77883851787086644},null,{"$f":"$J$26*$K21*3600","v":847.41571565343372},{"$f":"$J$28*$K21*3600","v":3954.6066730493571},null,null,{"$f":"#REF!+#REF!*LOG(W40)","v":{"$error":"#REF!"}},3000,13.126615484562533,4.1203452518872448,3650,6.3473144959390551,3.9805558856099328,630,0.315,{"$f":"O40/$K$22/3600","v":0.47202334416416158},{"$f":"R40/$L$22/3600","v":1.6262577819361665},{"$f":"R40/$J$22/3600","v":3.2525155638723326},{"$f":"#REF!+#REF!*LOG(Y40)","v":{"$error":"#REF!"}},3.8053452518872448,3.9805558856099328]
[null,630,1100,5000,{"$f":"(C41/$J22)/3600","v":0.98021016993412757},{"$f":"(D41/$J22)/3600","v":4.455500772427853},{"$f":"C41/$K22/3600","v":0.17307522619352589},{"$f":"D41/$K22/3600","v":0.78670557360693605},null,{"$f":"$J$26*$K22*3600","v":953.34268011011272},{"$f":"$J$28*$K22*3600","v":4448.932507180526},null,null,{"$f":"#REF!+#REF!*LOG(W41)","v":{"$error":"#REF!"}},4000,23.477375963544674,5.8955015246712827,5100,12.392092327969587,5.5618726072905913,630,0.315,{"$f":"O41/$K$22/3600","v":0.62936445888554871},{"$f":"R41/$L$22/3600","v":2.2723053939382054},{"$f":"R41/$J$22/3600","v":4.5446107878764099},{"$f":"#REF!+#REF!*LOG(Y41)","v":{"$error":"#REF!"}},5.5805015246712824,5.5618726072905913]
[null,null,null,null,null,null,null,null,null,null,null,null,null,{"$f":"#REF!+#REF!*LOG(W42)","v":{"$error":"#REF!"}},5300,41.461360125315728,8.4307485657011281,7200,24.698426231524156,7.8520554455867178,630,0.315,0.83390790802335224,3.2079605561480546,6.4159211122961084,{"$f":"#REF!+#REF!*LOG(Y42)","v":{"$error":"#REF!"}},8.1157485657011286,7.8520554455867178]
[]
[]
[]
["Schallleistung als Funktion der Ausströmgeschwindigkeit im Kühlfall"]
[]
[]
[]
[]
[null,null,null,null,null,null,null,"Hz",100,125,160,200,250,315,400,500,630,800,1000,1250,1600,2000,2500,3150,4000,5000,6300,8000,10000]
[null,null,null,null,null,null,null,"K1",22.90279252054011,23.410521738108468,26.343211078598035,29.841165286979106,31.952795573858637,36.750427173558272,40.392711798299281,44.810331867318709,48.942987064837901,52.236794939160824,55.942476219593402,55.867831382110495,53.913108055270385,52.016507082805937,48.32952757107477,45.203780363022489,41.070463274719209,33.874048336664927,28.101839103381124,22.627803437771796,20.211513577454824]
[null,null,null,null,null,null,null,"K2",51.435985798547989,43.912536073214952,51.004139694237224,54.322338368149573,54.067739828813878,55.729408485344251,55.793091993476068,61.909814203374196,72.736660186727903,81.551622793293475,104.35915894328727,108.50211938640874,105.30213730011398,109.86615561897125,83.091683987646746,92.800511968079945,81.386567946987554,59.270535917438913,36.606759179492528,15.919005743859801,3.8189769819215593]
[null,"Auszulegende Austrittsgeschwindigkeit:",null,null,"v =",{"$f":"'Grunddaten-IQA'!$P$33","v":0.5291829359743293}]
[null,null,null,null,"LW,A =",{"$f":"AD55","v":36.970389808164107},null,"LW,A Terz",{"$f":"I$52+I$53*LOG($F$54)","v":8.6861859941226029},11.273352842871017,12.245964297106923,14.826787742052254,17.008787580516007,21.347143653550418,24.971826528013366,27.698820247805216,28.838998352140973,29.696401966352209,27.098213256785328,25.878478312445115,24.808211373601779,21.650142352820332,25.363470664994306,19.55426002005796,18.575690498914302,17.492017844465977,17.983944338022923,18.227883081649765,19.155970609967714,{"$f":"10*LOG(10^(0.1*I55)+10^(0.1*J55)+10^(0.1*K55)+10^(0.1*L55)+10^(0.1*M55)+10^(0.1*N55)+10^(0.1*O55)+10^(0.1*P55)+10^(0.1*Q55)+10^(0.1*R55)+10^(0.1*S55)+10^(0.1*T55)+10^(0.1*U55)+10^(0.1*V55)+10^(0.1*W55)+10^(0.1*X55)+10^(0.1*Y55)+10^(0.1*Z55)+10^(0.1*AA55)+10^(0.1*AB55)+10^(0.1*AC55))","v":36.970389808164107}]
[null,null,null,null,null,null,null,"A-Bewertung",-19.100000000000001,-16.100000000000001,-13.4,-10.9,-8.6,-6.6,-4.8,-3.2,-1.9,-0.8,0,0.6,1,1,1.3,1.2,1,0.5,-0.1,-1.1000000000000001,-2.5]
[]
[null,null,null,null,null,null,null,"LW,Z Terz",{"$f":"IF(I55-I56<0,0,I55-I56)","v":27.786185994122604},{"$f":"IF(J55-J56<0,0,J55-J56)","v":27.373352842871018},25.645964297106921,25.726787742052252,25.608787580516008,27.94714365355042,29.771826528013367,30.898820247805215,30.738998352140971,30.496401966352209,27.098213256785328,25.278478312445113,23.808211373601779,20.650142352820332,24.063470664994306,18.354260020057961,17.575690498914302,16.992017844465977,18.083944338022924,{"$f":"IF(AB55-AB56<0,0,AB55-AB56)","v":19.327883081649766},21.655970609967714,{"$f":"10*LOG(10^(0.1*I58)+10^(0.1*J58)+10^(0.1*K58)+10^(0.1*L58)+10^(0.1*M58)+10^(0.1*N58)+10^(0.1*O58)+10^(0.1*P58)+10^(0.1*Q58)+10^(0.1*R58)+10^(0.1*S58)+10^(0.1*T58)+10^(0.1*U58)+10^(0.1*V58)+10^(0.1*W58)+10^(0.1*X58)+10^(0.1*Y58)+10^(0.1*Z58)+10^(0.1*AA58)+10^(0.1*AB58)+10^(0.1*AC58))","v":39.681738503756804}]
[]
[null,null,null,null,null,null,null,"LW, Z Oktav",125,250,500,1000,2000,4000,8000,"[dB(A)]"]
[null,null,null,null,null,null,null,null,{"$f":"10*LOG(10^(0.1*I58)+10^(0.1*J58)+10^(0.1*K58))","v":31.800588998101386},{"$f":"10*LOG(10^(0.1*L58)+10^(0.1*M58)+10^(0.1*N58))","v":31.338492468454877},{"$f":"10*LOG(10^(0.1*O58)+10^(0.1*P58)+10^(0.1*Q58))","v":35.268879176456274},{"$f":"10*LOG(10^(0.1*R58)+10^(0.1*S58)+10^(0.1*T58))","v":32.946665399684619},{"$f":"10*LOG(10^(0.1*U58)+10^(0.1*V58)+10^(0.1*W58))","v":27.863059585953515},{"$f":"10*LOG(10^(0.1*X58)+10^(0.1*Y58)+10^(0.1*Z58))","v":22.447909607654921},{"$f":"10*LOG(10^(0.1*AA58)+10^(0.1*AB58)+10^(0.1*AC58))","v":24.718900104813475},{"$f":"10*LOG(10^(0.1*I61)+10^(0.1*J61)+10^(0.1*K61)+10^(0.1*L61)+10^(0.1*M61)+10^(0.1*N61)+10^(0.1*O61))","v":39.681738503756804}]
[]
[]
["Schallleistung als Funktion der Ausströmgeschwindigkeit im Heizfall"]
[]
[]
[]
[]
[null,null,null,null,null,null,null,"Hz",100,125,160,200,250,315,400,500,630,800,1000,1250,1600,2000,2500,3150,4000,5000,6300,8000,10000]
[null,null,null,null,null,null,null,"K1",5.5596968149223631,7.6036622113640648,9.2431766931411801,11.09583629077178,9.9123242292755815,12.118976812931171,15.347893782957632,16.560125930916811,17.541494424087194,19.829318633059415,12.854698130073739,13.017898297705687,12.475118897286258,12.079888751456592,21.026871903738186,12.589302125204586,12.476202924469968,13.474600419117392,16.467080936455648,17.791591958117127,19.100547639309795]
[null,null,null,null,null,null,null,"K2",49.581726978454697,48.286810744207081,51.659389943373007,56.395275322476849,70.341542816165571,71.781953467494859,56.997941607992139,59.696007131072733,61.882918971152229,58.5208187586097,83.997715229115073,81.731120677077044,74.629021927323521,68.393800247557351,47.52966605472411,59.904667986795317,58.461452665864037,29.150048672405021,8.8319363971796783,2.2110866684274728,0.52469446715919421]
[null,"Auszulegende Austrittsgeschwindigkeit:",null,null,"v =",{"$f":"'Grunddaten-IQA'!$Q$33","v":1.6828970846751188}]
[null,null,null,null,"LW,A =",{"$f":"AD73","v":41.350315360874525},null,"LW,A Terz",{"$f":"I$70+I$71*LOG($F$72)","v":16.76802094148389},18.519260736082387,20.921172236083112,23.844414517901086,25.813561630477565,28.345829928617363,28.232709278932809,30.054859530602432,31.530595974096073,33.058392018972015,31.843016519783003,31.49383585780447,29.34557335671218,27.540824223813928,31.77131214883229,26.131205088403519,25.691856156423221,20.064189240162989,18.463606911595274,18.291424811103941,19.219158789298362,{"$f":"10*LOG(10^(0.1*I73)+10^(0.1*J73)+10^(0.1*K73)+10^(0.1*L73)+10^(0.1*M73)+10^(0.1*N73)+10^(0.1*O73)+10^(0.1*P73)+10^(0.1*Q73)+10^(0.1*R73)+10^(0.1*S73)+10^(0.1*T73)+10^(0.1*U73)+10^(0.1*V73)+10^(0.1*W73)+10^(0.1*X73)+10^(0.1*Y73)+10^(0.1*Z73)+10^(0.1*AA73)+10^(0.1*AB73)+10^(0.1*AC73))","v":41.350315360874525}]
[null,null,null,null,null,null,null,"A-Bewertung",-19.100000000000001,-16.100000000000001,-13.4,-10.9,-8.6,-6.6,-4.8,-3.2,-1.9,-0.8,0,0.6,1,1,1.3,1.2,1,0.5,-0.1,-1.1000000000000001,-2.5]
[]
[null,null,null,null,null,null,null,"LW,Z Terz",{"$f":"IF(I73-I74<0,0,I73-I74)","v":35.868020941483891},{"$f":"IF(J73-J74<0,0,J73-J74)","v":34.619260736082389},34.321172236083115,34.744414517901085,34.413561630477567,34.945829928617364,33.032709278932806,33.254859530602431,33.430595974096072,33.858392018972012,31.843016519783003,30.893835857804469,28.34557335671218,26.540824223813928,30.47131214883229,24.931205088403519,24.691856156423221,19.564189240162989,18.563606911595276,{"$f":"IF(AB73-AB74<0,0,AB73-AB74)","v":19.391424811103942},{"$f":"IF(AC73-AC74<0,0,AC73-AC74)","v":21.719158789298362},{"$f":"10*LOG(10^(0.1*I76)+10^(0.1*J76)+10^(0.1*K76)+10^(0.1*L76)+10^(0.1*M76)+10^(0.1*N76)+10^(0.1*O76)+10^(0.1*P76)+10^(0.1*Q76)+10^(0.1*R76)+10^(0.1*S76)+10^(0.1*T76)+10^(0.1*U76)+10^(0.1*V76)+10^(0.1*W76)+10^(0.1*X76)+10^(0.1*Y76)+10^(0.1*Z76)+10^(0.1*AA76)+10^(0.1*AB76)+10^(0.1*AC76))","v":45.198431642486874}]
[]
[null,null,null,null,null,null,null,"LW, Z Oktav",125,250,500,1000,2000,4000,8000,"[dB(A)]"]
[null,null,null,null,null,null,null,null,{"$f":"10*LOG(10^(0.1*I76)+10^(0.1*J76)+10^(0.1*K76))","v":39.760494121586071},{"$f":"10*LOG(10^(0.1*L76)+10^(0.1*M76)+10^(0.1*N76))","v":39.477996033980716},{"$f":"10*LOG(10^(0.1*O76)+10^(0.1*P76)+10^(0.1*Q76))","v":38.013646410120231},{"$f":"10*LOG(10^(0.1*R76)+10^(0.1*S76)+10^(0.1*T76))","v":37.150380480292711},{"$f":"10*LOG(10^(0.1*U76)+10^(0.1*V76)+10^(0.1*W76))","v":33.519408733432179},{"$f":"10*LOG(10^(0.1*X76)+10^(0.1*Y76)+10^(0.1*Z76))","v":28.427827854428717},{"$f":"10*LOG(10^(0.1*AA76)+10^(0.1*AB76)+10^(0.1*AC76))","v":24.876027081748457},{"$f":"10*LOG(10^(0.1*I79)+10^(0.1*J79)+10^(0.1*K79)+10^(0.1*L79)+10^(0.1*M79)+10^(0.1*N79)+10^(0.1*O79))","v":45.198431642486881}]
["Schallleistung als Funktion der Ausströmgeschwindigkeit im Heizfall"]
[]
[]
[]
[]
[null,null,null,null,null,null,null,"Hz",100,125,160,200,250,315,400,500,630,800,1000,1250,1600,2000,2500,3150,4000,5000,6300,8000,10000]
[null,null,null,null,null,null,null,"K1",-16.757031990526968,-14.130187996193024,-14.008662073156446,-14.287601129194405,-21.748372252923243,-20.190019548875188,-10.306742649137613,-10.308889583070918,-10.311840508838715,-6.5106870553439045,-24.952627396916824,-23.769228550281944,-21.115345842545871,-18.704090318761789,-0.3659807811138881,-14.373695124819452,-13.837202200368614,0.35432954095732788,12.491761328862394,16.796269767138398,18.864264313182446]
[null,null,null,null,null,null,null,"K2",49.581525229936865,48.286554515845303,51.65910553931738,56.394935053951222,70.341219752178219,71.781578081849261,56.997500929809199,59.695523587600889,61.882411574678578,58.520247649595383,83.997316524421507,81.730723474036225,74.628640173132439,68.393422606485586,47.5290815956199,59.904285505918835,58.461074356272455,29.1496699789794,8.8320094160431619,2.2112618277310374,0.52488673369507499]
[null,"Auszulegende Stutzengeschwindigkeit:",null,null,"v =",{"$f":"'Grunddaten-IQA'!$O$33","v":4.2096129892718466}]
[null,null,null,null,"LW,A =",{"$f":"AD89","v":38.089647445799159},null,"LW,A Terz",{"$f":"I$86+I$87*LOG($F$88)","v":14.193846951180472},16.012315615811886,18.239130110915028,20.916495551687795,22.161583462742836,24.619068577251941,25.273501062147432,26.95557364901406,28.317770427622406,30.020119373897369,27.482039812673619,27.250535693188525,25.470998503880516,23.989968278375638,29.30367629083819,23.021086100339208,22.656665763794656,18.550782807089817,18.005074059365505,18.176632650715007,19.191920747254699,{"$f":"10*LOG(10^(0.1*I89)+10^(0.1*J89)+10^(0.1*K89)+10^(0.1*L89)+10^(0.1*M89)+10^(0.1*N89)+10^(0.1*O89)+10^(0.1*P89)+10^(0.1*Q89)+10^(0.1*R89)+10^(0.1*S89)+10^(0.1*T89)+10^(0.1*U89)+10^(0.1*V89)+10^(0.1*W89)+10^(0.1*X89)+10^(0.1*Y89)+10^(0.1*Z89)+10^(0.1*AA89)+10^(0.1*AB89)+10^(0.1*AC89))","v":38.089647445799159}]
[null,null,null,null,null,null,null,"A-Bewertung",-19.100000000000001,-16.100000000000001,-13.4,-10.9,-8.6,-6.6,-4.8,-3.2,-1.9,-0.8,0,0.6,1,1,1.3,1.2,1,0.5,-0.1,-1.1000000000000001,-2.5]
[]
[null,null,null,null,null,null,null,"LW,Z Terz",{"$f":"IF(I89-I90<0,0,I89-I90)","v":33.29384695118047},{"$f":"IF(J89-J90<0,0,J89-J90)","v":32.112315615811887},31.639130110915026,31.816495551687794,30.761583462742834,31.219068577251939,30.073501062147432,30.155573649014059,30.217770427622405,30.82011937389737,27.482039812673619,26.650535693188523,24.470998503880516,22.989968278375638,28.00367629083819,21.821086100339208,21.656665763794656,18.050782807089817,18.105074059365506,{"$f":"IF(AB89-AB90<0,0,AB89-AB90)","v":19.276632650715008},{"$f":"IF(AC89-AC90<0,0,AC89-AC90)","v":21.691920747254699},{"$f":"10*LOG(10^(0.1*I92)+10^(0.1*J92)+10^(0.1*K92)+10^(0.1*L92)+10^(0.1*M92)+10^(0.1*N92)+10^(0.1*O92)+10^(0.1*P92)+10^(0.1*Q92)+10^(0.1*R92)+10^(0.1*S92)+10^(0.1*T92)+10^(0.1*U92)+10^(0.1*V92)+10^(0.1*W92)+10^(0.1*X92)+10^(0.1*Y92)+10^(0.1*Z92)+10^(0.1*AA92)+10^(0.1*AB92)+10^(0.1*AC92))","v":42.137838913808295}]
[]
[null,null,null,null,null,null,null,"LW, Z Oktav",125,250,500,1000,2000,4000,8000,"[dB(A)]"]
[null,null,null,null,null,null,null,null,{"$f":"10*LOG(10^(0.1*I92)+10^(0.1*J92)+10^(0.1*K92))","v":37.176599359196366},{"$f":"10*LOG(10^(0.1*L92)+10^(0.1*M92)+10^(0.1*N92))","v":36.058494596682323},{"$f":"10*LOG(10^(0.1*O92)+10^(0.1*P92)+10^(0.1*Q92))","v":34.920562516945395},{"$f":"10*LOG(10^(0.1*R92)+10^(0.1*S92)+10^(0.1*T92))","v":33.483643876514265},{"$f":"10*LOG(10^(0.1*U92)+10^(0.1*V92)+10^(0.1*W92))","v":30.455264024079852},{"$f":"10*LOG(10^(0.1*X92)+10^(0.1*Y92)+10^(0.1*Z92))","v":25.591557717948888},{"$f":"10*LOG(10^(0.1*AA92)+10^(0.1*AB92)+10^(0.1*AC92))","v":24.726597992346488},{"$f":"10*LOG(10^(0.1*I95)+10^(0.1*J95)+10^(0.1*K95)+10^(0.1*L95)+10^(0.1*M95)+10^(0.1*N95)+10^(0.1*O95))","v":42.137838913808295}]
[]
["Nahzonenrechnung",null,"Datenherkunft: I:\\EMCO\\daten_EK\\EMCOAIR\\IQA\\Auswertung_Strömung_Kühlen_IQA_190211"]
[null,null,null,null,null,null,null,null,null,"vmax",{"$f":"'Auslegung-IQA'!$D$46","v":0.2}]
[null,null,"Konstantensatz Nahzone",null,null,null,null,null,null,"dT",{"$f":"Einheiten!$E$109-Einheiten!$E$108","v":6}]
[null,null,"k1",0.8487127672512319,null,"Stand Konstanten: 23.10.19",null,null,null,"DN",{"$f":"'Grunddaten-IQA'!$E$32","v":355}]
[null,null,"k2",0.75137938196329823,null,null,null,null,null,"vaus",{"$f":"F54","v":0.5291829359743293}]
[null,null,"k3",4.2132193638472256E-3]
[null,null,"k4",1.415621710524239]
[null,null,"k5",0.11130198540042835]
[null,null,"k6",-3.9701739900372601,null,null,null,null,null,"LN=",{"$f":"(-(($D$102*$K$99^$D$103-$D$104*K100^$D$105-$K$98)/($D$100*K101))^(-1/$D$101))+Einheiten!$E$115/2","v":4.9305981292387537}]
[]
[]
[]
["Lauflängenrechnung",null,"Datenherkunft: I:\\EMCO\\daten_EK\\EMCOAIR\\IQA\\Geschwindigkeitsabbau_IQA315_heizen_190118",null,null,null,null,null,null,"vmax",0.35]
[null,null,"Konstantensatz \"horizontale Eindringtiefe bodenstehend im Heizfall\"",null,null,null,null,null,null,"DT",{"$f":"Einheiten!$E$110-Einheiten!$E$111","v":9}]
[null,null,"k1",0.69253161699754662,null,null,null,null,null,"vaus",{"$f":"'Grunddaten-IQA'!$Q$33","v":1.6828970846751188}]
[null,null,"k2",0.83151546608980542,null,"Stand Konstanten: 23.10.19"]
[null,null,"k3",202.33554070791638,null,null,null,null,null,"Xhor=",{"$f":"$D$111*$K$111*($K$109-$D$113*$K$110^$D$114)^(-1/$D$112)","v":4.1191906779403089}]
[null,null,"k4",-9.4823471820179819]
[]
[]
[]
[]
[]
[]
[]
["Geschwindigkeit und Wurfweite bei freihängender Montage","Für freihängenden Durchlass: Geschwindigkeit im Kühlfall unterhalb des Durchlasses",null,null,null,null,"Hinweis: sehr dünne Datenbasis, Grundtenor allerdings: Montage oberhals des Aufenthaltsbereiches nicht empfehlenswert aus Grunden der Behaglichkeit"]
[null,null,null,null,null,null,null,"Regression Geschwindigkeit",null,null,"Regression Wurfweite"]
[null,"DN 560","Mantelfläche:",{"$f":"0.89*PI()*0.56","v":1.5657697785491531},null,null,null,"k1",0.8064040920385479,null,"k1",3.216542267402879,null,null,"Datenübergabe","vaus",{"$f":"K101","v":0.5291829359743293}]
[null,null,"Radius:",0.28000000000000003,null,null,null,"k2",-5.6167212942539846E-2,null,"k2",0.78744405350665581,null,null,null,"DT",{"$f":"K99","v":6}]
[null,"DN 450","Mantelfläche:",{"$f":"0.7*PI()*0.45","v":0.9896016858807849},null,null,null,"k3",-0.74778410974590948,null,"k3",-0.1435387092186706,null,null,"Rückgabe","vx",{"$f":"$I$124*Q124^$I$125+$I$126*Q125^$I$127","v":0.38934815419360846}]
[null,null,"Radius:",0.22500000000000001,null,null,null,"k4",-0.287924841323208,null,"k4",1.0641589383326691,null,null,null,"xhor",{"$f":"$L$124*Q124^$L$125+$L$126*Q125^$L$127","v":0.98254458997353844}]
[null,"V°","vaus","DT","v","x ab Durchlasskante","x ab Zentrum","sum",{"$f":"SUM(I129:I144)","v":2.78344591676245E-2},null,"sum",{"$f":"SUM(L129:L144)","v":1.4733999810698588}]
[null,1750,{"$f":"B129/$D$126/3600","v":0.4912189601601708},5,0.35,1,{"$f":"F129+$D$127","v":1.2250000000000001},{"$f":"$I$124*C129^$I$125+$I$126*D129^$I$127","v":0.36879014530965981},{"$f":"(H129-E129)^2","v":3.5306956075813146E-4},null,{"$f":"$L$124*C129^$L$125+$L$126*D129^$L$127","v":1.0419830099323035},{"$f":"(K129-G129)^2","v":3.3495218653439345E-2}]
[null,1750,{"$f":"B130/$D$126/3600","v":0.4912189601601708},8.5,0.4,0.5,{"$f":"F130+$D$127","v":0.72499999999999998},{"$f":"$I$124*C130^$I$125+$I$126*D130^$I$127","v":0.43544644963310131},{"$f":"(H130-E130)^2","v":1.2564507915919863E-3},null,{"$f":"$L$124*C130^$L$125+$L$126*D130^$L$127","v":0.4380999517577584},{"$f":"(K130-G130)^2","v":8.231163768140054E-2}]
[null,2300,0.64560206192479597,2.5,0.25,2.25,2.4750000000000001,0.25208865791576907,4.3624918891047761E-6,null,1.8984402283150872,0.33242117032535889]
[null,2300,0.64560206192479597,5.5,0.35,1,1.2250000000000001,0.36874086272127177,3.5121993553755465E-4,null,1.3983060451868305,3.0034985298299722E-2]
[null,2300,0.64560206192479597,8.3000000000000007,0.4,0.5,0.72499999999999998,0.41988430211931349,3.9538547077213411E-4,null,0.91438763570904591,3.586767655946229E-2]
[null,3000,0.84208964598886415,4.5,0.25,2.25,2.4750000000000001,0.32927279362344453,6.2841758088652269E-3,null,2.0980345392632125,0.14210295858849856]
[null,3000,0.84208964598886415,8.1,0.4,1,1.2250000000000001,0.40477636667805106,2.2813678643196289E-5,null,1.4797343351540675,6.4889581506384741E-2]
[null,1750,0.4912189601601708,2.7,0.25,1.5,1.7250000000000001,0.27746063285874512,7.5408635700279197E-4,null,1.424691153736716,9.0185403143984821E-2]
[null,3000,0.84208964598886415,2.7,0.2,1.75,1.9750000000000001,0.25243388356774132,2.7493121459954526E-3,null,2.3963413253176831,0.17752851242046155]
[null,2000,{"$f":"B138/$D$124/3600","v":0.35481305308519556},1.8,0.25,0.8,{"$f":"F138+$D$125","v":1.08},0.22336830368997818,7.0924724834923005E-4,null,1.1541575853076249,5.4993474586576552E-3]
[null,2000,{"$f":"B139/$D$124/3600","v":0.35481305308519556},3,0.3,0.4,{"$f":"F139+$D$125","v":0.68},0.30972226081481491,9.4522355351285683E-5,null,0.96039315947351911,7.8620323879542292E-2]
[null,2000,{"$f":"B140/$D$124/3600","v":0.35481305308519556},5.0999999999999996,0.4,0.3,{"$f":"F140+$D$125","v":0.58000000000000007},{"$f":"$I$124*C140^$I$125+$I$126*D140^$I$127","v":0.38693998490320325},{"$f":"(H140-E140)^2","v":1.7056399432855963E-4},null,{"$f":"$L$124*C140^$L$125+$L$126*D140^$L$127","v":0.60974584598472692},{"$f":"(K140-G140)^2","v":8.8481535334709036E-4}]
[null,3500,{"$f":"B141/$D$124/3600","v":0.62092284289909216},3.5,0.35,0.8,{"$f":"F141+$D$125","v":1.08},{"$f":"$I$124*C141^$I$125+$I$126*D141^$I$127","v":0.3069347128546559},{"$f":"(H141-E141)^2","v":1.8546189569109378E-3},null,{"$f":"$L$124*C141^$L$125+$L$126*D141^$L$127","v":1.6656984876532026},{"$f":"(K141-G141)^2","v":0.34304271843924866}]
[null,3500,0.62092284289909216,5.9,0.45,1,1.28,0.37971157300661273,4.9404629692047335E-3,null,1.2611048549246799,3.5702650741739286E-4]
[null,5000,0.88703263271298893,3,0.3,2.2000000000000002,2.4800000000000004,0.2668460400754411,1.0991850586792565E-3,null,2.4647467897711071,2.3266042228681721E-4]
[null,5000,0.88703263271298893,6.1,0.45,1.9,2.1799999999999997,0.36756831711201743,6.7949823437449203E-3,null,1.9435133305404539,5.5925944832068461E-2]

{"sheet":"Auslegung-IQA","index":52,"n_rows":113,"n_cols":12,"rows_kept":113,"cut":false,"hidden":true,"merged":[[96,3,96,4],[53,3,53,4],[78,3,78,4],[81,3,81,4],[83,3,83,4],[89,3,89,4],[91,3,91,4],[93,3,93,4],[94,3,94,4],[95,3,95,4],[52,0,52,4],[26,3,26,4],[27,3,27,4],[28,3,28,4],[39,0,39,4],[40,3,40,4],[44,3,44,4],[46,3,46,4],[47,3,47,4],[48,3,48,4],[49,3,49,4],[50,3,50,4],[45,3,45,4],[25,3,25,4],[0,0,0,3],[5,0,5,4],[6,3,6,4],[7,3,7,4],[11,3,11,4],[19,3,19,4],[20,3,20,4],[21,3,21,4],[22,3,22,4],[23,3,23,4],[24,3,24,4]]}
[{"$f":"Übersetzung!F5","v":"Auslegung Kampmann Industrieluftdurchlässe"}]
[]
[{"$f":"Übersetzung!F6","v":"Eingabefelder sind gelb gekennzeichnet"}]
[{"$f":"Übersetzung!F7","v":"Ergebnisfelder sind blau gekennzeichnet"}]
[]
[{"$f":"Übersetzung!F8","v":"Vorgaben"}]
[{"$f":"Übersetzung!F9","v":"Lüftungstechnik"},{"$f":"Übersetzung!F10","v":"Symbol"},{"$f":"Übersetzung!F11","v":"Einheit"},{"$f":"Übersetzung!F12","v":"Wert"}]
["Bezeichung","Symbol","Einheit"]
[null,"L","mm"]
[null,"L","mm"]
[null,"L","mm"]
[{"$f":"Übersetzung!F13","v":"Durchlass Typ"},null,null,"IQA"]
[null,null,null,"IQA"]
[]
[]
[]
[]
[null,null,null,630]
[]
[{"$f":"Übersetzung!F46","v":"Nenndurchmesser"},"DN","[-]",355]
[null,null,null,250]
[null,null,null,315]
[null,null,null,355]
[null,null,null,400]
[null,null,null,450]
[null,null,null,500]
[null,null,null,560]
[null,null,null,630]
[{"$f":"Übersetzung!F16","v":"Luftvolumenstrom"},"V·SUP",{"$f":"Einheiten!$L$7","v":"m³/h"},1500]
[{"$f":"Übersetzung!F82","v":"Temperaturvorgabe Kühlfall / Heizfall"},"aK / aH","[-]","Kühlfall","Heizfall"]
[null,null,null,"Kühlfall","Heizfall"]
[]
[]
[]
[]
[]
["max. Luftgeschwindigkeit im Aufenthaltsbereich","vMax","m/s",0.2]
[{"$f":"Übersetzung!F18","v":"Temperatur Zuluft"},"tSUP",{"$f":"Einheiten!$L$9","v":"°C"},20,29]
[{"$f":"Übersetzung!F19","v":"Temperatur Raum"},"tRaum",{"$f":"Einheiten!$L$9","v":"°C"},26,20]
[{"$f":"Übersetzung!F20","v":"Raumdaten"}]
[{"$f":"Übersetzung!$F$47","v":"Montageart"},null,null,"near the floor"]
[null,null,null,{"$f":"Übersetzung!$F$66","v":"bodenstehend"},{"$f":"IF(OR(D41=\"bodenstehend\",D42=\"floor standing\"),1,IF(OR(D41=\"bodennah\",D41=\"near the floor\"),2,3))","v":2}]
[null,null,null,{"$f":"Übersetzung!$F$138","v":"bodennah"}]
[null,null,null,{"$f":"Übersetzung!$F$51","v":"freihängend"}]
[{"$f":"Übersetzung!$F$21","v":"Montagehöhe"},"h",{"$f":"Einheiten!$L$5","v":"m"},1]
[{"$f":"Übersetzung!F141","v":"Maximalgeschwindigkeit in 0,1m Höhe, Kühlfall"},"vMax",{"$f":"Einheiten!$L$6","v":"m/s"},0.2]
[{"$f":"Übersetzung!F23","v":"Raumlänge"},"LR",{"$f":"Einheiten!$L$5","v":"m"},100]
[{"$f":"Übersetzung!F24","v":"Raumbreite"},"BR",{"$f":"Einheiten!$L$5","v":"m"},100]
[{"$f":"Übersetzung!F25","v":"Raumhöhe"},"H1",{"$f":"Einheiten!$L$5","v":"m"},12]
["Abstand Durchlass zur nächstgelegenen Wand","a","m",5]
["kleinster Abstand zwischen 2 Durchlässen","smin","m",8]
[]
["Akustikdaten"]
["Raumart nach VDI 2081",null,null,"Großraumbüro",null,null,null,null,7,"Maximaler Volumenstrom",{"$f":"'Grunddaten-L'!$I$33","v":1700},"m³/h"]
[null,null,"Einzelbüro",null,null,null,null,null,5,"min. Abmessung Frontblende rund",null,"mm"]
[null,null,"Großraumbüro"]
[null,null,"Werkstätten"]
[null,null,"Ruheraum, Pausenraum"]
[null,null,"Untersuchungsraum Krankenhaus"]
[null,null,"Rundfunk-, Fernsehstudio"]
[null,null,"Chemielabor"]
[null,null,"Wasch- und WC-Raum, Umkleide"]
[null,null,"Schwimmbad"]
[null,null,"EDV-Raum"]
[null,null,"Konzertsaal"]
[null,null,"Lesesaal"]
[null,null,"Museum"]
[null,null,"Küche"]
[null,null,"Theater, Kino"]
[null,null,"Klassen- Seminarraum"]
[null,null,"Gaststätte"]
[null,null,"kein Typ"]
[null,null,"Konferenzraum"]
[null,null,"Hotelzimmer"]
[null,null,"Hörsaal"]
[null,null,"Bettenzimmer Krankenhaus"]
[null,null,"Verkaufsraum"]
[null,"","Sporthalle"]
["Betrachteter Durchlass",null,null,"Zuluft"]
[null,null,null,"Zuluft"]
[null,null,null,"Abluft"]
["Abstand zur Schallquelle","r","m",3]
[{"$f":"Übersetzung!F26","v":"Berechnung strömungstechnische und Akustische Daten"},null,null,"Kühlfall","Heizfall"]
[{"$f":"Übersetzung!$F$28","v":"Geschwindigkeit im Stutzen"},"vST",{"$f":"Einheiten!$L$6","v":"m/s"},{"$f":"Einheiten!$E$120","v":4.2096129892718466}]
[{"$f":"Übersetzung!F27","v":"Totaldruckverlust"},"Dpt",{"$f":"Einheiten!$L$8","v":"Pa"},{"$f":"IF(Einheiten!$F$2=3,FIXED(Einheiten!$E$118,3,TRUE),FIXED(Einheiten!$E$118,0,TRUE))","v":"17"},{"$f":"IF(Einheiten!$F$2=3,FIXED(Einheiten!$E$119,3,TRUE),FIXED(Einheiten!$E$119,0,TRUE))","v":"11"}]
[{"$f":"Übersetzung!$F$29","v":"Austrittsgeschwindigkeit"},"vaus",{"$f":"Einheiten!$L$6","v":"m/s"},{"$f":"Einheiten!$E$121","v":0.5291829359743293},{"$f":"IF(D41=\"bodenstehend\",Einheiten!$E$122,D84*0.95)","v":3.9991323398082539}]
[{"$f":"IF($D$45>=2,\"\",Übersetzung!$F$139)","v":"Nahzone im Kühlbetrieb"},{"$f":"IF($D$45>=2,\"\",\"LN\")","v":"LN"},{"$f":"IF($D$45>=2,\"\",Einheiten!$L$5)","v":"m"},{"$f":"IF($D$45>=2,\"\",Einheiten!$E$123)","v":4.9305981292387537}]
[{"$f":"Übersetzung!$F$142","v":"Maximalgeschwindigkeit unterhalb des Durchlasses"},"vy",{"$f":"Einheiten!$L$6","v":"m/s"},{"$f":"'LW,v,LN-IQA'!$Q$126","v":0.38934815419360846},{"$f":"$E$86","v":3.9991323398082539}]
[{"$f":"Übersetzung!$F$30","v":"Wurfweite an Oberkante Aufenthaltsbereich"},"xhor",{"$f":"Einheiten!$L$5","v":"m"},{"$f":"'LW,v,LN-IQA'!$Q$127","v":0.98254458997353844}]
["Laufweg bis Aufenthaltsbereich nach xkrit","xxkr",{"$f":"Einheiten!$L$5","v":"m"}]
["Geschwindigkeit im Aufenthaltsbereich","vx1",{"$f":"Einheiten!$L$5","v":"m"},{"$f":"IF('vx_vy LDI'!$E$32<0.12,\"<0,12\",'vx_vy LDI'!$E$32)","v":0.16712715254911567}]
[{"$f":"IF(D38>D39,\"\",\"Zugluftrisiko am Fußboden**\")","v":"Zugluftrisiko am Fußboden**"},"DR1",{"$f":"Einheiten!$L$5","v":"m"}]
[{"$f":"Übersetzung!$F$140","v":"Horizontale Lauflänge im Heizfall"},"Ymax",{"$f":"Einheiten!$L$5","v":"m"},null,{"$f":"Einheiten!$E$124","v":4.1191906779403089}]
[{"$f":"IF(D38>D39,\"\",\"Zugluftrisiko im Aufenthaltsbereich**\")","v":"Zugluftrisiko im Aufenthaltsbereich**"},"DR2","%"]
[{"$f":"IF(D38>D39,\"\",\"Geschwindigkeit nach Ablösen an Xkr.\")","v":"Geschwindigkeit nach Ablösen an Xkr."},"vx3","m/s"]
[{"$f":"IF(D38>D39,\"\",\"Zugluftrisiko nach Ablösepunkt**\")","v":"Zugluftrisiko nach Ablösepunkt**"},"DR3","%"]
["Resultierende Raumkategorie","RAL","[-]",{"$f":"IF(D79=\"Zuluft\",IF(D38>D39,\"\",IF(AND($D$92<9.95,$D$94<9.95,OR($D$96=\"\",$D$96<9.95)),\"A\",IF(AND($D$92<19.95,$D$94<19.95,OR($D$96=\"\",$D$96<19.95)),\"B\",IF(AND($D$92<29.95,$D$94<29.95,OR($D$96=\"\",$D$96<29.95)),\"C\",\"Außerhalb C\")))),\"\")","v":"A"}]
[{"$f":"Übersetzung!F33","v":"Schallleistungspegel, Einzeldurchlass"},"LWA_SUP/ETA","dB(A)",{"$f":"IF('LW,v,LN-IQA'!$F$55<25,\"<25\",'LW,v,LN-IQA'!$F$55)","v":36.970389808164107},{"$f":"IF('LW,v,LN-IQA'!$F$89<25,\"<25\",'LW,v,LN-IQA'!$F$89)","v":38.089647445799159}]
[]
[]
[]
[{"$f":"Übersetzung!F34","v":"Oktavspektrum Schallleistung [dB]"},"LW_Okt","dB"]
[null,"LW_125","dB",{"$f":"IF($D$98=\"<25\",\"\",'LW,v,LN-IQA'!$I$61)","v":31.800588998101386},{"$f":"IF($E$98=\"<25\",\"\",'LW,v,LN-IQA'!$I$95)","v":37.176599359196366},null,null,null,null,{"$f":"Übersetzung!F84","v":"Abmessungen und Einsatzbereich"}]
[null,"LW_250","dB",{"$f":"IF($D$98=\"<25\",\"\",'LW,v,LN-IQA'!$J$61)","v":31.338492468454877},{"$f":"IF($E$98=\"<25\",\"\",'LW,v,LN-IQA'!$J$95)","v":36.058494596682323},null,null,null,1,{"$f":"Übersetzung!F46","v":"Nenndurchmesser"},{"$f":"IF(Einheiten!$F$2=3,FIXED('Grunddaten-IQA'!$E$33,1,TRUE),FIXED('Grunddaten-IQA'!$E$33,0,TRUE))","v":"355"},{"$f":"Einheiten!$L$10","v":"mm"}]
[null,"LW_500","dB",{"$f":"IF($D$98=\"<25\",\"\",'LW,v,LN-IQA'!$K$61)","v":35.268879176456274},{"$f":"IF($E$98=\"<25\",\"\",'LW,v,LN-IQA'!$K$95)","v":34.920562516945395},null,null,null,2,{"$f":"Übersetzung!$F$37","v":"Gesamthöhe"},{"$f":"'Grunddaten-IQA'!$F$33","v":1027},{"$f":"Einheiten!$L$10","v":"mm"}]
[null,"LW_1000","dB",{"$f":"IF($D$98=\"<25\",\"\",'LW,v,LN-IQA'!$L$61)","v":32.946665399684619},{"$f":"IF($E$98=\"<25\",\"\",'LW,v,LN-IQA'!$L$95)","v":33.483643876514265},null,null,null,3,{"$f":"Übersetzung!F42","v":"Durchmesser Anschlussstutzen"},{"$f":"IF(Einheiten!$F$2=3,FIXED('Grunddaten-IQA'!$M$33,1,TRUE),FIXED('Grunddaten-IQA'!$M$33,0,TRUE))","v":"353"},{"$f":"Einheiten!$L$10","v":"mm"}]
[null,"LW_2000","dB",{"$f":"IF($D$98=\"<25\",\"\",'LW,v,LN-IQA'!$M$61)","v":27.863059585953515},{"$f":"IF($E$98=\"<25\",\"\",'LW,v,LN-IQA'!$M$95)","v":30.455264024079852},null,null,null,4,{"$f":"Übersetzung!F39","v":"Minimaler Volumenstrom"},{"$f":"'Grunddaten-IQA'!$K$33","v":420},{"$f":"Einheiten!$L$7","v":"m³/h"}]
[null,"LW_4000","dB",{"$f":"IF($D$98=\"<25\",\"\",'LW,v,LN-IQA'!$N$61)","v":22.447909607654921},{"$f":"IF($E$98=\"<25\",\"\",'LW,v,LN-IQA'!$N$95)","v":25.591557717948888},null,null,null,5,{"$f":"Übersetzung!F40","v":"Maximaler Volumenstrom"},{"$f":"'Grunddaten-IQA'!$L$33","v":2000},{"$f":"Einheiten!$L$7","v":"m³/h"}]
[null,"LW_8000","dB",{"$f":"IF($D$98=\"<25\",\"\",'LW,v,LN-IQA'!$O$61)","v":24.718900104813475},{"$f":"IF($E$98=\"<25\",\"\",'LW,v,LN-IQA'!$O$95)","v":24.726597992346488},null,null,null,6,{"$f":"Übersetzung!F41","v":"Empfohlene maximale Einbauhöhe"},{"$f":"'Grunddaten-IQA'!$S$33","v":1.5},{"$f":"Einheiten!$L$5","v":"m"}]
[]
[{"$f":"Übersetzung!F44","v":"Änderungen vorbehalten"}]
[{"$f":"Übersetzung!F45","v":"Stand:"}]
[{"$f":"'Grunddaten-IQA'!H36","v":"2020-10-30"}]

{"sheet":"Datenblatt IQA","index":53,"n_rows":46,"n_cols":9,"rows_kept":46,"cut":false,"hidden":true,"merged":[[38,5,38,6],[32,2,32,3],[33,2,33,3],[34,5,34,6],[35,5,35,6],[1,1,1,2],[1,7,1,8],[30,5,30,6],[36,5,36,6],[37,5,37,6],[29,5,29,6],[5,2,5,4],[5,6,5,7],[9,0,9,8],[20,4,20,5],[24,0,24,1],[25,2,25,3],[26,5,26,6],[27,5,27,6],[28,5,28,6],[25,5,25,6]]}
[]
[{"$f":"Übersetzung!F86","v":"Typ"},{"$f":"'Auslegung-IQA'!D12","v":"IQA"},null,null,null,null,null,{"$f":"TODAY()","v":"2020-12-07"}]
[{"$f":"Übersetzung!F87","v":"Projekt"},"bitte Projektname / VIS-Nr. eintragen"]
[]
[{"$f":"Übersetzung!F88","v":"Definition:"}]
[{"$f":"Übersetzung!$F$13","v":"Durchlass Typ"},{"$f":"'Auslegung-IQA'!D12","v":"IQA"},{"$f":"Übersetzung!$F$46","v":"Nenndurchmesser"},null,null,{"$f":"'Auslegung-IQA'!D20","v":355}]
["Schlitzanzahl:",{"$f":"'Auslegung-V'!D20","v":400},"Farbe Abdeckprofil:",null,{"$f":"'Auslegung-V'!B85","v":9010}]
["Innenauskleidung:",{"$f":"'Auslegung-V'!G99","v":"B1"},"Drossel fb:",null,{"$f":"'Auslegung-V'!B96","v":"ohne"}]
[]
[{"$f":"Übersetzung!F94","v":"Beschreibung:\nLuftdurchlass für die Belüftung industrieller Bereiche. In Abhängigkeit des ausgewählten Durchlasses erfolgt eine Umschaltung zwischen Kühl- und Heizbetrieb manuell oder elektrisch.\n"}]
[{"$f":"Übersetzung!F81","v":"Einsatzbereich"}]
[{"$f":"Übersetzung!$F$39","v":"Minimaler Volumenstrom"},"V°min",{"$f":"'Auslegung-IQA'!$K$107","v":420},{"$f":"Einheiten!$L$7","v":"m³/h"}]
[{"$f":"Übersetzung!$F$40","v":"Maximaler Volumenstrom"},"V°max",{"$f":"'Auslegung-IQA'!$K$108","v":2000},{"$f":"Einheiten!$L$7","v":"m³/h"}]
[]
[{"$f":"Übersetzung!F90","v":"technische Vorgaben"},null,null,null,null,{"$f":"Übersetzung!$F$20","v":"Raumdaten"}]
[{"$f":"Übersetzung!$F$16","v":"Luftvolumenstrom"},"V·SUP",{"$f":"'Auslegung-IQA'!$D$29","v":1500},{"$f":"Einheiten!$L$7","v":"m³/h"},null,{"$f":"Übersetzung!F25","v":"Raumhöhe"},{"$f":"'Auslegung-IQA'!$D$49","v":12},{"$f":"Einheiten!$L$5","v":"m"}]
[{"$f":"Übersetzung!F141","v":"Maximalgeschwindigkeit in 0,1m Höhe, Kühlfall"},"vmax",{"$f":"'Auslegung-IQA'!$D$46","v":0.2},{"$f":"Einheiten!$L$6","v":"m/s"},null,{"$f":"Übersetzung!F24","v":"Raumbreite"},{"$f":"'Auslegung-IQA'!$D$48","v":100},{"$f":"Einheiten!$L$5","v":"m"}]
[{"$f":"Übersetzung!F95","v":"Zulufttemperatur Kühlfall"},"tZULK",{"$f":"'Auslegung-IQA'!$D$38","v":20},{"$f":"Einheiten!$L$9","v":"°C"},null,{"$f":"Übersetzung!F23","v":"Raumlänge"},{"$f":"'Auslegung-IQA'!$D$47","v":100},{"$f":"Einheiten!$L$5","v":"m"}]
[{"$f":"Übersetzung!F96","v":"Raumtemperatur Kühlfall"},"tRAUMK",{"$f":"'Auslegung-IQA'!$D$39","v":26},{"$f":"Einheiten!$L$9","v":"°C"},null,{"$f":"Übersetzung!F47","v":"Montageart"},{"$f":"'Auslegung-IQA'!$D$41","v":"near the floor"}]
[{"$f":"Übersetzung!F97","v":"Zulufttemperatur Heizfall"},"tZULH",{"$f":"'Auslegung-IQA'!$E$38","v":29},{"$f":"Einheiten!$L$9","v":"°C"},null,{"$f":"IF(OR('Auslegung-IQA'!E42=2,'Auslegung-IQA'!E42=3),Übersetzung!$F$21,\"\")","v":"Montagehöhe"},{"$f":"IF(OR('Auslegung-IQA'!E42=2,'Auslegung-IQA'!E42=3),'Auslegung-IQA'!D45,\"\")","v":1},{"$f":"IF(OR('Auslegung-IQA'!E42=2,'Auslegung-IQA'!E42=3),Einheiten!$L$5,\"\")","v":"m"}]
[{"$f":"Übersetzung!F98","v":"Raumtemperatur Heizfall"},"tRAUMH",{"$f":"'Auslegung-IQA'!$E$39","v":20},{"$f":"Einheiten!$L$9","v":"°C"}]
["Klappenwinkel Kühlfall","aK",{"$f":"'Auslegung-L'!$D$30","v":50},"°",null,null,null,{"$f":"Einheiten!$L$5","v":"m"}]
["Klappenwinkel Heizfall","aH",{"$f":"'Auslegung-L'!E30","v":25},"°",null,null,null,{"$f":"Einheiten!$L$5","v":"m"}]
[]
[{"$f":"'Auslegung-IVA'!A79","v":"Berechnung strömungstechnische und Akustische Daten"},null,{"$f":"Übersetzung!F101","v":"Kühlfall"},{"$f":"Übersetzung!F102","v":"Heizfall"},null,{"$f":"Übersetzung!F84","v":"Abmessungen und Einsatzbereich"}]
[{"$f":"Übersetzung!$F$28","v":"Geschwindigkeit im Stutzen"},"vSt",{"$f":"'Auslegung-IQA'!D84","v":4.2096129892718466},null,{"$f":"Einheiten!$L$6","v":"m/s"},{"$f":"Übersetzung!$F$46","v":"Nenndurchmesser"},null,{"$f":"'Auslegung-IQA'!$K$104","v":"355"},{"$f":"Einheiten!$L$10","v":"mm"}]
[{"$f":"'Auslegung-IQA'!$A$85","v":"Totaldruckverlust"},"DpHEAT/COOL",{"$f":"'Auslegung-IQA'!$D$85","v":"17"},{"$f":"'Auslegung-IQA'!$E$85","v":"11"},{"$f":"Einheiten!$L$8","v":"Pa"},{"$f":"Übersetzung!$F$37","v":"Gesamthöhe"},null,{"$f":"'Auslegung-IQA'!$K$105","v":1027},{"$f":"Einheiten!$L$10","v":"mm"}]
[{"$f":"Übersetzung!$F$29","v":"Austrittsgeschwindigkeit"},"vaus",{"$f":"'Auslegung-IQA'!$D$86","v":0.5291829359743293},{"$f":"'Auslegung-IQA'!$E$86","v":3.9991323398082539},{"$f":"Einheiten!$L$6","v":"m/s"},{"$f":"Übersetzung!$F$42","v":"Durchmesser Anschlussstutzen"},null,{"$f":"'Auslegung-IQA'!$K$106","v":"353"},{"$f":"Einheiten!$L$10","v":"mm"}]
[{"$f":"Übersetzung!$F$139","v":"Nahzone im Kühlbetrieb"},"LN",{"$f":"'Auslegung-IQA'!$D$87","v":4.9305981292387537},null,{"$f":"Einheiten!$L$5","v":"m"},{"$f":"Übersetzung!$F$39","v":"Minimaler Volumenstrom"},null,{"$f":"'Auslegung-IQA'!$K$107","v":420},{"$f":"Einheiten!$L$7","v":"m³/h"}]
[{"$f":"Übersetzung!$F$140","v":"Horizontale Lauflänge im Heizfall"},"Ymax",null,{"$f":"'Auslegung-IQA'!$E$93","v":4.1191906779403089},{"$f":"Einheiten!$L$5","v":"m"},{"$f":"Übersetzung!$F$40","v":"Maximaler Volumenstrom"},null,{"$f":"'Auslegung-IQA'!$K$108","v":2000},{"$f":"Einheiten!$L$7","v":"m³/h"}]
[{"$f":"'Auslegung-IQA'!$A$88","v":"Maximalgeschwindigkeit unterhalb des Durchlasses"},"vy",{"$f":"'Auslegung-IQA'!$D$88","v":0.38934815419360846},{"$f":"D28","v":3.9991323398082539},{"$f":"Einheiten!$L$6","v":"m/s"},{"$f":"Übersetzung!$F$41","v":"Empfohlene maximale Einbauhöhe"},null,{"$f":"'Auslegung-IQA'!$K$109","v":1.5},{"$f":"Einheiten!$L$5","v":"m"}]
[{"$f":"'Auslegung-IQA'!$A$89","v":"Wurfweite an Oberkante Aufenthaltsbereich"},"Xhor",{"$f":"'Auslegung-IQA'!$D$89","v":0.98254458997353844},null,{"$f":"Einheiten!$L$5","v":"m"}]
[{"$f":"'Auslegung-V'!A116","v":""},"DR3",{"$f":"'Auslegung-V'!D116","v":""},null,"%",null,null,{"$f":"'Auslegung-IVA'!K104","v":0},{"$f":"'Auslegung-IVA'!L104","v":0}]
["Raumkategorie**","RAL",{"$f":"'Auslegung-V'!D117","v":""},null,{"$f":"\"-/-\"","v":"-/-"},null,null,{"$f":"'Auslegung-IVA'!K105","v":0},{"$f":"'Auslegung-IVA'!L105","v":0}]
[{"$f":"'Auslegung-L'!$A$91","v":"Schallleistungspegel, Einzeldurchlass"},"LWA_SUP/ETA",{"$f":"'Auslegung-IQA'!$D$98","v":36.970389808164107},{"$f":"'Auslegung-IQA'!$E$98","v":38.089647445799159},"dB(A)",{"$f":"IF('Auslegung-IQA'!$E$42=3,\"\",Übersetzung!$F$41)","v":"Empfohlene maximale Einbauhöhe"},null,{"$f":"IF('Auslegung-IQA'!$E$42=3,\"\",'Auslegung-IQA'!$K$109)","v":1.5},{"$f":"IF('Auslegung-IQA'!$E$42=3,\"\",Einheiten!$L$5)","v":"m"}]
[]
[]
[]
[]
[]
[]
[]
[{"$f":"Übersetzung!$F$34","v":"Oktavspektrum Schallleistung [dB]"},"f [Hz]",125,250,500,1000,2000,4000,8000]
[{"$f":"Übersetzung!F101","v":"Kühlfall"},"LWA_K",{"$f":"'Auslegung-IQA'!D103","v":31.800588998101386},{"$f":"'Auslegung-IQA'!D104","v":31.338492468454877},{"$f":"'Auslegung-IQA'!D105","v":35.268879176456274},{"$f":"'Auslegung-IQA'!D106","v":32.946665399684619},{"$f":"'Auslegung-IQA'!D107","v":27.863059585953515},{"$f":"'Auslegung-IQA'!D108","v":22.447909607654921},{"$f":"'Auslegung-IQA'!D109","v":24.718900104813475}]
[{"$f":"Übersetzung!F102","v":"Heizfall"},"LWA_H",{"$f":"'Auslegung-IQA'!E103","v":37.176599359196366},{"$f":"'Auslegung-IQA'!E104","v":36.058494596682323},{"$f":"'Auslegung-IQA'!E105","v":34.920562516945395},{"$f":"'Auslegung-IQA'!E106","v":33.483643876514265},{"$f":"'Auslegung-IQA'!E107","v":30.455264024079852},{"$f":"'Auslegung-IQA'!E108","v":25.591557717948888},{"$f":"'Auslegung-IQA'!E109","v":24.726597992346488}]
[null,null,null,null,null,null,{"$f":"'Auslegung-IVA'!A105","v":"Änderungen vorbehalten"},{"$f":"'Auslegung-IVA'!A106","v":"Stand:"},{"$f":"'Grunddaten-IQA'!H36","v":"2020-10-30"}]

{"sheet":"Funktion-IVATH","index":54,"n_rows":0,"n_cols":0,"rows_kept":0,"cut":false,"hidden":true,"merged":[]}