{"text_format":"1","workbook":"xlsx","n_sheets":5,"sheets":["Version","Funktion","Auslegung","Datenblatt","Rechnung"],"not_rendered":{"charts":0,"images":10,"macros":1,"external_links":2,"defined_names":1,"comments":0,"pivot_tables":0},"unopened":[],"bounds":{"document_bytes":16777216,"sheet_cells":100000,"rows_first":2000,"rows_last":500,"rows_between":2000,"halvings":0,"cell_chars":16384,"cell_head_chars":4096},"cells_cut":0,"cells_raw":0,"read":"whole","date_system":"1900"}

{"sheet":"Version","index":0,"n_rows":2,"n_cols":2,"rows_kept":2,"cut":false,"hidden":true,"merged":[]}
["Service",{"$f":"MID(CELL(\"dateiname\"),FIND(\"[\",CELL(\"dateiname\"))+1,FIND(\"]\",CELL(\"dateiname\"))-FIND(\"[\",CELL(\"dateiname\"))-1)","v":"651_Auslegungstool_MDA_201030.xlsm"}]
["Version:","1.0"]

{"sheet":"Funktion","index":1,"n_rows":0,"n_cols":0,"rows_kept":0,"cut":false,"hidden":false,"merged":[]}

{"sheet":"Auslegung","index":2,"n_rows":78,"n_cols":4,"rows_kept":78,"cut":false,"hidden":false,"merged":[[1,0,1,3]]}
[]
["Auslegung Kampmann MDA"]
[]
["Eingabefelder sind gelb gekennzeichnet"]
["Ergebnisfelder sind blau gekennzeichnet"]
[]
["Vorgaben"]
["Strömungstechnik und Akustik","Symbol","Einheit","Wert"]
["Baugröße","DN","-",400]
[null,null,null,250]
[null,null,null,315]
[null,null,null,400]
["Luftvolumenstrom","V°SUP","m³/h",180]
["Temperatur Zuluft","tSUP","°C",20]
["Temperatur Raum","tRaum","°C",26]
[]
["Raumdaten"]
["Raumhöhe","H1","m",3]
["Obergrenze Aufenthaltsbereich","H2","m",1.8]
["Raumlänge","LR","m",6]
["Raumbreite","BR","m",9.5]
["Abstand Durchlass zur nächstgelegenen Wand","a","m",1]
["kleinster Abstand zwischen zwei Druchlässen","smin","m",2]
[]
["Akustikdaten"]
["Raumart nach VDI 2081",null,null,"Verkaufsraum"]
[null,null,null,"Einzelbüro"]
[null,null,null,"Großraumbüro"]
[null,null,null,"Werkstätten"]
[null,null,null,"Ruheraum, Pausenraum"]
[null,null,null,"Untersuchungsraum Krankenhaus"]
[null,null,null,"Rundfunk-, Fernsehstudio"]
[null,null,null,"Chemielabor"]
[null,null,null,"Wasch- und WC-Raum, Umkleide"]
[null,null,null,"Schwimmbad"]
[null,null,null,"EDV-Raum"]
[null,null,null,"Konzertsaal"]
[null,null,null,"Lesesaal"]
[null,null,null,"Museum"]
[null,null,null,"Küche"]
[null,null,null,"Theater, Kino"]
[null,null,null,"Klassen- Seminarraum"]
[null,null,null,"Gaststätte"]
[null,null,null,"kein Typ"]
[null,null,null,"Konferenzraum"]
[null,null,null,"Hotelzimmer"]
[null,null,null,"Hörsaal"]
[null,null,null,"Bettenzimmer Krankenhaus"]
[null,null,null,"Verkaufsraum"]
[null,null,null,"Sporthalle"]
["Abstand zur Schallquelle","r","m",2]
[]
["Berechnung strömungstechnischer und akustischer Daten"]
["Druckverlust","Δpt","Pa",{"$f":"Rechnung!$M$10","v":14.120539487124608}]
["kritischer Strahlweg","xkr.","m",{"$f":"Rechnung!$T$11","v":0.94788533645830098}]
["Geschwindigkeit im Fußbodenbereich in Wandnähe","vx1","m/s",{"$f":"IF(Rechnung!U17<0.05,\"< 0,05\",Rechnung!U17)","v":"< 0,05"}]
["Zugluftrisiko am Fußboden**","DR1","%",{"$f":"Rechnung!AR13","v":"< 10"}]
["Geschwindigkeit im Aufenthaltsbereich*","vx2","m/s",{"$f":"IF(Rechnung!U18<0.05,\"< 0,05\",Rechnung!U18)","v":0.11443232532255765}]
["Zugluftrisiko im Aufenthaltsbereich**","DR2","%",{"$f":"Rechnung!AR21","v":"< 10"}]
["Geschwindigkeit nach Ablösen an Xkr.","vx3","m/s",{"$f":"IF(Rechnung!U19<0.05,\"< 0,05\",Rechnung!U19)","v":9.4216535573206722E-2}]
["Zugluftrisiko nach Ablösepunkt**","DR3","%",{"$f":"Rechnung!AR29","v":"< 10"}]
["Resultierende Raumkategorie","RAL","[-]",{"$f":"IF(AND(Rechnung!AQ13<9.95,Rechnung!AQ21<9.95,Rechnung!AQ29<9.95),\"A\",IF(AND(Rechnung!AQ13<19.95,Rechnung!AQ21<19.95,Rechnung!AQ29<19.95),\"B\",IF(AND(Rechnung!AQ13<29.95,Rechnung!AQ21<29.95,Rechnung!AQ29<29.95),\"C\",\"Außerhalb von C\")))","v":"A"}]
["Schallleistungspegel, Zuluftdurchlass","LWA_SUP/ETA","dB(A)",{"$f":"IF(Rechnung!$B$10<25,\"< 25\",Rechnung!$B$10)","v":"< 25"}]
["Schallldruckpegel in 3m Entfernung, Zuluftdurchlass","LPA_SUP/ETA","dB(A)",{"$f":"IF(Rechnung!B10+Rechnung!$B$11<25,\"<25\",Rechnung!B10+Rechnung!$B$11)","v":"<25"}]
["*Gilt für Eintritt der Luftströmung in den Aufenthaltbereich nach dem Stoßpunkt"]
["** Berechnung gemäß DIN EN ISO 7730"]
[]
[]
["Oktavspektrum Schallleistung","LW_Okt","dB"]
[null,"LW, 125","dB",{"$f":"Rechnung!$BF$28","v":23.881553819419253}]
[null,"LW, 250","dB",{"$f":"Rechnung!$BG$28","v":18.444684244346707}]
[null,"LW, 500","dB",{"$f":"Rechnung!$BH$28","v":18.679823957407248}]
[null,"LW, 1000","dB",{"$f":"Rechnung!$BI$28","v":15.86611338203909}]
[null,"LW, 2000","dB",{"$f":"Rechnung!$BJ$28","v":7.6125907943739533}]
[null,"LW, 4000","dB",{"$f":"Rechnung!$BK$28","v":4.1470959240808378}]
[null,"LW, 8000","dB",{"$f":"Rechnung!$BL$28","v":20.908164556560962}]
[]
[null,"Stand:",{"$f":"Rechnung!$G$23","v":"2020-10-30"},"Änderungen vorbehalten"]

{"sheet":"Datenblatt","index":3,"n_rows":102,"n_cols":5,"rows_kept":102,"cut":false,"hidden":false,"merged":[[17,0,17,3],[1,1,1,5],[2,1,2,5],[3,1,3,3],[101,3,101,4]]}
[]
["Projekt:","wet"]
["Beschreibung:","Hier zusätzliche Informationen."]
["Sachbearbeiter","Hier Namen eintragen",null,null,{"$f":"TODAY()","v":"2021-01-04"}]
[]
["Baugröße","DN","-",{"$f":"Auslegung!D9","v":400}]
["Luftvolumenstrom","V°SUP","m³/h",{"$f":"Auslegung!D13","v":180}]
["Temperatur Zuluft","tSUP","°C",{"$f":"Auslegung!D14","v":20}]
["Temperatur Raum","tRaum","°C",{"$f":"Auslegung!D15","v":26}]
[]
["Raumdaten"]
["Raumhöhe","H1","m",3]
["Obergrenze Aufenthaltsbereich","H2","m",1.8]
["Raumlänge","LR","m",6]
["Raumbreite","BR","m",9.5]
["Abstand Durchlass zur nächstgelegenen Wand","a","m",2.2000000000000002]
["kleinster Abstand zwischen zwei Druchlässen","smin","m",1.5]
[]
["Strömungstechnik und Akustik"]
["Druckverlust","Δpt","Pa",42.618112552897202]
["kritischer Strahlweg","xkr.","m",1.317048927852835]
["Geschwindigkeit im Fußbodenbereich in Wandnähe","vx1","m/s","< 0,05"]
["Zugluftrisiko am Fußboden**","DR1","%","< 10"]
["Geschwindigkeit im Aufenthaltsbereich*","vx2","m/s",0.18609355569469824]
["Zugluftrisiko im Aufenthaltsbereich**","DR2","%",14.640788197996971]
["Geschwindigkeit nach Ablösen an Xkr.","vx3","m/s",0.10937768345275936]
["Zugluftrisiko nach Ablösepunkt**","DR3","%","< 10"]
["Resultierende Raumkategorie","RAL","[-]","B"]
["Schallleistungspegel, Zuluftdurchlass","LWA_SUP/ETA","dB(A)",38.649695535471608]
["Schallldruckpegel in 3m Entfernung, Zuluftdurchlass","LPA_SUP/ETA","dB(A)",32.134409471825876]
["*Gilt für Eintritt der Luftströmung in den Aufenthaltbereich nach dem Stoßpunkt"]
["** Berechnung gemäß DIN EN ISO 7730"]
[]
["Oktavspektrum Schallleistung"]
[null,"LW, 125",{"$f":"[1]Auslegung!C89","v":"dB"},{"$f":"Auslegung!D70","v":23.881553819419253}]
[null,"LW, 250",{"$f":"[1]Auslegung!C90","v":"dB"},{"$f":"Auslegung!D71","v":18.444684244346707}]
[null,"LW, 500",{"$f":"[1]Auslegung!C91","v":"dB"},{"$f":"Auslegung!D72","v":18.679823957407248}]
[null,"LW, 1000",{"$f":"[1]Auslegung!C92","v":"dB"},{"$f":"Auslegung!D73","v":15.86611338203909}]
[null,"LW, 2000",{"$f":"[1]Auslegung!C93","v":"dB"},{"$f":"Auslegung!D74","v":7.6125907943739533}]
[null,"LW, 4000",{"$f":"[1]Auslegung!C94","v":"dB"},{"$f":"Auslegung!D75","v":4.1470959240808378}]
[null,"LW, 8000",{"$f":"[1]Auslegung!C95","v":"dB"},{"$f":"Auslegung!D76","v":20.908164556560962}]
[]
[]
[]
[]
[]
[]
[]
[]
[]
[]
[]
[]
[]
[]
[]
[]
[]
[]
[]
[]
[]
[]
[]
[]
[]
[]
[]
[]
[]
[]
[]
[]
[]
[]
[]
[]
[]
[]
[]
[]
[]
[]
[]
[]
[]
[]
[]
[]
[]
[]
[]
[]
[]
[]
[]
[]
[]
[]
[]
[]
[null,"Stand:",{"$f":"Rechnung!$G$23","v":"2020-10-30"},"Änderungen vorbehalten"]

{"sheet":"Rechnung","index":4,"n_rows":56,"n_cols":78,"rows_kept":56,"cut":false,"hidden":true,"merged":[[16,1,16,3],[17,1,17,2],[3,55,5,55],[6,55,8,55],[9,55,11,55]]}
[]
[null,"Akustik","I:\\EMCO\\daten_EK\\EMCOAIR\\MDA\\1. Prototyp\\Zusammenfassung_1.Prototyp_Akustik_190703.xlsx",null,null,null,null,null,null,null,null,null,"Druckverlust","I:\\EMCO\\daten_EK\\EMCOAIR\\MDA\\1. Prototyp\\Druckverlustkennlinien_MDA_200214.xlsx",null,null,null,null,null,"kritischer Strahlweg","I:\\EMCO\\daten_EK\\EMCOAIR\\MDA\\Strömungsuntersuchungen\\Bestimmung_MDA315_200218.xlsx",null,null,null,null,null,null,null,null,"Geschwindigkeit an xkrit","I:\\EMCO\\daten_EK\\EMCOAIR\\MDA\\Strömungsuntersuchungen\\Bestimmung_MDA315_200218.xlsx",null,null,null,null,null,null,null,null,null,"Zugluftrisiko",null,null,null,null,null,null,null,null,null,null,null,null,null,null,"Oktavbänder unbewertet"]
[null,"k1",173.762492247528,null,null,null,null,null,null,null,null,null,"k1",2.6322535941126199,null,null,null,null,null,"k1",2.7294774021644517,null,null,null,null,null,null,null,null,"k1",1.6784393759940659,null,null,null,null,null,null,null,null,null,"K051",0.18]
[null,"k2",74.176279046223499,null,null,null,null,null,null,null,null,null,"k2",1.8439067626203201,null,null,null,null,null,"k2",0.95544805884375372,null,null,null,null,null,null,null,null,"k2",1.3301896155708273,null,null,null,null,null,null,null,null,null,"K052",1,null,null,null,null,null,null,null,null,null,null,null,null,null,"MDA 250","k1",-7.6841739796564745,-12.825037712395757,-16.96700779493359,-18.077750939215257,-19.479196815395646,-18.172257945368358,-17.194697694455719,-17.688985472540523,-17.782584551722906,-18.63961667179754,-21.838766225134258,-25.932697797334793,-31.63247792393701,-36.649108624282491,-37.457183716442337,-35.526781549239473,-34.137963868708674,-30.5121272539991,-22.109585376808585,-10.929909984097144,-1.1716075383135145]
[null,"k3",-145.83107423169304,null,null,null,null,null,null,null,null,null,null,null,null,null,null,null,null,"k3",0.33964818128689195,null,null,null,null,null,null,null,null,"k3",1.9334625221911381,null,null,null,null,null,null,null,null,null,null,null,null,null,null,null,null,null,null,null,null,null,null,null,null,null,"k2",31.455753587879475,43.396055121655635,54.135474545100195,56.250184260996413,57.354063049791364,55.158939988009863,53.547651291994391,54.7801835869573,54.91176511373834,56.917994944685461,64.114081838328161,73.59091751648171,86.743704429341463,98.556939711650287,99.713182768496537,94.406306813852211,90.528932928134324,81.586857573011613,61.241782370385422,34.483565578605536,11.774828953740723]
[null,null,null,null,null,null,null,null,null,null,null,null,null,null,null,null,null,null,null,"k1",null,null,null,null,null,null,null,null,null,null,null,null,null,null,null,null,null,null,null,null,"Turbulenzgrad",40,null,null,null,null,null,null,null,null,null,null,null,null,null,null,"k3",-14.375629267511824,-24.660756648881616,-32.94758566896391,-35.169761252202839,-37.97328399568898,-35.358680755236868,-33.403029319373793,-34.39194629983816,-34.579192849790424,-36.293833972570589,-42.694206445187241,-50.884756709853121,-62.288045782609231,-72.324624586039789,-73.941195526046329,-70.079003405670122,-67.300364531153292,-60.046213535947054,-43.235491422217791,-20.868681211427667,-1.3456406915884147]
[null,null,null,null,null,null,null,null,null,null,null,null,null,null,null,null,null,null,null,null,null,null,null,null,null,null,null,null,null,null,null,null,null,null,null,null,null,null,null,null,"1. Zugluftrisiko im Fußbodenbereich",null,null,null,null,null,null,null,null,null,null,null,null,null,null,"MDA 315","k1",-15.614797227243857,-15.274857519921706,-16.279492941189869,-14.754608879688762,-14.301866009932704,-15.997303700085006,-17.895901869351171,-19.136609213638966,-17.662445924376556,-19.329581546354799,-23.689628334666377,-28.359477455054947,-34.953152928945663,-40.065727275866756,-40.713752455986061,-38.918690045177492,-37.127386850670533,-31.780325338314636,-21.572898742284121,-9.2379717534498642,-0.12529243589618444]
[null,"Übergabe Werte:",null,null,null,null,null,null,null,null,null,null,"Übergabe Werte:",null,null,null,null,null,null,"Übergabe Werte:",null,null,null,null,null,null,null,null,null,"Übergabe Werte:",null,null,null,null,null,null,null,null,null,null,null,"Lauflänge",{"$f":"Rechnung!T17","v":4.5},null,null,null,null,null,null,null,null,null,null,null,null,null,"k2",49.9684528706088,46.287635561505795,49.731050829290062,45.651147680703453,43.566960233815266,47.153696384146407,51.992381465533448,55.657485634855696,52.020052104414965,55.62626129469097,65.050487319649321,75.901720888544318,90.982409089855253,102.09626952431374,102.72925920290972,97.895074242745778,93.213306035754897,80.333013374656772,56.601589047279361,28.342405248864392,8.089067085877538]
["Stutzendurchmesser",{"$f":"IF(Auslegung!D9=250,100,IF(Auslegung!D9=315,125,IF(Auslegung!D9=400,160)))","v":160},null,null,null,null,null,null,null,null,null,"Stutzengeschwindigkeit",{"$f":"(Auslegung!$D$13/3600)/(PI()*(Rechnung!B9/1000/2)^2)","v":2.4867959858108648},null,null,null,null,null,"Untertemperatur",{"$f":"Auslegung!D15-Auslegung!D14","v":6},null,null,null,null,null,null,null,null,"Luftgeschwindigkeit",{"$f":"$AE$3*$T$10*(1/($T$11+$AE$4))^$AE$5","v":0.21352136269242131},null,null,null,null,null,null,null,null,null,null,null,"Luftgeschwindigkeit, errechnet",{"$f":"U17","v":3.4702991348336786E-2},null,null,null,null,null,null,null,null,null,null,null,null,null,"k3",-30.584667055982266,-29.466179027150233,-31.209566835226777,-27.987030484080318,-26.957028272567772,-30.661712371190784,-34.780847147117122,-37.35538391076809,-34.271041817778567,-37.708335948117387,-46.558445375831916,-55.963615130904131,-69.25320541582559,-79.490551522195275,-80.762967301070589,-77.170090555119046,-73.532746952143569,-62.635513668042321,-41.999637041577529,-17.162393267181717,1.0704267667622085]
["Lw",{"$f":"$C$3+$C$4*LOG(Auslegung!D13)+$C$5*LOG(Rechnung!B9)","v":19.621030105092188},null,null,null,null,null,null,null,null,null,"Druckverlust",{"$f":"$N$3*$M$9^$N$4","v":14.120539487124608},null,null,null,null,null,"Geschwindigkeit an Ausblaskante bei H=0,05m",{"$f":"(Auslegung!D13/3600)/(Auslegung!D9/1000*4*0.05)","v":0.62499999999999989},null,null,null,null,null,null,null,null,null,null,null,null,null,null,null,null,null,null,null,null,null,"Luftgeschwindigkeit, gesetzt",{"$f":"IF(AQ9<0.05,0.05,AQ9)","v":0.05},null,null,null,null,null,null,null,null,null,null,null,null,"MDA 400","k1",-17.233881768575216,-18.299542681641519,-18.387187859664635,-20.133026660670033,-20.597800108710256,-18.649952333359863,-19.731074900686021,-19.577973293063081,-19.828901954220942,-21.942918046438116,-24.774112553953806,-28.841657267280038,-36.610543998282893,-42.458010393743329,-41.840268210188817,-40.626444479773212,-39.659959014242446,-33.907833879168123,-21.663589492013067,-7.6386027153593661,0.8362370412701009]
["Pegelminderung",{"$f":"10*LOG(G18/(4*PI()*Auslegung!D51^2)+4/Rechnung!I18)","v":-6.515286063645731},null,null,null,null,null,null,null,null,null,null,null,null,null,null,null,null,"kritischer Strahlweg",{"$f":"$U$3*($T$10)^Rechnung!$U$4*(1/(Rechnung!$T$9^Rechnung!$U$5))","v":0.94788533645830098},null,null,null,null,null,null,null,null,null,null,null,null,null,null,null,null,null,null,null,null,null,"lok. Temperaturdifferenz",{"$f":"(Auslegung!$D$15-Auslegung!$D$14)*Rechnung!$AP$3*(1/Rechnung!AQ8)^Rechnung!$AP$4","v":0.24},null,null,null,null,null,null,null,null,null,null,null,null,null,"k2",49.23366656473587,52.154199104263313,50.244216672071204,53.770181485537023,54.948628459406251,49.831999159760571,52.513748260049937,52.467311785114504,53.072744087710049,57.526518467486461,63.73483623174009,72.902544784882011,89.834137226457329,102.26269673564667,100.03168031082485,96.862244879145152,94.197113782315881,80.821163953429448,53.526963637774131,22.693153906080159,5.0588825693509749]
[null,null,null,null,null,null,null,null,null,null,null,null,null,null,null,null,null,null,null,null,null,null,null,null,null,null,null,null,null,null,null,null,null,null,null,null,null,null,null,null,null,"Absolute Temperatur",{"$f":"Auslegung!D15-Rechnung!AQ11","v":25.76},null,null,null,null,null,null,null,null,null,null,null,null,null,"k3",-33.740019640429558,-35.778530227613331,-35.549582411043133,-39.636214734183511,-40.666348204875376,-36.377489896440217,-38.738957602596734,-38.25742913676779,-38.99608048023952,-43.442957679237523,-48.938365377335295,-57.028019490694284,-72.920761644394403,-84.778729229691535,-83.25786561708459,-80.932316802338903,-79.095587219154638,-67.27288928985142,-42.098303107102481,-13.47647772287967,3.4137262746920949]
[null,null,null,null,null,null,null,null,null,null,null,null,null,null,null,null,null,null,null,null,null,null,null,null,null,null,null,null,null,null,null,null,null,null,null,null,null,null,null,null,null,"Zugluftrisiko",{"$f":"(34-AQ12)*(AQ10-0.05)^0.62*(0.37*AQ10*$AP$6+3.14)","v":0},{"$f":"IF(AQ13<10,\"< 10\",AQ13)","v":"< 10"}]
[]
[null,null,null,null,null,null,null,null,null,null,null,null,null,null,null,null,null,null,null,null,null,null,null,null,null,null,null,null,null,null,null,null,null,null,null,null,null,null,null,null,"2. Zugluftrisiko nach Stoßpunkt",null,null,null,null,null,null,null,null,null,null,null,null,null,null,"Berechnnung Terzband"]
[null,null,null,null,null,"Nachhallzeit","Richtungdfaktor","Raumvolumen","Absoprtionsfläche",null,null,null,null,null,null,null,null,null,null,"Lauflänge","Luftgeschwindigkeit",null,null,null,null,null,null,null,null,null,null,null,null,null,null,null,null,null,null,null,null,"Lauflänge",{"$f":"Rechnung!T18","v":2.2000000000000002}]
[null,"T[s] nach VDI 2081",null,null,null,"TN","Q","V","A ",null,null,null,null,null,null,null,null,null,"Geschwindigkeiten im Fußbodenbereich in Wandnähe",{"$f":"Auslegung!D22+Auslegung!D18+0.5","v":4.5},{"$f":"$AE$3*$T$10*(1/($AE$4+$T$17))^$AE$5","v":3.4702991348336786E-2},null,null,null,null,null,null,null,null,null,null,null,null,null,null,null,null,null,null,null,null,"Luftgeschwindigkeit, errechnet",{"$f":"U18","v":0.11443232532255765},null,null,null,null,null,null,null,null,null,null,null,null,{"$f":"Auslegung!$D$9","v":400},"k1",{"$f":"IF($BD$17=250,BF4,IF($BD$17=315,BF7,IF($BD$17=400,BF10,)))","v":-17.233881768575216},{"$f":"IF($BD$17=250,BG4,IF($BD$17=315,BG7,IF($BD$17=400,BG10,)))","v":-18.299542681641519},-18.387187859664635,-20.133026660670033,-20.597800108710256,-18.649952333359863,-19.731074900686021,-19.577973293063081,-19.828901954220942,-21.942918046438116,-24.774112553953806,-28.841657267280038,-36.610543998282893,-42.458010393743329,-41.840268210188817,-40.626444479773212,-39.659959014242446,-33.907833879168123,-21.663589492013067,-7.6386027153593661,0.8362370412701009]
[null,"Raumart",null,"s",null,{"$f":"VLOOKUP(Auslegung!D26,Rechnung!B19:D42,3)","v":1},4,{"$f":"Auslegung!D18*Auslegung!D20*Auslegung!D21","v":171},{"$f":"0.163*H18/F18","v":27.873000000000001},null,null,null,null,null,null,null,null,null,"Geschwindigkeiten im Aufenthaltsbereich",{"$f":"Auslegung!D23/2+(Auslegung!D18-Auslegung!D19)","v":2.2000000000000002},{"$f":"($AE$3*$T$10*(1/(T18+$AE$4))^$AE$5)*1.25","v":0.11443232532255765},null,null,null,null,null,null,null,null,null,null,null,null,null,null,null,null,null,null,null,null,"Luftgeschwindigkeit, gesetzt",{"$f":"IF(AQ17<0.05,0.05,AQ17)","v":0.11443232532255765},null,null,null,null,null,null,null,null,null,null,null,null,null,"k2",{"$f":"IF($BD$17=250,BF5,IF($BD$17=315,BF8,IF($BD$17=400,BF11,)))","v":49.23366656473587},52.154199104263313,50.244216672071204,53.770181485537023,54.948628459406251,49.831999159760571,52.513748260049937,52.467311785114504,53.072744087710049,57.526518467486461,63.73483623174009,72.902544784882011,89.834137226457329,102.26269673564667,100.03168031082485,96.862244879145152,94.197113782315881,80.821163953429448,53.526963637774131,22.693153906080159,5.0588825693509749]
[null,"Einzelbüro",null,0.5,null,null,null,null,null,null,null,null,null,null,null,null,null,null,"Geschwindigkeiten nach Ablösen an xkrit",{"$f":"T11+Auslegung!D18-Auslegung!D19","v":2.1478853364583008},{"$f":"$AE$3*$T$10*(1/($AE$4+$T$19))^$AE$5","v":9.4216535573206722E-2},null,null,null,null,null,null,null,null,null,null,null,null,null,null,null,null,null,null,null,null,"lok. Temperaturdifferenz",{"$f":"(Auslegung!$D$15-Auslegung!$D$14)*Rechnung!$AP$3*(1/Rechnung!AQ16)^Rechnung!$AP$4","v":0.49090909090909091},null,null,null,null,null,null,null,null,null,null,null,null,null,"k3",-33.740019640429558,-35.778530227613331,-35.549582411043133,-39.636214734183511,-40.666348204875376,-36.377489896440217,-38.738957602596734,-38.25742913676779,-38.99608048023952,-43.442957679237523,-48.938365377335295,-57.028019490694284,-72.920761644394403,-84.778729229691535,-83.25786561708459,-80.932316802338903,-79.095587219154638,-67.27288928985142,-42.098303107102481,-13.47647772287967,3.4137262746920949]
[null,"Großraumbüro",null,0.5,null,null,null,null,null,null,null,null,null,null,null,null,null,null,null,null,null,null,null,null,null,null,null,null,null,null,null,null,null,null,null,null,null,null,null,null,null,"Absolute Temperatur",{"$f":"Auslegung!D15-Rechnung!AQ19","v":25.509090909090908}]
[null,"Werkstätten",null,1.5,null,null,null,null,null,null,null,null,null,null,null,null,null,null,null,null,null,null,null,null,null,null,null,null,null,null,null,null,null,null,null,null,null,null,null,null,null,"Zugluftrisiko",{"$f":"(34-AQ20)*(AQ18-0.05)^0.62*(0.37*AQ18*$AP$6+3.14)","v":7.4966824608591089},{"$f":"IF(AQ21<10,\"< 10\",AQ21)","v":"< 10"}]
[null,"Ruheraum, Pausenraum",null,1]
[null,"Untersuchungsraum Krankenhaus",null,2,null,"Stand:","2020-10-30",null,null,null,null,null,null,null,null,null,null,null,null,null,null,null,null,null,null,null,null,null,null,null,null,null,null,null,null,null,null,null,null,null,"3. Zugluftrisiko nach Ablösen an X_kritisch",null,null,null,null,null,null,null,null,null,null,null,null,null,null,"Stutzdendurchmesser",null,null,{"$f":"B9","v":160}]
[null,"Rundfunk-, Fernsehstudio",null,0.5,null,null,null,null,null,null,null,null,null,null,null,null,null,null,null,null,null,null,null,null,null,null,null,null,null,null,null,null,null,null,null,null,null,null,null,null,null,"Lauflänge",{"$f":"Rechnung!T19","v":2.1478853364583008},null,null,null,null,null,null,null,null,null,null,null,null,"Volumenstrom",null,null,{"$f":"Auslegung!$D$13","v":180}]
[null,"Chemielabor",null,2,null,null,null,null,null,null,null,null,null,null,null,null,null,null,null,null,null,null,null,null,null,null,null,null,null,null,null,null,null,null,null,null,null,null,null,null,null,"Luftgeschwindigkeit, errechnet",{"$f":"U19","v":9.4216535573206722E-2}]
[null,"Wasch- und WC-Raum, Umkleide",null,2,null,null,null,null,null,null,null,null,null,null,null,null,null,null,null,null,null,null,null,null,null,null,null,null,null,null,null,null,null,null,null,null,null,null,null,null,null,"Luftgeschwindigkeit, gesetzt",{"$f":"IF(AQ25<0.05,0.05,AQ25)","v":9.4216535573206722E-2},null,null,null,null,null,null,null,null,null,null,null,null,"Terzbänder",null,{"$f":"BF17+BF18*LOG($BG$24)+BF19*LOG($BG$23)","v":19.434401255623371},{"$f":"BG17+BG18*LOG($BG$24)+BG19*LOG($BG$23)","v":20.462215159145444},16.571667574056931,13.770412305621377,13.692820148915985,13.554432846371313,13.316427130977061,14.426148347195436,13.912558325421017,12.041566241118616,11.099282170050046,9.876850207395961,5.2638078173242775,1.3097466525391894,0.2481047142004229,-0.56022352792865604,-1.5559625705410269,8.8395440686468874E-2,6.2645887676527821,13.836869498284411,19.769658103840136]
[null,"Schwimmbad",null,2,null,null,null,null,null,null,null,null,null,null,null,null,null,null,null,null,null,null,null,null,null,null,null,null,null,null,null,null,null,null,null,null,null,null,null,null,null,"lok. Temperaturdifferenz",{"$f":"(Auslegung!$D$15-Auslegung!$D$14)*Rechnung!$AP$3*(1/Rechnung!AQ24)^Rechnung!$AP$4","v":0.50282013740120679}]
[null,"EDV-Raum",null,1.5,null,null,null,null,null,null,null,null,null,null,null,null,null,null,null,null,null,null,null,null,null,null,null,null,null,null,null,null,null,null,null,null,null,null,null,null,null,"Absolute Temperatur",{"$f":"Auslegung!D15-Rechnung!AQ27","v":25.497179862598792},null,null,null,null,null,null,null,null,null,null,null,null,"Oktavbänder",null,{"$f":"10*LOG(10^(0.1*BF26)+10^(0.1*BG26)+10^(0.1*BH26))","v":23.881553819419253},{"$f":"10*LOG(10^(0.1*BI26)+10^(0.1*BJ26)+10^(0.1*BK26))","v":18.444684244346707},{"$f":"10*LOG(10^(0.1*BL26)+10^(0.1*BM26)+10^(0.1*BN26))","v":18.679823957407248},{"$f":"10*LOG(10^(0.1*BO26)+10^(0.1*BP26)+10^(0.1*BQ26))","v":15.86611338203909},{"$f":"10*LOG(10^(0.1*BR26)+10^(0.1*BS26)+10^(0.1*BT26))","v":7.6125907943739533},{"$f":"10*LOG(10^(0.1*BU26)+10^(0.1*BV26)+10^(0.1*BW26))","v":4.1470959240808378},{"$f":"10*LOG(10^(0.1*BX26)+10^(0.1*BY26)+10^(0.1*BZ26))","v":20.908164556560962}]
[null,"Konzertsaal",null,1.5,null,null,null,null,null,null,null,null,null,null,null,null,null,null,null,null,null,null,null,null,null,null,null,null,null,null,null,null,null,null,null,null,null,null,null,null,null,"Zugluftrisiko",{"$f":"(34-AQ28)*(AQ26-0.05)^0.62*(0.37*AQ26*$AP$6+3.14)","v":5.576295695304637},{"$f":"IF(AQ29<10,\"< 10\",AQ29)","v":"< 10"}]
[null,"Lesesaal",null,1]
[null,"Museum",null,1.5]
[null,"Küche",null,1.5]
[null,"Theater, Kino",null,1]
[null,"Klassen- Seminarraum",null,1]
[null,"Gaststätte",null,1]
[null,"kein Typ",null,"x"]
[null,"Konferenzraum",null,1]
[null,"Hotelzimmer",null,0.5]
[null,"Hörsaal",null,1]
[null,"Bettenzimmer Krankenhaus",null,1]
[null,"Verkaufsraum",null,1]
[null,"Sporthalle",null,2]
[]
[]
[]
[]
[]
[]
[null,"Gültigkeisbereich"]
[null,null,"V°min","V°max"]
[null,250,60,180]
[null,315,100,270]
[null,400,180,460]
[]
[null,"Übergabe"]
[null,null,{"$f":"VLOOKUP(Auslegung!D9,Rechnung!B51:D53,2,FALSE)","v":180},{"$f":"VLOOKUP(Auslegung!D9,Rechnung!B51:D53,3,FALSE)","v":460}]