{"text_format":"1","workbook":"xlsx","n_sheets":35,"sheets":["Datenblatt KSH","xkr._vx KSH","Maße KSH","Funktion KSH","Lw KSH","Dt KSH","Auslegung KSH","LWBVR_KSH","Grunddaten KSH","Vorauswahl","V°BVR_KSH","Hinweise zum Programm","Einheiten","Übersetzung","Bauakustik","Auslegung KSW","Datenblatt KSW","Datenblatt KS","Auslegung KS","Grunddaten KS","Lw ohne BVR KS","Lw KS","Dt KS","xkr._vx KS","Schlüssel KS","Funktion KS","Maße KS","Übergabedaten Bauakustik","Funktion KSW","Maße KSW","Grunddaten KSW","Lw KSW","Dt KSW","xkr._vx KSW","Eingabe KSW"],"not_rendered":{"charts":0,"images":38,"macros":1,"external_links":0,"defined_names":2,"comments":6,"pivot_tables":0},"unopened":[],"bounds":{"document_bytes":16777216,"sheet_cells":100000,"rows_first":2000,"rows_last":500,"rows_between":2000,"halvings":0,"cell_chars":16384,"cell_head_chars":4096},"cells_cut":0,"cells_raw":0,"read":"whole","date_system":"1900"}

{"sheet":"Datenblatt KSH","index":0,"n_rows":43,"n_cols":9,"rows_kept":43,"cut":false,"hidden":true,"merged":[[25,2,25,3],[35,0,35,1],[1,1,1,7],[6,2,6,3],[6,4,6,5],[9,0,9,8],[15,6,15,7],[24,2,24,3],[23,5,23,6]]}
[]
[{"$f":"Übersetzung!F86","v":"Typ"},"Kampmann KSH",null,null,null,null,null,null,{"$f":"TODAY()","v":"2022-01-19"}]
[{"$f":"Übersetzung!F87","v":"Projekt"},"Bitte Projektnummer angeben"]
[{"$f":"Übersetzung!F202","v":"Kommentar"},"Bitte Projektnummer angeben"]
[{"$f":"Übersetzung!F88","v":"Definition:"}]
[{"$f":"Übersetzung!F171","v":"Breite Frontblende"},{"$f":"'Auslegung KSH'!$D$9","v":600},{"$f":"Übersetzung!F151","v":"Walzenfarbe"},null,{"$f":"'Auslegung KSH'!$B$109","v":"schwarz"},null,{"$f":"Übersetzung!F143","v":"BVR in Zuluft"},null,{"$f":"'Auslegung KSH'!$D$24","v":"nein"}]
[{"$f":"Übersetzung!F142","v":"Schlitzanzahl"},{"$f":"'Auslegung KSH'!$D$15","v":3},{"$f":"Übersetzung!F152","v":"Lackierung Frontblende"},null,{"$f":"'Auslegung KSH'!$B$112","v":"weiß (RAL 9010) bepulvert"},null,{"$f":"Übersetzung!F145","v":"BVR in Abluft"},null,{"$f":"'Auslegung KSH'!$D$43","v":"nein"}]
["Brutto-Listenpreis",{"$f":"'Auslegung KS'!$B$103","v":309},{"$f":"IF(AND(I6=\"nein\",I7=\"nein\"),\"\",\"*Preis ohneBVR\")","v":""}]
[]
[{"$f":"Übersetzung!F235","v":"Beschreibung:\nVerstellbarer Luftdurchlass für Wandeinbau. Zuluft- und Abluftfunktion in einer gemeinsamen Frontblende. Ausgestattet mit im Anschlusskasten integrierten werkzeuglos entnehmbaren Schalldämmkulisssen nach VDI6022, zur Minderung der Telefonieschallübertragung. Variable Luftlenkung durch integrierte Luftleitelemente (Exzenterwalze). Optional: Konstantvolumenstromregler für Zu- bzw. Abluft."}]
[]
[{"$f":"Übersetzung!F90","v":"technische Vorgaben"},null,{"$f":"IF(AND(B6=500,'Auslegung KSH'!D18=Übersetzung!F162),Übersetzung!F239,IF(AND(B6=500,'Auslegung KSH'!D18=Übersetzung!F163),Übersetzung!F240,\"\"))","v":""},null,null,{"$f":"Übersetzung!F20","v":"Raumdaten"}]
[{"$f":"IF('Auslegung KSH'!D24=Übersetzung!F176,Übersetzung!F144,CONCATENATE(Übersetzung!F144,Übersetzung!F203,\" \",'Auslegung KSH'!D132,\" \",Einheiten!L8))","v":"Luftvolumenstrom Zuluft"},"V·SUP",{"$f":"IF(AND(B6=500,'Auslegung KSH'!D18=Übersetzung!F163),\"\",IF(I6=\"ja\",'Auslegung KSH'!$D$28,'Auslegung KSH'!$D$27))","v":120},{"$f":"IF(AND(B6=500,'Auslegung KSH'!D18=Übersetzung!F163),\"\",Einheiten!L7)","v":"m³/h"},null,{"$f":"Übersetzung!F25","v":"Raumhöhe"},{"$f":"'Auslegung KSH'!$D$77","v":3},{"$f":"Einheiten!$L$5","v":"m"}]
[{"$f":"IF('Auslegung KSH'!D43=Übersetzung!F176,Übersetzung!F146,CONCATENATE(Übersetzung!F146,Übersetzung!F203,\" \",'Auslegung KSH'!E132,\" \",Einheiten!L8))","v":"Luftvolumenstrom Abluft"},"V·ETA",{"$f":"IF(AND(B6=500,'Auslegung KSH'!D18=Übersetzung!F162),\"\",IF(I7=\"ja\",'Auslegung KSH'!$D$47,'Auslegung KSH'!$D$46))","v":110},{"$f":"IF(AND(B6=500,'Auslegung KSH'!D18=Übersetzung!F162),\"\",Einheiten!L7)","v":"m³/h"},null,{"$f":"Übersetzung!F24","v":"Raumbreite"},{"$f":"'Auslegung KSH'!$D$80","v":3},{"$f":"Einheiten!$L$5","v":"m"}]
[{"$f":"Übersetzung!F18","v":"Temperatur Zuluft"},"tZUL",{"$f":"'Auslegung KSH'!$D$73","v":18},{"$f":"Einheiten!L9","v":"°C"},null,{"$f":"Übersetzung!F23","v":"Raumlänge"},{"$f":"'Auslegung KSH'!$D$79","v":6},{"$f":"Einheiten!$L$5","v":"m"}]
[{"$f":"Übersetzung!F19","v":"Temperatur Raum"},"tRAUM",{"$f":"'Auslegung KSH'!$D$74","v":26},{"$f":"Einheiten!L9","v":"°C"},null,{"$f":"Übersetzung!F148","v":"Raumart nach VDI 2081"},{"$f":"'Auslegung KSH'!$D$81","v":"Einzelbüro"}]
[]
[{"$f":"Übersetzung!F204","v":"Technische Daten"},null,{"$f":"Übersetzung!F162","v":"Zuluft"},{"$f":"Übersetzung!F163","v":"Abluft"}]
[{"$f":"IF(OR(AND(I6=\"nein\",I7=\"ja\"),AND(I6=\"ja\",I7=\"nein\"),AND(I6=\"nein\",I7=\"nein\")),Übersetzung!F27,\"\")","v":"Totaldruckverlust"},"Dp",{"$f":"IF(I6=\"ja\",\"\",'Auslegung KSH'!$D$125)","v":38.676361380086973},{"$f":"IF(I7=\"ja\",\"\",'Auslegung KSH'!$E$125)","v":28.889081149612881},{"$f":"Einheiten!L8","v":"Pa"}]
[{"$f":"Übersetzung!F91","v":"Kritischer Strahlweg"},"xkr.",{"$f":"'Auslegung KSH'!D126","v":2.440261537792531},null,{"$f":"Einheiten!$L$5","v":"m"}]
[{"$f":"Übersetzung!F161","v":"Strahllauflänge bis Aufenthaltsbereich"},"x+y",{"$f":"'Auslegung KSH'!D127","v":4.1373178126402452},null,{"$f":"Einheiten!$L$5","v":"m"}]
[{"$f":"Übersetzung!F57","v":"Geschwindigkeit nach Ablösen an Xkr."},"vx+y",{"$f":"'Auslegung KSH'!$D$128","v":0.25583987084901993},null,{"$f":"Einheiten!L6","v":"m/s"}]
[{"$f":"Übersetzung!F58","v":"Zugluftrisiko nach Ablösepunkt**"},{"$f":"'Auslegung KS'!B111","v":"DR"},{"$f":"'Auslegung KSH'!D129","v":26.931332030755524},null,"%"]
[{"$f":"Übersetzung!F164","v":"Schallleistungspegel"},"LWA_SUP/ETA",{"$f":"IF('Auslegung KSH'!D142=\"\",'Auslegung KSH'!$D$141,'Auslegung KSH'!$D$142)","v":36},{"$f":"IF('Auslegung KSH'!E142=\"\",'Auslegung KSH'!E141,'Auslegung KSH'!E142)","v":33},"dB(A)"]
[{"$f":"Übersetzung!F168","v":"Summen-Schallleistungspegel Zuluft + Abluft"},"LWA_ges",{"$f":"'Auslegung KSH'!D146","v":37.764348624365006},null,"dB(A)"]
[{"$f":"CONCATENATE(Übersetzung!$F$169,\" in \",'Auslegung KS'!$D$88,\" \",Einheiten!$L$5,\" \",Übersetzung!$F$205)","v":"Schalldruckpegel im Raum in 3 m Abstand"},"LPA",{"$f":"'Auslegung KSH'!D147","v":32.650322045339308},null,"dB(A)",{"$f":"Übersetzung!F70","v":"Abmessungen"}]
[null,null,null,null,null,{"$f":"'Auslegung KSH'!I75","v":"Länge Anschlusskasten"},null,{"$f":"'Auslegung KSH'!J75","v":618},{"$f":"'Auslegung KSH'!K73","v":"mm"}]
[null,null,null,null,null,{"$f":"'Auslegung KSH'!I76","v":"Höhe Anschlusskasten"},null,{"$f":"'Auslegung KSH'!J76","v":165},{"$f":"'Auslegung KSH'!K74","v":"mm"}]
[null,null,null,null,null,{"$f":"'Auslegung KSH'!I77","v":"Tiefe Anschlusskasten"},null,{"$f":"'Auslegung KSH'!J77","v":225},{"$f":"'Auslegung KSH'!K75","v":"mm"}]
[null,null,null,null,null,"Stutzendurchmesser",null,{"$f":"'Auslegung KSH'!J81","v":123},{"$f":"'Auslegung KSH'!K76","v":"mm"}]
[{"$f":"Übersetzung!$F$206","v":"* Daten gelten für Walzenstellung D/E"}]
[{"$f":"Übersetzung!$F$92","v":"** Raumkategorie nach DIN EN ISO 7730: DR<10 % = A; DR<20 % = B; DR<30 % = C"}]
[{"$f":"Übersetzung!F133","v":"Oktavspektrum"},"f [Hz]",125,250,500,1000,2000,4000,8000]
[{"$f":"Übersetzung!F162","v":"Zuluft"},"LW_Okt",{"$f":"'Auslegung KSH'!$D150","v":38.997781916582866},{"$f":"'Auslegung KSH'!$D151","v":39.068178279712477},{"$f":"'Auslegung KSH'!$D152","v":34.308974376601284},{"$f":"'Auslegung KSH'!$D153","v":28.862868399032934},{"$f":"'Auslegung KSH'!$D154","v":23.295185321863844},{"$f":"'Auslegung KSH'!$D155","v":20.875374352606446},{"$f":"'Auslegung KSH'!$D156","v":23.343002356224044}]
[{"$f":"Übersetzung!F163","v":"Abluft"},"LW_Okt",{"$f":"'Auslegung KSH'!$E150","v":36.302388251333092},{"$f":"'Auslegung KSH'!$E151","v":36.910879284311541},{"$f":"'Auslegung KSH'!$E152","v":32.226568442377392},{"$f":"'Auslegung KSH'!$E153","v":23.922911419735296},{"$f":"'Auslegung KSH'!$E154","v":19.045612848966151},{"$f":"'Auslegung KSH'!$E155","v":18.859301643275039},{"$f":"'Auslegung KSH'!$E156","v":22.720353329504}]
[]
[{"$f":"Übersetzung!F170","v":"Durchgangsdämpfungsmaß (Kanal -> Raum)"},"f [Hz]",125,250,500,1000,2000,4000,8000]
[{"$f":"Übersetzung!F162","v":"Zuluft"},"Dt",{"$f":"'Auslegung KSH'!D160","v":17.1869726381119},{"$f":"'Auslegung KSH'!D161","v":13.604392766613767},{"$f":"'Auslegung KSH'!D162","v":13.006241078678052},{"$f":"'Auslegung KSH'!D163","v":15.419582349021294},{"$f":"'Auslegung KSH'!D164","v":14.12530416208538},{"$f":"'Auslegung KSH'!D165","v":15.770319904249368},{"$f":"'Auslegung KSH'!D166","v":21.495867502498243}]
[{"$f":"Übersetzung!F163","v":"Abluft"},"Dt",{"$f":"'Auslegung KSH'!E160","v":17.1869726381119},{"$f":"'Auslegung KSH'!E161","v":13.604392766613767},{"$f":"'Auslegung KSH'!E162","v":13.006241078678052},{"$f":"'Auslegung KSH'!E163","v":15.419582349021294},{"$f":"'Auslegung KSH'!E164","v":14.12530416208538},{"$f":"'Auslegung KSH'!E165","v":15.770319904249368},{"$f":"'Auslegung KSH'!E166","v":21.495867502498243}]
[]
[{"$f":"Übersetzung!F44","v":"Änderungen vorbehalten"}]
[{"$f":"Übersetzung!F45","v":"Stand:"}]
[{"$f":"'Grunddaten KSH'!E52","v":"2020-04-21"}]

{"sheet":"xkr._vx KSH","index":1,"n_rows":72,"n_cols":24,"rows_kept":72,"cut":false,"hidden":true,"merged":[[8,14,8,15],[1,19,1,23],[0,15,0,18]]}
["Geschwindigkeit im Strahl",null,null,null,null,null,null,null,null,null,null,null,null,"kritischer Strahlweg",null,"Daten von KS, V°abs geht in Berechnung"]
[null,null,"Auswahl",null,null,null,null,null,null,null,null,null,null,"Baulänge",null,600,800,"1000/500",1200,"Daten von KSW, V°spez pro m geht in Berechnung"]
["Konstanten","K031",{"$f":"U35","v":8.0000000000000002E-3},null,null,null,null,null,null,null,null,null,null,"Konstanten:","K041",7.0494041455335457E-2,1.3005559500889071E-2,1.8509123639392146E-2,{"$f":"$R$3","v":1.8509123639392146E-2},7.3043071442997515E-2,7.3043071442997515E-2,7.3043071442997515E-2,7.3043071442997515E-2,7.3043071442997515E-2]
[null,"K033",{"$f":"U36","v":0.6},null,null,null,null,null,null,null,null,null,null,null,"K042",0.3,0.3,0.3,0.3,0.59107517230985229,0.59107517230985229,0.59107517230985229,0.59107517230985229,0.59107517230985229]
[null,"K034",{"$f":"U37","v":0.57735026918962584},null,null,null,null,null,null,null,null,null,null,null,"K043",0.92208835155436053,1.2139396633671447,1.1225610999462774,{"$f":"$R$5","v":1.1225610999462774},1.0678298315985706,1.0678298315985706,1.0678298315985706,1.0678298315985706,1.0678298315985706]
[null,null,null,null,null,null,null,null,null,null,null,null,null,"mittlere Untertemperatur","Dt0",{"$f":"IF(('Auslegung KSH'!$D$74-'Auslegung KSH'!$D$73)>0,'Auslegung KSH'!D74-'Auslegung KSH'!D73,0.5)","v":8},{"$f":"$P$6","v":8},{"$f":"$P$6","v":8},{"$f":"$P$6","v":8},{"$f":"$P$6","v":8},8,8,8,8]
["Lauflänge","Geschwindigkeit im Strahl ZUL",null,"Baulänge","Schlitzanzahl","Baulänge","kritischer Strahlweg Anzeige","kritischer Strahlweg","vertikaler Strahlweg","Geschwindigkeit im Strahl an x_kr.","Geschwindigkeit im Strahl Anzeige","Lauflänge bis Aufenthaltsbereich, ANZEIGE","Zugluftrisiko","Vorgegebener Volumenstrom",{"$f":"IF('Auslegung KSH'!$D$24=\"nein\",'Auslegung KSH'!$D$27,'Auslegung KSH'!$D$28)","v":120}]
["L","vx",null,null,null,"L","xkr._Anzeige","xkr.","y","v0","vx","x+y","DR"]
["m","m/s",null,null,null,"mm","m","m","m","m/s","m/s","m","%",null,"kritischer Strahlweg bei V° und DTo"]
[0.5,{"$f":"$C$3*'Auslegung KS'!$B$28*(1/A10)^($C$4)*$C$5*SQRT('Auslegung KS'!$D$15)","v":1.0913159278874867},null,500,3,{"$f":"CONCATENATE(D10,E10)","v":"5003"},{"$f":"IF($P10<'Auslegung KSH'!$D$79,$P10,\">Raumlänge\")","v":2.440261537792531},{"$f":"IF($P10<'Auslegung KSH'!$D$79,$P10,'Auslegung KSH'!$D$79)","v":2.440261537792531},{"$f":"IF(G10=\">Raumlänge\",'Auslegung KSH'!$D$77,(('Auslegung KSH'!$D$77-'Auslegung KSH'!$D$78)/SIN(45/180*PI())))","v":1.697056274847714},{"$f":"$C$3*$O$7*(1/H10)^($C$4)","v":0.56209459360506808},{"$f":"1/(I10+0.5)*J10","v":0.25583987084901993},{"$f":"IF(($H10+$I10)<'Auslegung KSH'!$D$79,($H10+$I10),\">Raumlänge\")","v":4.1373178126402452},{"$f":"IF(K10=\"<0,1\",(34-$M$21)*(0.1-0.05)^0.62*(0.37*0.1*$M$22+3.14),(34-$M$21)*(K10-0.05)^0.62*(0.37*K10*$M$22+3.14))","v":26.931332030755524},null,"BL500-3",{"$f":"$R$3*$O$7^'xkr._vx KSH'!$R$5*(1/'xkr._vx KSH'!$R$6^('xkr._vx KSH'!$R$4))+0.3","v":2.440261537792531}]
[0.6,{"$f":"$C$3*'Auslegung KS'!$B$28*(1/A11)^($C$4)*$C$5*SQRT('Auslegung KS'!$D$15)","v":0.97823173152710741},null,600,3,{"$f":"CONCATENATE(D11,E11)","v":"6003"},{"$f":"IF($P11<'Auslegung KSH'!$D$79,$P11,\">Raumlänge\")","v":2.440261537792531},{"$f":"IF($P11<'Auslegung KSH'!$D$79,$P11,'Auslegung KSH'!$D$79)","v":2.440261537792531},{"$f":"IF(G11=\">Raumlänge\",'Auslegung KSH'!$D$77,(('Auslegung KSH'!$D$77-'Auslegung KSH'!$D$78)/SIN(45/180*PI())))","v":1.697056274847714},{"$f":"$C$3*$O$7*(1/H11)^($C$4)","v":0.56209459360506808},{"$f":"1/(I11+0.5)*J11","v":0.25583987084901993},{"$f":"IF(($H11+$I11)<'Auslegung KSH'!$D$79,($H11+$I11),\">Raumlänge\")","v":4.1373178126402452},{"$f":"IF(K11=\"<0,1\",(34-$M$21)*(0.1-0.05)^0.62*(0.37*0.1*$M$22+3.14),(34-$M$21)*(K11-0.05)^0.62*(0.37*K11*$M$22+3.14))","v":26.931332030755524},null,"BL600-3",{"$f":"$R$3*$O$7^'xkr._vx KSH'!$R$5*(1/'xkr._vx KSH'!$R$6^('xkr._vx KSH'!$R$4))+0.3","v":2.440261537792531}]
[0.7,{"$f":"$C$3*'Auslegung KS'!$B$28*(1/A12)^($C$4)*$C$5*SQRT('Auslegung KS'!$D$15)","v":0.89181274050629844},null,800,3,"8003",{"$f":"IF($P12<'Auslegung KSH'!$D$79,$P12,\">Raumlänge\")","v":2.440261537792531},{"$f":"IF($P12<'Auslegung KSH'!$D$79,$P12,'Auslegung KSH'!$D$79)","v":2.440261537792531},{"$f":"IF(G12=\">Raumlänge\",'Auslegung KSH'!$D$77,(('Auslegung KSH'!$D$77-'Auslegung KSH'!$D$78)/SIN(45/180*PI())))","v":1.697056274847714},0.56209459360506808,{"$f":"1/(I12+0.5)*J12","v":0.25583987084901993},{"$f":"IF(($H12+$I12)<'Auslegung KSH'!$D$79,($H12+$I12),\">Raumlänge\")","v":4.1373178126402452},26.931332030755524,null,"BL800-3",{"$f":"$R$3*$O$7^'xkr._vx KSH'!$R$5*(1/'xkr._vx KSH'!$R$6^('xkr._vx KSH'!$R$4))+0.3","v":2.440261537792531}]
[0.8,{"$f":"$C$3*'Auslegung KS'!$B$28*(1/A13)^($C$4)*$C$5*SQRT('Auslegung KS'!$D$15)","v":0.82314909346918752},null,1000,3,"10003",{"$f":"IF($P13<'Auslegung KSH'!$D$79,$P13,\">Raumlänge\")","v":2.440261537792531},{"$f":"IF($P13<'Auslegung KSH'!$D$79,$P13,'Auslegung KSH'!$D$79)","v":2.440261537792531},{"$f":"IF(G13=\">Raumlänge\",'Auslegung KSH'!$D$77,(('Auslegung KSH'!$D$77-'Auslegung KSH'!$D$78)/SIN(45/180*PI())))","v":1.697056274847714},0.56209459360506808,{"$f":"1/(I13+0.5)*J13","v":0.25583987084901993},{"$f":"IF(($H13+$I13)<'Auslegung KSH'!$D$79,($H13+$I13),\">Raumlänge\")","v":4.1373178126402452},26.931332030755524,null,"BL1000-3",{"$f":"$R$3*$O$7^'xkr._vx KSH'!$R$5*(1/'xkr._vx KSH'!$R$6^('xkr._vx KSH'!$R$4))+0.3","v":2.440261537792531}]
[null,null,null,1200,3,"12003",{"$f":"IF($P14<'Auslegung KSH'!$D$79,$P14,\">Raumlänge\")","v":2.1778203323434711},{"$f":"IF($P14<'Auslegung KSH'!$D$79,$P14,'Auslegung KSH'!$D$79)","v":2.1778203323434711},{"$f":"IF(G14=\">Raumlänge\",'Auslegung KSH'!$D$77,(('Auslegung KSH'!$D$77-'Auslegung KSH'!$D$78)/SIN(45/180*PI())))","v":1.697056274847714},0.60180806587308644,{"$f":"1/(I14+0.5)*J14","v":0.2739156355541234},{"$f":"IF(($H14+$I14)<'Auslegung KSH'!$D$79,($H14+$I14),\">Raumlänge\")","v":3.8748766071911849},29.32612197283682,null,"BL1200-3",{"$f":"$S$3*($O$7*0.89)^'xkr._vx KSH'!$S$5*(1/'xkr._vx KSH'!$S$6^('xkr._vx KSH'!$S$4))+0.3","v":2.1778203323434711},"händisch angepasst"]
[null,null,null,500,2,"5002",{"$f":"IF($P15<'Auslegung KSH'!$D$79,$P15,\">Raumlänge\")","v":4.2706163857833443},{"$f":"IF($P15<'Auslegung KSH'!$D$79,$P15,'Auslegung KSH'!$D$79)","v":4.2706163857833443},{"$f":"IF(G15=\">Raumlänge\",'Auslegung KSH'!$D$77,(('Auslegung KSH'!$D$77-'Auslegung KSH'!$D$78)/SIN(45/180*PI())))","v":1.697056274847714},0.40176943639799884,{"$f":"1/(I15+0.5)*J15","v":0.18286715774990647},{"$f":"IF(($H15+$I15)<'Auslegung KSH'!$D$79,($H15+$I15),\">Raumlänge\")","v":5.9676726606310586},{"$f":"IF(OR(K15<0.1,L15=\">Raumlänge\"),\"\",(34-$M$21)*(K15-0.05)^0.62*(0.37*K15*$M$22+3.14))","v":17.74908895775275},null,"BL500-2",{"$f":"$T$3*('Grunddaten KSH'!$G$49*10)^'xkr._vx KSH'!$T$5*(1/'xkr._vx KSH'!$T$6^('xkr._vx KSH'!$T$4))+0.3","v":4.2706163857833443}]
[null,null,null,600,2,"6002",{"$f":"IF($P16<'Auslegung KSH'!$D$79,$P16,\">Raumlänge\")","v":4.2706163857833443},{"$f":"IF($P16<'Auslegung KSH'!$D$79,$P16,'Auslegung KSH'!$D$79)","v":4.2706163857833443},{"$f":"IF(G16=\">Raumlänge\",'Auslegung KSH'!$D$77,(('Auslegung KSH'!$D$77-'Auslegung KSH'!$D$78)/SIN(45/180*PI())))","v":1.697056274847714},0.40176943639799884,0.18286715774990647,{"$f":"IF(($H16+$I16)<'Auslegung KSH'!$D$79,($H16+$I16),\">Raumlänge\")","v":5.9676726606310586},{"$f":"IF(OR(K16<0.1,L16=\">Raumlänge\"),\"\",(34-$M$21)*(K16-0.05)^0.62*(0.37*K16*$M$22+3.14))","v":17.74908895775275},null,"BL600-2",{"$f":"$T$3*('Grunddaten KSH'!$G$49*10)^'xkr._vx KSH'!$T$5*(1/'xkr._vx KSH'!$T$6^('xkr._vx KSH'!$T$4))+0.3","v":4.2706163857833443}]
[null,null,null,800,2,"8002",{"$f":"IF($P17<'Auslegung KSH'!$D$79,$P17,\">Raumlänge\")","v":4.2706163857833443},{"$f":"IF($P17<'Auslegung KSH'!$D$79,$P17,'Auslegung KSH'!$D$79)","v":4.2706163857833443},{"$f":"IF(G17=\">Raumlänge\",'Auslegung KSH'!$D$77,(('Auslegung KSH'!$D$77-'Auslegung KSH'!$D$78)/SIN(45/180*PI())))","v":1.697056274847714},0.40176943639799884,0.18286715774990647,{"$f":"IF(($H17+$I17)<'Auslegung KSH'!$D$79,($H17+$I17),\">Raumlänge\")","v":5.9676726606310586},17.74908895775275,null,"BL800-2",{"$f":"$T$3*('Grunddaten KSH'!$G$49*10)^'xkr._vx KSH'!$T$5*(1/'xkr._vx KSH'!$T$6^('xkr._vx KSH'!$T$4))+0.3","v":4.2706163857833443}]
[null,null,null,1000,2,"10002",{"$f":"IF($P18<'Auslegung KSH'!$D$79,$P18,\">Raumlänge\")","v":4.2706163857833443},{"$f":"IF($P18<'Auslegung KSH'!$D$79,$P18,'Auslegung KSH'!$D$79)","v":4.2706163857833443},{"$f":"IF(G18=\">Raumlänge\",'Auslegung KSH'!$D$77,(('Auslegung KSH'!$D$77-'Auslegung KSH'!$D$78)/SIN(45/180*PI())))","v":1.697056274847714},0.40176943639799884,0.18286715774990647,{"$f":"IF(($H18+$I18)<'Auslegung KSH'!$D$79,($H18+$I18),\">Raumlänge\")","v":5.9676726606310586},17.74908895775275,null,"BL1000-2",{"$f":"$T$3*('Grunddaten KSH'!$G$49*10)^'xkr._vx KSH'!$T$5*(1/'xkr._vx KSH'!$T$6^('xkr._vx KSH'!$T$4))+0.3","v":4.2706163857833443}]
[null,null,null,1200,2,"12002",{"$f":"IF($P19<'Auslegung KSH'!$D$79,$P19,\">Raumlänge\")","v":4.2706163857833443},{"$f":"IF($P19<'Auslegung KSH'!$D$79,$P19,'Auslegung KSH'!$D$79)","v":4.2706163857833443},{"$f":"IF(G19=\">Raumlänge\",'Auslegung KSH'!$D$77,(('Auslegung KSH'!$D$77-'Auslegung KSH'!$D$78)/SIN(45/180*PI())))","v":1.697056274847714},0.40176943639799884,0.18286715774990647,{"$f":"IF(($H19+$I19)<'Auslegung KSH'!$D$79,($H19+$I19),\">Raumlänge\")","v":5.9676726606310586},17.74908895775275,null,"BL1200-2",{"$f":"$T$3*('Grunddaten KSH'!$G$49*10)^'xkr._vx KSH'!$T$5*(1/'xkr._vx KSH'!$T$6^('xkr._vx KSH'!$T$4))+0.3","v":4.2706163857833443}]
[]
[0.9,{"$f":"$C$3*'Auslegung KS'!$B$28*(1/A21)^($C$4)*$C$5*SQRT('Auslegung KS'!$D$15)","v":0.76698521241134621},null,null,null,null,"*rote Werte sind noch zu bearbeiten.",null,null,null,null,null,{"$f":"('Auslegung KSH'!D74+'Auslegung KSH'!D73)/2","v":22},null,null,"*+0,3 m"]
[1,{"$f":"$C$3*'Auslegung KS'!$B$28*(1/A22)^($C$4)*$C$5*SQRT('Auslegung KS'!$D$15)","v":0.72000000000000008},null,null,null,null,null,null,null,null,null,null,30]
[1.1000000000000001,{"$f":"$C$3*'Auslegung KS'!$B$28*(1/A23)^($C$4)*$C$5*SQRT('Auslegung KS'!$D$15)","v":0.67998116831176458},null,null,null,null,null,null,null,null,null,null,"TU = 30 = Mittelwert Messreihen"]
[1.2,{"$f":"$C$3*'Auslegung KS'!$B$28*(1/A24)^($C$4)*$C$5*SQRT('Auslegung KS'!$D$15)","v":0.64539225415954204}]
[1.3,{"$f":"$C$3*'Auslegung KS'!$B$28*(1/A25)^($C$4)*$C$5*SQRT('Auslegung KS'!$D$15)","v":0.61512940070823996}]
[1.4,{"$f":"$C$3*'Auslegung KS'!$B$28*(1/A26)^($C$4)*$C$5*SQRT('Auslegung KS'!$D$15)","v":0.58837698301305752}]
[1.5,{"$f":"$C$3*'Auslegung KS'!$B$28*(1/A27)^($C$4)*$C$5*SQRT('Auslegung KS'!$D$15)","v":0.56451793081184332}]
[1.6,{"$f":"$C$3*'Auslegung KS'!$B$28*(1/A28)^($C$4)*$C$5*SQRT('Auslegung KS'!$D$15)","v":0.54307587028906468}]
[1.7,{"$f":"$C$3*'Auslegung KS'!$B$28*(1/A29)^($C$4)*$C$5*SQRT('Auslegung KS'!$D$15)","v":0.52367657023187564}]
[1.8,{"$f":"$C$3*'Auslegung KS'!$B$28*(1/A30)^($C$4)*$C$5*SQRT('Auslegung KS'!$D$15)","v":0.50602152761129993}]
[1.9,{"$f":"$C$3*'Auslegung KS'!$B$28*(1/A31)^($C$4)*$C$5*SQRT('Auslegung KS'!$D$15)","v":0.48986942710929154}]
[2,{"$f":"$C$3*'Auslegung KS'!$B$28*(1/A32)^($C$4)*$C$5*SQRT('Auslegung KS'!$D$15)","v":0.47502284787824195}]
[2.1,{"$f":"$C$3*'Auslegung KS'!$B$28*(1/A33)^($C$4)*$C$5*SQRT('Auslegung KS'!$D$15)","v":0.46131855137200883}]
[2.2000000000000002,{"$f":"$C$3*'Auslegung KS'!$B$28*(1/A34)^($C$4)*$C$5*SQRT('Auslegung KS'!$D$15)","v":0.44862026538198402},null,null,null,null,null,null,null,"KSHZUL5003","KSHZUL6003","KSHZUL8003","KSHZUL10003","KSHZUL12003","KSHZUL5002","KSHZUL6002","KSHZUL8002","KSHZUL10002","KSHZUL12002"]
[2.2999999999999998,{"$f":"$C$3*'Auslegung KS'!$B$28*(1/A35)^($C$4)*$C$5*SQRT('Auslegung KS'!$D$15)","v":0.43681324127654825},null,null,null,null,"Auswahl:",{"$f":"'Grunddaten KSH'!$C$49","v":"KSHZUL6003"},"K031",6.0000000000000001E-3,8.0000000000000002E-3,6.7999999999999996E-3,6.0000000000000001E-3,5.4176891123622313E-3,6.1519175685683086E-3,6.1519175685683086E-3,6.1519175685683086E-3,6.1519175685683086E-3,6.1519175685683086E-3,2,{"$f":"HLOOKUP($H$35,$J$34:$S$36,T35,FALSE)","v":8.0000000000000002E-3}]
[2.4,{"$f":"$C$3*'Auslegung KS'!$B$28*(1/A36)^($C$4)*$C$5*SQRT('Auslegung KS'!$D$15)","v":0.42580009245753309},null,null,null,null,null,null,"K033",0.6,0.6,0.6,0.6,0.6,0.59221223573337767,0.59221223573337767,0.59221223573337767,0.59221223573337767,0.59221223573337767,3,{"$f":"HLOOKUP($H$35,$J$34:$S$37,T36,FALSE)","v":0.6}]
[2.5,{"$f":"$C$3*'Auslegung KS'!$B$28*(1/A37)^($C$4)*$C$5*SQRT('Auslegung KS'!$D$15)","v":0.41549757290127759},null,null,null,null,null,null,"K034",{"$f":"1/SQRT(3)","v":0.57735026918962584},{"$f":"1/SQRT(3)","v":0.57735026918962584},0.57735026918962584,0.57735026918962584,0.57735026918962584,null,null,null,null,null,4,{"$f":"HLOOKUP($H$35,$J$34:$S$37,T37,FALSE)","v":0.57735026918962584}]
[2.6,{"$f":"$C$3*'Auslegung KS'!$B$28*(1/A38)^($C$4)*$C$5*SQRT('Auslegung KS'!$D$15)","v":0.40583405519175608}]
[2.7,{"$f":"$C$3*'Auslegung KS'!$B$28*(1/A39)^($C$4)*$C$5*SQRT('Auslegung KS'!$D$15)","v":0.39674753571302651}]
[2.8,{"$f":"$C$3*'Auslegung KS'!$B$28*(1/A40)^($C$4)*$C$5*SQRT('Auslegung KS'!$D$15)","v":0.38818404180120913}]
[2.9,{"$f":"$C$3*'Auslegung KS'!$B$28*(1/A41)^($C$4)*$C$5*SQRT('Auslegung KS'!$D$15)","v":0.380096348708307}]
[3,{"$f":"$C$3*'Auslegung KS'!$B$28*(1/A42)^($C$4)*$C$5*SQRT('Auslegung KS'!$D$15)","v":0.3724429377396864}]
[3.1,{"$f":"$C$3*'Auslegung KS'!$B$28*(1/A43)^($C$4)*$C$5*SQRT('Auslegung KS'!$D$15)","v":0.36518714386961038}]
[3.2,{"$f":"$C$3*'Auslegung KS'!$B$28*(1/A44)^($C$4)*$C$5*SQRT('Auslegung KS'!$D$15)","v":0.35829645349814759}]
[3.3,{"$f":"$C$3*'Auslegung KS'!$B$28*(1/A45)^($C$4)*$C$5*SQRT('Auslegung KS'!$D$15)","v":0.35174192213013566}]
[3.4,{"$f":"$C$3*'Auslegung KS'!$B$28*(1/A46)^($C$4)*$C$5*SQRT('Auslegung KS'!$D$15)","v":0.34549768855368851}]
[3.5,{"$f":"$C$3*'Auslegung KS'!$B$28*(1/A47)^($C$4)*$C$5*SQRT('Auslegung KS'!$D$15)","v":0.33954056721236336}]
[3.6,{"$f":"$C$3*'Auslegung KS'!$B$28*(1/A48)^($C$4)*$C$5*SQRT('Auslegung KS'!$D$15)","v":0.33384970435224742}]
[3.7,{"$f":"$C$3*'Auslegung KS'!$B$28*(1/A49)^($C$4)*$C$5*SQRT('Auslegung KS'!$D$15)","v":0.32840628650371095}]
[3.8,{"$f":"$C$3*'Auslegung KS'!$B$28*(1/A50)^($C$4)*$C$5*SQRT('Auslegung KS'!$D$15)","v":0.32319329215824794}]
[3.9,{"$f":"$C$3*'Auslegung KS'!$B$28*(1/A51)^($C$4)*$C$5*SQRT('Auslegung KS'!$D$15)","v":0.31819527929142999}]
[4,{"$f":"$C$3*'Auslegung KS'!$B$28*(1/A52)^($C$4)*$C$5*SQRT('Auslegung KS'!$D$15)","v":0.31339820278660468}]
[4.0999999999999996,{"$f":"$C$3*'Auslegung KS'!$B$28*(1/A53)^($C$4)*$C$5*SQRT('Auslegung KS'!$D$15)","v":0.30878925692164894}]
[4.2,{"$f":"$C$3*'Auslegung KS'!$B$28*(1/A54)^($C$4)*$C$5*SQRT('Auslegung KS'!$D$15)","v":0.30435673896082865}]
[4.3,{"$f":"$C$3*'Auslegung KS'!$B$28*(1/A55)^($C$4)*$C$5*SQRT('Auslegung KS'!$D$15)","v":0.30008993059675088}]
[4.4000000000000004,{"$f":"$C$3*'Auslegung KS'!$B$28*(1/A56)^($C$4)*$C$5*SQRT('Auslegung KS'!$D$15)","v":0.2959789945522816}]
[4.5,{"$f":"$C$3*'Auslegung KS'!$B$28*(1/A57)^($C$4)*$C$5*SQRT('Auslegung KS'!$D$15)","v":0.29201488410873883}]
[4.5999999999999996,{"$f":"$C$3*'Auslegung KS'!$B$28*(1/A58)^($C$4)*$C$5*SQRT('Auslegung KS'!$D$15)","v":0.28818926369737713}]
[4.7,{"$f":"$C$3*'Auslegung KS'!$B$28*(1/A59)^($C$4)*$C$5*SQRT('Auslegung KS'!$D$15)","v":0.28449443899376375}]
[4.8,{"$f":"$C$3*'Auslegung KS'!$B$28*(1/A60)^($C$4)*$C$5*SQRT('Auslegung KS'!$D$15)","v":0.28092329520277237}]
[4.9000000000000004,{"$f":"$C$3*'Auslegung KS'!$B$28*(1/A61)^($C$4)*$C$5*SQRT('Auslegung KS'!$D$15)","v":0.27746924242632304}]
[5,{"$f":"$C$3*'Auslegung KS'!$B$28*(1/A62)^($C$4)*$C$5*SQRT('Auslegung KS'!$D$15)","v":0.27412616717508659}]
[5.0999999999999996,{"$f":"$C$3*'Auslegung KS'!$B$28*(1/A63)^($C$4)*$C$5*SQRT('Auslegung KS'!$D$15)","v":0.27088838922583736}]
[5.2,{"$f":"$C$3*'Auslegung KS'!$B$28*(1/A64)^($C$4)*$C$5*SQRT('Auslegung KS'!$D$15)","v":0.26775062314328285}]
[5.3,{"$f":"$C$3*'Auslegung KS'!$B$28*(1/A65)^($C$4)*$C$5*SQRT('Auslegung KS'!$D$15)","v":0.26470794388324947}]
[5.4,{"$f":"$C$3*'Auslegung KS'!$B$28*(1/A66)^($C$4)*$C$5*SQRT('Auslegung KS'!$D$15)","v":0.26175575597649492}]
[5.5,{"$f":"$C$3*'Auslegung KS'!$B$28*(1/A67)^($C$4)*$C$5*SQRT('Auslegung KS'!$D$15)","v":0.25888976586186307}]
[5.6,{"$f":"$C$3*'Auslegung KS'!$B$28*(1/A68)^($C$4)*$C$5*SQRT('Auslegung KS'!$D$15)","v":0.25610595699624572}]
[5.7,{"$f":"$C$3*'Auslegung KS'!$B$28*(1/A69)^($C$4)*$C$5*SQRT('Auslegung KS'!$D$15)","v":0.25340056741866895}]
[5.8,{"$f":"$C$3*'Auslegung KS'!$B$28*(1/A70)^($C$4)*$C$5*SQRT('Auslegung KS'!$D$15)","v":0.25077006948825187}]
[5.8999999999999897,{"$f":"$C$3*'Auslegung KS'!$B$28*(1/A71)^($C$4)*$C$5*SQRT('Auslegung KS'!$D$15)","v":0.24821115155201154}]
[5.9999999999999902,{"$f":"$C$3*'Auslegung KS'!$B$28*(1/A72)^($C$4)*$C$5*SQRT('Auslegung KS'!$D$15)","v":0.24572070132950657}]

{"sheet":"Maße KSH","index":2,"n_rows":0,"n_cols":0,"rows_kept":0,"cut":false,"hidden":true,"merged":[]}

{"sheet":"Funktion KSH","index":3,"n_rows":0,"n_cols":0,"rows_kept":0,"cut":false,"hidden":true,"merged":[]}

{"sheet":"Lw KSH","index":4,"n_rows":242,"n_cols":24,"rows_kept":242,"cut":false,"hidden":true,"merged":[[1,0,1,1],[1,2,1,22],[21,0,21,1],[21,2,21,22],[28,0,28,1],[28,2,28,22],[119,1,119,2],[40,3,40,9],[108,0,108,1],[109,0,109,1],[110,0,110,1],[111,0,111,1],[113,1,113,3],[114,1,114,2],[115,1,115,2],[116,1,116,2],[117,1,117,2],[118,1,118,2],[131,1,131,2],[120,1,120,2],[121,1,121,2],[122,1,122,2],[123,1,123,2],[124,1,124,2],[125,1,125,2],[126,1,126,2],[127,1,127,2],[128,1,128,2],[129,1,129,2],[130,1,130,2],[138,1,138,2],[142,1,142,21],[170,1,170,21],[203,1,203,7],[132,1,132,2],[133,1,133,2],[134,1,134,2],[135,1,135,2],[136,1,136,2],[137,1,137,2]]}
[]
["Sammlung Konstanten K1-K4",null,"Terzfrequenzband fm [Hz]"]
["Konstante","Verkettung",100,125,160,200,250,315,400,500,630,800,1000,1250,1600,2000,2500,3150,4000,5000,6300,8000,10000]
["K1",{"$f":"CONCATENATE('Grunddaten KS'!$E$5,A4)","v":"550K1"},-36.542437216815316,-40.974733233743834,-44.704093362381407,-43.931553510590753,-48.422708448931324,-45.281883892478064,-42.407367423852193,-55.249461139791713,-64.283600868793883,-60.61237519708709,-66.28714149015488,-58.8644904604526,-60.271547705531901,-46.133326402711639,-24.993622958499358,-25.709164742193689,-17.891082664509963,-7.626048727521245,3.170453744035922,8.8901752823211915,9.4590378177524244]
["K2",{"$f":"CONCATENATE('Grunddaten KS'!$E$5,A5)","v":"550K2"},11.808135401048926,15.99877199787527,17.589484251042247,18.031615222502566,20.704168629882563,19.034283768477913,19.385743113782183,20.867666572667684,24.749989747221839,20.719445529839554,21.746176141762039,14.505136901903347,13.646818197494971,7.329827370730988,0.58783925294485184,2.0733831483857679,1.0152042879942427,-1.5781366207883909,-2.2317404822535711,-1.7277920868526961,1.6899874571426856]
["K3",{"$f":"CONCATENATE('Grunddaten KS'!$E$5,A6)","v":"550K3"},15.574715269668609,17.151503061680174,17.632665767287122,18.026154227982801,18.479273952460758,20.023289222809204,20.130978736917122,22.489419673617533,21.087485989926314,21.026854569357507,22.443597970526199,24.211214370405031,25.607584455135548,23.20078015955599,18.609218607760468,17.824207560782774,14.845921021829234,11.895404915179675,7.2427754150788655,4.1631844377240101,1.3837323309507989]
["K4",{"$f":"CONCATENATE('Grunddaten KS'!$E$5,A7)","v":"550K4"},1,1,1,1,1,1,1,1,1,1,1,1,1,1,1,1,1,1,1,1,1]
["K1",{"$f":"CONCATENATE('Grunddaten KS'!$E$6,A8)","v":"750K1"},-36.93916815255384,-38.904334392319846,-62.014892040320539,-39.310861740480988,-44.129794707273355,-41.562130385095585,-33.260888705566828,-48.000265892248287,-61.570706385550274,-65.160555756663101,-64.239649235359181,-55.008527456438138,-50.269294229136321,-60.052084439840101,-30.870460972829786,-25.422611905982301,-19.626313888886351,-11.313649499442953,-1.6514397710472581,7.5478024119214409,19.930695185893079]
["K2",{"$f":"CONCATENATE('Grunddaten KS'!$E$6,A9)","v":"750K2"},11.136981708028282,16.987495209979748,25.502868467240607,14.399889412994833,16.23901386008724,16.959437047632093,12.289535554260116,15.923223037910955,18.076960015845771,17.631939322763387,16.78667361836056,10.898777502826587,9.7778029227210457,18.698268884173931,9.024887821345434,6.3497993621536768,4.860438433918298,3.878878296934182,3.1181027942306936,1.3688158544899534,-2.5465771799309729]
["K3",{"$f":"CONCATENATE('Grunddaten KS'!$E$6,A10)","v":"750K3"},15.440991872470301,16.456022353179083,17.665084950412901,18.499207953427028,19.53687502400793,19.605169400682961,20.305740578305343,20.812570255177192,22.55911420606547,24.770247893661853,24.3482318128376,24.001019544037739,22.807501647549472,18.396691228185702,12.615060635048899,12.938238263293247,11.554275602218652,8.1890206507272474,4.3781517347620609,1.7038162340004623,0.1173280667856888]
["K4",{"$f":"CONCATENATE('Grunddaten KS'!$E$6,A11)","v":"750K4"},1,1,1,1,1,1,1,1,1,1,1,1,1,1,1,1,1,1,1,1,1]
["K1",{"$f":"CONCATENATE('Grunddaten KS'!$E$7,A12)","v":"950K1"},-38.761088507046885,-73.375343776610038,-86.157040380370887,-107.48445597321306,-116.7958039593158,-104.21711251570014,-114.09424142620483,-120.20214033409442,-109.07439396716548,-112.53342757012553,-93.532207821064688,-20.099646163526025,-11.010391658418941,-10.67861629150627,-5.9269831967611291,-14.353904893819971,-22.134256999482041,-20.936819101434139,0.62174123353300503,8.7064380321954342,5.1511178077056998]
["K2",{"$f":"CONCATENATE('Grunddaten KS'!$E$7,A13)","v":"950K2"},18.708406121347654,32.968854140319706,38.559066991611608,47.821421562734955,51.033467919267459,46.480126006201054,49.425732412228335,49.750914596357859,39.208252560931868,38.886962160416211,28.964575344031552,-6.224824307528765,-13.456464529846896,-14.035412715115354,-12.690340783893115,-6.217206800990386,0.59327071789863506,3.5939966713960563,-9.6465737343941427E-2,0.42770422678413134,4.8632561022645424]
["K3",{"$f":"CONCATENATE('Grunddaten KS'!$E$7,A14)","v":"950K3"},8.0921209974971138,14.865148628519313,18.230162048907662,20.864142172929697,22.366613517340042,22.683092924337497,23.045146436267999,23.433101331153225,27.415880670513367,29.086364721375013,28.767149792465236,25.224825029492056,27.739864632850121,27.08760575803641,22.793388382251738,20.767710521112541,17.625329713039569,13.83827545680249,6.4965476555280421,2.1406998507506931,0.16499137414920245]
["K4",{"$f":"CONCATENATE('Grunddaten KS'!$E$7,A15)","v":"950K4"},1,1,1,1,1,1,1,1,1,1,1,1,1,1,1,1,1,1,1,1,1]
["K1",{"$f":"CONCATENATE('Grunddaten KS'!$E$8,A16)","v":"1150K1"},-52.343435401293071,-86.20553841918381,-101.76081338429647,-111.9663100635327,-125.06702967045753,-124.16970639307789,-147.07269443916923,-145.28096091123317,-148.89222144817523,-137.00907830889415,-142.80423624433456,-123.07381678533568,-105.38528138232961,-79.755518251662352,-51.356320384939515,-34.19465049739879,-38.87602497842915,-35.709758485783937,-3.9722896464028756,7.61564668313504,25.405988352924414]
["K2",{"$f":"CONCATENATE('Grunddaten KS'!$E$8,A17)","v":"1150K2"},23.527389821877648,36.127418994700029,42.947789969746694,46.008737876403437,51.283188177131152,53.036589694458883,62.31326352913986,58.850976894176583,59.457475148209483,51.419853574182838,51.940234408538316,41.027252587464574,31.951531945448735,20.419971863814808,9.0629578913273345,2.2916537072425185,5.3129079043410208,5.8379236847199119,-1.1258401717614528,-1.5104425347816106,-6.3923953522045336]
["K3",{"$f":"CONCATENATE('Grunddaten KS'!$E$8,A18)","v":"1150K3"},10.700593501933065,18.237228014836997,20.779601658699544,23.272782048290608,24.986648807586278,24.866337632412733,24.623698883891819,24.39343289613705,25.953431977906156,26.487773875180071,28.957473255261256,27.824407779175917,27.792172832110552,26.515426133739023,23.59759115924815,22.254430569911168,21.492267462004367,19.056560965736242,9.9489714994261682,4.6207887728730768,1.5285199839827552]
["K4",{"$f":"CONCATENATE('Grunddaten KS'!$E$8,A19)","v":"1150K4"},1,1,1,1,1,1,1,1,1,1,1,1,1,1,1,1,1,1,1,1,1]
[null,null,2,3,4,5,6,7,8,9,10,11,12,13,14,15,16,17,18,19,20,21,22]
[]
["Auswahl Konstanten K1-K4",null,"Terzfrequenzband fm [Hz]"]
["Konstante","Verkettung",100,125,160,200,250,315,400,500,630,800,1000,1250,1600,2000,2500,3150,4000,5000,6300,8000,10000]
["K1",{"$f":"CONCATENATE('Auslegung KS'!$D$9,A24)","v":"750K1"},{"$f":"VLOOKUP($B24,$B$4:$W$19,C$20,FALSE)","v":-36.93916815255384},{"$f":"VLOOKUP($B24,$B$4:$W$19,D$20,FALSE)","v":-38.904334392319846},{"$f":"VLOOKUP($B24,$B$4:$W$19,E$20,FALSE)","v":-62.014892040320539},-39.310861740480988,-44.129794707273355,-41.562130385095585,-33.260888705566828,-48.000265892248287,-61.570706385550274,-65.160555756663101,-64.239649235359181,-55.008527456438138,-50.269294229136321,-60.052084439840101,-30.870460972829786,-25.422611905982301,-19.626313888886351,-11.313649499442953,-1.6514397710472581,7.5478024119214409,19.930695185893079]
["K2",{"$f":"CONCATENATE('Auslegung KS'!$D$9,A25)","v":"750K2"},{"$f":"VLOOKUP($B25,$B$4:$W$19,C$20,FALSE)","v":11.136981708028282},{"$f":"VLOOKUP($B25,$B$4:$W$19,D$20,FALSE)","v":16.987495209979748},25.502868467240607,14.399889412994833,16.23901386008724,16.959437047632093,12.289535554260116,15.923223037910955,18.076960015845771,17.631939322763387,16.78667361836056,10.898777502826587,9.7778029227210457,18.698268884173931,9.024887821345434,6.3497993621536768,4.860438433918298,3.878878296934182,3.1181027942306936,1.3688158544899534,-2.5465771799309729]
["K3",{"$f":"CONCATENATE('Auslegung KS'!$D$9,A26)","v":"750K3"},15.440991872470301,16.456022353179083,17.665084950412901,18.499207953427028,19.53687502400793,19.605169400682961,20.305740578305343,20.812570255177192,22.55911420606547,24.770247893661853,24.3482318128376,24.001019544037739,22.807501647549472,18.396691228185702,12.615060635048899,12.938238263293247,11.554275602218652,8.1890206507272474,4.3781517347620609,1.7038162340004623,0.1173280667856888]
["K4",{"$f":"CONCATENATE('Auslegung KS'!$D$9,A27)","v":"750K4"},1,1,1,1,1,1,1,1,1,1,1,1,1,1,1,1,1,1,1,1,1]
[]
["Berechnung LWA",null,"Terzfrequenzband fm [Hz]",null,null,null,null,null,null,null,null,null,null,null,null,null,null,null,null,null,null,null,null,"SLWA "]
[null,"Dp",100,125,160,200,250,315,400,500,630,800,1000,1250,1600,2000,2500,3150,4000,5000,6300,8000,10000,"[dB(A)]"]
[null,50,{"$f":"C$24+C$25*LOG('Auslegung KS'!$D$21)+'Lw KSH'!C$26*LOG($B31)","v":8.2160117367484276},{"$f":"D$24+D$25*LOG('Auslegung KS'!$D$21)+'Lw KSH'!D$26*LOG($B31)","v":17.915198786971832},{"$f":"E$24+E$25*LOG('Auslegung KS'!$D$21)+'Lw KSH'!E$26*LOG($B31)","v":11.326165964847299},{"$f":"F$24+F$25*LOG('Auslegung KS'!$D$21)+'Lw KSH'!F$26*LOG($B31)","v":16.583717854799865},{"$f":"G$24+G$25*LOG('Auslegung KS'!$D$21)+'Lw KSH'!G$26*LOG($B31)","v":16.652367385262739},{"$f":"H$24+H$25*LOG('Auslegung KS'!$D$21)+'Lw KSH'!H$26*LOG($B31)","v":20.560039190943062},{"$f":"I$24+I$25*LOG('Auslegung KS'!$D$21)+'Lw KSH'!I$26*LOG($B31)","v":22.11750772671164},{"$f":"J$24+J$25*LOG('Auslegung KS'!$D$21)+'Lw KSH'!J$26*LOG($B31)","v":14.412744998196771},{"$f":"K$24+K$25*LOG('Auslegung KS'!$D$21)+'Lw KSH'!K$26*LOG($B31)","v":7.4687648114490415},{"$f":"L$24+L$25*LOG('Auslegung KS'!$D$21)+'Lw KSH'!L$26*LOG($B31)","v":6.8794884422835665},{"$f":"M$24+M$25*LOG('Auslegung KS'!$D$21)+'Lw KSH'!M$26*LOG($B31)","v":5.6473212234452816},{"$f":"N$24+N$25*LOG('Auslegung KS'!$D$21)+'Lw KSH'!N$26*LOG($B31)","v":4.2851808835991179},{"$f":"O$24+O$25*LOG('Auslegung KS'!$D$21)+'Lw KSH'!O$26*LOG($B31)","v":5.0921608179066666},{"$f":"P$24+P$25*LOG('Auslegung KS'!$D$21)+'Lw KSH'!P$26*LOG($B31)","v":2.9711401030999873},{"$f":"Q$24+Q$25*LOG('Auslegung KS'!$D$21)+'Lw KSH'!Q$26*LOG($B31)","v":5.8951623499617156},{"$f":"R$24+R$25*LOG('Auslegung KS'!$D$21)+'Lw KSH'!R$26*LOG($B31)","v":7.3471854621565527},{"$f":"S$24+S$25*LOG('Auslegung KS'!$D$21)+'Lw KSH'!S$26*LOG($B31)","v":8.2617928882637504},{"$f":"T$24+T$25*LOG('Auslegung KS'!$D$21)+'Lw KSH'!T$26*LOG($B31)","v":9.1893488279920224},{"$f":"U$24+U$25*LOG('Auslegung KS'!$D$21)+'Lw KSH'!U$26*LOG($B31)","v":11.084471818579463},{"$f":"V$24+V$25*LOG('Auslegung KS'!$D$21)+'Lw KSH'!V$26*LOG($B31)","v":12.768112164626992},{"$f":"W$24+W$25*LOG('Auslegung KS'!$D$21)+'Lw KSH'!W$26*LOG($B31)","v":15.803473809599366},{"$f":"10*LOG(10^(0.1*C31)+10^(0.1*D31)+10^(0.1*E31)+10^(0.1*F31)+10^(0.1*G31)+10^(0.1*H31)+10^(0.1*I31)+10^(0.1*J31)+10^(0.1*K31)+10^(0.1*L31)+10^(0.1*M31)+10^(0.1*N31)+10^(0.1*O31)+10^(0.1*P31)+10^(0.1*Q31)+10^(0.1*R31)+10^(0.1*S31)+10^(0.1*T31)+10^(0.1*U31)+10^(0.1*V31)+10^(0.1*W31))","v":27.739621185133878}]
[null,75,{"$f":"C$24+C$25*LOG('Auslegung KS'!$D$21)+'Lw KSH'!C$26*LOG($B32)","v":10.935035436640266},{"$f":"D$24+D$25*LOG('Auslegung KS'!$D$21)+'Lw KSH'!D$26*LOG($B32)","v":20.812960482191574},{"$f":"E$24+E$25*LOG('Auslegung KS'!$D$21)+'Lw KSH'!E$26*LOG($B32)","v":14.436833015091075},{"$f":"F$24+F$25*LOG('Auslegung KS'!$D$21)+'Lw KSH'!F$26*LOG($B32)","v":19.841266674851706},{"$f":"G$24+G$25*LOG('Auslegung KS'!$D$21)+'Lw KSH'!G$26*LOG($B32)","v":20.092640306253795},{"$f":"H$24+H$25*LOG('Auslegung KS'!$D$21)+'Lw KSH'!H$26*LOG($B32)","v":24.012338154709244},{"$f":"I$24+I$25*LOG('Auslegung KS'!$D$21)+'Lw KSH'!I$26*LOG($B32)","v":25.693171151203469},{"$f":"J$24+J$25*LOG('Auslegung KS'!$D$21)+'Lw KSH'!J$26*LOG($B32)","v":18.077656698615748},{"$f":"K$24+K$25*LOG('Auslegung KS'!$D$21)+'Lw KSH'!K$26*LOG($B32)","v":11.44122763517602},{"$f":"L$24+L$25*LOG('Auslegung KS'!$D$21)+'Lw KSH'!L$26*LOG($B32)","v":11.241312580999825},{"$f":"M$24+M$25*LOG('Auslegung KS'!$D$21)+'Lw KSH'!M$26*LOG($B32)","v":9.93483201914745},{"$f":"N$24+N$25*LOG('Auslegung KS'!$D$21)+'Lw KSH'!N$26*LOG($B32)","v":8.5115506337287385},{"$f":"O$24+O$25*LOG('Auslegung KS'!$D$21)+'Lw KSH'!O$26*LOG($B32)","v":9.1083624989381775},{"$f":"P$24+P$25*LOG('Auslegung KS'!$D$21)+'Lw KSH'!P$26*LOG($B32)","v":6.2106366239298154},{"$f":"Q$24+Q$25*LOG('Auslegung KS'!$D$21)+'Lw KSH'!Q$26*LOG($B32)","v":8.1165642602512378},{"$f":"R$24+R$25*LOG('Auslegung KS'!$D$21)+'Lw KSH'!R$26*LOG($B32)","v":9.6254961279022524},{"$f":"S$24+S$25*LOG('Auslegung KS'!$D$21)+'Lw KSH'!S$26*LOG($B32)","v":10.296399826534776},{"$f":"T$24+T$25*LOG('Auslegung KS'!$D$21)+'Lw KSH'!T$26*LOG($B32)","v":10.631363784811558},{"$f":"U$24+U$25*LOG('Auslegung KS'!$D$21)+'Lw KSH'!U$26*LOG($B32)","v":11.85542606989053},{"$f":"V$24+V$25*LOG('Auslegung KS'!$D$21)+'Lw KSH'!V$26*LOG($B32)","v":13.068139310471643},{"$f":"W$24+W$25*LOG('Auslegung KS'!$D$21)+'Lw KSH'!W$26*LOG($B32)","v":15.824134256602227},{"$f":"10*LOG(10^(0.1*C32)+10^(0.1*D32)+10^(0.1*E32)+10^(0.1*F32)+10^(0.1*G32)+10^(0.1*H32)+10^(0.1*I32)+10^(0.1*J32)+10^(0.1*K32)+10^(0.1*L32)+10^(0.1*M32)+10^(0.1*N32)+10^(0.1*O32)+10^(0.1*P32)+10^(0.1*Q32)+10^(0.1*R32)+10^(0.1*S32)+10^(0.1*T32)+10^(0.1*U32)+10^(0.1*V32)+10^(0.1*W32))","v":30.844662717237142}]
[null,100,{"$f":"C$24+C$25*LOG('Auslegung KS'!$D$21)+'Lw KSH'!C$26*LOG($B33)","v":12.864213453165732},{"$f":"D$24+D$25*LOG('Auslegung KS'!$D$21)+'Lw KSH'!D$26*LOG($B33)","v":22.868955124595711},{"$f":"E$24+E$25*LOG('Auslegung KS'!$D$21)+'Lw KSH'!E$26*LOG($B33)","v":16.643886410873954},{"$f":"F$24+F$25*LOG('Auslegung KS'!$D$21)+'Lw KSH'!F$26*LOG($B33)","v":22.152534344807091},{"$f":"G$24+G$25*LOG('Auslegung KS'!$D$21)+'Lw KSH'!G$26*LOG($B33)","v":22.533552789027592},{"$f":"H$24+H$25*LOG('Auslegung KS'!$D$21)+'Lw KSH'!H$26*LOG($B33)","v":26.461783250622272},{"$f":"I$24+I$25*LOG('Auslegung KS'!$D$21)+'Lw KSH'!I$26*LOG($B33)","v":28.230144724952826},{"$f":"J$24+J$25*LOG('Auslegung KS'!$D$21)+'Lw KSH'!J$26*LOG($B33)","v":20.677952931869065},{"$f":"K$24+K$25*LOG('Auslegung KS'!$D$21)+'Lw KSH'!K$26*LOG($B33)","v":14.259734863084191},{"$f":"L$24+L$25*LOG('Auslegung KS'!$D$21)+'Lw KSH'!L$26*LOG($B33)","v":14.336076058308336},{"$f":"M$24+M$25*LOG('Auslegung KS'!$D$21)+'Lw KSH'!M$26*LOG($B33)","v":12.976869340489394},{"$f":"N$24+N$25*LOG('Auslegung KS'!$D$21)+'Lw KSH'!N$26*LOG($B33)","v":11.51020769287193},{"$f":"O$24+O$25*LOG('Auslegung KS'!$D$21)+'Lw KSH'!O$26*LOG($B33)","v":11.95790293997473},{"$f":"P$24+P$25*LOG('Auslegung KS'!$D$21)+'Lw KSH'!P$26*LOG($B33)","v":8.5090959837523314},{"$f":"Q$24+Q$25*LOG('Auslegung KS'!$D$21)+'Lw KSH'!Q$26*LOG($B33)","v":9.6926739982313457},{"$f":"R$24+R$25*LOG('Auslegung KS'!$D$21)+'Lw KSH'!R$26*LOG($B33)","v":11.241983270455275},{"$f":"S$24+S$25*LOG('Auslegung KS'!$D$21)+'Lw KSH'!S$26*LOG($B33)","v":11.739976422700076},{"$f":"T$24+T$25*LOG('Auslegung KS'!$D$21)+'Lw KSH'!T$26*LOG($B33)","v":11.654489678972698},{"$f":"U$24+U$25*LOG('Auslegung KS'!$D$21)+'Lw KSH'!U$26*LOG($B33)","v":12.402426816311138},{"$f":"V$24+V$25*LOG('Auslegung KS'!$D$21)+'Lw KSH'!V$26*LOG($B33)","v":13.281011958160372},{"$f":"W$24+W$25*LOG('Auslegung KS'!$D$21)+'Lw KSH'!W$26*LOG($B33)","v":15.838793077035124},33.153946849923827]
[null,125,{"$f":"C$24+C$25*LOG('Auslegung KS'!$D$21)+'Lw KSH'!C$26*LOG($B34)","v":14.360600176384121},{"$f":"D$24+D$25*LOG('Auslegung KS'!$D$21)+'Lw KSH'!D$26*LOG($B34)","v":24.46370846490316},{"$f":"E$24+E$25*LOG('Auslegung KS'!$D$21)+'Lw KSH'!E$26*LOG($B34)","v":18.355810023206885},{"$f":"F$24+F$25*LOG('Auslegung KS'!$D$21)+'Lw KSH'!F$26*LOG($B34)","v":23.945292828212441},{"$f":"G$24+G$25*LOG('Auslegung KS'!$D$21)+'Lw KSH'!G$26*LOG($B34)","v":24.426871601740967},{"$f":"H$24+H$25*LOG('Auslegung KS'!$D$21)+'Lw KSH'!H$26*LOG($B34)","v":28.361720472267603},{"$f":"I$24+I$25*LOG('Auslegung KS'!$D$21)+'Lw KSH'!I$26*LOG($B34)","v":30.197974308534615},{"$f":"J$24+J$25*LOG('Auslegung KS'!$D$21)+'Lw KSH'!J$26*LOG($B34)","v":22.69489938602937},{"$f":"K$24+K$25*LOG('Auslegung KS'!$D$21)+'Lw KSH'!K$26*LOG($B34)","v":16.445938914244223},{"$f":"L$24+L$25*LOG('Auslegung KS'!$D$21)+'Lw KSH'!L$26*LOG($B34)","v":16.736561103895887},{"$f":"M$24+M$25*LOG('Auslegung KS'!$D$21)+'Lw KSH'!M$26*LOG($B34)","v":15.336456802194654},{"$f":"N$24+N$25*LOG('Auslegung KS'!$D$21)+'Lw KSH'!N$26*LOG($B34)","v":13.83614680909124},{"$f":"O$24+O$25*LOG('Auslegung KS'!$D$21)+'Lw KSH'!O$26*LOG($B34)","v":14.168178221320012},{"$f":"P$24+P$25*LOG('Auslegung KS'!$D$21)+'Lw KSH'!P$26*LOG($B34)","v":10.291919569981005},{"$f":"Q$24+Q$25*LOG('Auslegung KS'!$D$21)+'Lw KSH'!Q$26*LOG($B34)","v":10.915199688471354},{"$f":"R$24+R$25*LOG('Auslegung KS'!$D$21)+'Lw KSH'!R$26*LOG($B34)","v":12.495828108852354},{"$f":"S$24+S$25*LOG('Auslegung KS'!$D$21)+'Lw KSH'!S$26*LOG($B34)","v":12.859701421609751},{"$f":"T$24+T$25*LOG('Auslegung KS'!$D$21)+'Lw KSH'!T$26*LOG($B34)","v":12.448087776757916},{"$f":"U$24+U$25*LOG('Auslegung KS'!$D$21)+'Lw KSH'!U$26*LOG($B34)","v":12.826713557878172},{"$f":"V$24+V$25*LOG('Auslegung KS'!$D$21)+'Lw KSH'!V$26*LOG($B34)","v":13.446128811560694},{"$f":"W$24+W$25*LOG('Auslegung KS'!$D$21)+'Lw KSH'!W$26*LOG($B34)","v":15.850163341513536},34.98590481968067]
[null,150,{"$f":"C$24+C$25*LOG('Auslegung KS'!$D$21)+'Lw KSH'!C$26*LOG($B35)","v":15.583237153057571},{"$f":"D$24+D$25*LOG('Auslegung KS'!$D$21)+'Lw KSH'!D$26*LOG($B35)","v":25.766716819815453},{"$f":"E$24+E$25*LOG('Auslegung KS'!$D$21)+'Lw KSH'!E$26*LOG($B35)","v":19.75455346111773},{"$f":"F$24+F$25*LOG('Auslegung KS'!$D$21)+'Lw KSH'!F$26*LOG($B35)","v":25.410083164858928},{"$f":"G$24+G$25*LOG('Auslegung KS'!$D$21)+'Lw KSH'!G$26*LOG($B35)","v":25.973825710018641},{"$f":"H$24+H$25*LOG('Auslegung KS'!$D$21)+'Lw KSH'!H$26*LOG($B35)","v":29.914082214388454},{"$f":"I$24+I$25*LOG('Auslegung KS'!$D$21)+'Lw KSH'!I$26*LOG($B35)","v":31.805808149444655},{"$f":"J$24+J$25*LOG('Auslegung KS'!$D$21)+'Lw KSH'!J$26*LOG($B35)","v":24.342864632288041},{"$f":"K$24+K$25*LOG('Auslegung KS'!$D$21)+'Lw KSH'!K$26*LOG($B35)","v":18.232197686811169},{"$f":"L$24+L$25*LOG('Auslegung KS'!$D$21)+'Lw KSH'!L$26*LOG($B35)","v":18.697900197024587},{"$f":"M$24+M$25*LOG('Auslegung KS'!$D$21)+'Lw KSH'!M$26*LOG($B35)","v":17.264380136191562},{"$f":"N$24+N$25*LOG('Auslegung KS'!$D$21)+'Lw KSH'!N$26*LOG($B35)","v":15.736577443001551},{"$f":"O$24+O$25*LOG('Auslegung KS'!$D$21)+'Lw KSH'!O$26*LOG($B35)","v":15.974104621006241},{"$f":"P$24+P$25*LOG('Auslegung KS'!$D$21)+'Lw KSH'!P$26*LOG($B35)","v":11.748592504582163},{"$f":"Q$24+Q$25*LOG('Auslegung KS'!$D$21)+'Lw KSH'!Q$26*LOG($B35)","v":11.914075908520868},{"$f":"R$24+R$25*LOG('Auslegung KS'!$D$21)+'Lw KSH'!R$26*LOG($B35)","v":13.520293936200975},{"$f":"S$24+S$25*LOG('Auslegung KS'!$D$21)+'Lw KSH'!S$26*LOG($B35)","v":13.774583360971098},{"$f":"T$24+T$25*LOG('Auslegung KS'!$D$21)+'Lw KSH'!T$26*LOG($B35)","v":13.096504635792236},{"$f":"U$24+U$25*LOG('Auslegung KS'!$D$21)+'Lw KSH'!U$26*LOG($B35)","v":13.173381067622202},{"$f":"V$24+V$25*LOG('Auslegung KS'!$D$21)+'Lw KSH'!V$26*LOG($B35)","v":13.581039104005022},{"$f":"W$24+W$25*LOG('Auslegung KS'!$D$21)+'Lw KSH'!W$26*LOG($B35)","v":15.859453524037985},36.502449346226861]
[null,175,{"$f":"C$24+C$25*LOG('Auslegung KS'!$D$21)+'Lw KSH'!C$26*LOG($B36)","v":16.616961987631843},{"$f":"D$24+D$25*LOG('Auslegung KS'!$D$21)+'Lw KSH'!D$26*LOG($B36)","v":26.868394686450397},{"$f":"E$24+E$25*LOG('Auslegung KS'!$D$21)+'Lw KSH'!E$26*LOG($B36)","v":20.937174187099934},{"$f":"F$24+F$25*LOG('Auslegung KS'!$D$21)+'Lw KSH'!F$26*LOG($B36)","v":26.648545748049973},{"$f":"G$24+G$25*LOG('Auslegung KS'!$D$21)+'Lw KSH'!G$26*LOG($B36)","v":27.281756772290482},{"$f":"H$24+H$25*LOG('Auslegung KS'!$D$21)+'Lw KSH'!H$26*LOG($B36)","v":31.226585365928504},{"$f":"I$24+I$25*LOG('Auslegung KS'!$D$21)+'Lw KSH'!I$26*LOG($B36)","v":33.165212292234258},{"$f":"J$24+J$25*LOG('Auslegung KS'!$D$21)+'Lw KSH'!J$26*LOG($B36)","v":25.73619939483374},{"$f":"K$24+K$25*LOG('Auslegung KS'!$D$21)+'Lw KSH'!K$26*LOG($B36)","v":19.742457959817607},{"$f":"L$24+L$25*LOG('Auslegung KS'!$D$21)+'Lw KSH'!L$26*LOG($B36)","v":20.356188771859706},{"$f":"M$24+M$25*LOG('Auslegung KS'!$D$21)+'Lw KSH'!M$26*LOG($B36)","v":18.894416089243002},{"$f":"N$24+N$25*LOG('Auslegung KS'!$D$21)+'Lw KSH'!N$26*LOG($B36)","v":17.343368649336476},{"$f":"O$24+O$25*LOG('Auslegung KS'!$D$21)+'Lw KSH'!O$26*LOG($B36)","v":17.500993635804598},{"$f":"P$24+P$25*LOG('Auslegung KS'!$D$21)+'Lw KSH'!P$26*LOG($B36)","v":12.980191922134857},{"$f":"Q$24+Q$25*LOG('Auslegung KS'!$D$21)+'Lw KSH'!Q$26*LOG($B36)","v":12.758613719032915},{"$f":"R$24+R$25*LOG('Auslegung KS'!$D$21)+'Lw KSH'!R$26*LOG($B36)","v":14.386467451404418},{"$f":"S$24+S$25*LOG('Auslegung KS'!$D$21)+'Lw KSH'!S$26*LOG($B36)","v":14.548105019046956},{"$f":"T$24+T$25*LOG('Auslegung KS'!$D$21)+'Lw KSH'!T$26*LOG($B36)","v":13.644733278577217},{"$f":"U$24+U$25*LOG('Auslegung KS'!$D$21)+'Lw KSH'!U$26*LOG($B36)","v":13.466484270780224},{"$f":"V$24+V$25*LOG('Auslegung KS'!$D$21)+'Lw KSH'!V$26*LOG($B36)","v":13.695104130991876},{"$f":"W$24+W$25*LOG('Auslegung KS'!$D$21)+'Lw KSH'!W$26*LOG($B36)","v":15.867308261442853},37.795758120108566]
[null,200,{"$f":"C$24+C$25*LOG('Auslegung KS'!$D$21)+'Lw KSH'!C$26*LOG($B37)","v":17.51241516958304},{"$f":"D$24+D$25*LOG('Auslegung KS'!$D$21)+'Lw KSH'!D$26*LOG($B37)","v":27.822711462219591},{"$f":"E$24+E$25*LOG('Auslegung KS'!$D$21)+'Lw KSH'!E$26*LOG($B37)","v":21.961606856900609},{"$f":"F$24+F$25*LOG('Auslegung KS'!$D$21)+'Lw KSH'!F$26*LOG($B37)","v":27.721350834814313},{"$f":"G$24+G$25*LOG('Auslegung KS'!$D$21)+'Lw KSH'!G$26*LOG($B37)","v":28.414738192792445},{"$f":"H$24+H$25*LOG('Auslegung KS'!$D$21)+'Lw KSH'!H$26*LOG($B37)","v":32.363527310301478},{"$f":"I$24+I$25*LOG('Auslegung KS'!$D$21)+'Lw KSH'!I$26*LOG($B37)","v":34.342781723194008},{"$f":"J$24+J$25*LOG('Auslegung KS'!$D$21)+'Lw KSH'!J$26*LOG($B37)","v":26.943160865541358},{"$f":"K$24+K$25*LOG('Auslegung KS'!$D$21)+'Lw KSH'!K$26*LOG($B37)","v":21.05070491471934},{"$f":"L$24+L$25*LOG('Auslegung KS'!$D$21)+'Lw KSH'!L$26*LOG($B37)","v":21.792663674333106},{"$f":"M$24+M$25*LOG('Auslegung KS'!$D$21)+'Lw KSH'!M$26*LOG($B37)","v":20.306417457533506},{"$f":"N$24+N$25*LOG('Auslegung KS'!$D$21)+'Lw KSH'!N$26*LOG($B37)","v":18.735234502144742},{"$f":"O$24+O$25*LOG('Auslegung KS'!$D$21)+'Lw KSH'!O$26*LOG($B37)","v":18.823645062042793},{"$f":"P$24+P$25*LOG('Auslegung KS'!$D$21)+'Lw KSH'!P$26*LOG($B37)","v":14.047051864404672},{"$f":"Q$24+Q$25*LOG('Auslegung KS'!$D$21)+'Lw KSH'!Q$26*LOG($B37)","v":13.490185646500976},{"$f":"R$24+R$25*LOG('Auslegung KS'!$D$21)+'Lw KSH'!R$26*LOG($B37)","v":15.136781078753998},{"$f":"S$24+S$25*LOG('Auslegung KS'!$D$21)+'Lw KSH'!S$26*LOG($B37)","v":15.218159957136402},{"$f":"T$24+T$25*LOG('Auslegung KS'!$D$21)+'Lw KSH'!T$26*LOG($B37)","v":14.119630529953376},{"$f":"U$24+U$25*LOG('Auslegung KS'!$D$21)+'Lw KSH'!U$26*LOG($B37)","v":13.720381814042813},{"$f":"V$24+V$25*LOG('Auslegung KS'!$D$21)+'Lw KSH'!V$26*LOG($B37)","v":13.793911751693752},{"$f":"W$24+W$25*LOG('Auslegung KS'!$D$21)+'Lw KSH'!W$26*LOG($B37)","v":15.874112344470884},38.922983526620946]
[null,1,2,3,4,5,6,7,8,9,10,11,12,13,14,15,16,17,18,19,20,21,22,23]
[null,null,null,null,null,null,null,null,null,null,null,null,null,null,null,null,null,null,null,null,null,null,{"$f":"'Auslegung KS'!$D$114","v":" "},{"$f":"IF(W39>0,VLOOKUP($W$39,$B$31:$X$37,$X$38,FALSE),\"\")","v":{"$error":"#N/A"}}]
[null,null,null,null,null,null,null,null,null,null,null,null,null,null,null,null,null,null,null,null,null,null,{"$f":"'Auslegung KS'!$E$114","v":" "},{"$f":"IF(W40>0,VLOOKUP($W$40,$B$31:$X$37,$X$38,FALSE),\"\")","v":{"$error":"#N/A"}}]
["Baugröße","V°nenn","Verkettung","Frequenz f [Hz]"]
[null,"m³/h",null,125,250,500,1000,2000,4000,8000]
[550,15,{"$f":"CONCATENATE(A43,B43)","v":"55015"},{"$f":"D$46","v":10.678474225133099},{"$f":"E$46","v":5.7367603484122576},{"$f":"F$46","v":3.5433054981263736},15.22163891859617,14.598814725469049,12.867239779958055,11.354507954784641]
[550,20,{"$f":"CONCATENATE(A44,B44)","v":"55020"},{"$f":"D$46","v":10.678474225133099},5.7367603484122576,3.5433054981263736,15.22163891859617,14.598814725469049,12.867239779958055,11.354507954784641]
[550,25,{"$f":"CONCATENATE(A45,B45)","v":"55025"},10.678474225133099,5.7367603484122576,3.5433054981263736,15.22163891859617,14.598814725469049,12.867239779958055,11.354507954784641]
[550,30,{"$f":"CONCATENATE(A46,B46)","v":"55030"},10.678474225133099,5.7367603484122576,3.5433054981263736,15.22163891859617,14.598814725469049,12.867239779958055,11.354507954784641]
[550,35,{"$f":"CONCATENATE(A47,B47)","v":"55035"},10.707168333657112,5.5540914429835153,3.3124427847775393,15.04106627527805,15.285127842520922,13.945939930619494,12.502369841025009]
[550,40,"55040",10.76499989939799,5.4310104348415225,3.1470073364479538,14.912820696375082,15.890584495897139,14.914214515038125,13.529953876856808]
[550,45,"55045",10.837020699313078,5.3450499152502342,3.0231732085894292,14.817146520464707,16.428410791562658,15.789917134637784,14.457472591565539]
[550,50,"55050",10.915421695666126,5.2833411721237038,2.9271426891830261,14.742811761871469,16.90973051942732,16.587677443233723,15.301163940143292]
[550,55,"55055",10.995988656339875,5.2381063764925493,2.8504740736511933,14.683071835518593,17.343609687422518,17.319310641578106,16.073988087300073]
[550,60,"55060",11.07640839013138,5.2044301114230747,2.7877606976862226,14.6336864742152,17.737374010218108,17.994354610381329,16.786326467890895]
[550,65,"55065",11.155412371768952,5.1790870648712621,2.7354033039729897,14.591883471791061,18.096948870428474,18.62055079793268,17.446559610152068]
[550,70,"55070",11.23232315733299,5.1598921428440336,2.6909253910380402,14.555788160719505,18.427152270116601,19.204232210693615,18.06151603833311]
[550,75,"55075",11.30680474017422,5.1453237001779693,2.6525736963960895,14.524094911927728,18.731929780237209,19.750625041377099,18.636813735443148]
[550,80,{"$f":"CONCATENATE(A56,B56)","v":"55080"},11.378720744987188,5.1342965038435846,2.6190757612019313,14.49587049504424,19.01453787466891,20.264080303039098,19.177118714938512]
[550,85,{"$f":"CONCATENATE(A57,B57)","v":"55085"},{"$f":"D56","v":11.378720744987188},{"$f":"E56","v":5.1342965038435846},2.6190757612019313,14.49587049504424,19.01453787466891,20.264080303039098,19.177118714938512]
[550,90,"55090",11.514846326552476,5.1199086796462119,2.563095742765833,14.447270613545243,19.523644481292514,21.206231415778465,20.167786948673658]
[750,15,"75015",{"$f":"D$62","v":9.9622450092573978},{"$f":"E$62","v":4.8991429796893913},4.079087544249818,16.005398907305086,17.582417795447789,14.755463171633503,10.752246721008518]
[750,20,"75020",{"$f":"D$62","v":9.9622450092573978},4.8991429796893913,4.079087544249818,16.005398907305086,17.582417795447789,14.755463171633503,10.752246721008518]
[750,25,"75025",9.9622450092573978,4.8991429796893913,4.079087544249818,16.005398907305086,17.582417795447789,14.755463171633503,10.752246721008518]
[750,30,"75030",9.9622450092573978,4.8991429796893913,4.079087544249818,16.005398907305086,17.582417795447789,14.755463171633503,10.752246721008518]
[750,35,"75035",9.6627911208678992,4.6843819674042226,4.0860495403850319,15.841680906339676,17.721188856191262,15.295977381945523,11.653770317429576]
[750,40,"75040",9.4146579798038115,4.5192943264653476,4.112044158163628,15.714811139231106,17.853273932490193,15.785189239666545,12.45174542700784]
[750,45,"75045",9.2026216134089598,4.3883483329329396,4.1488155112794844,15.613142878887993,17.976820005010659,16.231401943064697,13.167221315468728]
[750,50,"75050",9.0171755702562315,4.281945519801444,4.1917311171292333,15.529545018792026,18.091548149531313,16.64129640962463,13.815508486485061]
[750,55,"75055",8.852050503495116,4.1938261222546398,4.2380711916247558,15.45940223936287,18.197827875325299,17.020227263021134,14.408068899370429]
[750,60,"75060",8.7029257849005184,4.1197271866278893,4.2861846940896724,15.399590434373199,18.296275503909005,17.372509013295009,14.953693962867542]
[750,65,"75065",8.5667138106461405,4.0566404783702747,4.3350452816492115,15.347915120826617,18.387574887252157,17.701648421871763,15.459267310374477]
[750,70,"75070",8.4411400502108318,4.002379079605749,4.3840052175447592,15.302786150598809,18.47239768010008,18.010523562009656,15.930275266026451]
[750,75,"75075",8.3244851243520053,3.95531251718173,4.4326530350388458,15.263020409853592,18.551369795989139,18.301519688007712,16.371158354222008]
[750,80,"75080",8.2154201542636596,3.9141985515224258,4.4807282285923664,15.22771737623774,18.625059659580064,18.576632222107428,16.785559455012919]
[750,85,"75085",8.1128981065885277,3.8780727759071256,4.5280685691093101,15.19617794500466,18.693976693845023,18.837545223761015,17.176502870546919]
[750,90,"75090",8.0160799951773392,3.8461740592107794,4.5745767310282908,15.16784990797033,18.758574424772064,19.085691656872442,17.546526063746207]
[950,60,"95060",10.03978802281577,5.0503403349695839,8.919632204099921,9.4114388927030888,7.4419065509294002,11.475528994087924,11.88186559328274]
[950,75,"95075",9.5384593312631374,3.3555723357975538,7.2357528397091047,10.842340431002729,11.668426065131754,14.55347489117184,14.614695223102933]
[950,80,"95080",9.578656775133803,3.0616772453613477,6.9398790641008334,11.294437249814425,13.088249566797467,15.634138064398716,15.600501110776534]
[950,85,"95085",9.6685689297051969,2.8416140546277204,6.7160675808856727,11.716894315405858,14.478455378258852,16.702922240644575,16.58218053255597]
[950,90,"95090",9.7900764282221076,2.6740093348969971,6.5433460153652705,12.108117129558117,15.829482349941207,17.748406950675474,17.547298617266371]
[950,95,"95095",9.9310230672148325,2.5440625094652125,6.407222714386319,12.469187315210608,17.136426519668181,18.76411441485012,18.488540182329096]
[950,100,"950100",10.083323431146841,2.4415121878217314,6.2976765961824634,12.80247015103331,18.397400632972175,19.746812577829211,19.401974817679491]
[950,110,"950110",10.402392073372463,2.2920535953955978,6.1324830760616749,13.396974679999996,20.782489416548216,21.60974907734634,21.13972947699655]
[950,120,"950120",10.722859427669281,2.1898562788832949,6.013074160108868,13.913187976825805,22.995221545414779,23.340099602310932,22.759715895728306]
[950,130,"950130",11.034361303379418,2.1162717645740257,5.9214941843697613,14.368643906653404,25.052082679293839,24.948487526646822,24.269799944496377]
[950,140,"950140",11.33284573800867,2.0610235293472527,5.8479162330357441,14.776430346228745,26.970114856016984,26.447326276436833,25.680306234725954]
[950,150,"950150",{"$f":"AVERAGE(D85,D87)","v":11.610075673153236},{"$f":"AVERAGE(E85,E87)","v":2.0224768593029894},5.7910775915116774,15.130575781477184,28.710328558511165,27.805161488783842,26.961707628353739]
[950,160,"950160",11.887305608297803,1.9839301892587258,5.7342389499876107,15.484721216725621,30.450542261005346,29.162996701130851,28.243109021981525]
[950,170,{"$f":"CONCATENATE(A88,B88)","v":"950170"},{"$f":"D87","v":11.887305608297803},1.9839301892587258,5.7342389499876107,15.484721216725621,30.450542261005346,29.162996701130851,28.243109021981525]
[950,180,{"$f":"CONCATENATE(A89,B89)","v":"950180"},{"$f":"D88+1","v":12.887305608297803},2.983930189258726,6.7342389499876107,16.484721216725621,31.450542261005346,30.162996701130851,29.243109021981525]
[950,190,{"$f":"CONCATENATE(A90,B90)","v":"950190"},{"$f":"D89","v":12.887305608297803},2.983930189258726,6.7342389499876107,16.484721216725621,31.450542261005346,30.162996701130851,29.243109021981525]
[1150,60,"115060",8.1440681293870192,4.9201503514228921,12.218562606424777,15.943538620564897,12.774511670655141,8.9993462736259975,6.7629809127793497]
[1150,75,"115075",7.7863760696140201,3.2924671080862353,9.6205072970207546,14.482508624979777,14.430382878058339,11.900552533467261,10.452900333880935]
[1150,80,"115080",7.854229736851603,3.006243106079725,9.0558239618910079,14.239992694254449,15.064707539170229,12.926328226660294,11.705256959734893]
[1150,85,"115085",7.9716845251956556,2.7959257075436641,8.5847873210769645,14.069070526929746,15.706569232742629,13.949273605113069,12.940413751324206]
[1150,90,"115090",8.1223690923868439,2.6416098672665007,8.1853950658161061,13.950502377048483,16.34436564821409,14.958423350888589,14.149083780375491]
[1150,95,"115095",8.2946304544806964,2.5287580666063576,7.8413610987069262,13.870284914967067,16.970519289986974,15.946736513822202,15.325628671557478]
[1150,100,"1150100",8.4802929961839162,2.4468129131117577,7.5406552034802559,13.818294577566757,17.580359287208246,16.910004213797087,16.467023410204639]
[1150,110,"1150110",8.870869650356159,2.3470559589290771,7.0358123278255507,13.771771401972265,18.741873660893969,18.753758294802186,18.640607794061459]
[1150,120,"1150120",9.2668153163882732,2.3025678050200895,6.6230401721537451,13.773348148959141,19.821479063403284,20.48503719522926,20.671690830690334]
[1150,130,"1150130",9.6555262237050883,2.2916178704583046,6.2745338353598381,13.802839777906092,20.821824972917987,22.108824899031013,22.570174593008765]
[1150,140,"1150140",10.03151657497617,2.3018615439802756,5.9732566860965459,13.849025336269722,21.74932799022266,23.633571478338563,24.348317685652024]
[1150,150,"1150150",{"$f":"AVERAGE(D101,D103)","v":10.385179846051319},{"$f":"AVERAGE(E101,E103)","v":2.3306621404616497},5.7225591650416252,13.908591694648589,22.582212516974572,25.027941295238492,25.969856018387297]
[1150,160,"1150160",10.73884311712647,2.3594627369430241,5.4718616439867045,13.968158053027457,23.41509704372648,26.422311112138424,27.591394351122574]
[1150,170,"1150170",{"$f":"D103","v":10.73884311712647},{"$f":"E103","v":2.3594627369430241},5.4718616439867045,13.968158053027457,23.41509704372648,26.422311112138424,27.591394351122574]
[1150,180,"1150180",{"$f":"D104+1","v":11.73884311712647},{"$f":"E104+1","v":3.3594627369430241},6.4718616439867045,14.968158053027457,24.41509704372648,27.422311112138424,28.591394351122574]
[1150,190,"1150190",{"$f":"D105","v":11.73884311712647},{"$f":"E105","v":3.3594627369430241},6.4718616439867045,14.968158053027457,24.41509704372648,27.422311112138424,28.591394351122574]
[]
[null,null,null,2,3,4,5,6,7,8]
["Auswahl Relativspektrum",null,{"$f":"CONCATENATE('Auslegung KS'!$D$9,'Auslegung KS'!$D$21)","v":"75050"},{"$f":"VLOOKUP($C$109,$C$46:$J$106,D108,FALSE)*-1","v":-9.0171755702562315},{"$f":"VLOOKUP($C$109,$C$46:$J$106,E108,FALSE)*-1","v":-4.281945519801444},-4.1917311171292333,-15.529545018792026,-18.091548149531313,-16.64129640962463,-13.815508486485061]
["Oktavpektrum Zuluft",null,null,{"$f":"$X$39+D109-D112","v":{"$error":"#N/A"}},{"$f":"$X$39+E109-E112","v":{"$error":"#N/A"}},{"$error":"#N/A"},{"$error":"#N/A"},{"$error":"#N/A"},{"$error":"#N/A"},{"$error":"#N/A"},{"$f":"10*LOG(10^(0.1*D110)+10^(0.1*E110)+10^(0.1*F110)+10^(0.1*G110)+10^(0.1*H110)+10^(0.1*I110)+10^(0.1*J110))","v":{"$error":"#N/A"}}]
["Oktavspektrum Abluft",null,null,{"$f":"$X$40+D109-D112","v":{"$error":"#N/A"}},{"$f":"$X$40+E109-E112","v":{"$error":"#N/A"}},{"$error":"#N/A"},{"$error":"#N/A"},{"$error":"#N/A"},{"$error":"#N/A"},{"$error":"#N/A"}]
["A-Bewertung",null,null,-16.100000000000001,-8.6,-3.2,0,1.2,1,-1.1000000000000001]
[]
[null,"T[s] nach VDI 2081",null,null,null,"Nachhallzeit","Richtungsfaktor","Raumvolumen","äqu. Absorptionsfläche"]
[null,"Raumart",null,"s",null,"t","Q","V","A"]
[null,"Einzelbüro",null,0.5,null,"s",null,"m³","m²Sabine"]
[null,"Großraumbüro",null,0.5,{"$f":"'Auslegung KS'!$D$63","v":"Einzelbüro"},{"$f":"VLOOKUP(E117,'Lw KSH'!$B$116:$D$139,3,1)","v":0.5},4,{"$f":"'Auslegung KS'!$D$59*'Auslegung KS'!$D$61*'Auslegung KS'!$D$62","v":45},{"$f":"0.163*H117/F117","v":14.67}]
[null,"Werkstätten",null,1.5]
[null,"Ruheraum, Pausenraum",null,1]
[null,"Untersuchungsraum Krankenhaus",null,2]
[null,"Rundfunk-, Fernsehstudio",null,0.5]
[null,"Chemielabor",null,2]
[null,"Wasch- und WC-Raum, Umkleide",null,2]
[null,"Schwimmbad",null,2]
[null,"EDV-Raum",null,1.5]
[null,"Konzertsaal",null,1.5]
[null,"Lesesaal",null,1]
[null,"Museum",null,1.5]
[null,"Küche",null,1.5]
[null,"Theater, Kino",null,1]
[null,"Klassen- Seminarraum",null,1]
[null,"Gaststätte",null,1]
[null,"kein Typ",null,"x"]
[null,"Konferenzraum",null,1]
[null,"Hotelzimmer",null,0.5]
[null,"Hörsaal",null,1]
[null,"Bettenzimmer Krankenhaus",null,1]
[null,"Verkaufsraum",null,1]
[null,"Sporthalle",null,2]
[]
[]
[]
[null,"Terzfrequenzband fm [Hz]"]
[null,100,125,160,200,250,315,400,500,630,800,1000,1250,1600,2000,2500,3150,4000,5000,6300,8000,10000]
["KSH 2-Schlitz",-170.20193522874192,-481.43123058501311,-339.24256855498169,-88.887876889277081,-173.38008972662166,-168.97507603634131,-229.55726600021856,-115.99167753016866,-150.33474746445305,-201.57811850422692,-341.64248616442057,-399.40582508264606,-503.4656357660815,-463.83037926873419,-407.66767019893211,-439.61370081481442,-398.13805024985379,-324.72198471835674,-225.34399086743647,-68.154850785541583,-9.1743886618671873]
["Zuluft, Nullserie",33.887889782130365,56.912532877140244,60.480254440969134,56.410516093946207,56.179087165961491,58.097114246667154,60.004876601171709,59.802817456168398,60.114002028319675,66.685279604231852,71.488733319221453,78.096837184792292,84.32255622689793,83.496109619730305,81.110972228861115,72.913773066940507,59.562200772038736,44.906905237755709,26.618406585043104,6.757160126436764,1.8062052903886239]
[null,45.162780246531149,126.46355119855998,88.310944729610299,19.539558520538197,42.133537465321275,41.392095920969837,57.612950945163846,25.944997464779686,36.430954144541822,48.176526277934599,85.462075837726417,98.957880947306123,125.72745701397743,115.01879966001965,99.828723400362648,110.18468318100879,101.80517553729268,84.576971619645462,61.19591546110685,22.130642218448568,7.2785185530944236]
[null,23.793061689113998,97.130605040615364,56.849887059593321,-12.946131941340585,20.24671736606486,15.590024861965643,32.373641391564561,-0.88129057879387807,3.467130021858301,15.061582502635709,53.554321614608284,68.46851746588726,95.583520995072789,80.935531896358171,66.487236523459913,82.573979170556555,78.362664959117936,68.102182235363159,52.458726269175266,20.240025358965664,6.0874956584191908]
["KSH 2-Schlitz",-232.2903733575792,-210.82668395646604,-95.517383912422147,-148.55684153721151,-155.68496552225403,-148.48120681343727,-60.888728426261302,-40.682282914711685,-124.69027789241839,-174.71898835403672,-179.38953197801021,-165.9676396255901,-173.74898634987659,-159.80696376652617,-158.01730760378933,-124.37673784906869,-95.314694774947057,-63.765136040061968,-28.699546180903894,-1.2178643642486946,-13.380704744929048]
["Abluft, Düsenwalze",47.314664267478442,48.02230603476702,46.778238552213729,51.746967507586561,51.933226701799043,56.678287004637681,60.146543609275213,62.091871550157883,65.805622648280931,70.901419765119726,76.773335486088655,80.748812614342427,83.486620442798412,82.636157555707484,77.888177508002016,65.105427531581128,46.24196189256395,30.60145639557085,15.410750826467062,6.3686672572261189,1.2408096902686236]
[null,62.546156538851015,54.379902360672382,21.414019855558205,36.236907721447487,38.737367238766161,36.053459575592996,8.7511195497064627,0.34074884068735567,23.315458251848408,36.617152015253154,35.394778721127871,29.519941534701317,30.736153147564384,26.350040051286626,27.126958250446798,20.986360399799263,18.193719285964935,13.962960723892113,8.6378327374973658,3.7730301688675967,9.3404142339412743]
[null,20.345114955434749,19.627490761628096,0.67507833003775808,7.5119425400891764,12.96198146933674,6.6026641969011068,-17.955174704877859,-16.478030394085668,4.3666983621118085,11.144248884751208,10.207084159429648,4.6939511405233807,4.7347043177626933,2.3284304399450129,5.6535648879976002,3.3682547126247764,5.4071925998252857,4.7940391634715249,3.7742480908959353,-0.27628088221323721,5.8968145419853819]
["KSH 2-Schlitz",-278.20023036965597,-374.18006029945872,-383.21771475743896,-83.289604517071268,-198.92717180895889,-303.81969601595404,-373.85960538189386,-326.50925261939369,-340.94052346269154,-369.20963066844627,-478.21849243301978,-406.03323672243448,-363.35290400179656,-428.41103433624045,-435.49643646399613,-345.18599434971696,-305.99614722668917,-190.75718278278472,-90.890921601329282,-18.45533374991129,25.12193021944093]
["Abluft, Exzenterwalze",43.618019422383774,38.788555620734485,37.818795636537743,45.93836624323324,53.837596923761417,57.303992114478504,60.43397389069834,61.782923294021082,66.093316792430045,73.806543882497408,82.590082442010726,88.599673473930807,91.323344014549207,87.624539587246005,80.798756150611055,70.181342371949825,60.627713447832825,43.440728548620989,22.267093179112802,6.7176970474654487,1.6592945663474816]
[null,76.204576279086766,105.39573989710439,109.07081784890954,19.37939636680553,51.157725612400029,81.726291150350136,101.6494556798461,86.293782559033616,88.213383196568458,94.771897199036658,123.90925605898333,100.33587337281448,86.865463962391217,106.09668213498759,110.00106673208785,86.384257481137212,77.582589386922692,48.532810641476821,25.193930579040064,8.3606387247105527,-2.672251030027013]
[null,33.295399938648025,59.680133250475542,73.00764386968477,-3.17911461525207,26.919172166456399,48.539045644895793,61.858695243815063,53.983117381802856,56.598940295188839,53.721242192570514,76.111616816188828,57.752558507975124,45.358488776097076,64.154858058758279,69.345749477210205,52.529976947322922,47.212719649238139,28.102354894548057,15.214747922711966,5.7278162197657991,-2.4135370597902082]
["KSH 3-Schlitz",-120.12085906664393,-671.14802549165347,-358.96395867318449,-351.11071362830842,-357.80390802915014,-226.16078026031795,-85.60963350439404,-163.86025139353464,-170.72688164462741,-262.93523689527876,-231.48540009006425,-210.76845680356715,-342.6768265537894,-194.03684863717532,-306.68333717021619,-315.73674556353103,-296.86149704071545,-215.2474277695535,-119.88756591284408,7.4392394166566422,33.64636527784149]
["Zuluft, Nullserie",49.299131626128805,55.781468023745106,59.366407576111747,55.950447386464248,56.14128941794236,57.635643094397061,60.255799254813425,61.569635438799729,65.132423412760062,69.091927536861064,75.86105018868993,82.72339029725326,87.579697135828994,88.525184467210437,82.680117988352464,70.973340073067845,57.775168972623391,42.515332795135635,23.744528135879161,4.9667190614594192,1.2618825606770219]
[null,25.267528744451379,170.4556403616086,90.130024133679129,88.630016022974544,90.301866109211346,55.359529448056264,18.083967006423606,37.377246118620732,38.678224344723823,61.500681622040162,51.489654218718989,44.2566316036486,76.601541679329713,37.660480913837681,67.943209179863388,72.980990573426055,70.362684253031489,52.037311643391533,30.833915057689996,1.2831759921744916,-4.5016362100456648]
[null,8.910132484330715,130.24111922447238,50.464188338424499,52.039882981862227,59.729755629071875,27.275086756538212,-9.7606045701530242,12.02167150407783,9.3959627608869098,31.975040525314345,19.6203815969346,9.7103791712922742,42.836068066848561,2.0208058284804022,34.666015352023251,41.198867179560764,44.926780321153501,33.527661703634166,21.245895100522823,0.37811561782372927,-4.2354960448584302]
["KSH 3-Schlitz",-82.916557620023454,-118.98858524696399,-180.1290286769011,-197.03595870320891,-148.27335215196726,-189.13895190229306,-136.59672833600325,-135.77615124475341,-143.69080773215885,-183.99559047723019,-176.45300954692615,-174.29378479630506,-166.68415079099242,-169.4872061071253,-141.80476244314463,-107.61271733487033,-62.446247192734972,-20.089956181725491,13.539788719402003,13.860199407693345,14.891420053123428]
["Abluft, Düsenwalze",43.156182794783973,48.251996858605438,49.235252176584076,53.439425502835945,53.746660732467966,59.450330977551864,61.326304971854412,64.195398399047804,67.097057735922448,71.48706333336618,77.073039697771321,80.882722802051319,81.083858852249847,75.038302845482718,66.831683889332353,51.412684999923876,33.773697677023378,18.147213835715711,6.2658732719792543,0.94177295026941721,0.24743442893857764]
[null,18.04088936762744,26.012663752674403,44.64834794899609,49.943625990439337,35.48655459797007,46.924952204908216,30.22321955208448,27.445458868472773,28.019718348930141,38.190090528385447,33.179187508231536,30.689728806934578,27.827693859559915,30.251232010462115,24.636804947797341,19.368710999537257,11.748192865984278,4.3458803804961628,-1.2321537991857971,0.64423080528924936,0.88873788760384043]
[null,-2.8038994131747557,0.79553446185587584,13.085521587217954,8.2256463999297438,4.639508720684133,6.4438763310969627,-0.52426249567259553,4.6335324033051934,5.7397758264899865,9.0322747789809199,7.9678724267006391,6.63849805068475,6.0416774156929511,8.0314152380554198,6.8941839128271143,6.3002794735371292,3.5572309684760661,1.7739560528072735,-0.87817759977125165,0.38084275373257265,0.49527016833169663]
["KSH 3-Schlitz",86.260291295402425,76.248894939335514,-310.14264284627916,-515.48444641805088,-354.02552351658159,-341.92146581172608,43.54031752549713,31.806803754891558,-171.32949800389144,-81.447838497548787,-173.28509510655536,-320.16605118410632,-275.02693410108702,-346.9993886193609,-248.08547617210581,-217.35437630276445,-188.30384884670769,-172.28179569723548,-81.359193205846651,-7.174431273333008,-5.6550188637026073]
["Abluft, Exzenterwalze",42.657923099738461,44.116697130669564,40.204564223433387,48.149960145728556,56.359199500386126,57.348034442687705,60.18552681827245,61.973843831885411,68.017301035723563,78.906046172090868,87.145594445596174,90.452470992134309,89.57590289881901,83.494258216922049,74.952425401364124,63.398760817304499,51.636542738877694,35.490852351023456,15.99578647474231,3.376754106640854,0.84578831568340818]
[null,-27.300599613222108,-25.293655238804664,82.16583488173967,137.75092493247567,90.898182869865934,87.649196823931348,-18.24292378328234,-16.724844902022049,36.167279491864811,9.1264496276170206,31.530868254493871,69.690281905112343,57.290726030090994,77.803547194302425,52.945030678053257,47.403713947318991,42.502781831224482,42.078932896362041,22.354326813428742,5.5641338401195677,6.0821599494922731]
[null,-43.585012015064208,-44.685018220288988,48.489198355754965,87.732063195636044,55.913950268348039,53.282631445347114,-34.996732717608019,-28.989587011757113,15.442527416798429,-12.714788614750676,5.047035825835489,39.132125062773476,28.59622859725572,48.022191143721223,29.228617640810434,27.113381797405815,24.947898582477748,28.696455214187324,16.342058686948526,4.256237476154153,5.1187336251176285]
[null,2,3,4,5,6,7,8,9,10,11,12,13,14,15,16,17,18,19,20,21,22]
[]
[null,"Terzfrequenzband fm [Hz]"]
[null,100,125,160,200,250,315,400,500,630,800,1000,1250,1600,2000,2500,3150,4000,5000,6300,8000,10000]
["KSHZUL5002",{"$f":"B$145+B$146*LOG('Grunddaten KSH'!$G$49)+B$147*LOG('Grunddaten KSH'!$F$49)+'Lw KSH'!B$148*LOG('Grunddaten KSH'!$L$49)","v":23.072755354809015},{"$f":"C$145+C$146*LOG('Grunddaten KSH'!$G$49)+C$147*LOG('Grunddaten KSH'!$F$49)+'Lw KSH'!C$148*LOG('Grunddaten KSH'!$L$49)","v":44.908863991271289},{"$f":"D$145+D$146*LOG('Grunddaten KSH'!$G$49)+D$147*LOG('Grunddaten KSH'!$F$49)+'Lw KSH'!D$148*LOG('Grunddaten KSH'!$L$49)","v":41.609069111574911},{"$f":"E$145+E$146*LOG('Grunddaten KSH'!$G$49)+E$147*LOG('Grunddaten KSH'!$F$49)+'Lw KSH'!E$148*LOG('Grunddaten KSH'!$L$49)","v":20.470909907651222},{"$f":"F$145+F$146*LOG('Grunddaten KSH'!$G$49)+F$147*LOG('Grunddaten KSH'!$F$49)+'Lw KSH'!F$148*LOG('Grunddaten KSH'!$L$49)","v":32.782706725531483},{"$f":"G$145+G$146*LOG('Grunddaten KSH'!$G$49)+G$147*LOG('Grunddaten KSH'!$F$49)+'Lw KSH'!G$148*LOG('Grunddaten KSH'!$L$49)","v":32.901855327809258},{"$f":"H$145+H$146*LOG('Grunddaten KSH'!$G$49)+H$147*LOG('Grunddaten KSH'!$F$49)+'Lw KSH'!H$148*LOG('Grunddaten KSH'!$L$49)","v":37.71521985197581},{"$f":"I$145+I$146*LOG('Grunddaten KSH'!$G$49)+I$147*LOG('Grunddaten KSH'!$F$49)+'Lw KSH'!I$148*LOG('Grunddaten KSH'!$L$49)","v":27.125727441079992},{"$f":"J$145+J$146*LOG('Grunddaten KSH'!$G$49)+J$147*LOG('Grunddaten KSH'!$F$49)+'Lw KSH'!J$148*LOG('Grunddaten KSH'!$L$49)","v":28.082353822873099},{"$f":"K$145+K$146*LOG('Grunddaten KSH'!$G$49)+K$147*LOG('Grunddaten KSH'!$F$49)+'Lw KSH'!K$148*LOG('Grunddaten KSH'!$L$49)","v":29.520179310067412},{"$f":"L$145+L$146*LOG('Grunddaten KSH'!$G$49)+L$147*LOG('Grunddaten KSH'!$F$49)+'Lw KSH'!L$148*LOG('Grunddaten KSH'!$L$49)","v":40.166804128479328},{"$f":"M$145+M$146*LOG('Grunddaten KSH'!$G$49)+M$147*LOG('Grunddaten KSH'!$F$49)+'Lw KSH'!M$148*LOG('Grunddaten KSH'!$L$49)","v":43.328746423193017},{"$f":"N$145+N$146*LOG('Grunddaten KSH'!$G$49)+N$147*LOG('Grunddaten KSH'!$F$49)+'Lw KSH'!N$148*LOG('Grunddaten KSH'!$L$49)","v":50.12144589654838},{"$f":"O$145+O$146*LOG('Grunddaten KSH'!$G$49)+O$147*LOG('Grunddaten KSH'!$F$49)+'Lw KSH'!O$148*LOG('Grunddaten KSH'!$L$49)","v":43.812478269748894},{"$f":"P$145+P$146*LOG('Grunddaten KSH'!$G$49)+P$147*LOG('Grunddaten KSH'!$F$49)+'Lw KSH'!P$148*LOG('Grunddaten KSH'!$L$49)","v":39.220721024442312},{"$f":"Q$145+Q$146*LOG('Grunddaten KSH'!$G$49)+Q$147*LOG('Grunddaten KSH'!$F$49)+'Lw KSH'!Q$148*LOG('Grunddaten KSH'!$L$49)","v":43.339978658033786},{"$f":"R$145+R$146*LOG('Grunddaten KSH'!$G$49)+R$147*LOG('Grunddaten KSH'!$F$49)+'Lw KSH'!R$148*LOG('Grunddaten KSH'!$L$49)","v":41.194481252225955},{"$f":"S$145+S$146*LOG('Grunddaten KSH'!$G$49)+S$147*LOG('Grunddaten KSH'!$F$49)+'Lw KSH'!S$148*LOG('Grunddaten KSH'!$L$49)","v":37.856665466036517},{"$f":"T$145+T$146*LOG('Grunddaten KSH'!$G$49)+T$147*LOG('Grunddaten KSH'!$F$49)+'Lw KSH'!T$148*LOG('Grunddaten KSH'!$L$49)","v":33.300160382017879},{"$f":"U$145+U$146*LOG('Grunddaten KSH'!$G$49)+U$147*LOG('Grunddaten KSH'!$F$49)+'Lw KSH'!U$148*LOG('Grunddaten KSH'!$L$49)","v":23.311789993644371},{"$f":"V$145+V$146*LOG('Grunddaten KSH'!$G$49)+V$147*LOG('Grunddaten KSH'!$F$49)+'Lw KSH'!V$148*LOG('Grunddaten KSH'!$L$49)","v":19.919926042002132},{"$f":"10*LOG(10^(0.1*B173)+10^(0.1*C173)+10^(0.1*D173)+10^(0.1*E173)+10^(0.1*F173)+10^(0.1*G173)+10^(0.1*H173)+10^(0.1*I173)+10^(0.1*J173)+10^(0.1*K173)+10^(0.1*L173)+10^(0.1*M173)+10^(0.1*N173)+10^(0.1*O173)+10^(0.1*P173)+10^(0.1*Q173)+10^(0.1*R173)+10^(0.1*S173)+10^(0.1*T173)+10^(0.1*U173)+10^(0.1*V173))","v":54.281985580326392}]
["KSHZUL6002",{"$f":"B$145+B$146*LOG('Grunddaten KSH'!$G$49)+B$147*LOG('Grunddaten KSH'!$F$49)+'Lw KSH'!B$148*LOG('Grunddaten KSH'!$L$49)","v":23.072755354809015},{"$f":"C$145+C$146*LOG('Grunddaten KSH'!$G$49)+C$147*LOG('Grunddaten KSH'!$F$49)+'Lw KSH'!C$148*LOG('Grunddaten KSH'!$L$49)","v":44.908863991271289},{"$f":"D$145+D$146*LOG('Grunddaten KSH'!$G$49)+D$147*LOG('Grunddaten KSH'!$F$49)+'Lw KSH'!D$148*LOG('Grunddaten KSH'!$L$49)","v":41.609069111574911},{"$f":"E$145+E$146*LOG('Grunddaten KSH'!$G$49)+E$147*LOG('Grunddaten KSH'!$F$49)+'Lw KSH'!E$148*LOG('Grunddaten KSH'!$L$49)","v":20.470909907651222},{"$f":"F$145+F$146*LOG('Grunddaten KSH'!$G$49)+F$147*LOG('Grunddaten KSH'!$F$49)+'Lw KSH'!F$148*LOG('Grunddaten KSH'!$L$49)","v":32.782706725531483},{"$f":"G$145+G$146*LOG('Grunddaten KSH'!$G$49)+G$147*LOG('Grunddaten KSH'!$F$49)+'Lw KSH'!G$148*LOG('Grunddaten KSH'!$L$49)","v":32.901855327809258},{"$f":"H$145+H$146*LOG('Grunddaten KSH'!$G$49)+H$147*LOG('Grunddaten KSH'!$F$49)+'Lw KSH'!H$148*LOG('Grunddaten KSH'!$L$49)","v":37.71521985197581},{"$f":"I$145+I$146*LOG('Grunddaten KSH'!$G$49)+I$147*LOG('Grunddaten KSH'!$F$49)+'Lw KSH'!I$148*LOG('Grunddaten KSH'!$L$49)","v":27.125727441079992},{"$f":"J$145+J$146*LOG('Grunddaten KSH'!$G$49)+J$147*LOG('Grunddaten KSH'!$F$49)+'Lw KSH'!J$148*LOG('Grunddaten KSH'!$L$49)","v":28.082353822873099},{"$f":"K$145+K$146*LOG('Grunddaten KSH'!$G$49)+K$147*LOG('Grunddaten KSH'!$F$49)+'Lw KSH'!K$148*LOG('Grunddaten KSH'!$L$49)","v":29.520179310067412},{"$f":"L$145+L$146*LOG('Grunddaten KSH'!$G$49)+L$147*LOG('Grunddaten KSH'!$F$49)+'Lw KSH'!L$148*LOG('Grunddaten KSH'!$L$49)","v":40.166804128479328},{"$f":"M$145+M$146*LOG('Grunddaten KSH'!$G$49)+M$147*LOG('Grunddaten KSH'!$F$49)+'Lw KSH'!M$148*LOG('Grunddaten KSH'!$L$49)","v":43.328746423193017},{"$f":"N$145+N$146*LOG('Grunddaten KSH'!$G$49)+N$147*LOG('Grunddaten KSH'!$F$49)+'Lw KSH'!N$148*LOG('Grunddaten KSH'!$L$49)","v":50.12144589654838},{"$f":"O$145+O$146*LOG('Grunddaten KSH'!$G$49)+O$147*LOG('Grunddaten KSH'!$F$49)+'Lw KSH'!O$148*LOG('Grunddaten KSH'!$L$49)","v":43.812478269748894},{"$f":"P$145+P$146*LOG('Grunddaten KSH'!$G$49)+P$147*LOG('Grunddaten KSH'!$F$49)+'Lw KSH'!P$148*LOG('Grunddaten KSH'!$L$49)","v":39.220721024442312},{"$f":"Q$145+Q$146*LOG('Grunddaten KSH'!$G$49)+Q$147*LOG('Grunddaten KSH'!$F$49)+'Lw KSH'!Q$148*LOG('Grunddaten KSH'!$L$49)","v":43.339978658033786},{"$f":"R$145+R$146*LOG('Grunddaten KSH'!$G$49)+R$147*LOG('Grunddaten KSH'!$F$49)+'Lw KSH'!R$148*LOG('Grunddaten KSH'!$L$49)","v":41.194481252225955},{"$f":"S$145+S$146*LOG('Grunddaten KSH'!$G$49)+S$147*LOG('Grunddaten KSH'!$F$49)+'Lw KSH'!S$148*LOG('Grunddaten KSH'!$L$49)","v":37.856665466036517},{"$f":"T$145+T$146*LOG('Grunddaten KSH'!$G$49)+T$147*LOG('Grunddaten KSH'!$F$49)+'Lw KSH'!T$148*LOG('Grunddaten KSH'!$L$49)","v":33.300160382017879},{"$f":"U$145+U$146*LOG('Grunddaten KSH'!$G$49)+U$147*LOG('Grunddaten KSH'!$F$49)+'Lw KSH'!U$148*LOG('Grunddaten KSH'!$L$49)","v":23.311789993644371},{"$f":"V$145+V$146*LOG('Grunddaten KSH'!$G$49)+V$147*LOG('Grunddaten KSH'!$F$49)+'Lw KSH'!V$148*LOG('Grunddaten KSH'!$L$49)","v":19.919926042002132},54.281985580326392]
["KSHZUL8002",{"$f":"B$145+B$146*LOG('Grunddaten KSH'!$G$49)+B$147*LOG('Grunddaten KSH'!$F$49)+'Lw KSH'!B$148*LOG('Grunddaten KSH'!$L$49)","v":23.072755354809015},{"$f":"C$145+C$146*LOG('Grunddaten KSH'!$G$49)+C$147*LOG('Grunddaten KSH'!$F$49)+'Lw KSH'!C$148*LOG('Grunddaten KSH'!$L$49)","v":44.908863991271289},{"$f":"D$145+D$146*LOG('Grunddaten KSH'!$G$49)+D$147*LOG('Grunddaten KSH'!$F$49)+'Lw KSH'!D$148*LOG('Grunddaten KSH'!$L$49)","v":41.609069111574911},{"$f":"E$145+E$146*LOG('Grunddaten KSH'!$G$49)+E$147*LOG('Grunddaten KSH'!$F$49)+'Lw KSH'!E$148*LOG('Grunddaten KSH'!$L$49)","v":20.470909907651222},{"$f":"F$145+F$146*LOG('Grunddaten KSH'!$G$49)+F$147*LOG('Grunddaten KSH'!$F$49)+'Lw KSH'!F$148*LOG('Grunddaten KSH'!$L$49)","v":32.782706725531483},{"$f":"G$145+G$146*LOG('Grunddaten KSH'!$G$49)+G$147*LOG('Grunddaten KSH'!$F$49)+'Lw KSH'!G$148*LOG('Grunddaten KSH'!$L$49)","v":32.901855327809258},{"$f":"H$145+H$146*LOG('Grunddaten KSH'!$G$49)+H$147*LOG('Grunddaten KSH'!$F$49)+'Lw KSH'!H$148*LOG('Grunddaten KSH'!$L$49)","v":37.71521985197581},{"$f":"I$145+I$146*LOG('Grunddaten KSH'!$G$49)+I$147*LOG('Grunddaten KSH'!$F$49)+'Lw KSH'!I$148*LOG('Grunddaten KSH'!$L$49)","v":27.125727441079992},{"$f":"J$145+J$146*LOG('Grunddaten KSH'!$G$49)+J$147*LOG('Grunddaten KSH'!$F$49)+'Lw KSH'!J$148*LOG('Grunddaten KSH'!$L$49)","v":28.082353822873099},{"$f":"K$145+K$146*LOG('Grunddaten KSH'!$G$49)+K$147*LOG('Grunddaten KSH'!$F$49)+'Lw KSH'!K$148*LOG('Grunddaten KSH'!$L$49)","v":29.520179310067412},{"$f":"L$145+L$146*LOG('Grunddaten KSH'!$G$49)+L$147*LOG('Grunddaten KSH'!$F$49)+'Lw KSH'!L$148*LOG('Grunddaten KSH'!$L$49)","v":40.166804128479328},{"$f":"M$145+M$146*LOG('Grunddaten KSH'!$G$49)+M$147*LOG('Grunddaten KSH'!$F$49)+'Lw KSH'!M$148*LOG('Grunddaten KSH'!$L$49)","v":43.328746423193017},{"$f":"N$145+N$146*LOG('Grunddaten KSH'!$G$49)+N$147*LOG('Grunddaten KSH'!$F$49)+'Lw KSH'!N$148*LOG('Grunddaten KSH'!$L$49)","v":50.12144589654838},{"$f":"O$145+O$146*LOG('Grunddaten KSH'!$G$49)+O$147*LOG('Grunddaten KSH'!$F$49)+'Lw KSH'!O$148*LOG('Grunddaten KSH'!$L$49)","v":43.812478269748894},{"$f":"P$145+P$146*LOG('Grunddaten KSH'!$G$49)+P$147*LOG('Grunddaten KSH'!$F$49)+'Lw KSH'!P$148*LOG('Grunddaten KSH'!$L$49)","v":39.220721024442312},{"$f":"Q$145+Q$146*LOG('Grunddaten KSH'!$G$49)+Q$147*LOG('Grunddaten KSH'!$F$49)+'Lw KSH'!Q$148*LOG('Grunddaten KSH'!$L$49)","v":43.339978658033786},{"$f":"R$145+R$146*LOG('Grunddaten KSH'!$G$49)+R$147*LOG('Grunddaten KSH'!$F$49)+'Lw KSH'!R$148*LOG('Grunddaten KSH'!$L$49)","v":41.194481252225955},{"$f":"S$145+S$146*LOG('Grunddaten KSH'!$G$49)+S$147*LOG('Grunddaten KSH'!$F$49)+'Lw KSH'!S$148*LOG('Grunddaten KSH'!$L$49)","v":37.856665466036517},{"$f":"T$145+T$146*LOG('Grunddaten KSH'!$G$49)+T$147*LOG('Grunddaten KSH'!$F$49)+'Lw KSH'!T$148*LOG('Grunddaten KSH'!$L$49)","v":33.300160382017879},{"$f":"U$145+U$146*LOG('Grunddaten KSH'!$G$49)+U$147*LOG('Grunddaten KSH'!$F$49)+'Lw KSH'!U$148*LOG('Grunddaten KSH'!$L$49)","v":23.311789993644371},{"$f":"V$145+V$146*LOG('Grunddaten KSH'!$G$49)+V$147*LOG('Grunddaten KSH'!$F$49)+'Lw KSH'!V$148*LOG('Grunddaten KSH'!$L$49)","v":19.919926042002132},54.281985580326392]
["KSHZUL10002",{"$f":"B$145+B$146*LOG('Grunddaten KSH'!$G$49)+B$147*LOG('Grunddaten KSH'!$F$49)+'Lw KSH'!B$148*LOG('Grunddaten KSH'!$L$49)","v":23.072755354809015},{"$f":"C$145+C$146*LOG('Grunddaten KSH'!$G$49)+C$147*LOG('Grunddaten KSH'!$F$49)+'Lw KSH'!C$148*LOG('Grunddaten KSH'!$L$49)","v":44.908863991271289},{"$f":"D$145+D$146*LOG('Grunddaten KSH'!$G$49)+D$147*LOG('Grunddaten KSH'!$F$49)+'Lw KSH'!D$148*LOG('Grunddaten KSH'!$L$49)","v":41.609069111574911},{"$f":"E$145+E$146*LOG('Grunddaten KSH'!$G$49)+E$147*LOG('Grunddaten KSH'!$F$49)+'Lw KSH'!E$148*LOG('Grunddaten KSH'!$L$49)","v":20.470909907651222},{"$f":"F$145+F$146*LOG('Grunddaten KSH'!$G$49)+F$147*LOG('Grunddaten KSH'!$F$49)+'Lw KSH'!F$148*LOG('Grunddaten KSH'!$L$49)","v":32.782706725531483},{"$f":"G$145+G$146*LOG('Grunddaten KSH'!$G$49)+G$147*LOG('Grunddaten KSH'!$F$49)+'Lw KSH'!G$148*LOG('Grunddaten KSH'!$L$49)","v":32.901855327809258},{"$f":"H$145+H$146*LOG('Grunddaten KSH'!$G$49)+H$147*LOG('Grunddaten KSH'!$F$49)+'Lw KSH'!H$148*LOG('Grunddaten KSH'!$L$49)","v":37.71521985197581},{"$f":"I$145+I$146*LOG('Grunddaten KSH'!$G$49)+I$147*LOG('Grunddaten KSH'!$F$49)+'Lw KSH'!I$148*LOG('Grunddaten KSH'!$L$49)","v":27.125727441079992},{"$f":"J$145+J$146*LOG('Grunddaten KSH'!$G$49)+J$147*LOG('Grunddaten KSH'!$F$49)+'Lw KSH'!J$148*LOG('Grunddaten KSH'!$L$49)","v":28.082353822873099},{"$f":"K$145+K$146*LOG('Grunddaten KSH'!$G$49)+K$147*LOG('Grunddaten KSH'!$F$49)+'Lw KSH'!K$148*LOG('Grunddaten KSH'!$L$49)","v":29.520179310067412},{"$f":"L$145+L$146*LOG('Grunddaten KSH'!$G$49)+L$147*LOG('Grunddaten KSH'!$F$49)+'Lw KSH'!L$148*LOG('Grunddaten KSH'!$L$49)","v":40.166804128479328},{"$f":"M$145+M$146*LOG('Grunddaten KSH'!$G$49)+M$147*LOG('Grunddaten KSH'!$F$49)+'Lw KSH'!M$148*LOG('Grunddaten KSH'!$L$49)","v":43.328746423193017},{"$f":"N$145+N$146*LOG('Grunddaten KSH'!$G$49)+N$147*LOG('Grunddaten KSH'!$F$49)+'Lw KSH'!N$148*LOG('Grunddaten KSH'!$L$49)","v":50.12144589654838},{"$f":"O$145+O$146*LOG('Grunddaten KSH'!$G$49)+O$147*LOG('Grunddaten KSH'!$F$49)+'Lw KSH'!O$148*LOG('Grunddaten KSH'!$L$49)","v":43.812478269748894},{"$f":"P$145+P$146*LOG('Grunddaten KSH'!$G$49)+P$147*LOG('Grunddaten KSH'!$F$49)+'Lw KSH'!P$148*LOG('Grunddaten KSH'!$L$49)","v":39.220721024442312},{"$f":"Q$145+Q$146*LOG('Grunddaten KSH'!$G$49)+Q$147*LOG('Grunddaten KSH'!$F$49)+'Lw KSH'!Q$148*LOG('Grunddaten KSH'!$L$49)","v":43.339978658033786},{"$f":"R$145+R$146*LOG('Grunddaten KSH'!$G$49)+R$147*LOG('Grunddaten KSH'!$F$49)+'Lw KSH'!R$148*LOG('Grunddaten KSH'!$L$49)","v":41.194481252225955},{"$f":"S$145+S$146*LOG('Grunddaten KSH'!$G$49)+S$147*LOG('Grunddaten KSH'!$F$49)+'Lw KSH'!S$148*LOG('Grunddaten KSH'!$L$49)","v":37.856665466036517},{"$f":"T$145+T$146*LOG('Grunddaten KSH'!$G$49)+T$147*LOG('Grunddaten KSH'!$F$49)+'Lw KSH'!T$148*LOG('Grunddaten KSH'!$L$49)","v":33.300160382017879},{"$f":"U$145+U$146*LOG('Grunddaten KSH'!$G$49)+U$147*LOG('Grunddaten KSH'!$F$49)+'Lw KSH'!U$148*LOG('Grunddaten KSH'!$L$49)","v":23.311789993644371},{"$f":"V$145+V$146*LOG('Grunddaten KSH'!$G$49)+V$147*LOG('Grunddaten KSH'!$F$49)+'Lw KSH'!V$148*LOG('Grunddaten KSH'!$L$49)","v":19.919926042002132},54.281985580326392]
["KSHZUL12002",{"$f":"B$145+B$146*LOG('Grunddaten KSH'!$G$49)+B$147*LOG('Grunddaten KSH'!$F$49)+'Lw KSH'!B$148*LOG('Grunddaten KSH'!$L$49)","v":23.072755354809015},{"$f":"C$145+C$146*LOG('Grunddaten KSH'!$G$49)+C$147*LOG('Grunddaten KSH'!$F$49)+'Lw KSH'!C$148*LOG('Grunddaten KSH'!$L$49)","v":44.908863991271289},{"$f":"D$145+D$146*LOG('Grunddaten KSH'!$G$49)+D$147*LOG('Grunddaten KSH'!$F$49)+'Lw KSH'!D$148*LOG('Grunddaten KSH'!$L$49)","v":41.609069111574911},{"$f":"E$145+E$146*LOG('Grunddaten KSH'!$G$49)+E$147*LOG('Grunddaten KSH'!$F$49)+'Lw KSH'!E$148*LOG('Grunddaten KSH'!$L$49)","v":20.470909907651222},{"$f":"F$145+F$146*LOG('Grunddaten KSH'!$G$49)+F$147*LOG('Grunddaten KSH'!$F$49)+'Lw KSH'!F$148*LOG('Grunddaten KSH'!$L$49)","v":32.782706725531483},{"$f":"G$145+G$146*LOG('Grunddaten KSH'!$G$49)+G$147*LOG('Grunddaten KSH'!$F$49)+'Lw KSH'!G$148*LOG('Grunddaten KSH'!$L$49)","v":32.901855327809258},{"$f":"H$145+H$146*LOG('Grunddaten KSH'!$G$49)+H$147*LOG('Grunddaten KSH'!$F$49)+'Lw KSH'!H$148*LOG('Grunddaten KSH'!$L$49)","v":37.71521985197581},{"$f":"I$145+I$146*LOG('Grunddaten KSH'!$G$49)+I$147*LOG('Grunddaten KSH'!$F$49)+'Lw KSH'!I$148*LOG('Grunddaten KSH'!$L$49)","v":27.125727441079992},{"$f":"J$145+J$146*LOG('Grunddaten KSH'!$G$49)+J$147*LOG('Grunddaten KSH'!$F$49)+'Lw KSH'!J$148*LOG('Grunddaten KSH'!$L$49)","v":28.082353822873099},{"$f":"K$145+K$146*LOG('Grunddaten KSH'!$G$49)+K$147*LOG('Grunddaten KSH'!$F$49)+'Lw KSH'!K$148*LOG('Grunddaten KSH'!$L$49)","v":29.520179310067412},{"$f":"L$145+L$146*LOG('Grunddaten KSH'!$G$49)+L$147*LOG('Grunddaten KSH'!$F$49)+'Lw KSH'!L$148*LOG('Grunddaten KSH'!$L$49)","v":40.166804128479328},{"$f":"M$145+M$146*LOG('Grunddaten KSH'!$G$49)+M$147*LOG('Grunddaten KSH'!$F$49)+'Lw KSH'!M$148*LOG('Grunddaten KSH'!$L$49)","v":43.328746423193017},{"$f":"N$145+N$146*LOG('Grunddaten KSH'!$G$49)+N$147*LOG('Grunddaten KSH'!$F$49)+'Lw KSH'!N$148*LOG('Grunddaten KSH'!$L$49)","v":50.12144589654838},{"$f":"O$145+O$146*LOG('Grunddaten KSH'!$G$49)+O$147*LOG('Grunddaten KSH'!$F$49)+'Lw KSH'!O$148*LOG('Grunddaten KSH'!$L$49)","v":43.812478269748894},{"$f":"P$145+P$146*LOG('Grunddaten KSH'!$G$49)+P$147*LOG('Grunddaten KSH'!$F$49)+'Lw KSH'!P$148*LOG('Grunddaten KSH'!$L$49)","v":39.220721024442312},{"$f":"Q$145+Q$146*LOG('Grunddaten KSH'!$G$49)+Q$147*LOG('Grunddaten KSH'!$F$49)+'Lw KSH'!Q$148*LOG('Grunddaten KSH'!$L$49)","v":43.339978658033786},{"$f":"R$145+R$146*LOG('Grunddaten KSH'!$G$49)+R$147*LOG('Grunddaten KSH'!$F$49)+'Lw KSH'!R$148*LOG('Grunddaten KSH'!$L$49)","v":41.194481252225955},{"$f":"S$145+S$146*LOG('Grunddaten KSH'!$G$49)+S$147*LOG('Grunddaten KSH'!$F$49)+'Lw KSH'!S$148*LOG('Grunddaten KSH'!$L$49)","v":37.856665466036517},{"$f":"T$145+T$146*LOG('Grunddaten KSH'!$G$49)+T$147*LOG('Grunddaten KSH'!$F$49)+'Lw KSH'!T$148*LOG('Grunddaten KSH'!$L$49)","v":33.300160382017879},{"$f":"U$145+U$146*LOG('Grunddaten KSH'!$G$49)+U$147*LOG('Grunddaten KSH'!$F$49)+'Lw KSH'!U$148*LOG('Grunddaten KSH'!$L$49)","v":23.311789993644371},{"$f":"V$145+V$146*LOG('Grunddaten KSH'!$G$49)+V$147*LOG('Grunddaten KSH'!$F$49)+'Lw KSH'!V$148*LOG('Grunddaten KSH'!$L$49)","v":19.919926042002132},54.281985580326392]
["KSHABLD5002",{"$f":"B$149+B$150*LOG('Grunddaten KSH'!$H$50)+B$151*LOG('Grunddaten KSH'!$F$49)+'Lw KSH'!B$152*LOG('Grunddaten KSH'!$M$50)","v":21.465891941691496},{"$f":"C$149+C$150*LOG('Grunddaten KSH'!$H$50)+C$151*LOG('Grunddaten KSH'!$F$49)+'Lw KSH'!C$152*LOG('Grunddaten KSH'!$M$50)","v":18.955061734933341},{"$f":"D$149+D$150*LOG('Grunddaten KSH'!$H$50)+D$151*LOG('Grunddaten KSH'!$F$49)+'Lw KSH'!D$152*LOG('Grunddaten KSH'!$M$50)","v":19.181848205799366},{"$f":"E$149+E$150*LOG('Grunddaten KSH'!$H$50)+E$151*LOG('Grunddaten KSH'!$F$49)+'Lw KSH'!E$152*LOG('Grunddaten KSH'!$M$50)","v":21.229310754814488},{"$f":"F$149+F$150*LOG('Grunddaten KSH'!$H$50)+F$151*LOG('Grunddaten KSH'!$F$49)+'Lw KSH'!F$152*LOG('Grunddaten KSH'!$M$50)","v":26.389678483509805},{"$f":"G$149+G$150*LOG('Grunddaten KSH'!$H$50)+G$151*LOG('Grunddaten KSH'!$F$49)+'Lw KSH'!G$152*LOG('Grunddaten KSH'!$M$50)","v":25.340098130228967},{"$f":"H$149+H$150*LOG('Grunddaten KSH'!$H$50)+H$151*LOG('Grunddaten KSH'!$F$49)+'Lw KSH'!H$152*LOG('Grunddaten KSH'!$M$50)","v":14.87153315297353},{"$f":"I$149+I$150*LOG('Grunddaten KSH'!$H$50)+I$151*LOG('Grunddaten KSH'!$F$49)+'Lw KSH'!I$152*LOG('Grunddaten KSH'!$M$50)","v":13.620164857569705},{"$f":"J$149+J$150*LOG('Grunddaten KSH'!$H$50)+J$151*LOG('Grunddaten KSH'!$F$49)+'Lw KSH'!J$152*LOG('Grunddaten KSH'!$M$50)","v":19.494811678111372},{"$f":"K$149+K$150*LOG('Grunddaten KSH'!$H$50)+K$151*LOG('Grunddaten KSH'!$F$49)+'Lw KSH'!K$152*LOG('Grunddaten KSH'!$M$50)","v":20.146046882910412},{"$f":"L$149+L$150*LOG('Grunddaten KSH'!$H$50)+L$151*LOG('Grunddaten KSH'!$F$49)+'Lw KSH'!L$152*LOG('Grunddaten KSH'!$M$50)","v":17.4399447202224},{"$f":"M$149+M$150*LOG('Grunddaten KSH'!$H$50)+M$151*LOG('Grunddaten KSH'!$F$49)+'Lw KSH'!M$152*LOG('Grunddaten KSH'!$M$50)","v":13.074647909822758},{"$f":"N$149+N$150*LOG('Grunddaten KSH'!$H$50)+N$151*LOG('Grunddaten KSH'!$F$49)+'Lw KSH'!N$152*LOG('Grunddaten KSH'!$M$50)","v":11.897830978408479},{"$f":"O$149+O$150*LOG('Grunddaten KSH'!$H$50)+O$151*LOG('Grunddaten KSH'!$F$49)+'Lw KSH'!O$152*LOG('Grunddaten KSH'!$M$50)","v":9.8829360088160385},{"$f":"P$149+P$150*LOG('Grunddaten KSH'!$H$50)+P$151*LOG('Grunddaten KSH'!$F$49)+'Lw KSH'!P$152*LOG('Grunddaten KSH'!$M$50)","v":11.67296822797995},{"$f":"Q$149+Q$150*LOG('Grunddaten KSH'!$H$50)+Q$151*LOG('Grunddaten KSH'!$F$49)+'Lw KSH'!Q$152*LOG('Grunddaten KSH'!$M$50)","v":11.305554165002336},{"$f":"R$149+R$150*LOG('Grunddaten KSH'!$H$50)+R$151*LOG('Grunddaten KSH'!$F$49)+'Lw KSH'!R$152*LOG('Grunddaten KSH'!$M$50)","v":13.368015135817469},{"$f":"S$149+S$150*LOG('Grunddaten KSH'!$H$50)+S$151*LOG('Grunddaten KSH'!$F$49)+'Lw KSH'!S$152*LOG('Grunddaten KSH'!$M$50)","v":14.886646465856},{"$f":"T$149+T$150*LOG('Grunddaten KSH'!$H$50)+T$151*LOG('Grunddaten KSH'!$F$49)+'Lw KSH'!T$152*LOG('Grunddaten KSH'!$M$50)","v":16.82667240384923},{"$f":"U$149+U$150*LOG('Grunddaten KSH'!$H$50)+U$151*LOG('Grunddaten KSH'!$F$49)+'Lw KSH'!U$152*LOG('Grunddaten KSH'!$M$50)","v":16.614069460699753},{"$f":"V$149+V$150*LOG('Grunddaten KSH'!$H$50)+V$151*LOG('Grunddaten KSH'!$F$49)+'Lw KSH'!V$152*LOG('Grunddaten KSH'!$M$50)","v":20.646337681384296},32.671017195266813]
["KSHABLD6002",{"$f":"B$149+B$150*LOG('Grunddaten KSH'!$H$50)+B$151*LOG('Grunddaten KSH'!$F$49)+'Lw KSH'!B$152*LOG('Grunddaten KSH'!$M$50)","v":21.465891941691496},{"$f":"C$149+C$150*LOG('Grunddaten KSH'!$H$50)+C$151*LOG('Grunddaten KSH'!$F$49)+'Lw KSH'!C$152*LOG('Grunddaten KSH'!$M$50)","v":18.955061734933341},{"$f":"D$149+D$150*LOG('Grunddaten KSH'!$H$50)+D$151*LOG('Grunddaten KSH'!$F$49)+'Lw KSH'!D$152*LOG('Grunddaten KSH'!$M$50)","v":19.181848205799366},{"$f":"E$149+E$150*LOG('Grunddaten KSH'!$H$50)+E$151*LOG('Grunddaten KSH'!$F$49)+'Lw KSH'!E$152*LOG('Grunddaten KSH'!$M$50)","v":21.229310754814488},{"$f":"F$149+F$150*LOG('Grunddaten KSH'!$H$50)+F$151*LOG('Grunddaten KSH'!$F$49)+'Lw KSH'!F$152*LOG('Grunddaten KSH'!$M$50)","v":26.389678483509805},{"$f":"G$149+G$150*LOG('Grunddaten KSH'!$H$50)+G$151*LOG('Grunddaten KSH'!$F$49)+'Lw KSH'!G$152*LOG('Grunddaten KSH'!$M$50)","v":25.340098130228967},{"$f":"H$149+H$150*LOG('Grunddaten KSH'!$H$50)+H$151*LOG('Grunddaten KSH'!$F$49)+'Lw KSH'!H$152*LOG('Grunddaten KSH'!$M$50)","v":14.87153315297353},{"$f":"I$149+I$150*LOG('Grunddaten KSH'!$H$50)+I$151*LOG('Grunddaten KSH'!$F$49)+'Lw KSH'!I$152*LOG('Grunddaten KSH'!$M$50)","v":13.620164857569705},{"$f":"J$149+J$150*LOG('Grunddaten KSH'!$H$50)+J$151*LOG('Grunddaten KSH'!$F$49)+'Lw KSH'!J$152*LOG('Grunddaten KSH'!$M$50)","v":19.494811678111372},{"$f":"K$149+K$150*LOG('Grunddaten KSH'!$H$50)+K$151*LOG('Grunddaten KSH'!$F$49)+'Lw KSH'!K$152*LOG('Grunddaten KSH'!$M$50)","v":20.146046882910412},{"$f":"L$149+L$150*LOG('Grunddaten KSH'!$H$50)+L$151*LOG('Grunddaten KSH'!$F$49)+'Lw KSH'!L$152*LOG('Grunddaten KSH'!$M$50)","v":17.4399447202224},{"$f":"M$149+M$150*LOG('Grunddaten KSH'!$H$50)+M$151*LOG('Grunddaten KSH'!$F$49)+'Lw KSH'!M$152*LOG('Grunddaten KSH'!$M$50)","v":13.074647909822758},{"$f":"N$149+N$150*LOG('Grunddaten KSH'!$H$50)+N$151*LOG('Grunddaten KSH'!$F$49)+'Lw KSH'!N$152*LOG('Grunddaten KSH'!$M$50)","v":11.897830978408479},{"$f":"O$149+O$150*LOG('Grunddaten KSH'!$H$50)+O$151*LOG('Grunddaten KSH'!$F$49)+'Lw KSH'!O$152*LOG('Grunddaten KSH'!$M$50)","v":9.8829360088160385},{"$f":"P$149+P$150*LOG('Grunddaten KSH'!$H$50)+P$151*LOG('Grunddaten KSH'!$F$49)+'Lw KSH'!P$152*LOG('Grunddaten KSH'!$M$50)","v":11.67296822797995},{"$f":"Q$149+Q$150*LOG('Grunddaten KSH'!$H$50)+Q$151*LOG('Grunddaten KSH'!$F$49)+'Lw KSH'!Q$152*LOG('Grunddaten KSH'!$M$50)","v":11.305554165002336},{"$f":"R$149+R$150*LOG('Grunddaten KSH'!$H$50)+R$151*LOG('Grunddaten KSH'!$F$49)+'Lw KSH'!R$152*LOG('Grunddaten KSH'!$M$50)","v":13.368015135817469},{"$f":"S$149+S$150*LOG('Grunddaten KSH'!$H$50)+S$151*LOG('Grunddaten KSH'!$F$49)+'Lw KSH'!S$152*LOG('Grunddaten KSH'!$M$50)","v":14.886646465856},{"$f":"T$149+T$150*LOG('Grunddaten KSH'!$H$50)+T$151*LOG('Grunddaten KSH'!$F$49)+'Lw KSH'!T$152*LOG('Grunddaten KSH'!$M$50)","v":16.82667240384923},{"$f":"U$149+U$150*LOG('Grunddaten KSH'!$H$50)+U$151*LOG('Grunddaten KSH'!$F$49)+'Lw KSH'!U$152*LOG('Grunddaten KSH'!$M$50)","v":16.614069460699753},{"$f":"V$149+V$150*LOG('Grunddaten KSH'!$H$50)+V$151*LOG('Grunddaten KSH'!$F$49)+'Lw KSH'!V$152*LOG('Grunddaten KSH'!$M$50)","v":20.646337681384296},32.671017195266813]
["KSHABLD8002",{"$f":"B$149+B$150*LOG('Grunddaten KSH'!$H$50)+B$151*LOG('Grunddaten KSH'!$F$49)+'Lw KSH'!B$152*LOG('Grunddaten KSH'!$M$50)","v":21.465891941691496},{"$f":"C$149+C$150*LOG('Grunddaten KSH'!$H$50)+C$151*LOG('Grunddaten KSH'!$F$49)+'Lw KSH'!C$152*LOG('Grunddaten KSH'!$M$50)","v":18.955061734933341},{"$f":"D$149+D$150*LOG('Grunddaten KSH'!$H$50)+D$151*LOG('Grunddaten KSH'!$F$49)+'Lw KSH'!D$152*LOG('Grunddaten KSH'!$M$50)","v":19.181848205799366},{"$f":"E$149+E$150*LOG('Grunddaten KSH'!$H$50)+E$151*LOG('Grunddaten KSH'!$F$49)+'Lw KSH'!E$152*LOG('Grunddaten KSH'!$M$50)","v":21.229310754814488},{"$f":"F$149+F$150*LOG('Grunddaten KSH'!$H$50)+F$151*LOG('Grunddaten KSH'!$F$49)+'Lw KSH'!F$152*LOG('Grunddaten KSH'!$M$50)","v":26.389678483509805},{"$f":"G$149+G$150*LOG('Grunddaten KSH'!$H$50)+G$151*LOG('Grunddaten KSH'!$F$49)+'Lw KSH'!G$152*LOG('Grunddaten KSH'!$M$50)","v":25.340098130228967},{"$f":"H$149+H$150*LOG('Grunddaten KSH'!$H$50)+H$151*LOG('Grunddaten KSH'!$F$49)+'Lw KSH'!H$152*LOG('Grunddaten KSH'!$M$50)","v":14.87153315297353},{"$f":"I$149+I$150*LOG('Grunddaten KSH'!$H$50)+I$151*LOG('Grunddaten KSH'!$F$49)+'Lw KSH'!I$152*LOG('Grunddaten KSH'!$M$50)","v":13.620164857569705},{"$f":"J$149+J$150*LOG('Grunddaten KSH'!$H$50)+J$151*LOG('Grunddaten KSH'!$F$49)+'Lw KSH'!J$152*LOG('Grunddaten KSH'!$M$50)","v":19.494811678111372},{"$f":"K$149+K$150*LOG('Grunddaten KSH'!$H$50)+K$151*LOG('Grunddaten KSH'!$F$49)+'Lw KSH'!K$152*LOG('Grunddaten KSH'!$M$50)","v":20.146046882910412},{"$f":"L$149+L$150*LOG('Grunddaten KSH'!$H$50)+L$151*LOG('Grunddaten KSH'!$F$49)+'Lw KSH'!L$152*LOG('Grunddaten KSH'!$M$50)","v":17.4399447202224},{"$f":"M$149+M$150*LOG('Grunddaten KSH'!$H$50)+M$151*LOG('Grunddaten KSH'!$F$49)+'Lw KSH'!M$152*LOG('Grunddaten KSH'!$M$50)","v":13.074647909822758},{"$f":"N$149+N$150*LOG('Grunddaten KSH'!$H$50)+N$151*LOG('Grunddaten KSH'!$F$49)+'Lw KSH'!N$152*LOG('Grunddaten KSH'!$M$50)","v":11.897830978408479},{"$f":"O$149+O$150*LOG('Grunddaten KSH'!$H$50)+O$151*LOG('Grunddaten KSH'!$F$49)+'Lw KSH'!O$152*LOG('Grunddaten KSH'!$M$50)","v":9.8829360088160385},{"$f":"P$149+P$150*LOG('Grunddaten KSH'!$H$50)+P$151*LOG('Grunddaten KSH'!$F$49)+'Lw KSH'!P$152*LOG('Grunddaten KSH'!$M$50)","v":11.67296822797995},{"$f":"Q$149+Q$150*LOG('Grunddaten KSH'!$H$50)+Q$151*LOG('Grunddaten KSH'!$F$49)+'Lw KSH'!Q$152*LOG('Grunddaten KSH'!$M$50)","v":11.305554165002336},{"$f":"R$149+R$150*LOG('Grunddaten KSH'!$H$50)+R$151*LOG('Grunddaten KSH'!$F$49)+'Lw KSH'!R$152*LOG('Grunddaten KSH'!$M$50)","v":13.368015135817469},{"$f":"S$149+S$150*LOG('Grunddaten KSH'!$H$50)+S$151*LOG('Grunddaten KSH'!$F$49)+'Lw KSH'!S$152*LOG('Grunddaten KSH'!$M$50)","v":14.886646465856},{"$f":"T$149+T$150*LOG('Grunddaten KSH'!$H$50)+T$151*LOG('Grunddaten KSH'!$F$49)+'Lw KSH'!T$152*LOG('Grunddaten KSH'!$M$50)","v":16.82667240384923},{"$f":"U$149+U$150*LOG('Grunddaten KSH'!$H$50)+U$151*LOG('Grunddaten KSH'!$F$49)+'Lw KSH'!U$152*LOG('Grunddaten KSH'!$M$50)","v":16.614069460699753},{"$f":"V$149+V$150*LOG('Grunddaten KSH'!$H$50)+V$151*LOG('Grunddaten KSH'!$F$49)+'Lw KSH'!V$152*LOG('Grunddaten KSH'!$M$50)","v":20.646337681384296},32.671017195266813]
["KSHABLD10002",{"$f":"B$149+B$150*LOG('Grunddaten KSH'!$H$50)+B$151*LOG('Grunddaten KSH'!$F$49)+'Lw KSH'!B$152*LOG('Grunddaten KSH'!$M$50)","v":21.465891941691496},{"$f":"C$149+C$150*LOG('Grunddaten KSH'!$H$50)+C$151*LOG('Grunddaten KSH'!$F$49)+'Lw KSH'!C$152*LOG('Grunddaten KSH'!$M$50)","v":18.955061734933341},{"$f":"D$149+D$150*LOG('Grunddaten KSH'!$H$50)+D$151*LOG('Grunddaten KSH'!$F$49)+'Lw KSH'!D$152*LOG('Grunddaten KSH'!$M$50)","v":19.181848205799366},{"$f":"E$149+E$150*LOG('Grunddaten KSH'!$H$50)+E$151*LOG('Grunddaten KSH'!$F$49)+'Lw KSH'!E$152*LOG('Grunddaten KSH'!$M$50)","v":21.229310754814488},{"$f":"F$149+F$150*LOG('Grunddaten KSH'!$H$50)+F$151*LOG('Grunddaten KSH'!$F$49)+'Lw KSH'!F$152*LOG('Grunddaten KSH'!$M$50)","v":26.389678483509805},{"$f":"G$149+G$150*LOG('Grunddaten KSH'!$H$50)+G$151*LOG('Grunddaten KSH'!$F$49)+'Lw KSH'!G$152*LOG('Grunddaten KSH'!$M$50)","v":25.340098130228967},{"$f":"H$149+H$150*LOG('Grunddaten KSH'!$H$50)+H$151*LOG('Grunddaten KSH'!$F$49)+'Lw KSH'!H$152*LOG('Grunddaten KSH'!$M$50)","v":14.87153315297353},{"$f":"I$149+I$150*LOG('Grunddaten KSH'!$H$50)+I$151*LOG('Grunddaten KSH'!$F$49)+'Lw KSH'!I$152*LOG('Grunddaten KSH'!$M$50)","v":13.620164857569705},{"$f":"J$149+J$150*LOG('Grunddaten KSH'!$H$50)+J$151*LOG('Grunddaten KSH'!$F$49)+'Lw KSH'!J$152*LOG('Grunddaten KSH'!$M$50)","v":19.494811678111372},{"$f":"K$149+K$150*LOG('Grunddaten KSH'!$H$50)+K$151*LOG('Grunddaten KSH'!$F$49)+'Lw KSH'!K$152*LOG('Grunddaten KSH'!$M$50)","v":20.146046882910412},{"$f":"L$149+L$150*LOG('Grunddaten KSH'!$H$50)+L$151*LOG('Grunddaten KSH'!$F$49)+'Lw KSH'!L$152*LOG('Grunddaten KSH'!$M$50)","v":17.4399447202224},{"$f":"M$149+M$150*LOG('Grunddaten KSH'!$H$50)+M$151*LOG('Grunddaten KSH'!$F$49)+'Lw KSH'!M$152*LOG('Grunddaten KSH'!$M$50)","v":13.074647909822758},{"$f":"N$149+N$150*LOG('Grunddaten KSH'!$H$50)+N$151*LOG('Grunddaten KSH'!$F$49)+'Lw KSH'!N$152*LOG('Grunddaten KSH'!$M$50)","v":11.897830978408479},{"$f":"O$149+O$150*LOG('Grunddaten KSH'!$H$50)+O$151*LOG('Grunddaten KSH'!$F$49)+'Lw KSH'!O$152*LOG('Grunddaten KSH'!$M$50)","v":9.8829360088160385},{"$f":"P$149+P$150*LOG('Grunddaten KSH'!$H$50)+P$151*LOG('Grunddaten KSH'!$F$49)+'Lw KSH'!P$152*LOG('Grunddaten KSH'!$M$50)","v":11.67296822797995},{"$f":"Q$149+Q$150*LOG('Grunddaten KSH'!$H$50)+Q$151*LOG('Grunddaten KSH'!$F$49)+'Lw KSH'!Q$152*LOG('Grunddaten KSH'!$M$50)","v":11.305554165002336},{"$f":"R$149+R$150*LOG('Grunddaten KSH'!$H$50)+R$151*LOG('Grunddaten KSH'!$F$49)+'Lw KSH'!R$152*LOG('Grunddaten KSH'!$M$50)","v":13.368015135817469},{"$f":"S$149+S$150*LOG('Grunddaten KSH'!$H$50)+S$151*LOG('Grunddaten KSH'!$F$49)+'Lw KSH'!S$152*LOG('Grunddaten KSH'!$M$50)","v":14.886646465856},{"$f":"T$149+T$150*LOG('Grunddaten KSH'!$H$50)+T$151*LOG('Grunddaten KSH'!$F$49)+'Lw KSH'!T$152*LOG('Grunddaten KSH'!$M$50)","v":16.82667240384923},{"$f":"U$149+U$150*LOG('Grunddaten KSH'!$H$50)+U$151*LOG('Grunddaten KSH'!$F$49)+'Lw KSH'!U$152*LOG('Grunddaten KSH'!$M$50)","v":16.614069460699753},{"$f":"V$149+V$150*LOG('Grunddaten KSH'!$H$50)+V$151*LOG('Grunddaten KSH'!$F$49)+'Lw KSH'!V$152*LOG('Grunddaten KSH'!$M$50)","v":20.646337681384296},32.671017195266813]
["KSHABLD12002",{"$f":"B$149+B$150*LOG('Grunddaten KSH'!$H$50)+B$151*LOG('Grunddaten KSH'!$F$49)+'Lw KSH'!B$152*LOG('Grunddaten KSH'!$M$50)","v":21.465891941691496},{"$f":"C$149+C$150*LOG('Grunddaten KSH'!$H$50)+C$151*LOG('Grunddaten KSH'!$F$49)+'Lw KSH'!C$152*LOG('Grunddaten KSH'!$M$50)","v":18.955061734933341},{"$f":"D$149+D$150*LOG('Grunddaten KSH'!$H$50)+D$151*LOG('Grunddaten KSH'!$F$49)+'Lw KSH'!D$152*LOG('Grunddaten KSH'!$M$50)","v":19.181848205799366},{"$f":"E$149+E$150*LOG('Grunddaten KSH'!$H$50)+E$151*LOG('Grunddaten KSH'!$F$49)+'Lw KSH'!E$152*LOG('Grunddaten KSH'!$M$50)","v":21.229310754814488},{"$f":"F$149+F$150*LOG('Grunddaten KSH'!$H$50)+F$151*LOG('Grunddaten KSH'!$F$49)+'Lw KSH'!F$152*LOG('Grunddaten KSH'!$M$50)","v":26.389678483509805},{"$f":"G$149+G$150*LOG('Grunddaten KSH'!$H$50)+G$151*LOG('Grunddaten KSH'!$F$49)+'Lw KSH'!G$152*LOG('Grunddaten KSH'!$M$50)","v":25.340098130228967},{"$f":"H$149+H$150*LOG('Grunddaten KSH'!$H$50)+H$151*LOG('Grunddaten KSH'!$F$49)+'Lw KSH'!H$152*LOG('Grunddaten KSH'!$M$50)","v":14.87153315297353},{"$f":"I$149+I$150*LOG('Grunddaten KSH'!$H$50)+I$151*LOG('Grunddaten KSH'!$F$49)+'Lw KSH'!I$152*LOG('Grunddaten KSH'!$M$50)","v":13.620164857569705},{"$f":"J$149+J$150*LOG('Grunddaten KSH'!$H$50)+J$151*LOG('Grunddaten KSH'!$F$49)+'Lw KSH'!J$152*LOG('Grunddaten KSH'!$M$50)","v":19.494811678111372},{"$f":"K$149+K$150*LOG('Grunddaten KSH'!$H$50)+K$151*LOG('Grunddaten KSH'!$F$49)+'Lw KSH'!K$152*LOG('Grunddaten KSH'!$M$50)","v":20.146046882910412},{"$f":"L$149+L$150*LOG('Grunddaten KSH'!$H$50)+L$151*LOG('Grunddaten KSH'!$F$49)+'Lw KSH'!L$152*LOG('Grunddaten KSH'!$M$50)","v":17.4399447202224},{"$f":"M$149+M$150*LOG('Grunddaten KSH'!$H$50)+M$151*LOG('Grunddaten KSH'!$F$49)+'Lw KSH'!M$152*LOG('Grunddaten KSH'!$M$50)","v":13.074647909822758},{"$f":"N$149+N$150*LOG('Grunddaten KSH'!$H$50)+N$151*LOG('Grunddaten KSH'!$F$49)+'Lw KSH'!N$152*LOG('Grunddaten KSH'!$M$50)","v":11.897830978408479},{"$f":"O$149+O$150*LOG('Grunddaten KSH'!$H$50)+O$151*LOG('Grunddaten KSH'!$F$49)+'Lw KSH'!O$152*LOG('Grunddaten KSH'!$M$50)","v":9.8829360088160385},{"$f":"P$149+P$150*LOG('Grunddaten KSH'!$H$50)+P$151*LOG('Grunddaten KSH'!$F$49)+'Lw KSH'!P$152*LOG('Grunddaten KSH'!$M$50)","v":11.67296822797995},{"$f":"Q$149+Q$150*LOG('Grunddaten KSH'!$H$50)+Q$151*LOG('Grunddaten KSH'!$F$49)+'Lw KSH'!Q$152*LOG('Grunddaten KSH'!$M$50)","v":11.305554165002336},{"$f":"R$149+R$150*LOG('Grunddaten KSH'!$H$50)+R$151*LOG('Grunddaten KSH'!$F$49)+'Lw KSH'!R$152*LOG('Grunddaten KSH'!$M$50)","v":13.368015135817469},{"$f":"S$149+S$150*LOG('Grunddaten KSH'!$H$50)+S$151*LOG('Grunddaten KSH'!$F$49)+'Lw KSH'!S$152*LOG('Grunddaten KSH'!$M$50)","v":14.886646465856},{"$f":"T$149+T$150*LOG('Grunddaten KSH'!$H$50)+T$151*LOG('Grunddaten KSH'!$F$49)+'Lw KSH'!T$152*LOG('Grunddaten KSH'!$M$50)","v":16.82667240384923},{"$f":"U$149+U$150*LOG('Grunddaten KSH'!$H$50)+U$151*LOG('Grunddaten KSH'!$F$49)+'Lw KSH'!U$152*LOG('Grunddaten KSH'!$M$50)","v":16.614069460699753},{"$f":"V$149+V$150*LOG('Grunddaten KSH'!$H$50)+V$151*LOG('Grunddaten KSH'!$F$49)+'Lw KSH'!V$152*LOG('Grunddaten KSH'!$M$50)","v":20.646337681384296},32.671017195266813]
["KSHABLE5002",{"$f":"B$153+B$154*LOG('Grunddaten KSH'!$H$50)+B$155*LOG('Grunddaten KSH'!$F$49)+'Lw KSH'!B$156*LOG('Grunddaten KSH'!$M$50)","v":23.053276778347769},{"$f":"C$153+C$154*LOG('Grunddaten KSH'!$H$50)+C$155*LOG('Grunddaten KSH'!$F$49)+'Lw KSH'!C$156*LOG('Grunddaten KSH'!$M$50)","v":30.80984911362679},{"$f":"D$153+D$154*LOG('Grunddaten KSH'!$H$50)+D$155*LOG('Grunddaten KSH'!$F$49)+'Lw KSH'!D$156*LOG('Grunddaten KSH'!$M$50)","v":43.066001980249112},{"$f":"E$153+E$154*LOG('Grunddaten KSH'!$H$50)+E$155*LOG('Grunddaten KSH'!$F$49)+'Lw KSH'!E$156*LOG('Grunddaten KSH'!$M$50)","v":21.162694979642986},{"$f":"F$153+F$154*LOG('Grunddaten KSH'!$H$50)+F$155*LOG('Grunddaten KSH'!$F$49)+'Lw KSH'!F$156*LOG('Grunddaten KSH'!$M$50)","v":33.94448148207578},{"$f":"G$153+G$154*LOG('Grunddaten KSH'!$H$50)+G$155*LOG('Grunddaten KSH'!$F$49)+'Lw KSH'!G$156*LOG('Grunddaten KSH'!$M$50)","v":41.768110211875644},{"$f":"H$153+H$154*LOG('Grunddaten KSH'!$H$50)+H$155*LOG('Grunddaten KSH'!$F$49)+'Lw KSH'!H$156*LOG('Grunddaten KSH'!$M$50)","v":45.473053420724924},{"$f":"I$153+I$154*LOG('Grunddaten KSH'!$H$50)+I$155*LOG('Grunddaten KSH'!$F$49)+'Lw KSH'!I$156*LOG('Grunddaten KSH'!$M$50)","v":42.135192980096853},{"$f":"J$153+J$154*LOG('Grunddaten KSH'!$H$50)+J$155*LOG('Grunddaten KSH'!$F$49)+'Lw KSH'!J$156*LOG('Grunddaten KSH'!$M$50)","v":40.316301570365297},{"$f":"K$153+K$154*LOG('Grunddaten KSH'!$H$50)+K$155*LOG('Grunddaten KSH'!$F$49)+'Lw KSH'!K$156*LOG('Grunddaten KSH'!$M$50)","v":37.32691344075748},{"$f":"L$153+L$154*LOG('Grunddaten KSH'!$H$50)+L$155*LOG('Grunddaten KSH'!$F$49)+'Lw KSH'!L$156*LOG('Grunddaten KSH'!$M$50)","v":43.250934226250564},{"$f":"M$153+M$154*LOG('Grunddaten KSH'!$H$50)+M$155*LOG('Grunddaten KSH'!$F$49)+'Lw KSH'!M$156*LOG('Grunddaten KSH'!$M$50)","v":36.498806027963511},{"$f":"N$153+N$154*LOG('Grunddaten KSH'!$H$50)+N$155*LOG('Grunddaten KSH'!$F$49)+'Lw KSH'!N$156*LOG('Grunddaten KSH'!$M$50)","v":31.659125901426563},{"$f":"O$153+O$154*LOG('Grunddaten KSH'!$H$50)+O$155*LOG('Grunddaten KSH'!$F$49)+'Lw KSH'!O$156*LOG('Grunddaten KSH'!$M$50)","v":35.599795086061135},{"$f":"P$153+P$154*LOG('Grunddaten KSH'!$H$50)+P$155*LOG('Grunddaten KSH'!$F$49)+'Lw KSH'!P$156*LOG('Grunddaten KSH'!$M$50)","v":37.103838859976015},{"$f":"Q$153+Q$154*LOG('Grunddaten KSH'!$H$50)+Q$155*LOG('Grunddaten KSH'!$F$49)+'Lw KSH'!Q$156*LOG('Grunddaten KSH'!$M$50)","v":31.60317783580988},{"$f":"R$153+R$154*LOG('Grunddaten KSH'!$H$50)+R$155*LOG('Grunddaten KSH'!$F$49)+'Lw KSH'!R$156*LOG('Grunddaten KSH'!$M$50)","v":29.81998198869762},{"$f":"S$153+S$154*LOG('Grunddaten KSH'!$H$50)+S$155*LOG('Grunddaten KSH'!$F$49)+'Lw KSH'!S$156*LOG('Grunddaten KSH'!$M$50)","v":24.077020727484854},{"$f":"T$153+T$154*LOG('Grunddaten KSH'!$H$50)+T$155*LOG('Grunddaten KSH'!$F$49)+'Lw KSH'!T$156*LOG('Grunddaten KSH'!$M$50)","v":20.863924286643236},{"$f":"U$153+U$154*LOG('Grunddaten KSH'!$H$50)+U$155*LOG('Grunddaten KSH'!$F$49)+'Lw KSH'!U$156*LOG('Grunddaten KSH'!$M$50)","v":18.485702524912423},{"$f":"V$153+V$154*LOG('Grunddaten KSH'!$H$50)+V$155*LOG('Grunddaten KSH'!$F$49)+'Lw KSH'!V$156*LOG('Grunddaten KSH'!$M$50)","v":16.950397762115042},51.637860713505923]
["KSHABLE6002",{"$f":"B$153+B$154*LOG('Grunddaten KSH'!$H$50)+B$155*LOG('Grunddaten KSH'!$F$49)+'Lw KSH'!B$156*LOG('Grunddaten KSH'!$M$50)","v":23.053276778347769},{"$f":"C$153+C$154*LOG('Grunddaten KSH'!$H$50)+C$155*LOG('Grunddaten KSH'!$F$49)+'Lw KSH'!C$156*LOG('Grunddaten KSH'!$M$50)","v":30.80984911362679},{"$f":"D$153+D$154*LOG('Grunddaten KSH'!$H$50)+D$155*LOG('Grunddaten KSH'!$F$49)+'Lw KSH'!D$156*LOG('Grunddaten KSH'!$M$50)","v":43.066001980249112},{"$f":"E$153+E$154*LOG('Grunddaten KSH'!$H$50)+E$155*LOG('Grunddaten KSH'!$F$49)+'Lw KSH'!E$156*LOG('Grunddaten KSH'!$M$50)","v":21.162694979642986},{"$f":"F$153+F$154*LOG('Grunddaten KSH'!$H$50)+F$155*LOG('Grunddaten KSH'!$F$49)+'Lw KSH'!F$156*LOG('Grunddaten KSH'!$M$50)","v":33.94448148207578},{"$f":"G$153+G$154*LOG('Grunddaten KSH'!$H$50)+G$155*LOG('Grunddaten KSH'!$F$49)+'Lw KSH'!G$156*LOG('Grunddaten KSH'!$M$50)","v":41.768110211875644},{"$f":"H$153+H$154*LOG('Grunddaten KSH'!$H$50)+H$155*LOG('Grunddaten KSH'!$F$49)+'Lw KSH'!H$156*LOG('Grunddaten KSH'!$M$50)","v":45.473053420724924},{"$f":"I$153+I$154*LOG('Grunddaten KSH'!$H$50)+I$155*LOG('Grunddaten KSH'!$F$49)+'Lw KSH'!I$156*LOG('Grunddaten KSH'!$M$50)","v":42.135192980096853},{"$f":"J$153+J$154*LOG('Grunddaten KSH'!$H$50)+J$155*LOG('Grunddaten KSH'!$F$49)+'Lw KSH'!J$156*LOG('Grunddaten KSH'!$M$50)","v":40.316301570365297},{"$f":"K$153+K$154*LOG('Grunddaten KSH'!$H$50)+K$155*LOG('Grunddaten KSH'!$F$49)+'Lw KSH'!K$156*LOG('Grunddaten KSH'!$M$50)","v":37.32691344075748},{"$f":"L$153+L$154*LOG('Grunddaten KSH'!$H$50)+L$155*LOG('Grunddaten KSH'!$F$49)+'Lw KSH'!L$156*LOG('Grunddaten KSH'!$M$50)","v":43.250934226250564},{"$f":"M$153+M$154*LOG('Grunddaten KSH'!$H$50)+M$155*LOG('Grunddaten KSH'!$F$49)+'Lw KSH'!M$156*LOG('Grunddaten KSH'!$M$50)","v":36.498806027963511},{"$f":"N$153+N$154*LOG('Grunddaten KSH'!$H$50)+N$155*LOG('Grunddaten KSH'!$F$49)+'Lw KSH'!N$156*LOG('Grunddaten KSH'!$M$50)","v":31.659125901426563},{"$f":"O$153+O$154*LOG('Grunddaten KSH'!$H$50)+O$155*LOG('Grunddaten KSH'!$F$49)+'Lw KSH'!O$156*LOG('Grunddaten KSH'!$M$50)","v":35.599795086061135},{"$f":"P$153+P$154*LOG('Grunddaten KSH'!$H$50)+P$155*LOG('Grunddaten KSH'!$F$49)+'Lw KSH'!P$156*LOG('Grunddaten KSH'!$M$50)","v":37.103838859976015},{"$f":"Q$153+Q$154*LOG('Grunddaten KSH'!$H$50)+Q$155*LOG('Grunddaten KSH'!$F$49)+'Lw KSH'!Q$156*LOG('Grunddaten KSH'!$M$50)","v":31.60317783580988},{"$f":"R$153+R$154*LOG('Grunddaten KSH'!$H$50)+R$155*LOG('Grunddaten KSH'!$F$49)+'Lw KSH'!R$156*LOG('Grunddaten KSH'!$M$50)","v":29.81998198869762},{"$f":"S$153+S$154*LOG('Grunddaten KSH'!$H$50)+S$155*LOG('Grunddaten KSH'!$F$49)+'Lw KSH'!S$156*LOG('Grunddaten KSH'!$M$50)","v":24.077020727484854},{"$f":"T$153+T$154*LOG('Grunddaten KSH'!$H$50)+T$155*LOG('Grunddaten KSH'!$F$49)+'Lw KSH'!T$156*LOG('Grunddaten KSH'!$M$50)","v":20.863924286643236},{"$f":"U$153+U$154*LOG('Grunddaten KSH'!$H$50)+U$155*LOG('Grunddaten KSH'!$F$49)+'Lw KSH'!U$156*LOG('Grunddaten KSH'!$M$50)","v":18.485702524912423},{"$f":"V$153+V$154*LOG('Grunddaten KSH'!$H$50)+V$155*LOG('Grunddaten KSH'!$F$49)+'Lw KSH'!V$156*LOG('Grunddaten KSH'!$M$50)","v":16.950397762115042},51.637860713505923]
["KSHABLE8002",{"$f":"B$153+B$154*LOG('Grunddaten KSH'!$H$50)+B$155*LOG('Grunddaten KSH'!$F$49)+'Lw KSH'!B$156*LOG('Grunddaten KSH'!$M$50)","v":23.053276778347769},{"$f":"C$153+C$154*LOG('Grunddaten KSH'!$H$50)+C$155*LOG('Grunddaten KSH'!$F$49)+'Lw KSH'!C$156*LOG('Grunddaten KSH'!$M$50)","v":30.80984911362679},{"$f":"D$153+D$154*LOG('Grunddaten KSH'!$H$50)+D$155*LOG('Grunddaten KSH'!$F$49)+'Lw KSH'!D$156*LOG('Grunddaten KSH'!$M$50)","v":43.066001980249112},{"$f":"E$153+E$154*LOG('Grunddaten KSH'!$H$50)+E$155*LOG('Grunddaten KSH'!$F$49)+'Lw KSH'!E$156*LOG('Grunddaten KSH'!$M$50)","v":21.162694979642986},{"$f":"F$153+F$154*LOG('Grunddaten KSH'!$H$50)+F$155*LOG('Grunddaten KSH'!$F$49)+'Lw KSH'!F$156*LOG('Grunddaten KSH'!$M$50)","v":33.94448148207578},{"$f":"G$153+G$154*LOG('Grunddaten KSH'!$H$50)+G$155*LOG('Grunddaten KSH'!$F$49)+'Lw KSH'!G$156*LOG('Grunddaten KSH'!$M$50)","v":41.768110211875644},{"$f":"H$153+H$154*LOG('Grunddaten KSH'!$H$50)+H$155*LOG('Grunddaten KSH'!$F$49)+'Lw KSH'!H$156*LOG('Grunddaten KSH'!$M$50)","v":45.473053420724924},{"$f":"I$153+I$154*LOG('Grunddaten KSH'!$H$50)+I$155*LOG('Grunddaten KSH'!$F$49)+'Lw KSH'!I$156*LOG('Grunddaten KSH'!$M$50)","v":42.135192980096853},{"$f":"J$153+J$154*LOG('Grunddaten KSH'!$H$50)+J$155*LOG('Grunddaten KSH'!$F$49)+'Lw KSH'!J$156*LOG('Grunddaten KSH'!$M$50)","v":40.316301570365297},{"$f":"K$153+K$154*LOG('Grunddaten KSH'!$H$50)+K$155*LOG('Grunddaten KSH'!$F$49)+'Lw KSH'!K$156*LOG('Grunddaten KSH'!$M$50)","v":37.32691344075748},{"$f":"L$153+L$154*LOG('Grunddaten KSH'!$H$50)+L$155*LOG('Grunddaten KSH'!$F$49)+'Lw KSH'!L$156*LOG('Grunddaten KSH'!$M$50)","v":43.250934226250564},{"$f":"M$153+M$154*LOG('Grunddaten KSH'!$H$50)+M$155*LOG('Grunddaten KSH'!$F$49)+'Lw KSH'!M$156*LOG('Grunddaten KSH'!$M$50)","v":36.498806027963511},{"$f":"N$153+N$154*LOG('Grunddaten KSH'!$H$50)+N$155*LOG('Grunddaten KSH'!$F$49)+'Lw KSH'!N$156*LOG('Grunddaten KSH'!$M$50)","v":31.659125901426563},{"$f":"O$153+O$154*LOG('Grunddaten KSH'!$H$50)+O$155*LOG('Grunddaten KSH'!$F$49)+'Lw KSH'!O$156*LOG('Grunddaten KSH'!$M$50)","v":35.599795086061135},{"$f":"P$153+P$154*LOG('Grunddaten KSH'!$H$50)+P$155*LOG('Grunddaten KSH'!$F$49)+'Lw KSH'!P$156*LOG('Grunddaten KSH'!$M$50)","v":37.103838859976015},{"$f":"Q$153+Q$154*LOG('Grunddaten KSH'!$H$50)+Q$155*LOG('Grunddaten KSH'!$F$49)+'Lw KSH'!Q$156*LOG('Grunddaten KSH'!$M$50)","v":31.60317783580988},{"$f":"R$153+R$154*LOG('Grunddaten KSH'!$H$50)+R$155*LOG('Grunddaten KSH'!$F$49)+'Lw KSH'!R$156*LOG('Grunddaten KSH'!$M$50)","v":29.81998198869762},{"$f":"S$153+S$154*LOG('Grunddaten KSH'!$H$50)+S$155*LOG('Grunddaten KSH'!$F$49)+'Lw KSH'!S$156*LOG('Grunddaten KSH'!$M$50)","v":24.077020727484854},{"$f":"T$153+T$154*LOG('Grunddaten KSH'!$H$50)+T$155*LOG('Grunddaten KSH'!$F$49)+'Lw KSH'!T$156*LOG('Grunddaten KSH'!$M$50)","v":20.863924286643236},{"$f":"U$153+U$154*LOG('Grunddaten KSH'!$H$50)+U$155*LOG('Grunddaten KSH'!$F$49)+'Lw KSH'!U$156*LOG('Grunddaten KSH'!$M$50)","v":18.485702524912423},{"$f":"V$153+V$154*LOG('Grunddaten KSH'!$H$50)+V$155*LOG('Grunddaten KSH'!$F$49)+'Lw KSH'!V$156*LOG('Grunddaten KSH'!$M$50)","v":16.950397762115042},51.637860713505923]
["KSHABLE10002",{"$f":"B$153+B$154*LOG('Grunddaten KSH'!$H$50)+B$155*LOG('Grunddaten KSH'!$F$49)+'Lw KSH'!B$156*LOG('Grunddaten KSH'!$M$50)","v":23.053276778347769},{"$f":"C$153+C$154*LOG('Grunddaten KSH'!$H$50)+C$155*LOG('Grunddaten KSH'!$F$49)+'Lw KSH'!C$156*LOG('Grunddaten KSH'!$M$50)","v":30.80984911362679},{"$f":"D$153+D$154*LOG('Grunddaten KSH'!$H$50)+D$155*LOG('Grunddaten KSH'!$F$49)+'Lw KSH'!D$156*LOG('Grunddaten KSH'!$M$50)","v":43.066001980249112},{"$f":"E$153+E$154*LOG('Grunddaten KSH'!$H$50)+E$155*LOG('Grunddaten KSH'!$F$49)+'Lw KSH'!E$156*LOG('Grunddaten KSH'!$M$50)","v":21.162694979642986},{"$f":"F$153+F$154*LOG('Grunddaten KSH'!$H$50)+F$155*LOG('Grunddaten KSH'!$F$49)+'Lw KSH'!F$156*LOG('Grunddaten KSH'!$M$50)","v":33.94448148207578},{"$f":"G$153+G$154*LOG('Grunddaten KSH'!$H$50)+G$155*LOG('Grunddaten KSH'!$F$49)+'Lw KSH'!G$156*LOG('Grunddaten KSH'!$M$50)","v":41.768110211875644},{"$f":"H$153+H$154*LOG('Grunddaten KSH'!$H$50)+H$155*LOG('Grunddaten KSH'!$F$49)+'Lw KSH'!H$156*LOG('Grunddaten KSH'!$M$50)","v":45.473053420724924},{"$f":"I$153+I$154*LOG('Grunddaten KSH'!$H$50)+I$155*LOG('Grunddaten KSH'!$F$49)+'Lw KSH'!I$156*LOG('Grunddaten KSH'!$M$50)","v":42.135192980096853},{"$f":"J$153+J$154*LOG('Grunddaten KSH'!$H$50)+J$155*LOG('Grunddaten KSH'!$F$49)+'Lw KSH'!J$156*LOG('Grunddaten KSH'!$M$50)","v":40.316301570365297},{"$f":"K$153+K$154*LOG('Grunddaten KSH'!$H$50)+K$155*LOG('Grunddaten KSH'!$F$49)+'Lw KSH'!K$156*LOG('Grunddaten KSH'!$M$50)","v":37.32691344075748},{"$f":"L$153+L$154*LOG('Grunddaten KSH'!$H$50)+L$155*LOG('Grunddaten KSH'!$F$49)+'Lw KSH'!L$156*LOG('Grunddaten KSH'!$M$50)","v":43.250934226250564},{"$f":"M$153+M$154*LOG('Grunddaten KSH'!$H$50)+M$155*LOG('Grunddaten KSH'!$F$49)+'Lw KSH'!M$156*LOG('Grunddaten KSH'!$M$50)","v":36.498806027963511},{"$f":"N$153+N$154*LOG('Grunddaten KSH'!$H$50)+N$155*LOG('Grunddaten KSH'!$F$49)+'Lw KSH'!N$156*LOG('Grunddaten KSH'!$M$50)","v":31.659125901426563},{"$f":"O$153+O$154*LOG('Grunddaten KSH'!$H$50)+O$155*LOG('Grunddaten KSH'!$F$49)+'Lw KSH'!O$156*LOG('Grunddaten KSH'!$M$50)","v":35.599795086061135},{"$f":"P$153+P$154*LOG('Grunddaten KSH'!$H$50)+P$155*LOG('Grunddaten KSH'!$F$49)+'Lw KSH'!P$156*LOG('Grunddaten KSH'!$M$50)","v":37.103838859976015},{"$f":"Q$153+Q$154*LOG('Grunddaten KSH'!$H$50)+Q$155*LOG('Grunddaten KSH'!$F$49)+'Lw KSH'!Q$156*LOG('Grunddaten KSH'!$M$50)","v":31.60317783580988},{"$f":"R$153+R$154*LOG('Grunddaten KSH'!$H$50)+R$155*LOG('Grunddaten KSH'!$F$49)+'Lw KSH'!R$156*LOG('Grunddaten KSH'!$M$50)","v":29.81998198869762},{"$f":"S$153+S$154*LOG('Grunddaten KSH'!$H$50)+S$155*LOG('Grunddaten KSH'!$F$49)+'Lw KSH'!S$156*LOG('Grunddaten KSH'!$M$50)","v":24.077020727484854},{"$f":"T$153+T$154*LOG('Grunddaten KSH'!$H$50)+T$155*LOG('Grunddaten KSH'!$F$49)+'Lw KSH'!T$156*LOG('Grunddaten KSH'!$M$50)","v":20.863924286643236},{"$f":"U$153+U$154*LOG('Grunddaten KSH'!$H$50)+U$155*LOG('Grunddaten KSH'!$F$49)+'Lw KSH'!U$156*LOG('Grunddaten KSH'!$M$50)","v":18.485702524912423},{"$f":"V$153+V$154*LOG('Grunddaten KSH'!$H$50)+V$155*LOG('Grunddaten KSH'!$F$49)+'Lw KSH'!V$156*LOG('Grunddaten KSH'!$M$50)","v":16.950397762115042},51.637860713505923]
["KSHABLE12002",{"$f":"B$153+B$154*LOG('Grunddaten KSH'!$H$50)+B$155*LOG('Grunddaten KSH'!$F$49)+'Lw KSH'!B$156*LOG('Grunddaten KSH'!$M$50)","v":23.053276778347769},{"$f":"C$153+C$154*LOG('Grunddaten KSH'!$H$50)+C$155*LOG('Grunddaten KSH'!$F$49)+'Lw KSH'!C$156*LOG('Grunddaten KSH'!$M$50)","v":30.80984911362679},{"$f":"D$153+D$154*LOG('Grunddaten KSH'!$H$50)+D$155*LOG('Grunddaten KSH'!$F$49)+'Lw KSH'!D$156*LOG('Grunddaten KSH'!$M$50)","v":43.066001980249112},{"$f":"E$153+E$154*LOG('Grunddaten KSH'!$H$50)+E$155*LOG('Grunddaten KSH'!$F$49)+'Lw KSH'!E$156*LOG('Grunddaten KSH'!$M$50)","v":21.162694979642986},{"$f":"F$153+F$154*LOG('Grunddaten KSH'!$H$50)+F$155*LOG('Grunddaten KSH'!$F$49)+'Lw KSH'!F$156*LOG('Grunddaten KSH'!$M$50)","v":33.94448148207578},{"$f":"G$153+G$154*LOG('Grunddaten KSH'!$H$50)+G$155*LOG('Grunddaten KSH'!$F$49)+'Lw KSH'!G$156*LOG('Grunddaten KSH'!$M$50)","v":41.768110211875644},{"$f":"H$153+H$154*LOG('Grunddaten KSH'!$H$50)+H$155*LOG('Grunddaten KSH'!$F$49)+'Lw KSH'!H$156*LOG('Grunddaten KSH'!$M$50)","v":45.473053420724924},{"$f":"I$153+I$154*LOG('Grunddaten KSH'!$H$50)+I$155*LOG('Grunddaten KSH'!$F$49)+'Lw KSH'!I$156*LOG('Grunddaten KSH'!$M$50)","v":42.135192980096853},{"$f":"J$153+J$154*LOG('Grunddaten KSH'!$H$50)+J$155*LOG('Grunddaten KSH'!$F$49)+'Lw KSH'!J$156*LOG('Grunddaten KSH'!$M$50)","v":40.316301570365297},{"$f":"K$153+K$154*LOG('Grunddaten KSH'!$H$50)+K$155*LOG('Grunddaten KSH'!$F$49)+'Lw KSH'!K$156*LOG('Grunddaten KSH'!$M$50)","v":37.32691344075748},{"$f":"L$153+L$154*LOG('Grunddaten KSH'!$H$50)+L$155*LOG('Grunddaten KSH'!$F$49)+'Lw KSH'!L$156*LOG('Grunddaten KSH'!$M$50)","v":43.250934226250564},{"$f":"M$153+M$154*LOG('Grunddaten KSH'!$H$50)+M$155*LOG('Grunddaten KSH'!$F$49)+'Lw KSH'!M$156*LOG('Grunddaten KSH'!$M$50)","v":36.498806027963511},{"$f":"N$153+N$154*LOG('Grunddaten KSH'!$H$50)+N$155*LOG('Grunddaten KSH'!$F$49)+'Lw KSH'!N$156*LOG('Grunddaten KSH'!$M$50)","v":31.659125901426563},{"$f":"O$153+O$154*LOG('Grunddaten KSH'!$H$50)+O$155*LOG('Grunddaten KSH'!$F$49)+'Lw KSH'!O$156*LOG('Grunddaten KSH'!$M$50)","v":35.599795086061135},{"$f":"P$153+P$154*LOG('Grunddaten KSH'!$H$50)+P$155*LOG('Grunddaten KSH'!$F$49)+'Lw KSH'!P$156*LOG('Grunddaten KSH'!$M$50)","v":37.103838859976015},{"$f":"Q$153+Q$154*LOG('Grunddaten KSH'!$H$50)+Q$155*LOG('Grunddaten KSH'!$F$49)+'Lw KSH'!Q$156*LOG('Grunddaten KSH'!$M$50)","v":31.60317783580988},{"$f":"R$153+R$154*LOG('Grunddaten KSH'!$H$50)+R$155*LOG('Grunddaten KSH'!$F$49)+'Lw KSH'!R$156*LOG('Grunddaten KSH'!$M$50)","v":29.81998198869762},{"$f":"S$153+S$154*LOG('Grunddaten KSH'!$H$50)+S$155*LOG('Grunddaten KSH'!$F$49)+'Lw KSH'!S$156*LOG('Grunddaten KSH'!$M$50)","v":24.077020727484854},{"$f":"T$153+T$154*LOG('Grunddaten KSH'!$H$50)+T$155*LOG('Grunddaten KSH'!$F$49)+'Lw KSH'!T$156*LOG('Grunddaten KSH'!$M$50)","v":20.863924286643236},{"$f":"U$153+U$154*LOG('Grunddaten KSH'!$H$50)+U$155*LOG('Grunddaten KSH'!$F$49)+'Lw KSH'!U$156*LOG('Grunddaten KSH'!$M$50)","v":18.485702524912423},{"$f":"V$153+V$154*LOG('Grunddaten KSH'!$H$50)+V$155*LOG('Grunddaten KSH'!$F$49)+'Lw KSH'!V$156*LOG('Grunddaten KSH'!$M$50)","v":16.950397762115042},51.637860713505923]
["KSHZUL5003",{"$f":"B$157+B$158*LOG('Grunddaten KSH'!$G$49)+B$159*LOG('Grunddaten KSH'!$F$49)+'Lw KSH'!B$160*LOG('Grunddaten KSH'!$L$49)","v":18.122005665349455},{"$f":"C$157+C$158*LOG('Grunddaten KSH'!$G$49)+C$159*LOG('Grunddaten KSH'!$F$49)+'Lw KSH'!C$160*LOG('Grunddaten KSH'!$L$49)","v":14.124050545905817},{"$f":"D$157+D$158*LOG('Grunddaten KSH'!$G$49)+D$159*LOG('Grunddaten KSH'!$F$49)+'Lw KSH'!D$160*LOG('Grunddaten KSH'!$L$49)","v":20.176375807144147},{"$f":"E$157+E$158*LOG('Grunddaten KSH'!$G$49)+E$159*LOG('Grunddaten KSH'!$F$49)+'Lw KSH'!E$160*LOG('Grunddaten KSH'!$L$49)","v":21.194627526770532},{"$f":"F$157+F$158*LOG('Grunddaten KSH'!$G$49)+F$159*LOG('Grunddaten KSH'!$F$49)+'Lw KSH'!F$160*LOG('Grunddaten KSH'!$L$49)","v":26.678615120288988},{"$f":"G$157+G$158*LOG('Grunddaten KSH'!$G$49)+G$159*LOG('Grunddaten KSH'!$F$49)+'Lw KSH'!G$160*LOG('Grunddaten KSH'!$L$49)","v":27.132610478115602},{"$f":"H$157+H$158*LOG('Grunddaten KSH'!$G$49)+H$159*LOG('Grunddaten KSH'!$F$49)+'Lw KSH'!H$160*LOG('Grunddaten KSH'!$L$49)","v":26.68415120407402},{"$f":"I$157+I$158*LOG('Grunddaten KSH'!$G$49)+I$159*LOG('Grunddaten KSH'!$F$49)+'Lw KSH'!I$160*LOG('Grunddaten KSH'!$L$49)","v":26.803104192488703},{"$f":"J$157+J$158*LOG('Grunddaten KSH'!$G$49)+J$159*LOG('Grunddaten KSH'!$F$49)+'Lw KSH'!J$160*LOG('Grunddaten KSH'!$L$49)","v":25.389640174372317},{"$f":"K$157+K$158*LOG('Grunddaten KSH'!$G$49)+K$159*LOG('Grunddaten KSH'!$F$49)+'Lw KSH'!K$160*LOG('Grunddaten KSH'!$L$49)","v":25.68086683679833},{"$f":"L$157+L$158*LOG('Grunddaten KSH'!$G$49)+L$159*LOG('Grunddaten KSH'!$F$49)+'Lw KSH'!L$160*LOG('Grunddaten KSH'!$L$49)","v":23.886581134390706},{"$f":"M$157+M$158*LOG('Grunddaten KSH'!$G$49)+M$159*LOG('Grunddaten KSH'!$F$49)+'Lw KSH'!M$160*LOG('Grunddaten KSH'!$L$49)","v":21.9039611027261},{"$f":"N$157+N$158*LOG('Grunddaten KSH'!$G$49)+N$159*LOG('Grunddaten KSH'!$F$49)+'Lw KSH'!N$160*LOG('Grunddaten KSH'!$L$49)","v":21.26826721242324},{"$f":"O$157+O$158*LOG('Grunddaten KSH'!$G$49)+O$159*LOG('Grunddaten KSH'!$F$49)+'Lw KSH'!O$160*LOG('Grunddaten KSH'!$L$49)","v":18.652431065620959},{"$f":"P$157+P$158*LOG('Grunddaten KSH'!$G$49)+P$159*LOG('Grunddaten KSH'!$F$49)+'Lw KSH'!P$160*LOG('Grunddaten KSH'!$L$49)","v":18.709204223322907},{"$f":"Q$157+Q$158*LOG('Grunddaten KSH'!$G$49)+Q$159*LOG('Grunddaten KSH'!$F$49)+'Lw KSH'!Q$160*LOG('Grunddaten KSH'!$L$49)","v":17.335911611253067},{"$f":"R$157+R$158*LOG('Grunddaten KSH'!$G$49)+R$159*LOG('Grunddaten KSH'!$F$49)+'Lw KSH'!R$160*LOG('Grunddaten KSH'!$L$49)","v":17.033755668549887},{"$f":"S$157+S$158*LOG('Grunddaten KSH'!$G$49)+S$159*LOG('Grunddaten KSH'!$F$49)+'Lw KSH'!S$160*LOG('Grunddaten KSH'!$L$49)","v":16.932611665696427},{"$f":"T$157+T$158*LOG('Grunddaten KSH'!$G$49)+T$159*LOG('Grunddaten KSH'!$F$49)+'Lw KSH'!T$160*LOG('Grunddaten KSH'!$L$49)","v":17.31909989575605},{"$f":"U$157+U$158*LOG('Grunddaten KSH'!$G$49)+U$159*LOG('Grunddaten KSH'!$F$49)+'Lw KSH'!U$160*LOG('Grunddaten KSH'!$L$49)","v":17.162654159083058},{"$f":"V$157+V$158*LOG('Grunddaten KSH'!$G$49)+V$159*LOG('Grunddaten KSH'!$F$49)+'Lw KSH'!V$160*LOG('Grunddaten KSH'!$L$49)","v":17.898545220226833},35.990537559118863]
["KSHZUL6003",{"$f":"B$157+B$158*LOG('Grunddaten KSH'!$G$49)+B$159*LOG('Grunddaten KSH'!$F$49)+'Lw KSH'!B$160*LOG('Grunddaten KSH'!$L$49)","v":18.122005665349455},{"$f":"C$157+C$158*LOG('Grunddaten KSH'!$G$49)+C$159*LOG('Grunddaten KSH'!$F$49)+'Lw KSH'!C$160*LOG('Grunddaten KSH'!$L$49)","v":14.124050545905817},{"$f":"D$157+D$158*LOG('Grunddaten KSH'!$G$49)+D$159*LOG('Grunddaten KSH'!$F$49)+'Lw KSH'!D$160*LOG('Grunddaten KSH'!$L$49)","v":20.176375807144147},{"$f":"E$157+E$158*LOG('Grunddaten KSH'!$G$49)+E$159*LOG('Grunddaten KSH'!$F$49)+'Lw KSH'!E$160*LOG('Grunddaten KSH'!$L$49)","v":21.194627526770532},{"$f":"F$157+F$158*LOG('Grunddaten KSH'!$G$49)+F$159*LOG('Grunddaten KSH'!$F$49)+'Lw KSH'!F$160*LOG('Grunddaten KSH'!$L$49)","v":26.678615120288988},{"$f":"G$157+G$158*LOG('Grunddaten KSH'!$G$49)+G$159*LOG('Grunddaten KSH'!$F$49)+'Lw KSH'!G$160*LOG('Grunddaten KSH'!$L$49)","v":27.132610478115602},{"$f":"H$157+H$158*LOG('Grunddaten KSH'!$G$49)+H$159*LOG('Grunddaten KSH'!$F$49)+'Lw KSH'!H$160*LOG('Grunddaten KSH'!$L$49)","v":26.68415120407402},{"$f":"I$157+I$158*LOG('Grunddaten KSH'!$G$49)+I$159*LOG('Grunddaten KSH'!$F$49)+'Lw KSH'!I$160*LOG('Grunddaten KSH'!$L$49)","v":26.803104192488703},{"$f":"J$157+J$158*LOG('Grunddaten KSH'!$G$49)+J$159*LOG('Grunddaten KSH'!$F$49)+'Lw KSH'!J$160*LOG('Grunddaten KSH'!$L$49)","v":25.389640174372317},{"$f":"K$157+K$158*LOG('Grunddaten KSH'!$G$49)+K$159*LOG('Grunddaten KSH'!$F$49)+'Lw KSH'!K$160*LOG('Grunddaten KSH'!$L$49)","v":25.68086683679833},{"$f":"L$157+L$158*LOG('Grunddaten KSH'!$G$49)+L$159*LOG('Grunddaten KSH'!$F$49)+'Lw KSH'!L$160*LOG('Grunddaten KSH'!$L$49)","v":23.886581134390706},{"$f":"M$157+M$158*LOG('Grunddaten KSH'!$G$49)+M$159*LOG('Grunddaten KSH'!$F$49)+'Lw KSH'!M$160*LOG('Grunddaten KSH'!$L$49)","v":21.9039611027261},{"$f":"N$157+N$158*LOG('Grunddaten KSH'!$G$49)+N$159*LOG('Grunddaten KSH'!$F$49)+'Lw KSH'!N$160*LOG('Grunddaten KSH'!$L$49)","v":21.26826721242324},{"$f":"O$157+O$158*LOG('Grunddaten KSH'!$G$49)+O$159*LOG('Grunddaten KSH'!$F$49)+'Lw KSH'!O$160*LOG('Grunddaten KSH'!$L$49)","v":18.652431065620959},{"$f":"P$157+P$158*LOG('Grunddaten KSH'!$G$49)+P$159*LOG('Grunddaten KSH'!$F$49)+'Lw KSH'!P$160*LOG('Grunddaten KSH'!$L$49)","v":18.709204223322907},{"$f":"Q$157+Q$158*LOG('Grunddaten KSH'!$G$49)+Q$159*LOG('Grunddaten KSH'!$F$49)+'Lw KSH'!Q$160*LOG('Grunddaten KSH'!$L$49)","v":17.335911611253067},{"$f":"R$157+R$158*LOG('Grunddaten KSH'!$G$49)+R$159*LOG('Grunddaten KSH'!$F$49)+'Lw KSH'!R$160*LOG('Grunddaten KSH'!$L$49)","v":17.033755668549887},{"$f":"S$157+S$158*LOG('Grunddaten KSH'!$G$49)+S$159*LOG('Grunddaten KSH'!$F$49)+'Lw KSH'!S$160*LOG('Grunddaten KSH'!$L$49)","v":16.932611665696427},{"$f":"T$157+T$158*LOG('Grunddaten KSH'!$G$49)+T$159*LOG('Grunddaten KSH'!$F$49)+'Lw KSH'!T$160*LOG('Grunddaten KSH'!$L$49)","v":17.31909989575605},{"$f":"U$157+U$158*LOG('Grunddaten KSH'!$G$49)+U$159*LOG('Grunddaten KSH'!$F$49)+'Lw KSH'!U$160*LOG('Grunddaten KSH'!$L$49)","v":17.162654159083058},{"$f":"V$157+V$158*LOG('Grunddaten KSH'!$G$49)+V$159*LOG('Grunddaten KSH'!$F$49)+'Lw KSH'!V$160*LOG('Grunddaten KSH'!$L$49)","v":17.898545220226833},35.990537559118863]
["KSHZUL8003",{"$f":"B$157+B$158*LOG('Grunddaten KSH'!$G$49)+B$159*LOG('Grunddaten KSH'!$F$49)+'Lw KSH'!B$160*LOG('Grunddaten KSH'!$L$49)","v":18.122005665349455},{"$f":"C$157+C$158*LOG('Grunddaten KSH'!$G$49)+C$159*LOG('Grunddaten KSH'!$F$49)+'Lw KSH'!C$160*LOG('Grunddaten KSH'!$L$49)","v":14.124050545905817},{"$f":"D$157+D$158*LOG('Grunddaten KSH'!$G$49)+D$159*LOG('Grunddaten KSH'!$F$49)+'Lw KSH'!D$160*LOG('Grunddaten KSH'!$L$49)","v":20.176375807144147},{"$f":"E$157+E$158*LOG('Grunddaten KSH'!$G$49)+E$159*LOG('Grunddaten KSH'!$F$49)+'Lw KSH'!E$160*LOG('Grunddaten KSH'!$L$49)","v":21.194627526770532},{"$f":"F$157+F$158*LOG('Grunddaten KSH'!$G$49)+F$159*LOG('Grunddaten KSH'!$F$49)+'Lw KSH'!F$160*LOG('Grunddaten KSH'!$L$49)","v":26.678615120288988},{"$f":"G$157+G$158*LOG('Grunddaten KSH'!$G$49)+G$159*LOG('Grunddaten KSH'!$F$49)+'Lw KSH'!G$160*LOG('Grunddaten KSH'!$L$49)","v":27.132610478115602},{"$f":"H$157+H$158*LOG('Grunddaten KSH'!$G$49)+H$159*LOG('Grunddaten KSH'!$F$49)+'Lw KSH'!H$160*LOG('Grunddaten KSH'!$L$49)","v":26.68415120407402},{"$f":"I$157+I$158*LOG('Grunddaten KSH'!$G$49)+I$159*LOG('Grunddaten KSH'!$F$49)+'Lw KSH'!I$160*LOG('Grunddaten KSH'!$L$49)","v":26.803104192488703},{"$f":"J$157+J$158*LOG('Grunddaten KSH'!$G$49)+J$159*LOG('Grunddaten KSH'!$F$49)+'Lw KSH'!J$160*LOG('Grunddaten KSH'!$L$49)","v":25.389640174372317},{"$f":"K$157+K$158*LOG('Grunddaten KSH'!$G$49)+K$159*LOG('Grunddaten KSH'!$F$49)+'Lw KSH'!K$160*LOG('Grunddaten KSH'!$L$49)","v":25.68086683679833},{"$f":"L$157+L$158*LOG('Grunddaten KSH'!$G$49)+L$159*LOG('Grunddaten KSH'!$F$49)+'Lw KSH'!L$160*LOG('Grunddaten KSH'!$L$49)","v":23.886581134390706},{"$f":"M$157+M$158*LOG('Grunddaten KSH'!$G$49)+M$159*LOG('Grunddaten KSH'!$F$49)+'Lw KSH'!M$160*LOG('Grunddaten KSH'!$L$49)","v":21.9039611027261},{"$f":"N$157+N$158*LOG('Grunddaten KSH'!$G$49)+N$159*LOG('Grunddaten KSH'!$F$49)+'Lw KSH'!N$160*LOG('Grunddaten KSH'!$L$49)","v":21.26826721242324},{"$f":"O$157+O$158*LOG('Grunddaten KSH'!$G$49)+O$159*LOG('Grunddaten KSH'!$F$49)+'Lw KSH'!O$160*LOG('Grunddaten KSH'!$L$49)","v":18.652431065620959},{"$f":"P$157+P$158*LOG('Grunddaten KSH'!$G$49)+P$159*LOG('Grunddaten KSH'!$F$49)+'Lw KSH'!P$160*LOG('Grunddaten KSH'!$L$49)","v":18.709204223322907},{"$f":"Q$157+Q$158*LOG('Grunddaten KSH'!$G$49)+Q$159*LOG('Grunddaten KSH'!$F$49)+'Lw KSH'!Q$160*LOG('Grunddaten KSH'!$L$49)","v":17.335911611253067},{"$f":"R$157+R$158*LOG('Grunddaten KSH'!$G$49)+R$159*LOG('Grunddaten KSH'!$F$49)+'Lw KSH'!R$160*LOG('Grunddaten KSH'!$L$49)","v":17.033755668549887},{"$f":"S$157+S$158*LOG('Grunddaten KSH'!$G$49)+S$159*LOG('Grunddaten KSH'!$F$49)+'Lw KSH'!S$160*LOG('Grunddaten KSH'!$L$49)","v":16.932611665696427},{"$f":"T$157+T$158*LOG('Grunddaten KSH'!$G$49)+T$159*LOG('Grunddaten KSH'!$F$49)+'Lw KSH'!T$160*LOG('Grunddaten KSH'!$L$49)","v":17.31909989575605},{"$f":"U$157+U$158*LOG('Grunddaten KSH'!$G$49)+U$159*LOG('Grunddaten KSH'!$F$49)+'Lw KSH'!U$160*LOG('Grunddaten KSH'!$L$49)","v":17.162654159083058},{"$f":"V$157+V$158*LOG('Grunddaten KSH'!$G$49)+V$159*LOG('Grunddaten KSH'!$F$49)+'Lw KSH'!V$160*LOG('Grunddaten KSH'!$L$49)","v":17.898545220226833},35.990537559118863]
["KSHZUL10003",{"$f":"B$157+B$158*LOG('Grunddaten KSH'!$G$49)+B$159*LOG('Grunddaten KSH'!$F$49)+'Lw KSH'!B$160*LOG('Grunddaten KSH'!$L$49)","v":18.122005665349455},{"$f":"C$157+C$158*LOG('Grunddaten KSH'!$G$49)+C$159*LOG('Grunddaten KSH'!$F$49)+'Lw KSH'!C$160*LOG('Grunddaten KSH'!$L$49)","v":14.124050545905817},{"$f":"D$157+D$158*LOG('Grunddaten KSH'!$G$49)+D$159*LOG('Grunddaten KSH'!$F$49)+'Lw KSH'!D$160*LOG('Grunddaten KSH'!$L$49)","v":20.176375807144147},{"$f":"E$157+E$158*LOG('Grunddaten KSH'!$G$49)+E$159*LOG('Grunddaten KSH'!$F$49)+'Lw KSH'!E$160*LOG('Grunddaten KSH'!$L$49)","v":21.194627526770532},{"$f":"F$157+F$158*LOG('Grunddaten KSH'!$G$49)+F$159*LOG('Grunddaten KSH'!$F$49)+'Lw KSH'!F$160*LOG('Grunddaten KSH'!$L$49)","v":26.678615120288988},{"$f":"G$157+G$158*LOG('Grunddaten KSH'!$G$49)+G$159*LOG('Grunddaten KSH'!$F$49)+'Lw KSH'!G$160*LOG('Grunddaten KSH'!$L$49)","v":27.132610478115602},{"$f":"H$157+H$158*LOG('Grunddaten KSH'!$G$49)+H$159*LOG('Grunddaten KSH'!$F$49)+'Lw KSH'!H$160*LOG('Grunddaten KSH'!$L$49)","v":26.68415120407402},{"$f":"I$157+I$158*LOG('Grunddaten KSH'!$G$49)+I$159*LOG('Grunddaten KSH'!$F$49)+'Lw KSH'!I$160*LOG('Grunddaten KSH'!$L$49)","v":26.803104192488703},{"$f":"J$157+J$158*LOG('Grunddaten KSH'!$G$49)+J$159*LOG('Grunddaten KSH'!$F$49)+'Lw KSH'!J$160*LOG('Grunddaten KSH'!$L$49)","v":25.389640174372317},{"$f":"K$157+K$158*LOG('Grunddaten KSH'!$G$49)+K$159*LOG('Grunddaten KSH'!$F$49)+'Lw KSH'!K$160*LOG('Grunddaten KSH'!$L$49)","v":25.68086683679833},{"$f":"L$157+L$158*LOG('Grunddaten KSH'!$G$49)+L$159*LOG('Grunddaten KSH'!$F$49)+'Lw KSH'!L$160*LOG('Grunddaten KSH'!$L$49)","v":23.886581134390706},{"$f":"M$157+M$158*LOG('Grunddaten KSH'!$G$49)+M$159*LOG('Grunddaten KSH'!$F$49)+'Lw KSH'!M$160*LOG('Grunddaten KSH'!$L$49)","v":21.9039611027261},{"$f":"N$157+N$158*LOG('Grunddaten KSH'!$G$49)+N$159*LOG('Grunddaten KSH'!$F$49)+'Lw KSH'!N$160*LOG('Grunddaten KSH'!$L$49)","v":21.26826721242324},{"$f":"O$157+O$158*LOG('Grunddaten KSH'!$G$49)+O$159*LOG('Grunddaten KSH'!$F$49)+'Lw KSH'!O$160*LOG('Grunddaten KSH'!$L$49)","v":18.652431065620959},{"$f":"P$157+P$158*LOG('Grunddaten KSH'!$G$49)+P$159*LOG('Grunddaten KSH'!$F$49)+'Lw KSH'!P$160*LOG('Grunddaten KSH'!$L$49)","v":18.709204223322907},{"$f":"Q$157+Q$158*LOG('Grunddaten KSH'!$G$49)+Q$159*LOG('Grunddaten KSH'!$F$49)+'Lw KSH'!Q$160*LOG('Grunddaten KSH'!$L$49)","v":17.335911611253067},{"$f":"R$157+R$158*LOG('Grunddaten KSH'!$G$49)+R$159*LOG('Grunddaten KSH'!$F$49)+'Lw KSH'!R$160*LOG('Grunddaten KSH'!$L$49)","v":17.033755668549887},{"$f":"S$157+S$158*LOG('Grunddaten KSH'!$G$49)+S$159*LOG('Grunddaten KSH'!$F$49)+'Lw KSH'!S$160*LOG('Grunddaten KSH'!$L$49)","v":16.932611665696427},{"$f":"T$157+T$158*LOG('Grunddaten KSH'!$G$49)+T$159*LOG('Grunddaten KSH'!$F$49)+'Lw KSH'!T$160*LOG('Grunddaten KSH'!$L$49)","v":17.31909989575605},{"$f":"U$157+U$158*LOG('Grunddaten KSH'!$G$49)+U$159*LOG('Grunddaten KSH'!$F$49)+'Lw KSH'!U$160*LOG('Grunddaten KSH'!$L$49)","v":17.162654159083058},{"$f":"V$157+V$158*LOG('Grunddaten KSH'!$G$49)+V$159*LOG('Grunddaten KSH'!$F$49)+'Lw KSH'!V$160*LOG('Grunddaten KSH'!$L$49)","v":17.898545220226833},35.990537559118863]
["KSHZUL12003",{"$f":"B$157+B$158*LOG('Grunddaten KSH'!$G$49)+B$159*LOG('Grunddaten KSH'!$F$49)+'Lw KSH'!B$160*LOG('Grunddaten KSH'!$L$49)","v":18.122005665349455},{"$f":"C$157+C$158*LOG('Grunddaten KSH'!$G$49)+C$159*LOG('Grunddaten KSH'!$F$49)+'Lw KSH'!C$160*LOG('Grunddaten KSH'!$L$49)","v":14.124050545905817},{"$f":"D$157+D$158*LOG('Grunddaten KSH'!$G$49)+D$159*LOG('Grunddaten KSH'!$F$49)+'Lw KSH'!D$160*LOG('Grunddaten KSH'!$L$49)","v":20.176375807144147},{"$f":"E$157+E$158*LOG('Grunddaten KSH'!$G$49)+E$159*LOG('Grunddaten KSH'!$F$49)+'Lw KSH'!E$160*LOG('Grunddaten KSH'!$L$49)","v":21.194627526770532},{"$f":"F$157+F$158*LOG('Grunddaten KSH'!$G$49)+F$159*LOG('Grunddaten KSH'!$F$49)+'Lw KSH'!F$160*LOG('Grunddaten KSH'!$L$49)","v":26.678615120288988},{"$f":"G$157+G$158*LOG('Grunddaten KSH'!$G$49)+G$159*LOG('Grunddaten KSH'!$F$49)+'Lw KSH'!G$160*LOG('Grunddaten KSH'!$L$49)","v":27.132610478115602},{"$f":"H$157+H$158*LOG('Grunddaten KSH'!$G$49)+H$159*LOG('Grunddaten KSH'!$F$49)+'Lw KSH'!H$160*LOG('Grunddaten KSH'!$L$49)","v":26.68415120407402},{"$f":"I$157+I$158*LOG('Grunddaten KSH'!$G$49)+I$159*LOG('Grunddaten KSH'!$F$49)+'Lw KSH'!I$160*LOG('Grunddaten KSH'!$L$49)","v":26.803104192488703},{"$f":"J$157+J$158*LOG('Grunddaten KSH'!$G$49)+J$159*LOG('Grunddaten KSH'!$F$49)+'Lw KSH'!J$160*LOG('Grunddaten KSH'!$L$49)","v":25.389640174372317},{"$f":"K$157+K$158*LOG('Grunddaten KSH'!$G$49)+K$159*LOG('Grunddaten KSH'!$F$49)+'Lw KSH'!K$160*LOG('Grunddaten KSH'!$L$49)","v":25.68086683679833},{"$f":"L$157+L$158*LOG('Grunddaten KSH'!$G$49)+L$159*LOG('Grunddaten KSH'!$F$49)+'Lw KSH'!L$160*LOG('Grunddaten KSH'!$L$49)","v":23.886581134390706},{"$f":"M$157+M$158*LOG('Grunddaten KSH'!$G$49)+M$159*LOG('Grunddaten KSH'!$F$49)+'Lw KSH'!M$160*LOG('Grunddaten KSH'!$L$49)","v":21.9039611027261},{"$f":"N$157+N$158*LOG('Grunddaten KSH'!$G$49)+N$159*LOG('Grunddaten KSH'!$F$49)+'Lw KSH'!N$160*LOG('Grunddaten KSH'!$L$49)","v":21.26826721242324},{"$f":"O$157+O$158*LOG('Grunddaten KSH'!$G$49)+O$159*LOG('Grunddaten KSH'!$F$49)+'Lw KSH'!O$160*LOG('Grunddaten KSH'!$L$49)","v":18.652431065620959},{"$f":"P$157+P$158*LOG('Grunddaten KSH'!$G$49)+P$159*LOG('Grunddaten KSH'!$F$49)+'Lw KSH'!P$160*LOG('Grunddaten KSH'!$L$49)","v":18.709204223322907},{"$f":"Q$157+Q$158*LOG('Grunddaten KSH'!$G$49)+Q$159*LOG('Grunddaten KSH'!$F$49)+'Lw KSH'!Q$160*LOG('Grunddaten KSH'!$L$49)","v":17.335911611253067},{"$f":"R$157+R$158*LOG('Grunddaten KSH'!$G$49)+R$159*LOG('Grunddaten KSH'!$F$49)+'Lw KSH'!R$160*LOG('Grunddaten KSH'!$L$49)","v":17.033755668549887},{"$f":"S$157+S$158*LOG('Grunddaten KSH'!$G$49)+S$159*LOG('Grunddaten KSH'!$F$49)+'Lw KSH'!S$160*LOG('Grunddaten KSH'!$L$49)","v":16.932611665696427},{"$f":"T$157+T$158*LOG('Grunddaten KSH'!$G$49)+T$159*LOG('Grunddaten KSH'!$F$49)+'Lw KSH'!T$160*LOG('Grunddaten KSH'!$L$49)","v":17.31909989575605},{"$f":"U$157+U$158*LOG('Grunddaten KSH'!$G$49)+U$159*LOG('Grunddaten KSH'!$F$49)+'Lw KSH'!U$160*LOG('Grunddaten KSH'!$L$49)","v":17.162654159083058},{"$f":"V$157+V$158*LOG('Grunddaten KSH'!$G$49)+V$159*LOG('Grunddaten KSH'!$F$49)+'Lw KSH'!V$160*LOG('Grunddaten KSH'!$L$49)","v":17.898545220226833},35.990537559118863]
["KSHABLD5003",{"$f":"B$161+B$162*LOG('Grunddaten KSH'!$H$50)+B$163*LOG('Grunddaten KSH'!$F$49)+'Lw KSH'!B$164*LOG('Grunddaten KSH'!$M$50)","v":14.880327792710581},{"$f":"C$161+C$162*LOG('Grunddaten KSH'!$H$50)+C$163*LOG('Grunddaten KSH'!$F$49)+'Lw KSH'!C$164*LOG('Grunddaten KSH'!$M$50)","v":11.002210315742266},{"$f":"D$161+D$162*LOG('Grunddaten KSH'!$H$50)+D$163*LOG('Grunddaten KSH'!$F$49)+'Lw KSH'!D$164*LOG('Grunddaten KSH'!$M$50)","v":16.581498912349453},{"$f":"E$161+E$162*LOG('Grunddaten KSH'!$H$50)+E$163*LOG('Grunddaten KSH'!$F$49)+'Lw KSH'!E$164*LOG('Grunddaten KSH'!$M$50)","v":15.698476493343462},{"$f":"F$161+F$162*LOG('Grunddaten KSH'!$H$50)+F$163*LOG('Grunddaten KSH'!$F$49)+'Lw KSH'!F$164*LOG('Grunddaten KSH'!$M$50)","v":18.993422788570577},{"$f":"G$161+G$162*LOG('Grunddaten KSH'!$H$50)+G$163*LOG('Grunddaten KSH'!$F$49)+'Lw KSH'!G$164*LOG('Grunddaten KSH'!$M$50)","v":19.676099534215627},{"$f":"H$161+H$162*LOG('Grunddaten KSH'!$H$50)+H$163*LOG('Grunddaten KSH'!$F$49)+'Lw KSH'!H$164*LOG('Grunddaten KSH'!$M$50)","v":18.908874524134866},{"$f":"I$161+I$162*LOG('Grunddaten KSH'!$H$50)+I$163*LOG('Grunddaten KSH'!$F$49)+'Lw KSH'!I$164*LOG('Grunddaten KSH'!$M$50)","v":19.089471064797319},{"$f":"J$161+J$162*LOG('Grunddaten KSH'!$H$50)+J$163*LOG('Grunddaten KSH'!$F$49)+'Lw KSH'!J$164*LOG('Grunddaten KSH'!$M$50)","v":16.979661447879515},{"$f":"K$161+K$162*LOG('Grunddaten KSH'!$H$50)+K$163*LOG('Grunddaten KSH'!$F$49)+'Lw KSH'!K$164*LOG('Grunddaten KSH'!$M$50)","v":14.33202011819856},{"$f":"L$161+L$162*LOG('Grunddaten KSH'!$H$50)+L$163*LOG('Grunddaten KSH'!$F$49)+'Lw KSH'!L$164*LOG('Grunddaten KSH'!$M$50)","v":12.226243346226301},{"$f":"M$161+M$162*LOG('Grunddaten KSH'!$H$50)+M$163*LOG('Grunddaten KSH'!$F$49)+'Lw KSH'!M$164*LOG('Grunddaten KSH'!$M$50)","v":10.026511363538521},{"$f":"N$161+N$162*LOG('Grunddaten KSH'!$H$50)+N$163*LOG('Grunddaten KSH'!$F$49)+'Lw KSH'!N$164*LOG('Grunddaten KSH'!$M$50)","v":8.8850850211207977},{"$f":"O$161+O$162*LOG('Grunddaten KSH'!$H$50)+O$163*LOG('Grunddaten KSH'!$F$49)+'Lw KSH'!O$164*LOG('Grunddaten KSH'!$M$50)","v":8.3848784215149763},{"$f":"P$161+P$162*LOG('Grunddaten KSH'!$H$50)+P$163*LOG('Grunddaten KSH'!$F$49)+'Lw KSH'!P$164*LOG('Grunddaten KSH'!$M$50)","v":9.5785922656989619},{"$f":"Q$161+Q$162*LOG('Grunddaten KSH'!$H$50)+Q$163*LOG('Grunddaten KSH'!$F$49)+'Lw KSH'!Q$164*LOG('Grunddaten KSH'!$M$50)","v":10.932577151955684},{"$f":"R$161+R$162*LOG('Grunddaten KSH'!$H$50)+R$163*LOG('Grunddaten KSH'!$F$49)+'Lw KSH'!R$164*LOG('Grunddaten KSH'!$M$50)","v":12.044897732529},{"$f":"S$161+S$162*LOG('Grunddaten KSH'!$H$50)+S$163*LOG('Grunddaten KSH'!$F$49)+'Lw KSH'!S$164*LOG('Grunddaten KSH'!$M$50)","v":14.007084110614747},{"$f":"T$161+T$162*LOG('Grunddaten KSH'!$H$50)+T$163*LOG('Grunddaten KSH'!$F$49)+'Lw KSH'!T$164*LOG('Grunddaten KSH'!$M$50)","v":15.95448605407128},{"$f":"U$161+U$162*LOG('Grunddaten KSH'!$H$50)+U$163*LOG('Grunddaten KSH'!$F$49)+'Lw KSH'!U$164*LOG('Grunddaten KSH'!$M$50)","v":17.115625572062164},{"$f":"V$161+V$162*LOG('Grunddaten KSH'!$H$50)+V$163*LOG('Grunddaten KSH'!$F$49)+'Lw KSH'!V$164*LOG('Grunddaten KSH'!$M$50)","v":18.212988770579479},29.004624085352717]
["KSHABLD6003",{"$f":"B$161+B$162*LOG('Grunddaten KSH'!$H$50)+B$163*LOG('Grunddaten KSH'!$F$49)+'Lw KSH'!B$164*LOG('Grunddaten KSH'!$M$50)","v":14.880327792710581},{"$f":"C$161+C$162*LOG('Grunddaten KSH'!$H$50)+C$163*LOG('Grunddaten KSH'!$F$49)+'Lw KSH'!C$164*LOG('Grunddaten KSH'!$M$50)","v":11.002210315742266},{"$f":"D$161+D$162*LOG('Grunddaten KSH'!$H$50)+D$163*LOG('Grunddaten KSH'!$F$49)+'Lw KSH'!D$164*LOG('Grunddaten KSH'!$M$50)","v":16.581498912349453},{"$f":"E$161+E$162*LOG('Grunddaten KSH'!$H$50)+E$163*LOG('Grunddaten KSH'!$F$49)+'Lw KSH'!E$164*LOG('Grunddaten KSH'!$M$50)","v":15.698476493343462},{"$f":"F$161+F$162*LOG('Grunddaten KSH'!$H$50)+F$163*LOG('Grunddaten KSH'!$F$49)+'Lw KSH'!F$164*LOG('Grunddaten KSH'!$M$50)","v":18.993422788570577},{"$f":"G$161+G$162*LOG('Grunddaten KSH'!$H$50)+G$163*LOG('Grunddaten KSH'!$F$49)+'Lw KSH'!G$164*LOG('Grunddaten KSH'!$M$50)","v":19.676099534215627},{"$f":"H$161+H$162*LOG('Grunddaten KSH'!$H$50)+H$163*LOG('Grunddaten KSH'!$F$49)+'Lw KSH'!H$164*LOG('Grunddaten KSH'!$M$50)","v":18.908874524134866},{"$f":"I$161+I$162*LOG('Grunddaten KSH'!$H$50)+I$163*LOG('Grunddaten KSH'!$F$49)+'Lw KSH'!I$164*LOG('Grunddaten KSH'!$M$50)","v":19.089471064797319},{"$f":"J$161+J$162*LOG('Grunddaten KSH'!$H$50)+J$163*LOG('Grunddaten KSH'!$F$49)+'Lw KSH'!J$164*LOG('Grunddaten KSH'!$M$50)","v":16.979661447879515},{"$f":"K$161+K$162*LOG('Grunddaten KSH'!$H$50)+K$163*LOG('Grunddaten KSH'!$F$49)+'Lw KSH'!K$164*LOG('Grunddaten KSH'!$M$50)","v":14.33202011819856},{"$f":"L$161+L$162*LOG('Grunddaten KSH'!$H$50)+L$163*LOG('Grunddaten KSH'!$F$49)+'Lw KSH'!L$164*LOG('Grunddaten KSH'!$M$50)","v":12.226243346226301},{"$f":"M$161+M$162*LOG('Grunddaten KSH'!$H$50)+M$163*LOG('Grunddaten KSH'!$F$49)+'Lw KSH'!M$164*LOG('Grunddaten KSH'!$M$50)","v":10.026511363538521},{"$f":"N$161+N$162*LOG('Grunddaten KSH'!$H$50)+N$163*LOG('Grunddaten KSH'!$F$49)+'Lw KSH'!N$164*LOG('Grunddaten KSH'!$M$50)","v":8.8850850211207977},{"$f":"O$161+O$162*LOG('Grunddaten KSH'!$H$50)+O$163*LOG('Grunddaten KSH'!$F$49)+'Lw KSH'!O$164*LOG('Grunddaten KSH'!$M$50)","v":8.3848784215149763},{"$f":"P$161+P$162*LOG('Grunddaten KSH'!$H$50)+P$163*LOG('Grunddaten KSH'!$F$49)+'Lw KSH'!P$164*LOG('Grunddaten KSH'!$M$50)","v":9.5785922656989619},{"$f":"Q$161+Q$162*LOG('Grunddaten KSH'!$H$50)+Q$163*LOG('Grunddaten KSH'!$F$49)+'Lw KSH'!Q$164*LOG('Grunddaten KSH'!$M$50)","v":10.932577151955684},{"$f":"R$161+R$162*LOG('Grunddaten KSH'!$H$50)+R$163*LOG('Grunddaten KSH'!$F$49)+'Lw KSH'!R$164*LOG('Grunddaten KSH'!$M$50)","v":12.044897732529},{"$f":"S$161+S$162*LOG('Grunddaten KSH'!$H$50)+S$163*LOG('Grunddaten KSH'!$F$49)+'Lw KSH'!S$164*LOG('Grunddaten KSH'!$M$50)","v":14.007084110614747},{"$f":"T$161+T$162*LOG('Grunddaten KSH'!$H$50)+T$163*LOG('Grunddaten KSH'!$F$49)+'Lw KSH'!T$164*LOG('Grunddaten KSH'!$M$50)","v":15.95448605407128},{"$f":"U$161+U$162*LOG('Grunddaten KSH'!$H$50)+U$163*LOG('Grunddaten KSH'!$F$49)+'Lw KSH'!U$164*LOG('Grunddaten KSH'!$M$50)","v":17.115625572062164},{"$f":"V$161+V$162*LOG('Grunddaten KSH'!$H$50)+V$163*LOG('Grunddaten KSH'!$F$49)+'Lw KSH'!V$164*LOG('Grunddaten KSH'!$M$50)","v":18.212988770579479},29.004624085352717]
["KSHABLD8003",{"$f":"B$161+B$162*LOG('Grunddaten KSH'!$H$50)+B$163*LOG('Grunddaten KSH'!$F$49)+'Lw KSH'!B$164*LOG('Grunddaten KSH'!$M$50)","v":14.880327792710581},{"$f":"C$161+C$162*LOG('Grunddaten KSH'!$H$50)+C$163*LOG('Grunddaten KSH'!$F$49)+'Lw KSH'!C$164*LOG('Grunddaten KSH'!$M$50)","v":11.002210315742266},{"$f":"D$161+D$162*LOG('Grunddaten KSH'!$H$50)+D$163*LOG('Grunddaten KSH'!$F$49)+'Lw KSH'!D$164*LOG('Grunddaten KSH'!$M$50)","v":16.581498912349453},{"$f":"E$161+E$162*LOG('Grunddaten KSH'!$H$50)+E$163*LOG('Grunddaten KSH'!$F$49)+'Lw KSH'!E$164*LOG('Grunddaten KSH'!$M$50)","v":15.698476493343462},{"$f":"F$161+F$162*LOG('Grunddaten KSH'!$H$50)+F$163*LOG('Grunddaten KSH'!$F$49)+'Lw KSH'!F$164*LOG('Grunddaten KSH'!$M$50)","v":18.993422788570577},{"$f":"G$161+G$162*LOG('Grunddaten KSH'!$H$50)+G$163*LOG('Grunddaten KSH'!$F$49)+'Lw KSH'!G$164*LOG('Grunddaten KSH'!$M$50)","v":19.676099534215627},{"$f":"H$161+H$162*LOG('Grunddaten KSH'!$H$50)+H$163*LOG('Grunddaten KSH'!$F$49)+'Lw KSH'!H$164*LOG('Grunddaten KSH'!$M$50)","v":18.908874524134866},{"$f":"I$161+I$162*LOG('Grunddaten KSH'!$H$50)+I$163*LOG('Grunddaten KSH'!$F$49)+'Lw KSH'!I$164*LOG('Grunddaten KSH'!$M$50)","v":19.089471064797319},{"$f":"J$161+J$162*LOG('Grunddaten KSH'!$H$50)+J$163*LOG('Grunddaten KSH'!$F$49)+'Lw KSH'!J$164*LOG('Grunddaten KSH'!$M$50)","v":16.979661447879515},{"$f":"K$161+K$162*LOG('Grunddaten KSH'!$H$50)+K$163*LOG('Grunddaten KSH'!$F$49)+'Lw KSH'!K$164*LOG('Grunddaten KSH'!$M$50)","v":14.33202011819856},{"$f":"L$161+L$162*LOG('Grunddaten KSH'!$H$50)+L$163*LOG('Grunddaten KSH'!$F$49)+'Lw KSH'!L$164*LOG('Grunddaten KSH'!$M$50)","v":12.226243346226301},{"$f":"M$161+M$162*LOG('Grunddaten KSH'!$H$50)+M$163*LOG('Grunddaten KSH'!$F$49)+'Lw KSH'!M$164*LOG('Grunddaten KSH'!$M$50)","v":10.026511363538521},{"$f":"N$161+N$162*LOG('Grunddaten KSH'!$H$50)+N$163*LOG('Grunddaten KSH'!$F$49)+'Lw KSH'!N$164*LOG('Grunddaten KSH'!$M$50)","v":8.8850850211207977},{"$f":"O$161+O$162*LOG('Grunddaten KSH'!$H$50)+O$163*LOG('Grunddaten KSH'!$F$49)+'Lw KSH'!O$164*LOG('Grunddaten KSH'!$M$50)","v":8.3848784215149763},{"$f":"P$161+P$162*LOG('Grunddaten KSH'!$H$50)+P$163*LOG('Grunddaten KSH'!$F$49)+'Lw KSH'!P$164*LOG('Grunddaten KSH'!$M$50)","v":9.5785922656989619},{"$f":"Q$161+Q$162*LOG('Grunddaten KSH'!$H$50)+Q$163*LOG('Grunddaten KSH'!$F$49)+'Lw KSH'!Q$164*LOG('Grunddaten KSH'!$M$50)","v":10.932577151955684},{"$f":"R$161+R$162*LOG('Grunddaten KSH'!$H$50)+R$163*LOG('Grunddaten KSH'!$F$49)+'Lw KSH'!R$164*LOG('Grunddaten KSH'!$M$50)","v":12.044897732529},{"$f":"S$161+S$162*LOG('Grunddaten KSH'!$H$50)+S$163*LOG('Grunddaten KSH'!$F$49)+'Lw KSH'!S$164*LOG('Grunddaten KSH'!$M$50)","v":14.007084110614747},{"$f":"T$161+T$162*LOG('Grunddaten KSH'!$H$50)+T$163*LOG('Grunddaten KSH'!$F$49)+'Lw KSH'!T$164*LOG('Grunddaten KSH'!$M$50)","v":15.95448605407128},{"$f":"U$161+U$162*LOG('Grunddaten KSH'!$H$50)+U$163*LOG('Grunddaten KSH'!$F$49)+'Lw KSH'!U$164*LOG('Grunddaten KSH'!$M$50)","v":17.115625572062164},{"$f":"V$161+V$162*LOG('Grunddaten KSH'!$H$50)+V$163*LOG('Grunddaten KSH'!$F$49)+'Lw KSH'!V$164*LOG('Grunddaten KSH'!$M$50)","v":18.212988770579479},29.004624085352717]
["KSHABLD10003",{"$f":"B$161+B$162*LOG('Grunddaten KSH'!$H$50)+B$163*LOG('Grunddaten KSH'!$F$49)+'Lw KSH'!B$164*LOG('Grunddaten KSH'!$M$50)","v":14.880327792710581},{"$f":"C$161+C$162*LOG('Grunddaten KSH'!$H$50)+C$163*LOG('Grunddaten KSH'!$F$49)+'Lw KSH'!C$164*LOG('Grunddaten KSH'!$M$50)","v":11.002210315742266},{"$f":"D$161+D$162*LOG('Grunddaten KSH'!$H$50)+D$163*LOG('Grunddaten KSH'!$F$49)+'Lw KSH'!D$164*LOG('Grunddaten KSH'!$M$50)","v":16.581498912349453},{"$f":"E$161+E$162*LOG('Grunddaten KSH'!$H$50)+E$163*LOG('Grunddaten KSH'!$F$49)+'Lw KSH'!E$164*LOG('Grunddaten KSH'!$M$50)","v":15.698476493343462},{"$f":"F$161+F$162*LOG('Grunddaten KSH'!$H$50)+F$163*LOG('Grunddaten KSH'!$F$49)+'Lw KSH'!F$164*LOG('Grunddaten KSH'!$M$50)","v":18.993422788570577},{"$f":"G$161+G$162*LOG('Grunddaten KSH'!$H$50)+G$163*LOG('Grunddaten KSH'!$F$49)+'Lw KSH'!G$164*LOG('Grunddaten KSH'!$M$50)","v":19.676099534215627},{"$f":"H$161+H$162*LOG('Grunddaten KSH'!$H$50)+H$163*LOG('Grunddaten KSH'!$F$49)+'Lw KSH'!H$164*LOG('Grunddaten KSH'!$M$50)","v":18.908874524134866},{"$f":"I$161+I$162*LOG('Grunddaten KSH'!$H$50)+I$163*LOG('Grunddaten KSH'!$F$49)+'Lw KSH'!I$164*LOG('Grunddaten KSH'!$M$50)","v":19.089471064797319},{"$f":"J$161+J$162*LOG('Grunddaten KSH'!$H$50)+J$163*LOG('Grunddaten KSH'!$F$49)+'Lw KSH'!J$164*LOG('Grunddaten KSH'!$M$50)","v":16.979661447879515},{"$f":"K$161+K$162*LOG('Grunddaten KSH'!$H$50)+K$163*LOG('Grunddaten KSH'!$F$49)+'Lw KSH'!K$164*LOG('Grunddaten KSH'!$M$50)","v":14.33202011819856},{"$f":"L$161+L$162*LOG('Grunddaten KSH'!$H$50)+L$163*LOG('Grunddaten KSH'!$F$49)+'Lw KSH'!L$164*LOG('Grunddaten KSH'!$M$50)","v":12.226243346226301},{"$f":"M$161+M$162*LOG('Grunddaten KSH'!$H$50)+M$163*LOG('Grunddaten KSH'!$F$49)+'Lw KSH'!M$164*LOG('Grunddaten KSH'!$M$50)","v":10.026511363538521},{"$f":"N$161+N$162*LOG('Grunddaten KSH'!$H$50)+N$163*LOG('Grunddaten KSH'!$F$49)+'Lw KSH'!N$164*LOG('Grunddaten KSH'!$M$50)","v":8.8850850211207977},{"$f":"O$161+O$162*LOG('Grunddaten KSH'!$H$50)+O$163*LOG('Grunddaten KSH'!$F$49)+'Lw KSH'!O$164*LOG('Grunddaten KSH'!$M$50)","v":8.3848784215149763},{"$f":"P$161+P$162*LOG('Grunddaten KSH'!$H$50)+P$163*LOG('Grunddaten KSH'!$F$49)+'Lw KSH'!P$164*LOG('Grunddaten KSH'!$M$50)","v":9.5785922656989619},{"$f":"Q$161+Q$162*LOG('Grunddaten KSH'!$H$50)+Q$163*LOG('Grunddaten KSH'!$F$49)+'Lw KSH'!Q$164*LOG('Grunddaten KSH'!$M$50)","v":10.932577151955684},{"$f":"R$161+R$162*LOG('Grunddaten KSH'!$H$50)+R$163*LOG('Grunddaten KSH'!$F$49)+'Lw KSH'!R$164*LOG('Grunddaten KSH'!$M$50)","v":12.044897732529},{"$f":"S$161+S$162*LOG('Grunddaten KSH'!$H$50)+S$163*LOG('Grunddaten KSH'!$F$49)+'Lw KSH'!S$164*LOG('Grunddaten KSH'!$M$50)","v":14.007084110614747},{"$f":"T$161+T$162*LOG('Grunddaten KSH'!$H$50)+T$163*LOG('Grunddaten KSH'!$F$49)+'Lw KSH'!T$164*LOG('Grunddaten KSH'!$M$50)","v":15.95448605407128},{"$f":"U$161+U$162*LOG('Grunddaten KSH'!$H$50)+U$163*LOG('Grunddaten KSH'!$F$49)+'Lw KSH'!U$164*LOG('Grunddaten KSH'!$M$50)","v":17.115625572062164},{"$f":"V$161+V$162*LOG('Grunddaten KSH'!$H$50)+V$163*LOG('Grunddaten KSH'!$F$49)+'Lw KSH'!V$164*LOG('Grunddaten KSH'!$M$50)","v":18.212988770579479},29.004624085352717]
["KSHABLD12003",{"$f":"B$161+B$162*LOG('Grunddaten KSH'!$H$50)+B$163*LOG('Grunddaten KSH'!$F$49)+'Lw KSH'!B$164*LOG('Grunddaten KSH'!$M$50)","v":14.880327792710581},{"$f":"C$161+C$162*LOG('Grunddaten KSH'!$H$50)+C$163*LOG('Grunddaten KSH'!$F$49)+'Lw KSH'!C$164*LOG('Grunddaten KSH'!$M$50)","v":11.002210315742266},{"$f":"D$161+D$162*LOG('Grunddaten KSH'!$H$50)+D$163*LOG('Grunddaten KSH'!$F$49)+'Lw KSH'!D$164*LOG('Grunddaten KSH'!$M$50)","v":16.581498912349453},{"$f":"E$161+E$162*LOG('Grunddaten KSH'!$H$50)+E$163*LOG('Grunddaten KSH'!$F$49)+'Lw KSH'!E$164*LOG('Grunddaten KSH'!$M$50)","v":15.698476493343462},{"$f":"F$161+F$162*LOG('Grunddaten KSH'!$H$50)+F$163*LOG('Grunddaten KSH'!$F$49)+'Lw KSH'!F$164*LOG('Grunddaten KSH'!$M$50)","v":18.993422788570577},{"$f":"G$161+G$162*LOG('Grunddaten KSH'!$H$50)+G$163*LOG('Grunddaten KSH'!$F$49)+'Lw KSH'!G$164*LOG('Grunddaten KSH'!$M$50)","v":19.676099534215627},{"$f":"H$161+H$162*LOG('Grunddaten KSH'!$H$50)+H$163*LOG('Grunddaten KSH'!$F$49)+'Lw KSH'!H$164*LOG('Grunddaten KSH'!$M$50)","v":18.908874524134866},{"$f":"I$161+I$162*LOG('Grunddaten KSH'!$H$50)+I$163*LOG('Grunddaten KSH'!$F$49)+'Lw KSH'!I$164*LOG('Grunddaten KSH'!$M$50)","v":19.089471064797319},{"$f":"J$161+J$162*LOG('Grunddaten KSH'!$H$50)+J$163*LOG('Grunddaten KSH'!$F$49)+'Lw KSH'!J$164*LOG('Grunddaten KSH'!$M$50)","v":16.979661447879515},{"$f":"K$161+K$162*LOG('Grunddaten KSH'!$H$50)+K$163*LOG('Grunddaten KSH'!$F$49)+'Lw KSH'!K$164*LOG('Grunddaten KSH'!$M$50)","v":14.33202011819856},{"$f":"L$161+L$162*LOG('Grunddaten KSH'!$H$50)+L$163*LOG('Grunddaten KSH'!$F$49)+'Lw KSH'!L$164*LOG('Grunddaten KSH'!$M$50)","v":12.226243346226301},{"$f":"M$161+M$162*LOG('Grunddaten KSH'!$H$50)+M$163*LOG('Grunddaten KSH'!$F$49)+'Lw KSH'!M$164*LOG('Grunddaten KSH'!$M$50)","v":10.026511363538521},{"$f":"N$161+N$162*LOG('Grunddaten KSH'!$H$50)+N$163*LOG('Grunddaten KSH'!$F$49)+'Lw KSH'!N$164*LOG('Grunddaten KSH'!$M$50)","v":8.8850850211207977},{"$f":"O$161+O$162*LOG('Grunddaten KSH'!$H$50)+O$163*LOG('Grunddaten KSH'!$F$49)+'Lw KSH'!O$164*LOG('Grunddaten KSH'!$M$50)","v":8.3848784215149763},{"$f":"P$161+P$162*LOG('Grunddaten KSH'!$H$50)+P$163*LOG('Grunddaten KSH'!$F$49)+'Lw KSH'!P$164*LOG('Grunddaten KSH'!$M$50)","v":9.5785922656989619},{"$f":"Q$161+Q$162*LOG('Grunddaten KSH'!$H$50)+Q$163*LOG('Grunddaten KSH'!$F$49)+'Lw KSH'!Q$164*LOG('Grunddaten KSH'!$M$50)","v":10.932577151955684},{"$f":"R$161+R$162*LOG('Grunddaten KSH'!$H$50)+R$163*LOG('Grunddaten KSH'!$F$49)+'Lw KSH'!R$164*LOG('Grunddaten KSH'!$M$50)","v":12.044897732529},{"$f":"S$161+S$162*LOG('Grunddaten KSH'!$H$50)+S$163*LOG('Grunddaten KSH'!$F$49)+'Lw KSH'!S$164*LOG('Grunddaten KSH'!$M$50)","v":14.007084110614747},{"$f":"T$161+T$162*LOG('Grunddaten KSH'!$H$50)+T$163*LOG('Grunddaten KSH'!$F$49)+'Lw KSH'!T$164*LOG('Grunddaten KSH'!$M$50)","v":15.95448605407128},{"$f":"U$161+U$162*LOG('Grunddaten KSH'!$H$50)+U$163*LOG('Grunddaten KSH'!$F$49)+'Lw KSH'!U$164*LOG('Grunddaten KSH'!$M$50)","v":17.115625572062164},{"$f":"V$161+V$162*LOG('Grunddaten KSH'!$H$50)+V$163*LOG('Grunddaten KSH'!$F$49)+'Lw KSH'!V$164*LOG('Grunddaten KSH'!$M$50)","v":18.212988770579479},29.004624085352717]
["KSHABLE5003",{"$f":"B$165+B$166*LOG('Grunddaten KSH'!$H$50)+B$167*LOG('Grunddaten KSH'!$F$49)+'Lw KSH'!B$168*LOG('Grunddaten KSH'!$M$50)","v":14.404169582374756},{"$f":"C$165+C$166*LOG('Grunddaten KSH'!$H$50)+C$167*LOG('Grunddaten KSH'!$F$49)+'Lw KSH'!C$168*LOG('Grunddaten KSH'!$M$50)","v":10.959252155224569},{"$f":"D$165+D$166*LOG('Grunddaten KSH'!$H$50)+D$167*LOG('Grunddaten KSH'!$F$49)+'Lw KSH'!D$168*LOG('Grunddaten KSH'!$M$50)","v":18.111057672885778},{"$f":"E$165+E$166*LOG('Grunddaten KSH'!$H$50)+E$167*LOG('Grunddaten KSH'!$F$49)+'Lw KSH'!E$168*LOG('Grunddaten KSH'!$M$50)","v":19.454217629031049},{"$f":"F$165+F$166*LOG('Grunddaten KSH'!$H$50)+F$167*LOG('Grunddaten KSH'!$F$49)+'Lw KSH'!F$168*LOG('Grunddaten KSH'!$M$50)","v":23.989803527091176},{"$f":"G$165+G$166*LOG('Grunddaten KSH'!$H$50)+G$167*LOG('Grunddaten KSH'!$F$49)+'Lw KSH'!G$168*LOG('Grunddaten KSH'!$M$50)","v":25.301851434758674},{"$f":"H$165+H$166*LOG('Grunddaten KSH'!$H$50)+H$167*LOG('Grunddaten KSH'!$F$49)+'Lw KSH'!H$168*LOG('Grunddaten KSH'!$M$50)","v":24.902738567752852},{"$f":"I$165+I$166*LOG('Grunddaten KSH'!$H$50)+I$167*LOG('Grunddaten KSH'!$F$49)+'Lw KSH'!I$168*LOG('Grunddaten KSH'!$M$50)","v":24.777542069511057},{"$f":"J$165+J$166*LOG('Grunddaten KSH'!$H$50)+J$167*LOG('Grunddaten KSH'!$F$49)+'Lw KSH'!J$168*LOG('Grunddaten KSH'!$M$50)","v":22.777020231577588},{"$f":"K$165+K$166*LOG('Grunddaten KSH'!$H$50)+K$167*LOG('Grunddaten KSH'!$F$49)+'Lw KSH'!K$168*LOG('Grunddaten KSH'!$M$50)","v":20.333908695413193},{"$f":"L$165+L$166*LOG('Grunddaten KSH'!$H$50)+L$167*LOG('Grunddaten KSH'!$F$49)+'Lw KSH'!L$168*LOG('Grunddaten KSH'!$M$50)","v":18.95665055389971},{"$f":"M$165+M$166*LOG('Grunddaten KSH'!$H$50)+M$167*LOG('Grunddaten KSH'!$F$49)+'Lw KSH'!M$168*LOG('Grunddaten KSH'!$M$50)","v":17.791170791500662},{"$f":"N$165+N$166*LOG('Grunddaten KSH'!$H$50)+N$167*LOG('Grunddaten KSH'!$F$49)+'Lw KSH'!N$168*LOG('Grunddaten KSH'!$M$50)","v":16.261957297288973},{"$f":"O$165+O$166*LOG('Grunddaten KSH'!$H$50)+O$167*LOG('Grunddaten KSH'!$F$49)+'Lw KSH'!O$168*LOG('Grunddaten KSH'!$M$50)","v":15.026799906201767},{"$f":"P$165+P$166*LOG('Grunddaten KSH'!$H$50)+P$167*LOG('Grunddaten KSH'!$F$49)+'Lw KSH'!P$168*LOG('Grunddaten KSH'!$M$50)","v":15.012508452555871},{"$f":"Q$165+Q$166*LOG('Grunddaten KSH'!$H$50)+Q$167*LOG('Grunddaten KSH'!$F$49)+'Lw KSH'!Q$168*LOG('Grunddaten KSH'!$M$50)","v":14.988885147311652},{"$f":"R$165+R$166*LOG('Grunddaten KSH'!$H$50)+R$167*LOG('Grunddaten KSH'!$F$49)+'Lw KSH'!R$168*LOG('Grunddaten KSH'!$M$50)","v":14.906488511485808},{"$f":"S$165+S$166*LOG('Grunddaten KSH'!$H$50)+S$167*LOG('Grunddaten KSH'!$F$49)+'Lw KSH'!S$168*LOG('Grunddaten KSH'!$M$50)","v":15.355613195338805},{"$f":"T$165+T$166*LOG('Grunddaten KSH'!$H$50)+T$167*LOG('Grunddaten KSH'!$F$49)+'Lw KSH'!T$168*LOG('Grunddaten KSH'!$M$50)","v":16.160892296353886},{"$f":"U$165+U$166*LOG('Grunddaten KSH'!$H$50)+U$167*LOG('Grunddaten KSH'!$F$49)+'Lw KSH'!U$168*LOG('Grunddaten KSH'!$M$50)","v":16.604146084305256},{"$f":"V$165+V$166*LOG('Grunddaten KSH'!$H$50)+V$167*LOG('Grunddaten KSH'!$F$49)+'Lw KSH'!V$168*LOG('Grunddaten KSH'!$M$50)","v":17.646039521901063},33.377336516895063]
["KSHABLE6003",{"$f":"B$165+B$166*LOG('Grunddaten KSH'!$H$50)+B$167*LOG('Grunddaten KSH'!$F$49)+'Lw KSH'!B$168*LOG('Grunddaten KSH'!$M$50)","v":14.404169582374756},{"$f":"C$165+C$166*LOG('Grunddaten KSH'!$H$50)+C$167*LOG('Grunddaten KSH'!$F$49)+'Lw KSH'!C$168*LOG('Grunddaten KSH'!$M$50)","v":10.959252155224569},{"$f":"D$165+D$166*LOG('Grunddaten KSH'!$H$50)+D$167*LOG('Grunddaten KSH'!$F$49)+'Lw KSH'!D$168*LOG('Grunddaten KSH'!$M$50)","v":18.111057672885778},{"$f":"E$165+E$166*LOG('Grunddaten KSH'!$H$50)+E$167*LOG('Grunddaten KSH'!$F$49)+'Lw KSH'!E$168*LOG('Grunddaten KSH'!$M$50)","v":19.454217629031049},{"$f":"F$165+F$166*LOG('Grunddaten KSH'!$H$50)+F$167*LOG('Grunddaten KSH'!$F$49)+'Lw KSH'!F$168*LOG('Grunddaten KSH'!$M$50)","v":23.989803527091176},{"$f":"G$165+G$166*LOG('Grunddaten KSH'!$H$50)+G$167*LOG('Grunddaten KSH'!$F$49)+'Lw KSH'!G$168*LOG('Grunddaten KSH'!$M$50)","v":25.301851434758674},{"$f":"H$165+H$166*LOG('Grunddaten KSH'!$H$50)+H$167*LOG('Grunddaten KSH'!$F$49)+'Lw KSH'!H$168*LOG('Grunddaten KSH'!$M$50)","v":24.902738567752852},{"$f":"I$165+I$166*LOG('Grunddaten KSH'!$H$50)+I$167*LOG('Grunddaten KSH'!$F$49)+'Lw KSH'!I$168*LOG('Grunddaten KSH'!$M$50)","v":24.777542069511057},{"$f":"J$165+J$166*LOG('Grunddaten KSH'!$H$50)+J$167*LOG('Grunddaten KSH'!$F$49)+'Lw KSH'!J$168*LOG('Grunddaten KSH'!$M$50)","v":22.777020231577588},{"$f":"K$165+K$166*LOG('Grunddaten KSH'!$H$50)+K$167*LOG('Grunddaten KSH'!$F$49)+'Lw KSH'!K$168*LOG('Grunddaten KSH'!$M$50)","v":20.333908695413193},{"$f":"L$165+L$166*LOG('Grunddaten KSH'!$H$50)+L$167*LOG('Grunddaten KSH'!$F$49)+'Lw KSH'!L$168*LOG('Grunddaten KSH'!$M$50)","v":18.95665055389971},{"$f":"M$165+M$166*LOG('Grunddaten KSH'!$H$50)+M$167*LOG('Grunddaten KSH'!$F$49)+'Lw KSH'!M$168*LOG('Grunddaten KSH'!$M$50)","v":17.791170791500662},{"$f":"N$165+N$166*LOG('Grunddaten KSH'!$H$50)+N$167*LOG('Grunddaten KSH'!$F$49)+'Lw KSH'!N$168*LOG('Grunddaten KSH'!$M$50)","v":16.261957297288973},{"$f":"O$165+O$166*LOG('Grunddaten KSH'!$H$50)+O$167*LOG('Grunddaten KSH'!$F$49)+'Lw KSH'!O$168*LOG('Grunddaten KSH'!$M$50)","v":15.026799906201767},{"$f":"P$165+P$166*LOG('Grunddaten KSH'!$H$50)+P$167*LOG('Grunddaten KSH'!$F$49)+'Lw KSH'!P$168*LOG('Grunddaten KSH'!$M$50)","v":15.012508452555871},{"$f":"Q$165+Q$166*LOG('Grunddaten KSH'!$H$50)+Q$167*LOG('Grunddaten KSH'!$F$49)+'Lw KSH'!Q$168*LOG('Grunddaten KSH'!$M$50)","v":14.988885147311652},{"$f":"R$165+R$166*LOG('Grunddaten KSH'!$H$50)+R$167*LOG('Grunddaten KSH'!$F$49)+'Lw KSH'!R$168*LOG('Grunddaten KSH'!$M$50)","v":14.906488511485808},{"$f":"S$165+S$166*LOG('Grunddaten KSH'!$H$50)+S$167*LOG('Grunddaten KSH'!$F$49)+'Lw KSH'!S$168*LOG('Grunddaten KSH'!$M$50)","v":15.355613195338805},{"$f":"T$165+T$166*LOG('Grunddaten KSH'!$H$50)+T$167*LOG('Grunddaten KSH'!$F$49)+'Lw KSH'!T$168*LOG('Grunddaten KSH'!$M$50)","v":16.160892296353886},{"$f":"U$165+U$166*LOG('Grunddaten KSH'!$H$50)+U$167*LOG('Grunddaten KSH'!$F$49)+'Lw KSH'!U$168*LOG('Grunddaten KSH'!$M$50)","v":16.604146084305256},{"$f":"V$165+V$166*LOG('Grunddaten KSH'!$H$50)+V$167*LOG('Grunddaten KSH'!$F$49)+'Lw KSH'!V$168*LOG('Grunddaten KSH'!$M$50)","v":17.646039521901063},33.377336516895063]
["KSHABLE8003",{"$f":"B$165+B$166*LOG('Grunddaten KSH'!$H$50)+B$167*LOG('Grunddaten KSH'!$F$49)+'Lw KSH'!B$168*LOG('Grunddaten KSH'!$M$50)","v":14.404169582374756},{"$f":"C$165+C$166*LOG('Grunddaten KSH'!$H$50)+C$167*LOG('Grunddaten KSH'!$F$49)+'Lw KSH'!C$168*LOG('Grunddaten KSH'!$M$50)","v":10.959252155224569},{"$f":"D$165+D$166*LOG('Grunddaten KSH'!$H$50)+D$167*LOG('Grunddaten KSH'!$F$49)+'Lw KSH'!D$168*LOG('Grunddaten KSH'!$M$50)","v":18.111057672885778},{"$f":"E$165+E$166*LOG('Grunddaten KSH'!$H$50)+E$167*LOG('Grunddaten KSH'!$F$49)+'Lw KSH'!E$168*LOG('Grunddaten KSH'!$M$50)","v":19.454217629031049},{"$f":"F$165+F$166*LOG('Grunddaten KSH'!$H$50)+F$167*LOG('Grunddaten KSH'!$F$49)+'Lw KSH'!F$168*LOG('Grunddaten KSH'!$M$50)","v":23.989803527091176},{"$f":"G$165+G$166*LOG('Grunddaten KSH'!$H$50)+G$167*LOG('Grunddaten KSH'!$F$49)+'Lw KSH'!G$168*LOG('Grunddaten KSH'!$M$50)","v":25.301851434758674},{"$f":"H$165+H$166*LOG('Grunddaten KSH'!$H$50)+H$167*LOG('Grunddaten KSH'!$F$49)+'Lw KSH'!H$168*LOG('Grunddaten KSH'!$M$50)","v":24.902738567752852},{"$f":"I$165+I$166*LOG('Grunddaten KSH'!$H$50)+I$167*LOG('Grunddaten KSH'!$F$49)+'Lw KSH'!I$168*LOG('Grunddaten KSH'!$M$50)","v":24.777542069511057},{"$f":"J$165+J$166*LOG('Grunddaten KSH'!$H$50)+J$167*LOG('Grunddaten KSH'!$F$49)+'Lw KSH'!J$168*LOG('Grunddaten KSH'!$M$50)","v":22.777020231577588},{"$f":"K$165+K$166*LOG('Grunddaten KSH'!$H$50)+K$167*LOG('Grunddaten KSH'!$F$49)+'Lw KSH'!K$168*LOG('Grunddaten KSH'!$M$50)","v":20.333908695413193},{"$f":"L$165+L$166*LOG('Grunddaten KSH'!$H$50)+L$167*LOG('Grunddaten KSH'!$F$49)+'Lw KSH'!L$168*LOG('Grunddaten KSH'!$M$50)","v":18.95665055389971},{"$f":"M$165+M$166*LOG('Grunddaten KSH'!$H$50)+M$167*LOG('Grunddaten KSH'!$F$49)+'Lw KSH'!M$168*LOG('Grunddaten KSH'!$M$50)","v":17.791170791500662},{"$f":"N$165+N$166*LOG('Grunddaten KSH'!$H$50)+N$167*LOG('Grunddaten KSH'!$F$49)+'Lw KSH'!N$168*LOG('Grunddaten KSH'!$M$50)","v":16.261957297288973},{"$f":"O$165+O$166*LOG('Grunddaten KSH'!$H$50)+O$167*LOG('Grunddaten KSH'!$F$49)+'Lw KSH'!O$168*LOG('Grunddaten KSH'!$M$50)","v":15.026799906201767},{"$f":"P$165+P$166*LOG('Grunddaten KSH'!$H$50)+P$167*LOG('Grunddaten KSH'!$F$49)+'Lw KSH'!P$168*LOG('Grunddaten KSH'!$M$50)","v":15.012508452555871},{"$f":"Q$165+Q$166*LOG('Grunddaten KSH'!$H$50)+Q$167*LOG('Grunddaten KSH'!$F$49)+'Lw KSH'!Q$168*LOG('Grunddaten KSH'!$M$50)","v":14.988885147311652},{"$f":"R$165+R$166*LOG('Grunddaten KSH'!$H$50)+R$167*LOG('Grunddaten KSH'!$F$49)+'Lw KSH'!R$168*LOG('Grunddaten KSH'!$M$50)","v":14.906488511485808},{"$f":"S$165+S$166*LOG('Grunddaten KSH'!$H$50)+S$167*LOG('Grunddaten KSH'!$F$49)+'Lw KSH'!S$168*LOG('Grunddaten KSH'!$M$50)","v":15.355613195338805},{"$f":"T$165+T$166*LOG('Grunddaten KSH'!$H$50)+T$167*LOG('Grunddaten KSH'!$F$49)+'Lw KSH'!T$168*LOG('Grunddaten KSH'!$M$50)","v":16.160892296353886},{"$f":"U$165+U$166*LOG('Grunddaten KSH'!$H$50)+U$167*LOG('Grunddaten KSH'!$F$49)+'Lw KSH'!U$168*LOG('Grunddaten KSH'!$M$50)","v":16.604146084305256},{"$f":"V$165+V$166*LOG('Grunddaten KSH'!$H$50)+V$167*LOG('Grunddaten KSH'!$F$49)+'Lw KSH'!V$168*LOG('Grunddaten KSH'!$M$50)","v":17.646039521901063},33.377336516895063]
["KSHABLE10003",{"$f":"B$165+B$166*LOG('Grunddaten KSH'!$H$50)+B$167*LOG('Grunddaten KSH'!$F$49)+'Lw KSH'!B$168*LOG('Grunddaten KSH'!$M$50)","v":14.404169582374756},{"$f":"C$165+C$166*LOG('Grunddaten KSH'!$H$50)+C$167*LOG('Grunddaten KSH'!$F$49)+'Lw KSH'!C$168*LOG('Grunddaten KSH'!$M$50)","v":10.959252155224569},{"$f":"D$165+D$166*LOG('Grunddaten KSH'!$H$50)+D$167*LOG('Grunddaten KSH'!$F$49)+'Lw KSH'!D$168*LOG('Grunddaten KSH'!$M$50)","v":18.111057672885778},{"$f":"E$165+E$166*LOG('Grunddaten KSH'!$H$50)+E$167*LOG('Grunddaten KSH'!$F$49)+'Lw KSH'!E$168*LOG('Grunddaten KSH'!$M$50)","v":19.454217629031049},{"$f":"F$165+F$166*LOG('Grunddaten KSH'!$H$50)+F$167*LOG('Grunddaten KSH'!$F$49)+'Lw KSH'!F$168*LOG('Grunddaten KSH'!$M$50)","v":23.989803527091176},{"$f":"G$165+G$166*LOG('Grunddaten KSH'!$H$50)+G$167*LOG('Grunddaten KSH'!$F$49)+'Lw KSH'!G$168*LOG('Grunddaten KSH'!$M$50)","v":25.301851434758674},{"$f":"H$165+H$166*LOG('Grunddaten KSH'!$H$50)+H$167*LOG('Grunddaten KSH'!$F$49)+'Lw KSH'!H$168*LOG('Grunddaten KSH'!$M$50)","v":24.902738567752852},{"$f":"I$165+I$166*LOG('Grunddaten KSH'!$H$50)+I$167*LOG('Grunddaten KSH'!$F$49)+'Lw KSH'!I$168*LOG('Grunddaten KSH'!$M$50)","v":24.777542069511057},{"$f":"J$165+J$166*LOG('Grunddaten KSH'!$H$50)+J$167*LOG('Grunddaten KSH'!$F$49)+'Lw KSH'!J$168*LOG('Grunddaten KSH'!$M$50)","v":22.777020231577588},{"$f":"K$165+K$166*LOG('Grunddaten KSH'!$H$50)+K$167*LOG('Grunddaten KSH'!$F$49)+'Lw KSH'!K$168*LOG('Grunddaten KSH'!$M$50)","v":20.333908695413193},{"$f":"L$165+L$166*LOG('Grunddaten KSH'!$H$50)+L$167*LOG('Grunddaten KSH'!$F$49)+'Lw KSH'!L$168*LOG('Grunddaten KSH'!$M$50)","v":18.95665055389971},{"$f":"M$165+M$166*LOG('Grunddaten KSH'!$H$50)+M$167*LOG('Grunddaten KSH'!$F$49)+'Lw KSH'!M$168*LOG('Grunddaten KSH'!$M$50)","v":17.791170791500662},{"$f":"N$165+N$166*LOG('Grunddaten KSH'!$H$50)+N$167*LOG('Grunddaten KSH'!$F$49)+'Lw KSH'!N$168*LOG('Grunddaten KSH'!$M$50)","v":16.261957297288973},{"$f":"O$165+O$166*LOG('Grunddaten KSH'!$H$50)+O$167*LOG('Grunddaten KSH'!$F$49)+'Lw KSH'!O$168*LOG('Grunddaten KSH'!$M$50)","v":15.026799906201767},{"$f":"P$165+P$166*LOG('Grunddaten KSH'!$H$50)+P$167*LOG('Grunddaten KSH'!$F$49)+'Lw KSH'!P$168*LOG('Grunddaten KSH'!$M$50)","v":15.012508452555871},{"$f":"Q$165+Q$166*LOG('Grunddaten KSH'!$H$50)+Q$167*LOG('Grunddaten KSH'!$F$49)+'Lw KSH'!Q$168*LOG('Grunddaten KSH'!$M$50)","v":14.988885147311652},{"$f":"R$165+R$166*LOG('Grunddaten KSH'!$H$50)+R$167*LOG('Grunddaten KSH'!$F$49)+'Lw KSH'!R$168*LOG('Grunddaten KSH'!$M$50)","v":14.906488511485808},{"$f":"S$165+S$166*LOG('Grunddaten KSH'!$H$50)+S$167*LOG('Grunddaten KSH'!$F$49)+'Lw KSH'!S$168*LOG('Grunddaten KSH'!$M$50)","v":15.355613195338805},{"$f":"T$165+T$166*LOG('Grunddaten KSH'!$H$50)+T$167*LOG('Grunddaten KSH'!$F$49)+'Lw KSH'!T$168*LOG('Grunddaten KSH'!$M$50)","v":16.160892296353886},{"$f":"U$165+U$166*LOG('Grunddaten KSH'!$H$50)+U$167*LOG('Grunddaten KSH'!$F$49)+'Lw KSH'!U$168*LOG('Grunddaten KSH'!$M$50)","v":16.604146084305256},{"$f":"V$165+V$166*LOG('Grunddaten KSH'!$H$50)+V$167*LOG('Grunddaten KSH'!$F$49)+'Lw KSH'!V$168*LOG('Grunddaten KSH'!$M$50)","v":17.646039521901063},33.377336516895063]
["KSHABLE12003",{"$f":"B$165+B$166*LOG('Grunddaten KSH'!$H$50)+B$167*LOG('Grunddaten KSH'!$F$49)+'Lw KSH'!B$168*LOG('Grunddaten KSH'!$M$50)","v":14.404169582374756},{"$f":"C$165+C$166*LOG('Grunddaten KSH'!$H$50)+C$167*LOG('Grunddaten KSH'!$F$49)+'Lw KSH'!C$168*LOG('Grunddaten KSH'!$M$50)","v":10.959252155224569},{"$f":"D$165+D$166*LOG('Grunddaten KSH'!$H$50)+D$167*LOG('Grunddaten KSH'!$F$49)+'Lw KSH'!D$168*LOG('Grunddaten KSH'!$M$50)","v":18.111057672885778},{"$f":"E$165+E$166*LOG('Grunddaten KSH'!$H$50)+E$167*LOG('Grunddaten KSH'!$F$49)+'Lw KSH'!E$168*LOG('Grunddaten KSH'!$M$50)","v":19.454217629031049},{"$f":"F$165+F$166*LOG('Grunddaten KSH'!$H$50)+F$167*LOG('Grunddaten KSH'!$F$49)+'Lw KSH'!F$168*LOG('Grunddaten KSH'!$M$50)","v":23.989803527091176},{"$f":"G$165+G$166*LOG('Grunddaten KSH'!$H$50)+G$167*LOG('Grunddaten KSH'!$F$49)+'Lw KSH'!G$168*LOG('Grunddaten KSH'!$M$50)","v":25.301851434758674},{"$f":"H$165+H$166*LOG('Grunddaten KSH'!$H$50)+H$167*LOG('Grunddaten KSH'!$F$49)+'Lw KSH'!H$168*LOG('Grunddaten KSH'!$M$50)","v":24.902738567752852},{"$f":"I$165+I$166*LOG('Grunddaten KSH'!$H$50)+I$167*LOG('Grunddaten KSH'!$F$49)+'Lw KSH'!I$168*LOG('Grunddaten KSH'!$M$50)","v":24.777542069511057},{"$f":"J$165+J$166*LOG('Grunddaten KSH'!$H$50)+J$167*LOG('Grunddaten KSH'!$F$49)+'Lw KSH'!J$168*LOG('Grunddaten KSH'!$M$50)","v":22.777020231577588},{"$f":"K$165+K$166*LOG('Grunddaten KSH'!$H$50)+K$167*LOG('Grunddaten KSH'!$F$49)+'Lw KSH'!K$168*LOG('Grunddaten KSH'!$M$50)","v":20.333908695413193},{"$f":"L$165+L$166*LOG('Grunddaten KSH'!$H$50)+L$167*LOG('Grunddaten KSH'!$F$49)+'Lw KSH'!L$168*LOG('Grunddaten KSH'!$M$50)","v":18.95665055389971},{"$f":"M$165+M$166*LOG('Grunddaten KSH'!$H$50)+M$167*LOG('Grunddaten KSH'!$F$49)+'Lw KSH'!M$168*LOG('Grunddaten KSH'!$M$50)","v":17.791170791500662},{"$f":"N$165+N$166*LOG('Grunddaten KSH'!$H$50)+N$167*LOG('Grunddaten KSH'!$F$49)+'Lw KSH'!N$168*LOG('Grunddaten KSH'!$M$50)","v":16.261957297288973},{"$f":"O$165+O$166*LOG('Grunddaten KSH'!$H$50)+O$167*LOG('Grunddaten KSH'!$F$49)+'Lw KSH'!O$168*LOG('Grunddaten KSH'!$M$50)","v":15.026799906201767},{"$f":"P$165+P$166*LOG('Grunddaten KSH'!$H$50)+P$167*LOG('Grunddaten KSH'!$F$49)+'Lw KSH'!P$168*LOG('Grunddaten KSH'!$M$50)","v":15.012508452555871},{"$f":"Q$165+Q$166*LOG('Grunddaten KSH'!$H$50)+Q$167*LOG('Grunddaten KSH'!$F$49)+'Lw KSH'!Q$168*LOG('Grunddaten KSH'!$M$50)","v":14.988885147311652},{"$f":"R$165+R$166*LOG('Grunddaten KSH'!$H$50)+R$167*LOG('Grunddaten KSH'!$F$49)+'Lw KSH'!R$168*LOG('Grunddaten KSH'!$M$50)","v":14.906488511485808},{"$f":"S$165+S$166*LOG('Grunddaten KSH'!$H$50)+S$167*LOG('Grunddaten KSH'!$F$49)+'Lw KSH'!S$168*LOG('Grunddaten KSH'!$M$50)","v":15.355613195338805},{"$f":"T$165+T$166*LOG('Grunddaten KSH'!$H$50)+T$167*LOG('Grunddaten KSH'!$F$49)+'Lw KSH'!T$168*LOG('Grunddaten KSH'!$M$50)","v":16.160892296353886},{"$f":"U$165+U$166*LOG('Grunddaten KSH'!$H$50)+U$167*LOG('Grunddaten KSH'!$F$49)+'Lw KSH'!U$168*LOG('Grunddaten KSH'!$M$50)","v":16.604146084305256},{"$f":"V$165+V$166*LOG('Grunddaten KSH'!$H$50)+V$167*LOG('Grunddaten KSH'!$F$49)+'Lw KSH'!V$168*LOG('Grunddaten KSH'!$M$50)","v":17.646039521901063},33.377336516895063]
[]
[null,"Oktav-Frequenz fOkt [Hz]",null,null,null,null,null,null,"SLWA "]
[null,125,250,500,1000,2000,4000,8000,"Summe"]
["KSHZUL5002",{"$f":"10*LOG(10^(0.1*B173)+10^(0.1*C173)+10^(0.1*D173))","v":46.594750523233294},{"$f":"10*LOG(10^(0.1*E173)+10^(0.1*F173)+10^(0.1*G173))","v":35.97697266156991},{"$f":"10*LOG(10^(0.1*H173)+10^(0.1*I173)+10^(0.1*J173))","v":38.492998279299968},{"$f":"10*LOG(10^(0.1*K173)+10^(0.1*L173)+10^(0.1*M173))","v":45.159871425555806},{"$f":"10*LOG(10^(0.1*N173)+10^(0.1*O173)+10^(0.1*P173))","v":51.311393001849275},{"$f":"10*LOG(10^(0.1*Q173)+10^(0.1*R173)+10^(0.1*S173))","v":46.11169688443826},{"$f":"10*LOG(10^(0.1*T173)+10^(0.1*U173)+10^(0.1*V173))","v":33.892709346574762},{"$f":"ROUND(10*LOG(10^(0.1*B206)+10^(0.1*C206)+10^(0.1*D206)+10^(0.1*E206)+10^(0.1*F206)+10^(0.1*G206)+10^(0.1*H206)),0)","v":54}]
["KSHZUL6002",{"$f":"10*LOG(10^(0.1*B174)+10^(0.1*C174)+10^(0.1*D174))","v":46.594750523233294},{"$f":"10*LOG(10^(0.1*E174)+10^(0.1*F174)+10^(0.1*G174))","v":35.97697266156991},{"$f":"10*LOG(10^(0.1*H174)+10^(0.1*I174)+10^(0.1*J174))","v":38.492998279299968},{"$f":"10*LOG(10^(0.1*K174)+10^(0.1*L174)+10^(0.1*M174))","v":45.159871425555806},{"$f":"10*LOG(10^(0.1*N174)+10^(0.1*O174)+10^(0.1*P174))","v":51.311393001849275},{"$f":"10*LOG(10^(0.1*Q174)+10^(0.1*R174)+10^(0.1*S174))","v":46.11169688443826},{"$f":"10*LOG(10^(0.1*T174)+10^(0.1*U174)+10^(0.1*V174))","v":33.892709346574762},{"$f":"ROUND(10*LOG(10^(0.1*B207)+10^(0.1*C207)+10^(0.1*D207)+10^(0.1*E207)+10^(0.1*F207)+10^(0.1*G207)+10^(0.1*H207)),0)","v":54}]
["KSHZUL8002",46.594750523233294,35.97697266156991,38.492998279299968,45.159871425555806,51.311393001849275,46.11169688443826,33.892709346574762,54]
["KSHZUL10002",46.594750523233294,35.97697266156991,38.492998279299968,45.159871425555806,51.311393001849275,46.11169688443826,33.892709346574762,54]
["KSHZUL12002",46.594750523233294,35.97697266156991,38.492998279299968,45.159871425555806,51.311393001849275,46.11169688443826,33.892709346574762,54]
["KSHABLD5002",24.794217378431675,29.591297617454138,21.545305753525522,22.532906028578488,16.01122958631737,18.197548246039826,23.223474231163138,33]
["KSHABLD6002",24.794217378431675,29.591297617454138,21.545305753525522,22.532906028578488,16.01122958631737,18.197548246039826,23.223474231163138,33]
["KSHABLD8002",24.794217378431675,29.591297617454138,21.545305753525522,22.532906028578488,16.01122958631737,18.197548246039826,23.223474231163138,33]
["KSHABLD10002",24.794217378431675,29.591297617454138,21.545305753525522,22.532906028578488,16.01122958631737,18.197548246039826,23.223474231163138,33]
["KSHABLD12002",24.794217378431675,29.591297617454138,21.545305753525522,22.532906028578488,16.01122958631737,18.197548246039826,23.223474231163138,33]
["KSHABLE5002",43.357617491091318,42.46389213192338,47.949577584427928,44.914842143487299,40.098336593260754,34.251391331850002,23.84031763680083,52]
["KSHABLE6002",43.357617491091318,42.46389213192338,47.949577584427928,44.914842143487299,40.098336593260754,34.251391331850002,23.84031763680083,52]
["KSHABLE8002",43.357617491091318,42.46389213192338,47.949577584427928,44.914842143487299,40.098336593260754,34.251391331850002,23.84031763680083,52]
["KSHABLE10002",43.357617491091318,42.46389213192338,47.949577584427928,44.914842143487299,40.098336593260754,34.251391331850002,23.84031763680083,52]
["KSHABLE12002",43.357617491091318,42.46389213192338,47.949577584427928,44.914842143487299,40.098336593260754,34.251391331850002,23.84031763680083,52]
["KSHZUL5003",22.897781916582865,30.468178279712479,31.108974376601285,28.862868399032934,24.495185321863843,21.875374352606446,22.243002356224043,36]
["KSHZUL6003",22.897781916582865,30.468178279712479,31.108974376601285,28.862868399032934,24.495185321863843,21.875374352606446,22.243002356224043,36]
["KSHZUL8003",22.897781916582865,30.468178279712479,31.108974376601285,28.862868399032934,24.495185321863843,21.875374352606446,22.243002356224043,36]
["KSHZUL10003",22.897781916582865,30.468178279712479,31.108974376601285,28.862868399032934,24.495185321863843,21.875374352606446,22.243002356224043,36]
["KSHZUL12003",22.897781916582865,30.468178279712479,31.108974376601285,28.862868399032934,24.495185321863843,21.875374352606446,22.243002356224043,36]
["KSHABLD5003",{"$f":"10*LOG(10^(0.1*B193)+10^(0.1*C193)+10^(0.1*D193))","v":19.487721128659366},23.206994051182072,23.196353973060294,17.313648282421443,13.748470003046178,17.289120771394423,21.962699275987521,29]
["KSHABLD6003",19.487721128659366,23.206994051182072,23.196353973060294,17.313648282421443,13.748470003046178,17.289120771394423,21.962699275987521,29]
["KSHABLD8003",19.487721128659366,23.206994051182072,23.196353973060294,17.313648282421443,13.748470003046178,17.289120771394423,21.962699275987521,29]
["KSHABLD10003",19.487721128659366,23.206994051182072,23.196353973060294,17.313648282421443,13.748470003046178,17.289120771394423,21.962699275987521,29]
["KSHABLD12003",19.487721128659366,23.206994051182072,23.196353973060294,17.313648282421443,13.748470003046178,17.289120771394423,21.962699275987521,29]
["KSHABLE5003",20.20238825133309,28.310879284311543,29.026568442377393,23.922911419735296,20.24561284896615,19.859301643275039,21.620353329503999,33]
["KSHABLE6003",20.20238825133309,28.310879284311543,29.026568442377393,23.922911419735296,20.24561284896615,19.859301643275039,21.620353329503999,33]
["KSHABLE8003",20.20238825133309,28.310879284311543,29.026568442377393,23.922911419735296,20.24561284896615,19.859301643275039,21.620353329503999,33]
["KSHABLE10003",20.20238825133309,28.310879284311543,29.026568442377393,23.922911419735296,20.24561284896615,19.859301643275039,21.620353329503999,33]
["KSHABLE12003",20.20238825133309,28.310879284311543,29.026568442377393,23.922911419735296,20.24561284896615,19.859301643275039,21.620353329503999,33]
[]
[null,2,3,4,5,6,7,8,9]
["Auswahl:"]
[{"$f":"CONCATENATE(\"KSHZUL\",'Auslegung KSH'!$D$9,'Auslegung KSH'!$D$15)","v":"KSHZUL6003"},{"$f":"VLOOKUP($A$239,$A$206:$I$230,B$237,FALSE)-B241","v":38.997781916582866},{"$f":"VLOOKUP($A$239,$A$206:$I$230,C$237,FALSE)-C241","v":39.068178279712477},34.308974376601284,28.862868399032934,23.295185321863844,20.875374352606446,23.343002356224044,{"$f":"IF(VLOOKUP(A239,A206:I235,I237,FALSE)<25,\"<25\",VLOOKUP(A239,A206:I235,I237,FALSE))","v":36}]
[{"$f":"CONCATENATE(\"KSHABL\",'Auslegung KSH'!$E$71,'Auslegung KSH'!$D$9,'Auslegung KSH'!$D$15)","v":"KSHABLE6003"},{"$f":"VLOOKUP($A$240,$A$206:$I$235,B$237,FALSE)-B241","v":36.302388251333092},{"$f":"VLOOKUP($A$240,$A$206:$I$235,C$237,FALSE)-C241","v":36.910879284311541},32.226568442377392,23.922911419735296,19.045612848966151,18.859301643275039,22.720353329504,{"$f":"IF(VLOOKUP(A240,A206:I235,I237,FALSE)<25,\"<25\",VLOOKUP(A240,A206:I235,I237,FALSE))","v":33}]
["A-Bewertung",-16.100000000000001,-8.6,-3.2,0,1.2,1,-1.1000000000000001]
["Relativspektrum"]

{"sheet":"Dt KSH","index":5,"n_rows":37,"n_cols":11,"rows_kept":37,"cut":false,"hidden":true,"merged":[]}
["Frequenzband","fm_Okt","[Hz]",63,125,250,500,1000,2000,4000,8000]
[null,null,{"$f":"'Grunddaten KSH'!C4","v":"KSHZUL5002"},23.307318822721015,14.455903988643568,12.336182379025026,15.357894358124701,13.880114709246127,14.613728890818724,16.296537099167296,21.772563228039189]
[null,null,{"$f":"'Grunddaten KSH'!C5","v":"KSHZUL6002"},23.87428217133904,14.858949995797213,13.089163179069859,12.302751791528465,17.246399393932851,15.055889455695123,16.949653075224958,22.502077525338532]
[null,null,{"$f":"'Grunddaten KSH'!C6","v":"KSHZUL8002"},23.577732649560076,15.641274850147527,12.890616068364974,13.998828326491147,15.012214589175928,14.703533053055832,15.683169279159436,21.123316361856478]
[null,null,{"$f":"'Grunddaten KSH'!C7","v":"KSHZUL10002"},23.307318822721015,14.455903988643568,12.336182379025026,15.357894358124701,13.880114709246127,14.613728890818724,16.296537099167296,21.772563228039189]
[null,null,{"$f":"'Grunddaten KSH'!C8","v":"KSHZUL12002"},23.978963384296431,14.991273719064838,13.343764306369392,14.965789122609188,14.504332106930534,14.706060909857159,15.883969379443993,21.448906022728131]
[null,null,{"$f":"'Grunddaten KSH'!C9","v":"KSHZUL5003"},24.788070485363765,17.996281626394214,14.118331082554306,16.055535135641374,14.697968938194002,15.119188968198809,18.035491435070448,24.082088455067293]
[null,null,{"$f":"'Grunddaten KSH'!C10","v":"KSHZUL6003"},24.320374527324251,17.1869726381119,13.604392766613767,13.006241078678052,15.419582349021294,14.12530416208538,15.770319904249368,21.495867502498243]
[null,null,{"$f":"'Grunddaten KSH'!C11","v":"KSHZUL8003"},24.44524164258732,18.079739739082093,13.904594716421716,13.880065418584621,15.087139731901654,15.198398228078279,17.339950100952777,23.410913783394417]
[null,null,{"$f":"'Grunddaten KSH'!C12","v":"KSHZUL10003"},24.788070485363765,17.996281626394214,14.118331082554306,16.055535135641374,14.697968938194002,15.119188968198809,18.035491435070448,24.082088455067293]
[null,null,{"$f":"'Grunddaten KSH'!C13","v":"KSHZUL12003"},25.039627761645995,17.438142291078456,14.291436567090951,15.60734228987898,14.469490083013214,14.721998476309061,16.268062872664551,21.932679148386278]
[null,null,{"$f":"'Grunddaten KSH'!C14","v":"KSHABLD5002"},23.242466331980861,13.861465789226949,12.779121802487204,15.821943960840382,12.927276477901826,13.571962968932239,16.178867021779407,21.731032779705316]
[null,null,{"$f":"'Grunddaten KSH'!C15","v":"KSHABLD6002"},23.604787217144306,14.297164187961634,14.278419181365825,12.929970612720762,15.947249195765732,13.867060343412067,16.410424694672912,23.350547020688943]
[null,null,{"$f":"'Grunddaten KSH'!C16","v":"KSHABLD8002"},23.421280111604258,15.501177984018357,13.155922029331784,14.227475576306485,14.406026440630264,13.791290964554847,16.536025777031099,21.768497753998936]
[null,null,{"$f":"'Grunddaten KSH'!C17","v":"KSHABLD10002"},23.242466331980861,13.861465789226949,12.779121802487204,15.821943960840382,12.927276477901826,13.571962968932239,16.178867021779407,21.731032779705316]
[null,null,{"$f":"'Grunddaten KSH'!C18","v":"KSHABLD12002"},23.020787432591796,14.749298173801058,13.387631400438096,15.889492436255079,13.532738715533387,13.670515667716376,16.263949552355289,21.635768100171756]
[null,null,{"$f":"'Grunddaten KSH'!C19","v":"KSHABLD5003"},24.548800638731713,17.769462300367088,13.665697764650645,16.123900324098756,13.314416551515292,13.494983387322554,17.359314219769132,23.741799615362318]
[null,null,{"$f":"'Grunddaten KSH'!C20","v":"KSHABLD6003"},24.457541951048178,17.365236509949654,14.415071766525887,12.558085992038157,14.649945629993669,13.173829587823596,17.361852171986044,22.471739798339435]
[null,null,{"$f":"'Grunddaten KSH'!C21","v":"KSHABLD8003"},24.850195721599675,17.594029548435273,13.805718683954352,14.304475127843157,13.709336329203939,13.356998692412901,15.517661495440954,21.126069811999951]
[null,null,{"$f":"'Grunddaten KSH'!C22","v":"KSHABLD10003"},24.548800638731713,17.769462300367088,13.665697764650645,16.123900324098756,13.314416551515292,13.494983387322554,17.359314219769132,23.741799615362318]
[null,null,{"$f":"'Grunddaten KSH'!C23","v":"KSHABLD12003"},24.917937901129005,17.557067756655979,14.564191884496186,14.987545278982878,12.683423999013817,13.087564114838564,16.973297020870806,21.745301673953414]
[null,null,{"$f":"'Grunddaten KSH'!C24","v":"KSHABLE5002"},23.307318822721015,14.455903988643568,12.336182379025026,15.357894358124701,13.880114709246127,14.613728890818724,16.296537099167296,21.772563228039189]
[null,null,{"$f":"'Grunddaten KSH'!C25","v":"KSHABLE6002"},23.87428217133904,14.858949995797213,13.089163179069859,12.302751791528465,17.246399393932851,15.055889455695123,16.949653075224958,22.502077525338532]
[null,null,{"$f":"'Grunddaten KSH'!C26","v":"KSHABLE8002"},23.577732649560076,15.641274850147527,12.890616068364974,13.998828326491147,15.012214589175928,14.703533053055832,15.683169279159436,21.123316361856478]
[null,null,{"$f":"'Grunddaten KSH'!C27","v":"KSHABLE10002"},23.307318822721015,14.455903988643568,12.336182379025026,15.357894358124701,13.880114709246127,14.613728890818724,16.296537099167296,21.772563228039189]
[null,null,{"$f":"'Grunddaten KSH'!C28","v":"KSHABLE12002"},23.978963384296431,14.991273719064838,13.343764306369392,14.965789122609188,14.504332106930534,14.706060909857159,15.883969379443993,21.448906022728131]
[null,null,{"$f":"'Grunddaten KSH'!C29","v":"KSHABLE5003"},24.788070485363765,17.996281626394214,14.118331082554306,16.055535135641374,14.697968938194002,15.119188968198809,18.035491435070448,24.082088455067293]
[null,null,{"$f":"'Grunddaten KSH'!C30","v":"KSHABLE6003"},24.320374527324251,17.1869726381119,13.604392766613767,13.006241078678052,15.419582349021294,14.12530416208538,15.770319904249368,21.495867502498243]
[null,null,{"$f":"'Grunddaten KSH'!C31","v":"KSHABLE8003"},24.44524164258732,18.079739739082093,13.904594716421716,13.880065418584621,15.087139731901654,15.198398228078279,17.339950100952777,23.410913783394417]
[null,null,{"$f":"'Grunddaten KSH'!C32","v":"KSHABLE10003"},24.788070485363765,17.996281626394214,14.118331082554306,16.055535135641374,14.697968938194002,15.119188968198809,18.035491435070448,24.082088455067293]
[null,null,{"$f":"'Grunddaten KSH'!C33","v":"KSHABLE12003"},25.039627761645995,17.438142291078456,14.291436567090951,15.60734228987898,14.469490083013214,14.721998476309061,16.268062872664551,21.932679148386278]
[]
[]
[null,null,null,2,3,4,5,6,7,8,9]
[]
[null,null,{"$f":"'Grunddaten KSH'!$C$49","v":"KSHZUL6003"},{"$f":"VLOOKUP($C$36,$C$2:$K$31,D34,FALSE)","v":24.320374527324251},{"$f":"VLOOKUP($C$36,$C$2:$K$31,E34,FALSE)","v":17.1869726381119},13.604392766613767,13.006241078678052,15.419582349021294,14.12530416208538,15.770319904249368,21.495867502498243]
[null,null,{"$f":"'Grunddaten KSH'!$C$50","v":"KSHABLE6003"},{"$f":"VLOOKUP($C$37,$C$2:$K$31,D34,FALSE)","v":24.320374527324251},{"$f":"VLOOKUP($C$37,$C$2:$K$31,E34,FALSE)","v":17.1869726381119},13.604392766613767,13.006241078678052,15.419582349021294,14.12530416208538,15.770319904249368,21.495867502498243]

{"sheet":"Auslegung KSH","index":6,"n_rows":169,"n_cols":11,"rows_kept":169,"cut":false,"hidden":false,"merged":[[69,3,69,4],[149,0,155,0],[157,3,157,4],[119,1,119,4],[120,1,120,4],[121,1,121,4],[125,4,128,4],[145,3,145,4],[146,3,146,4],[115,1,115,4],[72,3,72,4],[73,3,73,4],[76,3,76,4],[77,3,77,4],[78,3,78,4],[79,3,79,4],[80,3,80,4],[105,3,105,4],[108,1,108,4],[111,1,111,4],[114,1,114,4],[46,3,46,4],[0,0,0,3],[5,0,5,4],[6,3,6,4],[7,3,7,4],[8,3,8,4],[14,3,14,4],[23,3,23,4],[26,3,26,4],[27,3,27,4],[42,3,42,4],[45,3,45,4],[17,3,17,4],[20,3,20,4]]}
[{"$f":"Übersetzung!F5","v":"Auslegung Kampmann Kombiluftdurchlässe"}]
[]
[{"$f":"Übersetzung!F6","v":"Eingabefelder sind gelb gekennzeichnet"}]
[{"$f":"Übersetzung!F7","v":"Ergebnisfelder sind blau gekennzeichnet"}]
[]
[{"$f":"Übersetzung!F8","v":"Vorgaben"}]
[{"$f":"Übersetzung!F9","v":"Lüftungstechnik"},{"$f":"Übersetzung!F10","v":"Symbol"},{"$f":"Übersetzung!F11","v":"Einheit"},{"$f":"Übersetzung!F12","v":"Wert"}]
[{"$f":"Übersetzung!F13","v":"Durchlass Typ"},null,null,"KSH"]
[{"$f":"Übersetzung!F15","v":"Baulänge"},"L",{"$f":"Einheiten!$L$10","v":"mm"},600]
[null,null,null,500]
[null,null,null,600]
[null,null,null,800]
[null,null,null,1000]
[null,null,null,1200]
[{"$f":"Übersetzung!F142","v":"Schlitzanzahl"},"n","[-]",3]
[null,null,null,2]
[null,null,null,3]
["Ausführung Durchlass",null,null,"leer"]
[null,null,null,{"$f":"Übersetzung!F162","v":"Zuluft"}]
[null,null,null,{"$f":"Übersetzung!F163","v":"Abluft"}]
[{"$f":"Übersetzung!$F$42","v":"Durchmesser Anschlussstutzen"},"DN",{"$f":"Einheiten!$L$10","v":"mm"},100]
[null,null,null,100]
[null,null,null,{"$f":"IF(D15=3,125,100)","v":125}]
[{"$f":"Übersetzung!F143","v":"BVR in Zuluft"},null,null,"nein"]
[null,null,null,{"$f":"Übersetzung!F175","v":"ja"},{"$f":"Übersetzung!F175","v":"ja"}]
[null,null,null,{"$f":"Übersetzung!F176","v":"nein"}]
[{"$f":"Übersetzung!F144","v":"Luftvolumenstrom Zuluft"},"V·SUP",{"$f":"Einheiten!$L$7","v":"m³/h"},120]
[{"$f":"Übersetzung!F214","v":"Nennvolumenstrom Konstantvolumenstromregler"},"V°BVR_SUP",{"$f":"Einheiten!$L$7","v":"m³/h"},120]
[null,null,null,{"$f":"V°BVR_KSH!S11","v":50}]
[null,null,null,{"$f":"V°BVR_KSH!S12","v":55}]
[null,null,null,{"$f":"V°BVR_KSH!S13","v":70}]
[null,null,null,{"$f":"V°BVR_KSH!S14","v":75}]
[null,null,null,{"$f":"V°BVR_KSH!S15","v":80}]
[null,null,null,{"$f":"V°BVR_KSH!S16","v":90}]
[null,null,null,{"$f":"V°BVR_KSH!S17","v":""}]
[null,null,null,{"$f":"V°BVR_KSH!S18","v":""}]
[null,null,null,{"$f":"V°BVR_KSH!S19","v":""}]
[null,null,null,{"$f":"V°BVR_KSH!S20","v":""}]
[null,null,null,{"$f":"V°BVR_KSH!S21","v":""}]
[null,null,null,{"$f":"V°BVR_KSH!S22","v":""}]
[null,null,null,{"$f":"V°BVR_KSH!S23","v":""}]
[null,null,null,{"$f":"V°BVR_KSH!S24","v":""}]
[{"$f":"Übersetzung!F145","v":"BVR in Abluft"},null,null,"nein"]
[null,null,null,{"$f":"Übersetzung!F175","v":"ja"},{"$f":"Übersetzung!F175","v":"ja"}]
[null,null,null,"nein"]
[{"$f":"Übersetzung!F146","v":"Luftvolumenstrom Abluft"},"V·ETA",{"$f":"Einheiten!$L$7","v":"m³/h"},110]
[{"$f":"Übersetzung!F214","v":"Nennvolumenstrom Konstantvolumenstromregler"},"V·BVR_ETA","m³/h",50]
[null,null,null,{"$f":"V°BVR_KSH!AH31","v":50}]
[null,null,null,{"$f":"V°BVR_KSH!AH32","v":55}]
[null,null,null,{"$f":"V°BVR_KSH!AH33","v":70}]
[null,null,null,{"$f":"V°BVR_KSH!AH34","v":75}]
[null,null,null,{"$f":"V°BVR_KSH!AH35","v":80}]
[null,null,null,{"$f":"V°BVR_KSH!AH36","v":90}]
[null,null,null,{"$f":"V°BVR_KSH!AH37","v":""}]
[null,null,null,{"$f":"V°BVR_KSH!AH38","v":""}]
[null,null,null,{"$f":"V°BVR_KSH!AH39","v":""}]
[null,null,null,{"$f":"V°BVR_KSH!AH40","v":""}]
[null,null,null,{"$f":"V°BVR_KSH!AH41","v":""}]
[null,null,null,{"$f":"V°BVR_KSH!AH42","v":""}]
[null,null,null,{"$f":"V°BVR_KSH!AH43","v":""}]
[null,null,null,{"$f":"V°BVR_KSH!AH44","v":""}]
[null,null,null,{"$f":"V°BVR_KSH!AH45","v":""}]
[null,null,null,{"$f":"V°BVR_KSH!AH46","v":""}]
[null,null,null,{"$f":"V°BVR_KSH!AH47","v":""}]
[null,null,null,{"$f":"V°BVR_KSH!AH48","v":""}]
[null,null,null,{"$f":"V°BVR_KSH!AH49","v":""}]
[null,null,null,{"$f":"V°BVR_KSH!AH50","v":""}]
[null,null,null,{"$f":"V°BVR_KSH!AH51","v":""}]
[]
[{"$f":"Übersetzung!F236","v":"Ausführung Abluft"},null,null,"Exzenterwalze"]
[null,null,null,{"$f":"Übersetzung!F237","v":"Exzenterwalze"},{"$f":"IF(OR($D$70=\"Düsenwalze\",$D$70=\"Nozzle cylinder\"),\"D\",\"E\")","v":"E"}]
[null,null,null,{"$f":"Übersetzung!F238","v":"Düsenwalze"}]
[{"$f":"Übersetzung!F18","v":"Temperatur Zuluft"},"tSUP",{"$f":"Einheiten!$L$9","v":"°C"},18,null,null,null,1,{"$f":"Übersetzung!F171","v":"Breite Frontblende"},{"$f":"'Grunddaten KSH'!$R$49","v":630},{"$f":"Einheiten!$L$10","v":"mm"}]
[{"$f":"Übersetzung!F19","v":"Temperatur Raum"},"tRaum",{"$f":"Einheiten!$L$9","v":"°C"},26,null,null,null,2,{"$f":"Übersetzung!F172","v":"Höhe Frontblende"},{"$f":"'Grunddaten KSH'!S49","v":126},{"$f":"Einheiten!$L$10","v":"mm"}]
[null,null,null,null,null,null,null,3,{"$f":"Übersetzung!F232","v":"Länge Anschlusskasten"},{"$f":"'Grunddaten KSH'!Q49","v":618},{"$f":"Einheiten!$L$10","v":"mm"}]
[{"$f":"Übersetzung!F20","v":"Raumdaten"},null,null,null,null,null,null,4,{"$f":"Übersetzung!F72","v":"Höhe Anschlusskasten"},{"$f":"'Grunddaten KSH'!P49","v":165},{"$f":"Einheiten!$L$10","v":"mm"}]
[{"$f":"Übersetzung!F25","v":"Raumhöhe"},"H1",{"$f":"Einheiten!$L$5","v":"m"},3,null,null,null,5,{"$f":"Übersetzung!F173","v":"Tiefe Anschlusskasten"},{"$f":"'Grunddaten KSH'!X49","v":225},{"$f":"Einheiten!$L$10","v":"mm"}]
[{"$f":"Übersetzung!F22","v":"Obergrenze Aufenthaltsbereich"},"H2",{"$f":"Einheiten!$L$5","v":"m"},1.8,null,null,null,6,{"$f":"Übersetzung!F233","v":"Tiefe Hals"},{"$f":"'Grunddaten KSH'!$V$49","v":100},{"$f":"Einheiten!$L$10","v":"mm"}]
[{"$f":"Übersetzung!F23","v":"Raumlänge"},"LR",{"$f":"Einheiten!$L$5","v":"m"},6,null,null,null,7,{"$f":"Übersetzung!$F$234","v":"Höhe Hals"},{"$f":"'Grunddaten KSH'!$W$49","v":114},{"$f":"Einheiten!$L$10","v":"mm"}]
[{"$f":"Übersetzung!F24","v":"Raumbreite"},"BR",{"$f":"Einheiten!$L$5","v":"m"},3,null,null,null,8,{"$f":"Übersetzung!$F$210","v":"Abstand Anschlussstutzen"},{"$f":"'Grunddaten KSH'!$U$49","v":308},{"$f":"Einheiten!$L$10","v":"mm"}]
[{"$f":"Übersetzung!F148","v":"Raumart nach VDI 2081"},null,null,"Einzelbüro",null,null,null,9,{"$f":"Übersetzung!$F$42","v":"Durchmesser Anschlussstutzen"},{"$f":"'Grunddaten KSH'!$I$49","v":123},{"$f":"Einheiten!$L$10","v":"mm"}]
[null,null,{"$f":"Übersetzung!F177","v":"Einzelbüro"},null,null,null,null,null,null,null,{"$f":"Einheiten!$L$10","v":"mm"}]
[null,null,{"$f":"Übersetzung!F178","v":"Großraumbüro"},null,null,null,null,null,null,null,{"$f":"Einheiten!$L$10","v":"mm"}]
[null,null,{"$f":"Übersetzung!F179","v":"Werkstätten"},null,null,null,null,null,null,null,{"$f":"Einheiten!$L$10","v":"mm"}]
[null,null,{"$f":"Übersetzung!F180","v":"Ruheraum, Pausenraum"},null,null,null,null,null,null,null,{"$f":"Einheiten!$L$10","v":"mm"}]
[null,null,{"$f":"Übersetzung!F181","v":"Untersuchungsraum Krankenhaus"},null,null,null,null,null,null,null,{"$f":"Einheiten!$L$10","v":"mm"}]
[null,null,{"$f":"Übersetzung!F182","v":"Rundfunk-, Fernsehstudio"},null,null,null,null,null,null,null,{"$f":"Einheiten!$L$10","v":"mm"}]
[null,null,{"$f":"Übersetzung!F183","v":"Chemielabor"},null,null,null,null,null,null,null,{"$f":"Einheiten!$L$10","v":"mm"}]
[null,null,{"$f":"Übersetzung!F184","v":"Wasch- und WC-Raum, Umkleide"},null,null,null,null,null,null,null,{"$f":"Einheiten!$L$10","v":"mm"}]
[null,null,{"$f":"Übersetzung!F185","v":"Schwimmbad"},null,null,null,null,null,null,null,{"$f":"Einheiten!$L$10","v":"mm"}]
[null,null,{"$f":"Übersetzung!F186","v":"EDV-Raum"},null,null,null,null,null,null,null,{"$f":"Einheiten!$L$10","v":"mm"}]
[null,null,{"$f":"Übersetzung!F187","v":"Konzertsaal"},null,null,null,null,null,null,null,{"$f":"Einheiten!$L$10","v":"mm"}]
[null,null,{"$f":"Übersetzung!F188","v":"Lesesaal"},null,null,null,null,null,null,null,{"$f":"Einheiten!$L$10","v":"mm"}]
[null,null,{"$f":"Übersetzung!F189","v":"Museum"},null,null,null,null,null,null,null,{"$f":"Einheiten!$L$10","v":"mm"}]
[null,null,{"$f":"Übersetzung!F190","v":"Küche"},null,null,null,null,null,null,null,{"$f":"Einheiten!$L$10","v":"mm"}]
[null,null,{"$f":"Übersetzung!F191","v":"Theater, Kino"},null,null,null,null,null,null,null,{"$f":"Einheiten!$L$10","v":"mm"}]
[null,null,{"$f":"Übersetzung!F192","v":"Klassen- Seminarraum"},null,null,null,null,null,null,null,{"$f":"Einheiten!$L$10","v":"mm"}]
[null,null,{"$f":"Übersetzung!F193","v":"Gaststätte"},null,null,null,null,null,null,null,{"$f":"Einheiten!$L$10","v":"mm"}]
[null,null,{"$f":"Übersetzung!F194","v":"kein Typ"},null,null,null,null,null,null,null,{"$f":"Einheiten!$L$10","v":"mm"}]
[null,null,{"$f":"Übersetzung!F195","v":"Konferenzraum"},null,null,null,null,null,null,null,{"$f":"Einheiten!$L$10","v":"mm"}]
[null,null,{"$f":"Übersetzung!F196","v":"Hotelzimmer"},null,null,null,null,null,null,null,{"$f":"Einheiten!$L$10","v":"mm"}]
[null,null,{"$f":"Übersetzung!F197","v":"Hörsaal"},null,null,null,null,null,null,null,{"$f":"Einheiten!$L$10","v":"mm"}]
[null,null,{"$f":"Übersetzung!F198","v":"Bettenzimmer Krankenhaus"},null,null,null,null,null,null,null,{"$f":"Einheiten!$L$10","v":"mm"}]
[null,null,{"$f":"Übersetzung!F199","v":"Verkaufsraum"},null,null,null,null,null,null,null,{"$f":"Einheiten!$L$10","v":"mm"}]
[null,null,{"$f":"Übersetzung!F200","v":"Sporthalle"},null,null,null,null,null,null,null,{"$f":"Einheiten!$L$10","v":"mm"}]
[{"$f":"Übersetzung!F149","v":"Abstand zur Schallquelle"},"r",{"$f":"Einheiten!$L$5","v":"m"},3]
[]
[{"$f":"Übersetzung!F150","v":"Zusatzdaten"}]
[{"$f":"Übersetzung!F151","v":"Walzenfarbe"},"schwarz",null,null,null,{"$f":"VLOOKUP($B$109,'Schlüssel KS'!$A$38:$B$43,2,FALSE)","v":"S"}]
[null,{"$f":"Übersetzung!F154","v":"schwarz"}]
[null,{"$f":"Übersetzung!F155","v":"weiß"}]
[{"$f":"Übersetzung!F152","v":"Lackierung Frontblende"},"weiß (RAL 9010) bepulvert",null,null,null,{"$f":"VLOOKUP($B$112,'Schlüssel KS'!$A$38:$B$43,2,FALSE)","v":9010}]
[null,{"$f":"Übersetzung!F156","v":"naturfarbig eloxiert"}]
[null,{"$f":"Übersetzung!F157","v":"weiß (RAL 9010) bepulvert"}]
[null,null,null,null,null,{"$f":"VLOOKUP(D9,'Schlüssel KS'!A38:B48,2,0)","v":{"$error":"#N/A"}}]
[{"$f":"Übersetzung!F153","v":"Ausführung"},"ohne Drossel / ohne BVR",null,null,null,{"$f":"VLOOKUP(B116,'Schlüssel KS'!A38:B48,2,0)","v":0}]
[null,{"$f":"Übersetzung!F158","v":"ohne Drossel / ohne BVR"}]
[null,{"$f":"Übersetzung!F159","v":"mit frontseitig bedienbarer Drossel*"}]
[null,{"$f":"Übersetzung!F160","v":"mit BVR*"}]
["Ident-Nr.",{"$f":"'Grunddaten KS'!$Y$23","v":"071-9605"}]
["Brutto-Listenpreis",{"$f":"IF(B116=\"ohne Drossel / ohne BVR\",'Grunddaten KS'!Z$23,\"\")","v":309}]
["Merkmalschlüssel",{"$f":"CONCATENATE(1,\"K\",\"S0\",3,\"K\",$F$115,\"A\",$F$112,$F$109,\"J\",\"DE\",\"A\",F116,\"V\")","v":{"$error":"#N/A"}}]
[]
[{"$f":"Übersetzung!F26","v":"Berechnung strömungstechnische und Akustische Daten"},null,null,{"$f":"Übersetzung!F162","v":"Zuluft"},{"$f":"Übersetzung!F163","v":"Abluft"}]
[{"$f":"Übersetzung!F27","v":"Totaldruckverlust"},"Dpt",{"$f":"Einheiten!$L$8","v":"Pa"},{"$f":"IF(OR(AND(D9=500,D18=Übersetzung!F163),D18=\"Auswahl\"),\"\",'Grunddaten KSH'!N49)","v":38.676361380086973},{"$f":"IF(OR(AND(D9=500,D18=Übersetzung!F163),E18=\"Auswahl\"),\"\",'Grunddaten KSH'!O50)","v":28.889081149612881}]
[{"$f":"Übersetzung!F91","v":"Kritischer Strahlweg"},"xkr.",{"$f":"Einheiten!$L$5","v":"m"},{"$f":"IF(OR(AND(D9=500,D18=Übersetzung!F163),D18=\"Auswahl\"),\"\",VLOOKUP(CONCATENATE(D9,D15),'xkr._vx KSH'!$F$7:$M$20,2,FALSE))","v":2.440261537792531}]
[{"$f":"Übersetzung!F161","v":"Strahllauflänge bis Aufenthaltsbereich"},"x+y",{"$f":"Einheiten!$L$5","v":"m"},{"$f":"IF(OR(AND(D9=500,D18=Übersetzung!F163),D18=\"Auswahl\"),\"\",VLOOKUP(CONCATENATE(D9,D15),'xkr._vx KSH'!$F$7:$M$20,7,FALSE))","v":4.1373178126402452}]
[{"$f":"Übersetzung!F57","v":"Geschwindigkeit nach Ablösen an Xkr."},"vx+y",{"$f":"Einheiten!$L$6","v":"m/s"},{"$f":"IF(OR(AND(D9=500,D18=Übersetzung!F163),D18=\"Auswahl\"),\"\",VLOOKUP(CONCATENATE(D9,D15),'xkr._vx KSH'!$F$7:$M$20,6,FALSE))","v":0.25583987084901993}]
[{"$f":"Übersetzung!F56","v":"Zugluftrisiko im Aufenthaltsbereich**"},"DR","%",{"$f":"IF(OR(AND(D9=500,D18=Übersetzung!F163),D18=\"Auswahl\"),\"\",VLOOKUP(CONCATENATE(D9,D15),'xkr._vx KSH'!$F$7:$M$20,8,0))","v":26.931332030755524}]
[]
[{"$f":"Übersetzung!F164","v":"Schallleistungspegel"},null,null,{"$f":"D124","v":"Zuluft"},{"$f":"Übersetzung!F163","v":"Abluft"}]
[{"$f":"Übersetzung!F165","v":"Druckdifferenz am BVR"},"DpBVR ",{"$f":"Einheiten!$L$8","v":"Pa"},50,50]
[null,null,null,50,50]
[null,null,null,75,75]
[null,null,null,100,100]
[null,null,null,125,125]
[null,null,null,150,150]
[null,null,null,175,175]
[null,null,null,200,200]
[]
[{"$f":"Übersetzung!F166","v":"Schallleistungspegel mit BVR Zuluft/Abluft"},"LWA_SUP/ETA","dB(A)",{"$f":"IF($D$24=\"ja\",LWBVR_KSH!$K$5,\"\")","v":""},{"$f":"IF($D$43=\"ja\",LWBVR_KSH!$K$6,\"\")","v":""}]
[{"$f":"Übersetzung!F167","v":"Schallleistungspegel ohne BVR Zuluft/Abluft"},"LWA_SUP/ETA","dB(A)",{"$f":"IF(OR(AND(D9=500,D18=Übersetzung!F163),D18=\"Auswahl\"),\"\",IF(D24=\"ja\",\"\",'Lw KSH'!I239))","v":36},{"$f":"IF(OR(AND(D9=500,D18=Übersetzung!F162),D18=\"Auswahl\"),\"\",IF($D$43=\"ja\",\"\",'Lw KSH'!$I$240))","v":33}]
[null,null,null,{"$f":"IF(OR(D141=\"\",D141=\"<25\"),-100,D141)","v":-100},{"$f":"IF(OR(E141=\"\",E141=\"<25\"),-100,E141)","v":-100}]
[null,null,null,{"$f":"IF(OR(D142=\"\",D142=\"<25\"),-100,D142)","v":36},{"$f":"IF(OR(E142=\"\",E142=\"<25\"),-100,E142)","v":33}]
[]
[{"$f":"Übersetzung!F168","v":"Summen-Schallleistungspegel Zuluft + Abluft"},"LWA_gesamt","dB(A)",{"$f":"IF(AND(D9=500,D18=Übersetzung!F163,D18=\"Auswahl\"),\"\",IF(10*LOG(10^(0.1*D143)+10^(0.1*E143)+10^(0.1*D144)+10^(0.1*E144))>25,10*LOG(10^(0.1*D143)+10^(0.1*E143)+10^(0.1*D144)+10^(0.1*E144)),D145))","v":37.764348624365006}]
[{"$f":"Übersetzung!F169","v":"Schalldruckpegel im Raum"},"LPA","dB(A)",{"$f":"IF(D146=\"\",\"\",IF('Auslegung KSH'!$D$146+10*LOG('Lw KS'!$G$117/(4*PI()*'Auslegung KSH'!$D$106^2)+4/'Lw KS'!I117)>=25,'Auslegung KSH'!$D$146+10*LOG('Lw KS'!$G$117/(4*PI()*'Auslegung KSH'!$D$106^2)+4/'Lw KS'!I117),\"<25\"))","v":32.650322045339308}]
[]
[{"$f":"Übersetzung!F34","v":"Oktavspektrum Schallleistung"},"LW_Okt","dB(A)",{"$f":"Übersetzung!F162","v":"Zuluft"},{"$f":"Übersetzung!F163","v":"Abluft"}]
[null,"LW_125","dB",{"$f":"IF(OR(AND(D9=500,D18=Übersetzung!F163),D18=\"Auswahl\"),\"\",IF($D$142=\"<25\",\"\",IF($D$24=\"ja\",LWBVR_KSH!$N$5,'Lw KSH'!$B$239)))","v":38.997781916582866},{"$f":"IF(OR(AND(D9=500,D18=Übersetzung!F162),D18=\"Auswahl\"),\"\",IF(E142=\"<25\",\"\",IF(D43=\"ja\",LWBVR_KSH!$N$6,'Lw KSH'!$B$240)))","v":36.302388251333092}]
[null,"LW_250","dB",{"$f":"IF(OR(AND(D9=500,D18=Übersetzung!F163),D18=\"Auswahl\"),\"\",IF(D142=\"<25\",\"\",IF(D24=\"ja\",LWBVR_KSH!$O$5,'Lw KSH'!$C$239)))","v":39.068178279712477},{"$f":"IF(OR(AND(D9=500,D18=Übersetzung!F162),D18=\"Auswahl\"),\"\",IF(E142=\"<25\",\"\",IF(D43=\"ja\",LWBVR_KSH!$O$6,'Lw KSH'!$C$240)))","v":36.910879284311541}]
[null,"LW_500","dB",{"$f":"IF(OR(AND(D9=500,D18=Übersetzung!F163),D18=\"Auswahl\"),\"\",IF(D142=\"<25\",\"\",IF(D24=\"ja\",LWBVR_KSH!$P$5,'Lw KSH'!$D$239)))","v":34.308974376601284},{"$f":"IF(OR(AND(D9=500,D18=Übersetzung!F162),D18=\"Auswahl\"),\"\",IF(E142=\"<25\",\"\",IF(D43=\"ja\",LWBVR_KSH!$P$6,'Lw KSH'!$D$240)))","v":32.226568442377392}]
[null,"LW_1000","dB",{"$f":"IF(OR(AND(D9=500,D18=Übersetzung!F163),D18=\"Auswahl\"),\"\",IF(D142=\"<25\",\"\",IF(D24=\"ja\",LWBVR_KSH!$Q$5,'Lw KSH'!$E$239)))","v":28.862868399032934},{"$f":"IF(OR(AND(D9=500,D18=Übersetzung!F162),D18=\"Auswahl\"),\"\",IF(E142=\"<25\",\"\",IF(D43=\"ja\",LWBVR_KSH!$Q$6,'Lw KSH'!$E$240)))","v":23.922911419735296}]
[null,"LW_2000","dB",{"$f":"IF(OR(AND(D9=500,D18=Übersetzung!F163),D18=\"Auswahl\"),\"\",IF(D142=\"<25\",\"\",IF(D24=\"ja\",LWBVR_KSH!$R$5,'Lw KSH'!$F$239)))","v":23.295185321863844},{"$f":"IF(OR(AND(D9=500,D18=Übersetzung!F162),D18=\"Auswahl\"),\"\",IF(E142=\"<25\",\"\",IF(D43=\"ja\",LWBVR_KSH!$R$6,'Lw KSH'!$F$240)))","v":19.045612848966151}]
[null,"LW_4000","dB",{"$f":"IF(OR(AND(D9=500,D18=Übersetzung!F163),D18=\"Auswahl\"),\"\",IF(D142=\"<25\",\"\",IF(D24=\"ja\",LWBVR_KSH!$S$5,'Lw KSH'!$G$239)))","v":20.875374352606446},{"$f":"IF(OR(AND(D9=500,D18=Übersetzung!F162),D18=\"Auswahl\"),\"\",IF(E142=\"<25\",\"\",IF(D43=\"ja\",LWBVR_KSH!$S$6,'Lw KSH'!$G$240)))","v":18.859301643275039}]
[null,"LW_8000","dB",{"$f":"IF(OR(AND(D9=500,D18=Übersetzung!F163),D18=\"Auswahl\"),\"\",IF(D142=\"<25\",\"\",IF(D24=\"ja\",LWBVR_KSH!$T$5,'Lw KSH'!$H$239)))","v":23.343002356224044},{"$f":"IF(OR(AND(D9=500,D18=Übersetzung!F162),D18=\"Auswahl\"),\"\",IF(E142=\"<25\",\"\",IF(D43=\"ja\",LWBVR_KSH!$T$6,'Lw KSH'!$H$240)))","v":22.720353329504}]
[]
[{"$f":"Übersetzung!F170","v":"Durchgangsdämpfungsmaß (Kanal -> Raum)"},"Dt","dB"]
[null,"Dt_63","dB",{"$f":"IF(OR(AND(D9=500,D18=Übersetzung!F163),D18=\"Auswahl\"),\"\",'Dt KSH'!$D$36)","v":24.320374527324251},{"$f":"IF(OR(AND(D9=500,D18=Übersetzung!F162),D18=\"Auswahl\"),\"\",'Dt KSH'!$D$37)","v":24.320374527324251}]
[null,"Dt_125","dB",{"$f":"IF(OR(AND(D9=500,D18=Übersetzung!F163),D18=\"Auswahl\"),\"\",'Dt KSH'!$E$36)","v":17.1869726381119},{"$f":"IF(OR(AND(D9=500,D18=Übersetzung!F162),D18=\"Auswahl\"),\"\",'Dt KSH'!$E$37)","v":17.1869726381119}]
[null,"Dt_250","dB",{"$f":"IF(OR(AND(D9=500,D18=Übersetzung!F163),D18=\"Auswahl\"),\"\",'Dt KSH'!$F$36)","v":13.604392766613767},{"$f":"IF(OR(AND(D9=500,D18=Übersetzung!F162),D18=\"Auswahl\"),\"\",'Dt KSH'!$F$37)","v":13.604392766613767}]
[null,"Dt_500","dB",{"$f":"IF(OR(AND(D9=500,D18=Übersetzung!F163),D18=\"Auswahl\"),\"\",'Dt KSH'!$G$36)","v":13.006241078678052},{"$f":"IF(OR(AND(D9=500,D18=Übersetzung!F162),D18=\"Auswahl\"),\"\",'Dt KSH'!$G$37)","v":13.006241078678052}]
[null,"Dt_1000","dB",{"$f":"IF(OR(AND(D9=500,D18=\"Abluft\"),D18=\"Auswahl\"),\"\",'Dt KSH'!$H$36)","v":15.419582349021294},{"$f":"IF(OR(AND(D9=500,D18=Übersetzung!F162),D18=\"Auswahl\"),\"\",'Dt KSH'!$H$37)","v":15.419582349021294}]
[null,"Dt_2000","dB",{"$f":"IF(OR(AND(D9=500,D18=Übersetzung!F163),D18=\"Auswahl\"),\"\",'Dt KSH'!$I$36)","v":14.12530416208538},{"$f":"IF(OR(AND(D9=500,D18=Übersetzung!F162),D18=\"Auswahl\"),\"\",'Dt KSH'!$I$37)","v":14.12530416208538}]
[null,"Dt_4000","dB",{"$f":"IF(OR(AND(D9=500,D18=Übersetzung!F163),D18=\"Auswahl\"),\"\",'Dt KSH'!$J$36)","v":15.770319904249368},{"$f":"IF(OR(AND(D9=500,D18=Übersetzung!F162),D18=\"Auswahl\"),\"\",'Dt KSH'!$J$37)","v":15.770319904249368}]
[null,"Dt_8000","dB",{"$f":"IF(OR(AND(D9=500,D18=Übersetzung!F163),D18=\"Auswahl\"),\"\",'Dt KSH'!$K$36)","v":21.495867502498243},{"$f":"IF(OR(AND(D9=500,D18=Übersetzung!F162),D18=\"Auswahl\"),\"\",'Dt KSH'!$K$37)","v":21.495867502498243}]
[{"$f":"Übersetzung!F44","v":"Änderungen vorbehalten"}]
[{"$f":"Übersetzung!F45","v":"Stand:"}]
[{"$f":"'Grunddaten KSH'!$E$52","v":"2020-04-21"}]

{"sheet":"LWBVR_KSH","index":7,"n_rows":82,"n_cols":28,"rows_kept":82,"cut":false,"hidden":true,"merged":[[77,8,77,14],[79,6,79,7],[80,6,80,7],[81,6,81,7],[56,6,56,7],[57,6,57,7],[58,6,58,7],[62,6,62,26],[64,3,67,4],[76,6,76,15],[34,6,34,7],[35,6,35,7],[39,6,39,26],[41,3,44,4],[53,6,53,15],[54,8,54,14],[16,6,16,26],[18,3,21,4],[30,6,30,15],[31,8,31,14],[33,6,33,7]]}
[]
[]
[null,"Berechnung des Schallleistungspegels KSH im BVR-Betrieb"]
[null,null,null,null,null,null,null,null,null,null,null,null,null,125,250,500,1000,2000,4000,8000]
[null,"Werteübergabe:",null,"Nennvolumenstrom ZUL",null,{"$f":"'Auslegung KSH'!D28","v":120},null,"Werterückgabe:",null,"LW,A Zuluft:",{"$f":"P34","v":35.091982226962635},null,"LW, Okt ZUL:",{"$f":"I36","v":37.926392000467423},{"$f":"J36","v":39.663236530535769},33.413299943896149,24.99588141212104,19.634088085110307,20.142998114191602,23.718576068018187]
[null,null,null,"Druckdifferenz ZUL",null,{"$f":"'Auslegung KSH'!$D$132","v":50},null,null,null,"LW,A Abluft:",{"$f":"IF(F10=\"D\",P80,P57)","v":29.62635712833378},null,"LW, Okt ABL:",{"$f":"IF(F10=\"D\",I82,I59)","v":34.301065958976778},{"$f":"IF(G10=\"D\",J82,J59)","v":33.572370264641485},26.623400785084616,19.675711605855991,14.656398543238327,15.663584352592956,22.548629738783461]
[null,null,null,"Akt. Länge",null,{"$f":"'Grunddaten KSH'!F49","v":900}]
[null,null,null,"Spez. V° ZUL",null,{"$f":"F5/(F7/1000)","v":133.33333333333334}]
[null,null,null,"Nennvolumenstrom ABL",null,{"$f":"'Auslegung KSH'!$D$47","v":50}]
[null,null,null,"Ausführung Abluft",null,{"$f":"'Auslegung KSH'!$E$71","v":"E"}]
[null,null,null,"Druckdifferenz ABL",null,{"$f":"'Auslegung KSH'!$E$132","v":50}]
[null,null,null,"Akt. Länge",null,{"$f":"'Grunddaten KSH'!$F$50","v":900}]
[null,null,null,"Spez. V° ABL",null,{"$f":"F9/(F12/1000)","v":55.555555555555557}]
[]
[]
[]
[null,"Konstantensatz ZUL",null,null,null,null,"Terzfrequenzband fm [Hz]"]
[null,null,null,"Frequenz","f",null,100,125,160,200,250,315,400,500,630,800,1000,1250,1600,2000,2500,3150,4000,5000,6300,{"$f":"#REF!","v":{"$error":"#REF!"}},10000]
[null,null,null,"Koeffizienten",null,"K1",-33.716746181180426,-31.942216867101227,-37.445523869874059,-32.533888858572723,-52.790121722414341,-48.419900894924389,-57.656384818167091,-67.764011598182634,-59.112366180147873,-59.788856562806131,-69.845292730154554,-65.624507390270779,-64.34473683371975,-69.224050754553957,-65.338170999418793,-58.900967893078175,-43.584089479442454,-32.546087121518354,-13.117613213861384,0.1723631407577049,9.545171792131395]
[null,null,null,null,null,"K2",14.456073819658487,16.246049076512445,25.439724257607804,8.5720445627142574,2.788702320010533,-4.4126047173802903,0.2182157409175125,-3.6212603650639257,-8.3035020349720519,-18.58817856081988,-11.298667927339206,-13.817073086490517,-15.606039789669438,-2.0738312136960233,-2.2571730035385089,5.3667529310883406,4.4575420694182846,3.3375884778034628,2.5133020402834272,1.7962116119728975,2.176099525557623]
[null,null,null,null,null,"K3",14.538379743334895,18.432775163509103,20.265359073722092,20.374900122222222,22.615375976444401,25.1818179116447,28.200519609433133,30.303669656461231,29.86697456800983,32.268744723649093,33.387578753100399,34.89919861915417,34.114680763963626,32.591985584509267,30.860452596194399,25.079628496428153,22.330508978229336,16.632089836018871,10.991957502218485,6.6229978664561839,3.1628168838494664]
[null,null,null,null,null,"K4",-4.346734021651506,-8.4997349265779096,-15.106760377683855,1.5378939786466312,17.214580394216661,20.244782406898704,17.103208207060611,23.900745826581151,24.065270973625903,32.077213057989255,27.599740262974471,25.010869411730287,26.741385442606543,16.510962749732144,16.240760182144385,10.350970495413465,5.5857485439514969,6.7824006288030372,2.9931956831168796,1.0871888117024004,-0.38235596253019177]
[]
[]
[]
[]
["BL","n","V°nenn","Dp","V°spez",null,100,125,160,200,250,315,400,500,630,800,1000,1250,1600,2000,2500,3150,4000,5000,6300,8000,10000,"S"]
[{"$f":"'Auslegung KSH'!$D$9","v":600},{"$f":"'Auslegung KSH'!$D$15","v":3},{"$f":"$F$5","v":120},{"$f":"$F$6","v":50},{"$f":"$F$8","v":133.33333333333334},null,{"$f":"G$19+G$20*LOG($E$28)+G$21*LOG($D$28)+G$22*LOG($C$28)","v":12.664148293678391},{"$f":"H$19+H$20*LOG($E$28)+H$21*LOG($D$28)+H$22*LOG($C$28)","v":16.22388477617471},19.632875981287579,23.49508515248084,27.350777997240321,27.079309609048217,26.279816937131045,25.720040233562493,24.022354696966829,22.230371949016991,20.255087288454767,16.30988103922126,16.053391123232871,16.071274959543111,16.063941923575229,16.63413356777582,15.440562887215158,16.905345853230681,17.121402063626345,17.501940076279489,18.747793636964229,{"$f":"10*LOG(10^(0.1*G28)+10^(0.1*H28)+10^(0.1*I28)+10^(0.1*J28)+10^(0.1*K28)+10^(0.1*L28)+10^(0.1*M28)+10^(0.1*N28)+10^(0.1*O28)+10^(0.1*P28)+10^(0.1*Q28)+10^(0.1*R28)+10^(0.1*S28)+10^(0.1*T28)+10^(0.1*U28)+10^(0.1*V28)+10^(0.1*W28)+10^(0.1*X28)+10^(0.1*Y28)+10^(0.1*Z28)+10^(0.1*AA28))","v":35.091982226962628}]
[]
[]
[null,null,null,null,null,null,"Daten Berechnung"]
[null,null,null,null,null,null,"V°nenn","DP","Frequenz f [Hz]",null,null,null,null,null,null,"SLWA "]
[null,null,null,null,null,null,"m³/h","Pa",125,250,500,1000,2000,4000,8000,"[dB(A)]"]
[null,null,null,null,null,null,"Bewerteter Pegel",null,{"$f":"10*LOG(10^(0.1*G28)+10^(0.1*H28)+10^(0.1*I28))","v":21.826392000467422},{"$f":"10*LOG(10^(0.1*J28)+10^(0.1*K28)+10^(0.1*L28))","v":31.063236530535768},{"$f":"10*LOG(10^(0.1*M28)+10^(0.1*N28)+10^(0.1*O28))","v":30.213299943896146},{"$f":"10*LOG(10^(0.1*P28)+10^(0.1*Q28)+10^(0.1*R28))","v":24.99588141212104},{"$f":"10*LOG(10^(0.1*S28)+10^(0.1*T28)+10^(0.1*U28))","v":20.834088085110306},{"$f":"10*LOG(10^(0.1*V28)+10^(0.1*W28)+10^(0.1*X28))","v":21.142998114191602},{"$f":"10*LOG(10^(0.1*Y28)+10^(0.1*Z28)+10^(0.1*AA28))","v":22.618576068018186},{"$f":"10*LOG(10^(0.1*I34)+10^(0.1*J34)+10^(0.1*K34)+10^(0.1*L34)+10^(0.1*M34)+10^(0.1*N34)+10^(0.1*O34))","v":35.091982226962635}]
[null,null,null,null,null,null,"A-Bewertung",null,-16.100000000000001,-8.6,-3.2,0,1.2,1,-1.1000000000000001,6.9850461481508592]
[null,null,null,null,null,null,"Unbewerteter Pegel",null,{"$f":"I34-I35","v":37.926392000467423},{"$f":"J34-J35","v":39.663236530535769},33.413299943896149,24.99588141212104,19.634088085110307,20.142998114191602,23.718576068018187,42.647825277944378]
[]
[]
[]
[null,"Konstantensatz ABLE",null,null,null,null,"Terzfrequenzband fm [Hz]"]
[null,null,null,"Frequenz","f",null,100,125,160,200,250,315,400,500,630,800,1000,1250,1600,2000,2500,3150,4000,5000,6300,{"$f":"#REF!","v":{"$error":"#REF!"}},10000]
[null,null,null,"Koeffizienten",null,"K1",-33.716746181180426,-31.942216867101227,-37.445523869874059,-32.533888858572723,-52.790121722414341,-48.419900894924389,-57.656384818167091,-67.764011598182634,-59.112366180147873,-59.788856562806131,-69.845292730154554,-65.624507390270779,-64.34473683371975,-69.224050754553957,-65.338170999418793,-58.900967893078175,-43.584089479442454,-32.546087121518354,-13.117613213861384,0.1723631407577049,9.545171792131395]
[null,null,null,null,null,"K2",14.456073819658487,16.246049076512445,25.439724257607804,8.5720445627142574,2.788702320010533,-4.4126047173802903,0.2182157409175125,-3.6212603650639257,-8.3035020349720519,-18.58817856081988,-11.298667927339206,-13.817073086490517,-15.606039789669438,-2.0738312136960233,-2.2571730035385089,5.3667529310883406,4.4575420694182846,3.3375884778034628,2.5133020402834272,1.7962116119728975,2.176099525557623]
[null,null,null,null,null,"K3",14.538379743334895,18.432775163509103,20.265359073722092,20.374900122222222,22.615375976444401,25.1818179116447,28.200519609433133,30.303669656461231,29.86697456800983,32.268744723649093,33.387578753100399,34.89919861915417,34.114680763963626,32.591985584509267,30.860452596194399,25.079628496428153,22.330508978229336,16.632089836018871,10.991957502218485,6.6229978664561839,3.1628168838494664]
[null,null,null,null,null,"K4",-4.346734021651506,-8.4997349265779096,-15.106760377683855,1.5378939786466312,17.214580394216661,20.244782406898704,17.103208207060611,23.900745826581151,24.065270973625903,32.077213057989255,27.599740262974471,25.010869411730287,26.741385442606543,16.510962749732144,16.240760182144385,10.350970495413465,5.5857485439514969,6.7824006288030372,2.9931956831168796,1.0871888117024004,-0.38235596253019177]
[]
[]
[]
[]
["BL","n","V°nenn","Dp","V°spez",null,100,125,160,200,250,315,400,500,630,800,1000,1250,1600,2000,2500,3150,4000,5000,6300,8000,10000,"S"]
[{"$f":"'Auslegung KSH'!$D$9","v":600},{"$f":"'Auslegung KSH'!$D$15","v":3},{"$f":"$F$9","v":50},{"$f":"$F$11","v":50},{"$f":"$F$13","v":55.555555555555557},null,{"$f":"G$19+G$20*LOG($E$51)+G$21*LOG($D$51)+G$22*LOG($C$51)","v":8.820463656193601},{"$f":"H$19+H$20*LOG($E$51)+H$21*LOG($D$51)+H$22*LOG($C$51)","v":13.278649054539921},15.704166953940526,19.651172866041996,19.745305038155696,21.059737670717638,19.69401682965713,18.009551884966577,18.029552957229832,17.101689393357546,14.057236334492167,12.053873838935033,11.819607525641715,10.582115251473038,10.747224878814997,10.65807842690597,11.621990892235321,13.057612228899899,15.027769726730181,16.405638820842135,18.065792169553369,{"$f":"10*LOG(10^(0.1*G51)+10^(0.1*H51)+10^(0.1*I51)+10^(0.1*J51)+10^(0.1*K51)+10^(0.1*L51)+10^(0.1*M51)+10^(0.1*N51)+10^(0.1*O51)+10^(0.1*P51)+10^(0.1*Q51)+10^(0.1*R51)+10^(0.1*S51)+10^(0.1*T51)+10^(0.1*U51)+10^(0.1*V51)+10^(0.1*W51)+10^(0.1*X51)+10^(0.1*Y51)+10^(0.1*Z51)+10^(0.1*AA51))","v":29.626357128333773}]
[]
[]
[null,null,null,null,null,null,"Daten Berechnung"]
[null,null,null,null,null,null,"V°nenn","DP","Frequenz f [Hz]",null,null,null,null,null,null,"SLWA "]
[null,null,null,null,null,null,"m³/h","Pa",125,250,500,1000,2000,4000,8000,"[dB(A)]"]
[null,null,null,null,null,null,"Bewerteter Pegel",null,{"$f":"10*LOG(10^(0.1*G51)+10^(0.1*H51)+10^(0.1*I51))","v":18.201065958976777},{"$f":"10*LOG(10^(0.1*J51)+10^(0.1*K51)+10^(0.1*L51))","v":24.972370264641487},{"$f":"10*LOG(10^(0.1*M51)+10^(0.1*N51)+10^(0.1*O51))","v":23.423400785084617},{"$f":"10*LOG(10^(0.1*P51)+10^(0.1*Q51)+10^(0.1*R51))","v":19.675711605855991},{"$f":"10*LOG(10^(0.1*S51)+10^(0.1*T51)+10^(0.1*U51))","v":15.856398543238326},{"$f":"10*LOG(10^(0.1*V51)+10^(0.1*W51)+10^(0.1*X51))","v":16.663584352592956},{"$f":"10*LOG(10^(0.1*Y51)+10^(0.1*Z51)+10^(0.1*AA51))","v":21.44862973878346},{"$f":"10*LOG(10^(0.1*I57)+10^(0.1*J57)+10^(0.1*K57)+10^(0.1*L57)+10^(0.1*M57)+10^(0.1*N57)+10^(0.1*O57))","v":29.62635712833378}]
[null,null,null,null,null,null,"A-Bewertung",null,-16.100000000000001,-8.6,-3.2,0,1.2,1,-1.1000000000000001,6.9850461481508592]
[null,null,null,null,null,null,"Unbewerteter Pegel",null,{"$f":"I57-I58","v":34.301065958976778},{"$f":"J57-J58","v":33.572370264641485},{"$f":"K57-K58","v":26.623400785084616},{"$f":"L57-L58","v":19.675711605855991},{"$f":"M57-M58","v":14.656398543238327},{"$f":"N57-N58","v":15.663584352592956},{"$f":"O57-O58","v":22.548629738783461},37.609340295856704]
[]
[]
[]
[null,"Konstantensatz ABLD",null,null,null,null,"Terzfrequenzband fm [Hz]"]
[null,null,null,"Frequenz","f",null,100,125,160,200,250,315,400,500,630,800,1000,1250,1600,2000,2500,3150,4000,5000,6300,{"$f":"#REF!","v":{"$error":"#REF!"}},10000]
[null,null,null,"Koeffizienten",null,"K1",-33.716746181180426,-31.942216867101227,-37.445523869874059,-32.533888858572723,-52.790121722414341,-48.419900894924389,-57.656384818167091,-67.764011598182634,-59.112366180147873,-59.788856562806131,-69.845292730154554,-65.624507390270779,-64.34473683371975,-69.224050754553957,-65.338170999418793,-58.900967893078175,-43.584089479442454,-32.546087121518354,-13.117613213861384,0.1723631407577049,9.545171792131395]
[null,null,null,null,null,"K2",14.456073819658487,16.246049076512445,25.439724257607804,8.5720445627142574,2.788702320010533,-4.4126047173802903,0.2182157409175125,-3.6212603650639257,-8.3035020349720519,-18.58817856081988,-11.298667927339206,-13.817073086490517,-15.606039789669438,-2.0738312136960233,-2.2571730035385089,5.3667529310883406,4.4575420694182846,3.3375884778034628,2.5133020402834272,1.7962116119728975,2.176099525557623]
[null,null,null,null,null,"K3",14.538379743334895,18.432775163509103,20.265359073722092,20.374900122222222,22.615375976444401,25.1818179116447,28.200519609433133,30.303669656461231,29.86697456800983,32.268744723649093,33.387578753100399,34.89919861915417,34.114680763963626,32.591985584509267,30.860452596194399,25.079628496428153,22.330508978229336,16.632089836018871,10.991957502218485,6.6229978664561839,3.1628168838494664]
[null,null,null,null,null,"K4",-4.346734021651506,-8.4997349265779096,-15.106760377683855,1.5378939786466312,17.214580394216661,20.244782406898704,17.103208207060611,23.900745826581151,24.065270973625903,32.077213057989255,27.599740262974471,25.010869411730287,26.741385442606543,16.510962749732144,16.240760182144385,10.350970495413465,5.5857485439514969,6.7824006288030372,2.9931956831168796,1.0871888117024004,-0.38235596253019177]
[]
[]
[]
[]
["BL","n","V°nenn","Dp","V°spez",null,100,125,160,200,250,315,400,500,630,800,1000,1250,1600,2000,2500,3150,4000,5000,6300,8000,10000,"S"]
[{"$f":"'Auslegung KSH'!$D$9","v":600},{"$f":"'Auslegung KSH'!$D$15","v":3},{"$f":"$F$9","v":50},{"$f":"$F$11","v":50},{"$f":"$F$13","v":55.555555555555557},null,{"$f":"G$19+G$20*LOG($E$74)+G$21*LOG($D$74)+G$22*LOG($C$74)","v":8.820463656193601},{"$f":"H$19+H$20*LOG($E$74)+H$21*LOG($D$74)+H$22*LOG($C$74)","v":13.278649054539921},15.704166953940526,19.651172866041996,19.745305038155696,21.059737670717638,19.69401682965713,18.009551884966577,18.029552957229832,17.101689393357546,14.057236334492167,12.053873838935033,11.819607525641715,10.582115251473038,10.747224878814997,10.65807842690597,11.621990892235321,13.057612228899899,15.027769726730181,16.405638820842135,18.065792169553369,{"$f":"10*LOG(10^(0.1*G74)+10^(0.1*H74)+10^(0.1*I74)+10^(0.1*J74)+10^(0.1*K74)+10^(0.1*L74)+10^(0.1*M74)+10^(0.1*N74)+10^(0.1*O74)+10^(0.1*P74)+10^(0.1*Q74)+10^(0.1*R74)+10^(0.1*S74)+10^(0.1*T74)+10^(0.1*U74)+10^(0.1*V74)+10^(0.1*W74)+10^(0.1*X74)+10^(0.1*Y74)+10^(0.1*Z74)+10^(0.1*AA74))","v":29.626357128333773}]
[]
[]
[null,null,null,null,null,null,"Daten Berechnung"]
[null,null,null,null,null,null,"V°nenn","DP","Frequenz f [Hz]",null,null,null,null,null,null,"SLWA "]
[null,null,null,null,null,null,"m³/h","Pa",125,250,500,1000,2000,4000,8000,"[dB(A)]"]
[null,null,null,null,null,null,"Bewerteter Pegel",null,{"$f":"10*LOG(10^(0.1*G74)+10^(0.1*H74)+10^(0.1*I74))","v":18.201065958976777},{"$f":"10*LOG(10^(0.1*J74)+10^(0.1*K74)+10^(0.1*L74))","v":24.972370264641487},{"$f":"10*LOG(10^(0.1*M74)+10^(0.1*N74)+10^(0.1*O74))","v":23.423400785084617},{"$f":"10*LOG(10^(0.1*P74)+10^(0.1*Q74)+10^(0.1*R74))","v":19.675711605855991},{"$f":"10*LOG(10^(0.1*S74)+10^(0.1*T74)+10^(0.1*U74))","v":15.856398543238326},{"$f":"10*LOG(10^(0.1*V74)+10^(0.1*W74)+10^(0.1*X74))","v":16.663584352592956},{"$f":"10*LOG(10^(0.1*Y74)+10^(0.1*Z74)+10^(0.1*AA74))","v":21.44862973878346},{"$f":"10*LOG(10^(0.1*I80)+10^(0.1*J80)+10^(0.1*K80)+10^(0.1*L80)+10^(0.1*M80)+10^(0.1*N80)+10^(0.1*O80))","v":29.62635712833378}]
[null,null,null,null,null,null,"A-Bewertung",null,-16.100000000000001,-8.6,-3.2,0,1.2,1,-1.1000000000000001,6.9850461481508592]
[null,null,null,null,null,null,"Unbewerteter Pegel",null,{"$f":"I80-I81","v":34.301065958976778},{"$f":"J80-J81","v":33.572370264641485},{"$f":"K80-K81","v":26.623400785084616},{"$f":"L80-L81","v":19.675711605855991},{"$f":"M80-M81","v":14.656398543238327},{"$f":"N80-N81","v":15.663584352592956},{"$f":"O80-O81","v":22.548629738783461},37.609340295856704]

{"sheet":"Grunddaten KSH","index":8,"n_rows":52,"n_cols":30,"rows_kept":52,"cut":false,"hidden":true,"merged":[[0,11,0,12]]}
["Typ",null,null,"Baulänge","Schlitzanzahl","Schlitzlänge","spez.Volumenstrom Zuluft","spez.Volumenstrom Abluft","Durchmesser Anschluss","Anströmgeschwindigkeit Zuluft","Anströmgeschwindigkeit Abluft","Widerstandsbeiwerte",null,"Druckverlust ZUL","Druckverlust ABL","Höhe Anschlusskasten","Länge Anschlusskasten","sichtbare Breite Schlitzdurchlass","sichtbare Höhe Schlitzdurchlass ZB","sichtbare Höhe Schlitzdurchlass ZS","Abstand Zuluft/Abluft","Breite Hals","Höhe Hals","Kastentiefe","Norm-Schallpegeldifferenz","Schalldämm-Maß","Norm-Schallpegeldifferenz","Schalldämm-Maß","Norm-Schallpegeldifferenz","Schalldämm-Maß"]
[null,null,null,"l","n","L","V°spez","V°spez","d","v","v","Zuluft","Abluft","Dp","Dp","h","b","b1","h1","h1","x","l","h","t","Dn,w","Rw","Dn,w","Rw","Dn,w","Rw"]
[null,null,null,"mm",1,"mm","m³/(h·Walze)","m³/(h·Walze)","mm","m/s","m/s",null,null,"Pa","Pa","mm","mm","mm","mm","mm","mm","mm","mm","mm","dB","dB","dB","dB","dB","dB"]
["KSH","ZUL",{"$f":"CONCATENATE(A4,B4,D4,E4)","v":"KSHZUL5002"},500,2,{"$f":"D4*E4","v":1000},{"$f":"'xkr._vx KSH'!$O$7/(0.01*'Grunddaten KSH'!F4)","v":12},{"$f":"'Auslegung KSH'!$D$46/(0.01*'Grunddaten KSH'!F4)","v":11},98,{"$f":"'Auslegung KSH'!$B$39/(PI()/4*('Grunddaten KSH'!I4/1000)^2*3600)","v":0},{"$f":"'Auslegung KSH'!$D$27/(PI()/4*('Grunddaten KSH'!I4/1000)^2*3600)","v":4.4191293375508902},3.7823387942536089,null,{"$f":"(L4/2)*(1.2*K4^2)","v":44.318505075903246},null,125,518,530,92,69,"-",100,73,200]
["KSH","ZUL","KSHZUL6002",600,2,{"$f":"D5/2*E5","v":600},{"$f":"'xkr._vx KSH'!$O$7/(0.01*'Grunddaten KSH'!F5)","v":20},{"$f":"'Auslegung KSH'!$D$46/(0.01*'Grunddaten KSH'!F5)","v":18.333333333333332},98,{"$f":"'Auslegung KSH'!$B$39/(PI()/4*('Grunddaten KSH'!I5/1000)^2*3600)","v":0},{"$f":"'Auslegung KSH'!$D$27/(PI()/4*('Grunddaten KSH'!I5/1000)^2*3600)","v":4.4191293375508902},6.2650772017326695,null,{"$f":"(L5/2)*(1.2*K5^2)","v":73.40930330930523},null,125,618,630,92,69,308,100,73,200]
["KSH","ZUL","KSHZUL8002",800,2,{"$f":"D6/2*E6","v":800},{"$f":"'xkr._vx KSH'!$O$7/(0.01*'Grunddaten KSH'!F6)","v":15},{"$f":"'Auslegung KSH'!$D$46/(0.01*'Grunddaten KSH'!F6)","v":13.75},98,{"$f":"'Auslegung KSH'!$B$39/(PI()/4*('Grunddaten KSH'!I6/1000)^2*3600)","v":0},{"$f":"'Auslegung KSH'!$D$27/(PI()/4*('Grunddaten KSH'!I6/1000)^2*3600)","v":4.4191293375508902},4.5236931345447662,null,53.005118803672225,null,125,818,830,92,69,408,100,73,200]
["KSH","ZUL","KSHZUL10002",1000,2,{"$f":"D7/2*E7","v":1000},{"$f":"'xkr._vx KSH'!$O$7/(0.01*'Grunddaten KSH'!F7)","v":12},{"$f":"'Auslegung KSH'!$D$46/(0.01*'Grunddaten KSH'!F7)","v":11},98,{"$f":"'Auslegung KSH'!$B$39/(PI()/4*('Grunddaten KSH'!I7/1000)^2*3600)","v":0},{"$f":"'Auslegung KSH'!$D$27/(PI()/4*('Grunddaten KSH'!I7/1000)^2*3600)","v":4.4191293375508902},3.7187249387692503,null,43.573127379578274,null,125,1018,1030,92,69,508,100,73,200]
["KSH","ZUL","KSHZUL12002",1200,2,{"$f":"D8/2*E8","v":1200},{"$f":"'xkr._vx KSH'!$O$7/(0.01*'Grunddaten KSH'!F8)","v":10},{"$f":"'Auslegung KSH'!$D$46/(0.01*'Grunddaten KSH'!F8)","v":9.1666666666666661},98,{"$f":"'Auslegung KSH'!$B$39/(PI()/4*('Grunddaten KSH'!I8/1000)^2*3600)","v":0},{"$f":"'Auslegung KSH'!$D$27/(PI()/4*('Grunddaten KSH'!I8/1000)^2*3600)","v":4.4191293375508902},3.1884536674006929,null,{"$f":"(L8/2)*(1.2*K8^2)","v":37.359820928168588},null,125,1218,1230,92,69,608,100,73,200]
["KSH","ZUL","KSHZUL5003",500,3,{"$f":"D9*E9","v":1500},{"$f":"'xkr._vx KSH'!$O$7/(0.01*'Grunddaten KSH'!F9)","v":8},{"$f":"'Auslegung KSH'!$D$46/(0.01*'Grunddaten KSH'!F9)","v":7.333333333333333},123,{"$f":"'Auslegung KSH'!$B$39/(PI()/4*('Grunddaten KSH'!I9/1000)^2*3600)","v":0},{"$f":"'Auslegung KSH'!$D$27/(PI()/4*('Grunddaten KSH'!I9/1000)^2*3600)","v":2.8052956677796788},4.5891000169032781,null,21.668859590779988,null,165,518,530,126,101,"-",100,114,225]
["KSH","ZUL","KSHZUL6003",600,3,{"$f":"D10/2*E10","v":900},{"$f":"'xkr._vx KSH'!$O$7/(0.01*'Grunddaten KSH'!F10)","v":13.333333333333334},{"$f":"'Auslegung KSH'!$D$46/(0.01*'Grunddaten KSH'!F10)","v":12.222222222222221},123,{"$f":"'Auslegung KSH'!$B$39/(PI()/4*('Grunddaten KSH'!I10/1000)^2*3600)","v":0},{"$f":"'Auslegung KSH'!$D$27/(PI()/4*('Grunddaten KSH'!I10/1000)^2*3600)","v":2.8052956677796788},8.1910028499439616,null,38.676361380086973,null,165,618,630,126,101,308,100,114,225]
["KSH","ZUL","KSHZUL8003",800,3,{"$f":"D11/2*E11","v":1200},{"$f":"'xkr._vx KSH'!$O$7/(0.01*'Grunddaten KSH'!F11)","v":10},{"$f":"'Auslegung KSH'!$D$46/(0.01*'Grunddaten KSH'!F11)","v":9.1666666666666661},123,{"$f":"'Auslegung KSH'!$B$39/(PI()/4*('Grunddaten KSH'!I11/1000)^2*3600)","v":0},{"$f":"'Auslegung KSH'!$D$27/(PI()/4*('Grunddaten KSH'!I11/1000)^2*3600)","v":2.8052956677796788},5.8655690581517774,null,27.696104219337023,null,165,818,830,126,101,408,100,114,225]
["KSH","ZUL","KSHZUL10003",1000,3,{"$f":"D12/2*E12","v":1500},{"$f":"'xkr._vx KSH'!$O$7/(0.01*'Grunddaten KSH'!F12)","v":8},{"$f":"'Auslegung KSH'!$D$46/(0.01*'Grunddaten KSH'!F12)","v":7.333333333333333},123,{"$f":"'Auslegung KSH'!$B$39/(PI()/4*('Grunddaten KSH'!I12/1000)^2*3600)","v":0},{"$f":"'Auslegung KSH'!$D$27/(PI()/4*('Grunddaten KSH'!I12/1000)^2*3600)","v":2.8052956677796788},4.7591377559762149,null,22.471745533455842,null,165,1018,1030,126,101,508,100,114,225]
["KSH","ZUL","KSHZUL12003",1200,3,{"$f":"D13/2*E13","v":1800},{"$f":"'xkr._vx KSH'!$O$7/(0.01*'Grunddaten KSH'!F13)","v":6.666666666666667},{"$f":"'Auslegung KSH'!$D$46/(0.01*'Grunddaten KSH'!F13)","v":6.1111111111111107},123,{"$f":"'Auslegung KSH'!$B$39/(PI()/4*('Grunddaten KSH'!I13/1000)^2*3600)","v":0},{"$f":"'Auslegung KSH'!$D$27/(PI()/4*('Grunddaten KSH'!I13/1000)^2*3600)","v":2.8052956677796788},4.0588815878819933,null,{"$f":"(L13/2)*(1.2*K13^2)","v":19.165268767179004},null,165,1218,1230,126,101,608,100,114,225]
["KSH","ABLD","KSHABLD5002",500,2,{"$f":"D14*E14","v":1000},{"$f":"'xkr._vx KSH'!$O$7/(0.01*'Grunddaten KSH'!F14)","v":12},{"$f":"'Auslegung KSH'!$D$46/(0.01*'Grunddaten KSH'!F14)","v":11},98,{"$f":"'Auslegung KSH'!$B$39/(PI()/4*('Grunddaten KSH'!I14/1000)^2*3600)","v":0},{"$f":"'Auslegung KSH'!$D$46/(PI()/4*('Grunddaten KSH'!I14/1000)^2*3600)","v":4.0508685594216498},null,2.1770622337162644,null,{"$f":"(M14/2)*(1.2*K14^2)","v":21.434748771003164},125,518,530,92,69,"-",100,73,200]
["KSH","ABLD","KSHABLD6002",600,2,{"$f":"D15/2*E15","v":600},{"$f":"'xkr._vx KSH'!$O$7/(0.01*'Grunddaten KSH'!F15)","v":20},{"$f":"'Auslegung KSH'!$D$46/(0.01*'Grunddaten KSH'!F15)","v":18.333333333333332},98,{"$f":"'Auslegung KSH'!$B$39/(PI()/4*('Grunddaten KSH'!I15/1000)^2*3600)","v":0},{"$f":"'Auslegung KSH'!$D$46/(PI()/4*('Grunddaten KSH'!I15/1000)^2*3600)","v":4.0508685594216498},null,4.7309103878174037,null,{"$f":"(M15/2)*(1.2*K15^2)","v":46.579226836292349},125,618,630,92,69,308,100,73,200]
["KSH","ABLD","KSHABLD8002",800,2,{"$f":"D16/2*E16","v":800},{"$f":"'xkr._vx KSH'!$O$7/(0.01*'Grunddaten KSH'!F16)","v":15},{"$f":"'Auslegung KSH'!$D$46/(0.01*'Grunddaten KSH'!F16)","v":13.75},98,{"$f":"'Auslegung KSH'!$B$39/(PI()/4*('Grunddaten KSH'!I16/1000)^2*3600)","v":0},{"$f":"'Auslegung KSH'!$D$46/(PI()/4*('Grunddaten KSH'!I16/1000)^2*3600)","v":4.0508685594216498},null,3.0686267754850824,null,30.212845083540561,125,818,830,92,69,408,100,73,200]
["KSH","ABLD","KSHABLD10002",1000,2,{"$f":"D17/2*E17","v":1000},{"$f":"'xkr._vx KSH'!$O$7/(0.01*'Grunddaten KSH'!F17)","v":12},{"$f":"'Auslegung KSH'!$D$46/(0.01*'Grunddaten KSH'!F17)","v":11},98,{"$f":"'Auslegung KSH'!$B$39/(PI()/4*('Grunddaten KSH'!I17/1000)^2*3600)","v":0},{"$f":"'Auslegung KSH'!$D$46/(PI()/4*('Grunddaten KSH'!I17/1000)^2*3600)","v":4.0508685594216498},null,2.2808379859004058,null,22.456495941175636,125,1018,1030,92,69,508,100,73,200]
["KSH","ABLD","KSHABLD12002",1200,2,{"$f":"D18/2*E18","v":1200},{"$f":"'xkr._vx KSH'!$O$7/(0.01*'Grunddaten KSH'!F18)","v":10},{"$f":"'Auslegung KSH'!$D$46/(0.01*'Grunddaten KSH'!F18)","v":9.1666666666666661},98,{"$f":"'Auslegung KSH'!$B$39/(PI()/4*('Grunddaten KSH'!I18/1000)^2*3600)","v":0},{"$f":"'Auslegung KSH'!$D$46/(PI()/4*('Grunddaten KSH'!I18/1000)^2*3600)","v":4.0508685594216498},null,2.1059629797351498,null,20.734725306681032,125,1218,1230,92,69,608,100,73,200]
["KSH","ABLD","KSHABLD5003",500,3,{"$f":"D19*E19","v":1500},{"$f":"'xkr._vx KSH'!$O$7/(0.01*'Grunddaten KSH'!F19)","v":8},{"$f":"'Auslegung KSH'!$D$46/(0.01*'Grunddaten KSH'!F19)","v":7.333333333333333},123,{"$f":"'Auslegung KSH'!$B$39/(PI()/4*('Grunddaten KSH'!I19/1000)^2*3600)","v":0},{"$f":"'Auslegung KSH'!$D$46/(PI()/4*('Grunddaten KSH'!I19/1000)^2*3600)","v":2.5715210287980388},null,2.0683956889218189,null,8.2066334223674762,165,518,530,126,101,"-",100,114,225]
["KSH","ABLD","KSHABLD6003",600,3,{"$f":"D20/2*E20","v":900},{"$f":"'xkr._vx KSH'!$O$7/(0.01*'Grunddaten KSH'!F20)","v":13.333333333333334},{"$f":"'Auslegung KSH'!$D$46/(0.01*'Grunddaten KSH'!F20)","v":12.222222222222221},123,{"$f":"'Auslegung KSH'!$B$39/(PI()/4*('Grunddaten KSH'!I20/1000)^2*3600)","v":0},{"$f":"'Auslegung KSH'!$D$46/(PI()/4*('Grunddaten KSH'!I20/1000)^2*3600)","v":2.5715210287980388},null,5.0959168338712377,null,20.218723927167048,165,618,630,126,101,308,100,114,225]
["KSH","ABLD","KSHABLD8003",800,3,{"$f":"D21/2*E21","v":1200},{"$f":"'xkr._vx KSH'!$O$7/(0.01*'Grunddaten KSH'!F21)","v":10},{"$f":"'Auslegung KSH'!$D$46/(0.01*'Grunddaten KSH'!F21)","v":9.1666666666666661},123,{"$f":"'Auslegung KSH'!$B$39/(PI()/4*('Grunddaten KSH'!I21/1000)^2*3600)","v":0},{"$f":"'Auslegung KSH'!$D$46/(PI()/4*('Grunddaten KSH'!I21/1000)^2*3600)","v":2.5715210287980388},null,3.6121011497623301,null,14.331488979298477,165,818,830,126,101,408,100,114,225]
["KSH","ABLD","KSHABLD10003",1000,3,{"$f":"D22/2*E22","v":1500},{"$f":"'xkr._vx KSH'!$O$7/(0.01*'Grunddaten KSH'!F22)","v":8},{"$f":"'Auslegung KSH'!$D$46/(0.01*'Grunddaten KSH'!F22)","v":7.333333333333333},123,{"$f":"'Auslegung KSH'!$B$39/(PI()/4*('Grunddaten KSH'!I22/1000)^2*3600)","v":0},{"$f":"'Auslegung KSH'!$D$46/(PI()/4*('Grunddaten KSH'!I22/1000)^2*3600)","v":2.5715210287980388},null,3.0264977084756657,null,12.008029885249766,165,1018,1030,126,101,508,100,114,225]
["KSH","ABLD","KSHABLD12003",1200,3,{"$f":"D23/2*E23","v":1800},{"$f":"'xkr._vx KSH'!$O$7/(0.01*'Grunddaten KSH'!F23)","v":6.666666666666667},{"$f":"'Auslegung KSH'!$D$46/(0.01*'Grunddaten KSH'!F23)","v":6.1111111111111107},123,{"$f":"'Auslegung KSH'!$B$39/(PI()/4*('Grunddaten KSH'!I23/1000)^2*3600)","v":0},{"$f":"'Auslegung KSH'!$D$46/(PI()/4*('Grunddaten KSH'!I23/1000)^2*3600)","v":2.5715210287980388},null,2.0997911043072874,null,{"$f":"(M23/2)*(1.2*K23^2)","v":8.331198884668261},165,1218,1230,126,101,608,100,114,225]
["KSH","ABLE",{"$f":"CONCATENATE(A24,B24,D24,E24)","v":"KSHABLE5002"},500,2,{"$f":"D24*E24","v":1000},{"$f":"'xkr._vx KSH'!$O$7/(0.01*'Grunddaten KSH'!F24)","v":12},{"$f":"'Auslegung KSH'!$D$46/(0.01*'Grunddaten KSH'!F24)","v":11},98,{"$f":"'Auslegung KSH'!$B$39/(PI()/4*('Grunddaten KSH'!I24/1000)^2*3600)","v":0},{"$f":"'Auslegung KSH'!$D$46/(PI()/4*('Grunddaten KSH'!I24/1000)^2*3600)","v":4.0508685594216498},null,3.3950462894748101,null,{"$f":"(M24/2)*(1.2*K24^2)","v":33.426680759877335},125,518,530,92,69,"-",100,73,200]
["KSH","ABLE","KSHABLE6002",600,2,{"$f":"D25/2*E25","v":600},{"$f":"'xkr._vx KSH'!$O$7/(0.01*'Grunddaten KSH'!F25)","v":20},{"$f":"'Auslegung KSH'!$D$46/(0.01*'Grunddaten KSH'!F25)","v":18.333333333333332},98,{"$f":"'Auslegung KSH'!$B$39/(PI()/4*('Grunddaten KSH'!I25/1000)^2*3600)","v":0},{"$f":"'Auslegung KSH'!$D$46/(PI()/4*('Grunddaten KSH'!I25/1000)^2*3600)","v":4.0508685594216498},null,6.3780081361430927,null,62.796092798998423,125,618,630,92,69,308,100,73,200]
["KSH","ABLE","KSHABLE8002",800,2,{"$f":"D26/2*E26","v":800},{"$f":"'xkr._vx KSH'!$O$7/(0.01*'Grunddaten KSH'!F26)","v":15},{"$f":"'Auslegung KSH'!$D$46/(0.01*'Grunddaten KSH'!F26)","v":13.75},98,{"$f":"'Auslegung KSH'!$B$39/(PI()/4*('Grunddaten KSH'!I26/1000)^2*3600)","v":0},{"$f":"'Auslegung KSH'!$D$46/(PI()/4*('Grunddaten KSH'!I26/1000)^2*3600)","v":4.0508685594216498},null,4.0911603945138779,null,40.280426475723864,125,818,830,92,69,408,100,73,200]
["KSH","ABLE","KSHABLE10002",1000,2,{"$f":"D27/2*E27","v":1000},{"$f":"'xkr._vx KSH'!$O$7/(0.01*'Grunddaten KSH'!F27)","v":12},{"$f":"'Auslegung KSH'!$D$46/(0.01*'Grunddaten KSH'!F27)","v":11},98,{"$f":"'Auslegung KSH'!$B$39/(PI()/4*('Grunddaten KSH'!I27/1000)^2*3600)","v":0},{"$f":"'Auslegung KSH'!$D$46/(PI()/4*('Grunddaten KSH'!I27/1000)^2*3600)","v":4.0508685594216498},null,3.2246248095138865,null,31.748758304757924,125,1018,1030,92,69,508,100,73,200]
["KSH","ABLE","KSHABLE12002",1200,2,{"$f":"D28/2*E28","v":1200},{"$f":"'xkr._vx KSH'!$O$7/(0.01*'Grunddaten KSH'!F28)","v":10},{"$f":"'Auslegung KSH'!$D$46/(0.01*'Grunddaten KSH'!F28)","v":9.1666666666666661},98,{"$f":"'Auslegung KSH'!$B$39/(PI()/4*('Grunddaten KSH'!I28/1000)^2*3600)","v":0},{"$f":"'Auslegung KSH'!$D$46/(PI()/4*('Grunddaten KSH'!I28/1000)^2*3600)","v":4.0508685594216498},null,2.5724262186171734,null,25.327392517336303,125,1218,1230,92,69,608,100,73,200]
["KSH","ABLE","KSHABLE5003",500,3,{"$f":"D29*E29","v":1500},{"$f":"'xkr._vx KSH'!$O$7/(0.01*'Grunddaten KSH'!F29)","v":8},{"$f":"'Auslegung KSH'!$D$46/(0.01*'Grunddaten KSH'!F29)","v":7.333333333333333},123,{"$f":"'Auslegung KSH'!$B$39/(PI()/4*('Grunddaten KSH'!I29/1000)^2*3600)","v":0},{"$f":"'Auslegung KSH'!$D$46/(PI()/4*('Grunddaten KSH'!I29/1000)^2*3600)","v":2.5715210287980388},null,3.8442353349755818,null,15.252512056772664,165,518,530,126,101,"-",100,114,225]
["KSH","ABLE","KSHABLE6003",600,3,{"$f":"D30/2*E30","v":900},{"$f":"'xkr._vx KSH'!$O$7/(0.01*'Grunddaten KSH'!F30)","v":13.333333333333334},{"$f":"'Auslegung KSH'!$D$46/(0.01*'Grunddaten KSH'!F30)","v":12.222222222222221},123,{"$f":"'Auslegung KSH'!$B$39/(PI()/4*('Grunddaten KSH'!I30/1000)^2*3600)","v":0},{"$f":"'Auslegung KSH'!$D$46/(PI()/4*('Grunddaten KSH'!I30/1000)^2*3600)","v":2.5715210287980388},null,7.2811892321046088,null,28.889081149612881,165,618,630,126,101,308,100,114,225]
["KSH","ABLE","KSHABLE8003",800,3,{"$f":"D31/2*E31","v":1200},{"$f":"'xkr._vx KSH'!$O$7/(0.01*'Grunddaten KSH'!F31)","v":10},{"$f":"'Auslegung KSH'!$D$46/(0.01*'Grunddaten KSH'!F31)","v":9.1666666666666661},123,{"$f":"'Auslegung KSH'!$B$39/(PI()/4*('Grunddaten KSH'!I31/1000)^2*3600)","v":0},{"$f":"'Auslegung KSH'!$D$46/(PI()/4*('Grunddaten KSH'!I31/1000)^2*3600)","v":2.5715210287980388},null,4.9953560875644358,null,19.819735867948168,165,818,830,126,101,408,100,114,225]
["KSH","ABLE","KSHABLE10003",1000,3,{"$f":"D32/2*E32","v":1500},{"$f":"'xkr._vx KSH'!$O$7/(0.01*'Grunddaten KSH'!F32)","v":8},{"$f":"'Auslegung KSH'!$D$46/(0.01*'Grunddaten KSH'!F32)","v":7.333333333333333},123,{"$f":"'Auslegung KSH'!$B$39/(PI()/4*('Grunddaten KSH'!I32/1000)^2*3600)","v":0},{"$f":"'Auslegung KSH'!$D$46/(PI()/4*('Grunddaten KSH'!I32/1000)^2*3600)","v":2.5715210287980388},null,4.0002874822486749,null,15.871669587559794,165,1018,1030,126,101,508,100,114,225]
["KSH","ABLE","KSHABLE12003",1200,3,{"$f":"D33/2*E33","v":1800},{"$f":"'xkr._vx KSH'!$O$7/(0.01*'Grunddaten KSH'!F33)","v":6.666666666666667},{"$f":"'Auslegung KSH'!$D$46/(0.01*'Grunddaten KSH'!F33)","v":6.1111111111111107},123,{"$f":"'Auslegung KSH'!$B$39/(PI()/4*('Grunddaten KSH'!I33/1000)^2*3600)","v":0},{"$f":"'Auslegung KSH'!$D$46/(PI()/4*('Grunddaten KSH'!I33/1000)^2*3600)","v":2.5715210287980388},null,3.2487042484245214,null,12.889663717296415,165,1218,1230,126,101,608,100,114,225]
[]
[]
[]
[]
[null,null,null,2,3,4,5,6,7,8,9,10,11,12,13,14,15,16,17,18,19,20,21,22,23,24,25,26,27,28]
[]
[]
[]
[]
[]
[]
[]
[]
[]
[]
["Auswahl:","Zuluft",{"$f":"CONCATENATE(\"KSHZUL\",'Auslegung KSH'!$D$9,'Auslegung KSH'!$D$15)","v":"KSHZUL6003"},{"$f":"VLOOKUP($C$49,$C$4:$P$31,D38,FALSE)","v":600},{"$f":"VLOOKUP($C$49,$C$4:$P$31,E38,FALSE)","v":3},900,{"$f":"VLOOKUP($C$49,$C$4:$P$33,G38,FALSE)","v":13.333333333333334},12.222222222222221,123,0,2.8052956677796788,{"$f":"VLOOKUP($C$49,$C$4:$P$31,L38,FALSE)","v":8.1910028499439616},0,{"$f":"VLOOKUP($C$49,$C$4:$P$31,N38,FALSE)","v":38.676361380086973},0,165,{"$f":"VLOOKUP($C$49,$C$4:$AD$31,Q38,FALSE)","v":618},{"$f":"VLOOKUP($C$49,$C$4:$AD$31,R38,FALSE)","v":630},{"$f":"VLOOKUP($C$49,$C$4:$AD$31,S38,FALSE)","v":126},101,{"$f":"VLOOKUP($C$49,$C$4:$AD$31,U38,FALSE)","v":308},100,114,225,{"$f":"VLOOKUP($C$49,$C$4:$AD$31,Y38,FALSE)","v":0},0,0,0,0,0]
[null,"Abluft",{"$f":"CONCATENATE(\"KSHABL\",'Auslegung KSH'!$E$71,'Auslegung KSH'!$D$9,'Auslegung KSH'!$D$15)","v":"KSHABLE6003"},{"$f":"VLOOKUP($C$50,$C$4:$P$33,D38,FALSE)","v":600},{"$f":"VLOOKUP($C$50,$C$4:$P$33,E38,FALSE)","v":3},900,13.333333333333334,{"$f":"VLOOKUP($C$50,$C$4:$P$33,H38,FALSE)","v":12.222222222222221},{"$f":"VLOOKUP($C$50,$C$4:$P$33,I38,FALSE)","v":123},0,2.5715210287980388,0,7.2811892321046088,0,{"$f":"VLOOKUP($C$50,$C$4:$P$33,O38,FALSE)","v":28.889081149612881},165,{"$f":"VLOOKUP($C$50,$C$4:$AD$31,Q38,FALSE)","v":618},{"$f":"VLOOKUP($C$50,$C$4:$AD$31,R38,FALSE)","v":630},{"$f":"VLOOKUP($C$50,$C$4:$AD$31,S38,FALSE)","v":126},101,308,100,114,225,0,0,0,0,0,0]
[null,null,null,null,null,null,null,null,null,null,null,null,null,null,null,null,null,null,null,null,null,null,null,null,"offen",null,"geschlossen",null,"ZUL geschlossen, ABL offen"]
[null,null,null,"Stand:","2020-04-21"]

{"sheet":"Vorauswahl","index":9,"n_rows":136,"n_cols":14,"rows_kept":136,"cut":false,"hidden":false,"merged":[[72,4,72,5],[73,4,73,5],[74,4,74,5],[75,4,75,5],[125,8,125,10],[71,4,71,5],[3,0,3,8],[5,0,5,8],[7,0,7,8],[69,4,69,5],[70,4,70,5]]}
[]
[]
[]
[{"$f":"Übersetzung!F5","v":"Auslegung Kampmann Kombiluftdurchlässe"}]
[]
[{"$f":"Übersetzung!F106","v":"Bitte wählen Sie einen Durchlasstypen"}]
[]
[{"$f":"Übersetzung!F107","v":"Durch Klick auf einen Durchlass glangen sie direkt zur technischen Auslegung"}]
[]
[]
[]
[]
[]
[]
[]
[]
[]
[]
[]
[]
[]
[]
[]
[null,null,null,null,null,null,null,5,"min. Abmessung Frontblende rund",{"$error":"#REF!"},"mm"]
[]
[]
[]
[]
[]
[]
[]
[]
[]
[]
[]
[]
[]
[]
[]
[]
[]
[]
[]
[]
[]
[]
[]
[]
[null,null,null,null,null,{"$f":"IF(#REF!<1000,CONCATENATE(0,#REF!),#REF!)","v":{"$error":"#REF!"}}]
[null,null,null,null,null,{"$f":"IF(J19=78,\"080\",100)","v":100}]
[]
[]
[]
[]
[]
[]
[]
[]
[]
[]
[]
[]
[]
[]
[]
[]
[]
[]
[]
[null,null,null,null,{"$error":"#REF!"}]
[]
[]
[]
[]
[]
[]
[]
[]
[]
[]
[]
[]
[]
[]
[]
[]
[]
[]
[]
[]
[]
[]
[]
[]
[]
[]
[]
[]
[]
[]
[]
[]
[]
[]
[]
[]
[]
[]
[]
[]
[]
[]
[]
[]
[]
[]
[]
[]
[]
[]
[]
[]
[]
[]
[]
[]
[null,null,null,null,null,null,null,null,null,null,null,null,null,2]
[null,null,null,null,null,null,null,null,null,null,null,null,null,{"$f":"N127","v":2}]
[]
[]
[]
[]
[]
[]
[{"$f":"Übersetzung!F44","v":"Änderungen vorbehalten"}]
[{"$f":"Übersetzung!F45","v":"Stand:"},{"$f":"'Grunddaten KSW'!E52","v":"2020-10-30"}]

{"sheet":"V°BVR_KSH","index":10,"n_rows":83,"n_cols":34,"rows_kept":83,"cut":false,"hidden":true,"merged":[[26,27,26,31],[27,27,27,31],[7,2,7,6],[7,12,7,16],[7,7,7,11],[27,2,27,6],[26,2,26,6],[27,7,27,11],[26,7,26,11],[26,22,26,26],[27,22,27,26],[26,12,26,16],[27,12,27,16],[26,17,26,21],[27,17,27,21]]}
[]
[]
[]
[]
[]
[]
[null,null,"Betriebswerte Volumenstromregler für KSH"]
[null,null,"DN100",null,null,null,null,"DN100",null,null,null,null,"DN125"]
[1,null,"KSH500-2-100","KSH600-2-100","KSH800-2-100","KSH1000-2-100","KSH1200-2-100","KSH500-3-100","KSH600-3-100","KSH800-3-100","KSH1000-3-100","KSH1200-3-100","KSH500-3-125","KSH600-3-125","KSH800-3-125","KSH1000-3-125","KSH1200-3-125",null,{"$f":"CONCATENATE('Auslegung KSH'!$D$8,'Auslegung KSH'!$D$9,\"-\",'Auslegung KSH'!$D$15,\"-\",'Auslegung KSH'!D21,\"-ZUL\")","v":"KSH600-3-100-ZUL"}]
[2,null,{"$f":"CONCATENATE(C9,\"-ZUL\")","v":"KSH500-2-100-ZUL"},{"$f":"CONCATENATE(D9,\"-ZUL\")","v":"KSH600-2-100-ZUL"},{"$f":"CONCATENATE(E9,\"-ZUL\")","v":"KSH800-2-100-ZUL"},{"$f":"CONCATENATE(F9,\"-ZUL\")","v":"KSH1000-2-100-ZUL"},{"$f":"CONCATENATE(G9,\"-ZUL\")","v":"KSH1200-2-100-ZUL"},{"$f":"CONCATENATE(H9,\"-ZUL\")","v":"KSH500-3-100-ZUL"},"KSH600-3-100-ZUL","KSH800-3-100-ZUL","KSH1000-3-100-ZUL","KSH1200-3-100-ZUL",{"$f":"CONCATENATE(M9,\"-ZUL\")","v":"KSH500-3-125-ZUL"},{"$f":"CONCATENATE(N9,\"-ZUL\")","v":"KSH600-3-125-ZUL"},{"$f":"CONCATENATE(O9,\"-ZUL\")","v":"KSH800-3-125-ZUL"},{"$f":"CONCATENATE(P9,\"-ZUL\")","v":"KSH1000-3-125-ZUL"},{"$f":"CONCATENATE(Q9,\"-ZUL\")","v":"KSH1200-3-125-ZUL"}]
[3,null,50,50,50,50,70,70,50,55,70,80,70,50,60,70,80,null,{"$f":"IF(HLOOKUP($S$9,$C$10:$Q$25,A10,FALSE)=0,\"\",HLOOKUP($S$9,$C$10:$Q$25,A10,FALSE))","v":50}]
[4,null,55,55,55,55,75,75,55,70,75,90,75,60,65,75,85,null,{"$f":"IF(HLOOKUP($S$9,$C$10:$Q$25,A11,FALSE)=0,\"\",HLOOKUP($S$9,$C$10:$Q$25,A11,FALSE))","v":55}]
[5,null,70,70,70,70,80,80,70,75,80,null,80,65,70,80,100,null,70]
[6,null,75,75,75,75,85,90,75,80,90,null,85,70,75,85,110,null,75]
[7,null,80,80,80,80,90,null,80,90,null,null,100,75,80,100,120,null,80]
[8,null,90,90,90,90,null,null,90,null,null,null,110,80,85,110,130,null,90]
[9,null,null,null,null,null,null,null,null,null,null,null,120,85,100,120,140,null,""]
[10,null,null,null,null,null,null,null,null,null,null,null,130,100,110,130,150,null,""]
[11,null,null,null,null,null,null,null,null,null,null,null,140,110,120,140,160,null,""]
[12,null,null,null,null,null,null,null,null,null,null,null,150,120,null,150,190,null,""]
[13,null,null,null,null,null,null,null,null,null,null,null,null,null,null,160,null,null,""]
[14,null,null,null,null,null,null,null,null,null,null,null,null,null,null,null,null,null,""]
[15,null,null,null,null,null,null,null,null,null,null,null,null,null,null,null,null,null,""]
[16,null,null,null,null,null,null,null,null,null,null,null,null,null,null,null,null,null,""]
[17,null,null,null,null,null,null,null,null,null,null,null,null,null,null,null,null,null,""]
[18]
[null,null,"Düsenwalze",null,null,null,null,"Düsenwalze",null,null,null,null,"Düsenwalze",null,null,null,null,"Exzenterwalze",null,null,null,null,"Exzenterwalze",null,null,null,null,"Exzenterwalze"]
[null,null,"DN100",null,null,null,null,"DN100",null,null,null,null,"DN125",null,null,null,null,"DN100",null,null,null,null,"DN100",null,null,null,null,"DN125"]
[1,null,"KSH500-2-100","KSH600-2-100","KSH800-2-100","KSH1000-2-100","KSH1200-2-100","KSH500-3-100","KSH600-3-100","KSH800-3-100","KSH1000-3-100","KSH1200-3-100","KSH500-3-125","KSH600-3-125","KSH800-3-125","KSH1000-3-125","KSH1200-3-125","KSH500-2-100","KSH600-2-100","KSH800-2-100","KSH1000-2-100","KSH1200-2-100","KSH500-3-100","KSH600-3-100","KSH800-3-100","KSH1000-3-100","KSH1200-3-100","KSH500-3-125","KSH600-3-125","KSH800-3-125","KSH1000-3-125","KSH1200-3-125",null,{"$f":"CONCATENATE('Auslegung KSH'!$D$8,'Auslegung KSH'!$D$9,\"-\",'Auslegung KSH'!$D$15,,\"-\",'Auslegung KSH'!D21,\"ABL\",'Auslegung KSH'!$E$71)","v":"KSH600-3-100ABLE"}]
[2,null,{"$f":"CONCATENATE(C29,\"-ABL\",\"D\")","v":"KSH500-2-100-ABLD"},{"$f":"CONCATENATE(D29,\"-ABL\",\"D\")","v":"KSH600-2-100-ABLD"},"KSH800-2-100-ABLD","KSH1000-2-100-ABLD","KSH1200-2-100-ABLD",{"$f":"CONCATENATE(H29,\"-ABL\",\"D\")","v":"KSH500-3-100-ABLD"},{"$f":"CONCATENATE(I29,\"-ABL\",\"D\")","v":"KSH600-3-100-ABLD"},{"$f":"CONCATENATE(J29,\"-ABL\",\"D\")","v":"KSH800-3-100-ABLD"},{"$f":"CONCATENATE(K29,\"-ABL\",\"D\")","v":"KSH1000-3-100-ABLD"},{"$f":"CONCATENATE(L29,\"-ABL\",\"D\")","v":"KSH1200-3-100-ABLD"},{"$f":"CONCATENATE(M29,\"-ABL\",\"D\")","v":"KSH500-3-125-ABLD"},{"$f":"CONCATENATE(N29,\"-ABL\",\"D\")","v":"KSH600-3-125-ABLD"},{"$f":"CONCATENATE(O29,\"-ABL\",\"D\")","v":"KSH800-3-125-ABLD"},{"$f":"CONCATENATE(P29,\"-ABL\",\"D\")","v":"KSH1000-3-125-ABLD"},{"$f":"CONCATENATE(Q29,\"-ABL\",\"D\")","v":"KSH1200-3-125-ABLD"},{"$f":"CONCATENATE(C29,\"ABL\",\"E\")","v":"KSH500-2-100ABLE"},{"$f":"CONCATENATE(D29,\"ABL\",\"E\")","v":"KSH600-2-100ABLE"},"KSH800-2-100ABLE","KSH1000-2-100ABLE","KSH1200-2-100ABLE","KSH500-3-100ABLE","KSH600-3-100ABLE","KSH800-3-100ABLE","KSH1000-3-100ABLE","KSH1200-3-100ABLE","KSH500-3-125ABLE","KSH600-3-125ABLE","KSH800-3-125ABLE","KSH1000-3-125ABLE","KSH1200-3-125ABLE"]
[3,null,50,50,50,50,50,50,50,50,50,50,50,50,50,50,50,50,50,50,50,50,50,50,50,50,50,50,50,50,50,50,null,{"$f":"IF(HLOOKUP($AH$29,$C$30:$AF$52,A30,FALSE)=0,\"\",HLOOKUP($AH$29,$C$30:$AF$52,A30,FALSE))","v":50}]
[4,null,55,55,55,55,55,55,55,55,55,55,60,60,60,60,60,55,55,55,55,55,55,55,55,55,55,60,60,60,60,60,null,55]
[5,null,70,70,70,70,70,70,70,70,70,70,65,65,65,65,65,70,70,70,70,70,70,70,70,70,70,65,65,65,65,65,null,70]
[6,null,75,75,75,75,75,75,75,75,75,75,70,70,70,70,70,75,75,75,75,75,75,75,75,75,75,70,70,70,70,70,null,75]
[7,null,80,80,80,80,80,80,80,80,80,80,75,75,75,75,75,80,80,80,80,80,80,80,80,80,80,75,75,75,75,75,null,80]
[8,null,90,90,90,90,90,90,90,90,90,90,80,80,80,80,80,90,90,90,90,90,90,90,90,90,90,80,80,80,80,80,null,90]
[9,null,null,null,null,null,null,null,null,null,null,null,85,85,85,85,85,null,null,null,null,null,null,null,null,null,null,85,85,85,85,85,null,""]
[10,null,null,null,null,null,null,null,null,null,null,null,100,100,100,100,100,null,null,null,null,null,null,null,null,null,null,100,100,100,100,100,null,""]
[11,null,null,null,null,null,null,null,null,null,null,null,110,110,110,110,110,null,null,null,null,null,null,null,null,null,null,110,110,110,110,110,null,""]
[12,null,null,null,null,null,null,null,null,null,null,null,120,120,120,120,120,null,null,null,null,null,null,null,null,null,null,120,120,120,120,120,null,""]
[13,null,null,null,null,null,null,null,null,null,null,null,130,null,null,130,130,null,null,null,null,null,null,null,null,null,null,130,null,null,130,130,null,""]
[14,null,null,null,null,null,null,null,null,null,null,null,140,null,null,140,140,null,null,null,null,null,null,null,null,null,null,140,null,null,140,140,null,""]
[15,null,null,null,null,null,null,null,null,null,null,null,150,null,null,150,150,null,null,null,null,null,null,null,null,null,null,150,null,null,150,150,null,""]
[16,null,null,null,null,null,null,null,null,null,null,null,160,null,null,160,160,null,null,null,null,null,null,null,null,null,null,160,null,null,160,160,null,""]
[17,null,null,null,null,null,null,null,null,null,null,null,null,null,null,null,190,null,null,null,null,null,null,null,null,null,null,null,null,null,null,190,null,""]
[18,null,null,null,null,null,null,null,null,null,null,null,null,null,null,null,null,null,null,null,null,null,null,null,null,null,null,null,null,null,null,null,null,""]
[19,null,null,null,null,null,null,null,null,null,null,null,null,null,null,null,null,null,null,null,null,null,null,null,null,null,null,null,null,null,null,null,null,""]
[20,null,null,null,null,null,null,null,null,null,null,null,null,null,null,null,null,null,null,null,null,null,null,null,null,null,null,null,null,null,null,null,null,""]
[21,null,null,null,null,null,null,null,null,null,null,null,null,null,null,null,null,null,null,null,null,null,null,null,null,null,null,null,null,null,null,null,null,""]
[22,null,null,null,null,null,null,null,null,null,null,null,null,null,null,null,null,null,null,null,null,null,null,null,null,null,null,null,null,null,null,null,null,""]
[23,null,null,null,null,null,null,null,null,null,null,null,null,null,null,null,null,null,null,null,null,null,null,null,null,null,null,null,null,null,null,null,null,""]
[24,null,null,null,null,null,null,null,null,null,null,null,null,null,null,null,null,null,null,null,null,null,null,null,null,null,null,null,null,null,null,null,null,""]
[25]
[26]
[27]
[]
[]
[2]
[3]
[4]
[5]
[6]
[7]
[8]
[9]
[10]
[11]
[12]
[13]
[14]
[15]
[16]
[17]
[18]
[19]
[20]
[21]
[22]
[23]
[24]
[25]
[26]
[27]

{"sheet":"Hinweise zum Programm","index":11,"n_rows":20,"n_cols":1,"rows_kept":20,"cut":false,"hidden":true,"merged":[]}
["Hinweise zur Bedienung"]
[]
["Allgemeine Hinweise:"]
["Das Auslegungstool Industrie dient als Hilfsmittel zur Technischen Planung von Industrieluftdurchlässen der Marke emcoair. "]
[]
["Auslegung:"]
["Im Tabellenblatt \"Auslegung\" erfolgt die Festlegung des gewünschten Auslasstyps. Bei Eingabe der Vorgabedaten, wie z.B. dem benötigten Luftvolumenstrom werden die technischen Daten des gewählten Luftdurchlasses berechnet."]
[]
["Bedienung:"]
["Die im Tabellenblatt \"Auslegung\" ermittelten Strömungsgeschwindigkeiten gelten für einen deckenbündig montierten Luftdurchlass mit horizontaler Ausblascharakteristik. "]
[]
["Funktion:"]
["Im Tabellenblatt \"Funktion\" finden Sie eine kurze Funktionsbeschreibung des jeweiligen Luftdurchlasses."]
[]
[]
["Hinweise zur Funktion:"]
["Für eine ordnungsgemäße Funktion des Auslegungstools muss die Ausführung von Makros und MS Excel aktiviert sein. Die Aktivierung von Makros erfolgt im Menü Makrosicherheit."]
["Einstellung unter MS Excel 97-2003: Extras → Makro → Sicherheit"]
["Einstellung unter MS Excel 2007 und 2010: Entwicklertools* → Makrosicherheit  "]
["*Das Menü Entwicklertools muss unter Umständen eingefügt werden unter Excel-Optionen"]

{"sheet":"Einheiten","index":12,"n_rows":124,"n_cols":12,"rows_kept":124,"cut":false,"hidden":true,"merged":[[71,0,87,0],[71,1,71,2],[88,0,103,0],[88,1,88,2],[104,0,123,0],[104,1,104,2],[16,0,34,0],[16,1,16,2],[35,0,55,0],[35,1,35,2],[56,0,70,0],[56,1,56,2]]}
[]
[null,"Einheitenumrechnung, falls Optionsfeld in der Vorauswahl den Wert 3 annimt.",null,null,"Wert:",{"$f":"Übersetzung!$B$2","v":1}]
[]
[null,null,"SI - Einheit","angloamerikanisch",null,null,null,1,2,3,1]
[null,"Längenangaben","m","ft","1 ft =",{"$f":"IF($F$2=3,0.3048,1)","v":1},"m","m",{"$f":"H5","v":"m"},"ft",2,{"$f":"HLOOKUP($F$2,$H$4:$J$10,K5,FALSE)","v":"m"}]
[null,"Rauminhalt","m³","ft³","1 ft³ =",{"$f":"IF($F$2=3,28.317,1000)","v":1000},"dm³","m/s",{"$f":"H6","v":"m/s"},"ft/min",3,"m/s"]
[null,null,null,null,null,{"$f":"IF($F$2=3,F6/1000,1)","v":1},"m³","m³/h","m³/h","ft³/min",4,"m³/h"]
[null,"Geschwindigkeit","m/s","ft/min","1 ft/min =",{"$f":"IF($F$2=3,0.508,100)","v":100},"cm/s","Pa","Pa","in w.g.",5,"Pa"]
[null,null,null,null,null,{"$f":"IF($F$2=3,F8/100,1)","v":1},"m/s","°C","°C","°F",6,"°C"]
[null,"Volumenstrom","m³/h","ft³/min","1 ft³/min =",{"$f":"IF($F$2=3,28.317,1)","v":1},"l/min","mm","mm","in","7",{"$f":"HLOOKUP($F$2,$H$4:$J$11,K10,FALSE)","v":"mm"}]
[null,null,null,null,null,{"$f":"IF($F$2=3,F10*6/100,1)","v":1},"m³/h","St.","St.","pcs","8",{"$f":"HLOOKUP($F$2,$H$4:$J$11,K11,FALSE)","v":"St."}]
[null,"Leistung","W","BTU/h","1 BTU/h =",{"$f":"IF($F$2=3,0.2931,1)","v":1},"W","m²","m²","ft²","9",{"$f":"HLOOKUP($F$2,$H$4:$J$12,K12,FALSE)","v":"m²"}]
[null,null,null,null,null,{"$f":"IF($F$2=3,F12/1000,0.001)","v":1E-3},"kW"]
[null,null,"Pa","in. Wg","1 in w.g. =",{"$f":"IF($F$2=3,254,1)","v":1},"Pa"]
[null,null,"mm","in","1 in =",{"$f":"IF($F$2=3,25.4,1)","v":1},"mm"]
[]
["Auslegung LDI","Größen aus Vorgabe/Auslegung (Zahlenwerte imperial)",null,null,"Größen zur Weiterberechnung (SI - Einheit)"]
[null,"Luftvolumenstrom",1000,"ft³/min",{"$f":"C18*$F$11","v":1000},"m³/h","Einzelvolumenstrom!"]
[null,"Klappenwinkel Kühlfall",50,"°",{"$f":"C19","v":50},"°"]
[null,"Klappenwinkel Heizfall",25,"°",{"$f":"C20","v":25},"°"]
[null,"Temperatur Zuluft Kühlfall",16,"°F",{"$f":"IF($F$2=3,(5/9)*C21-17.77,C21)","v":16},"°C"]
[null,"Temperatur Raum Kühlfall",24,"°F",{"$f":"IF($F$2=3,(5/9)*C22-17.77,C22)","v":24},"°C"]
[null,"Temperatur Zuluft Heizfall",30,"°F",30,"°C"]
[null,"Temperatur Raum Heizfall",20,"°F",20,"°C"]
[null,"Montagehöhe",8,"ft",{"$f":"C25*$F$5","v":8},"m"]
[null,"Obergrenze Aufenthaltsbereich",1.8,"ft",{"$f":"C26*$F$5","v":1.8},"m"]
[null,"Raumlänge",21,"ft",21,"m"]
[null,"Raumbreite",12.7,"ft",12.7,"m"]
[null,"Raumhöhe",14,"ft",{"$f":"C29*$F$5","v":14},"m"]
[null,"Größen von Weiterberechnung (SI - Einheit)",null,null,"Größen zur Vorgabe/Auslegung (imperial)"]
[null,"Totaldruckverlust Kühlen",44.44412733714109,"Pa",{"$f":"C31/$F$14","v":44.44412733714109},"in w.g."]
[null,"Totaldruckverlust heizen",17.640815493930841,"Pa",{"$f":"C32/$F$14","v":17.640815493930841},"in w.g."]
[null,"kleinster Abstand zwischen 2 Durchlässen",3.5515163992614398,"m",{"$f":"C33/F5","v":3.5515163992614398},"ft"]
[null,"Mittlere Geschwindigkeit im Aufenthaltsbereich",4.279603836784495E-2,"m/s",{"$f":"C34/$F$9","v":4.279603836784495E-2},"ft/min"]
[null,"Vertikale Eindringtiefe",4.8991523098481276,"m",{"$f":"C35/$F$5","v":4.8991523098481276},"ft"]
["Auslegung VLV, VLD, WKD","Größen aus Vorgabe/Auslegung (Zahlenwerte imperial)",null,null,"Größen zur Weiterberechnung (SI - Einheit)"]
[null,"Luftvolumenstrom",320,"ft³/min",{"$f":"C37*$F$11","v":320},"m³/h"]
[null,"Temperatur Zuluft",30,"°F",{"$f":"IF($F$2=3,(5/9)*C38-17.77,C38)","v":30},"°C"]
[null,"Temperatur Raum",20,"°F",{"$f":"IF($F$2=3,(5/9)*C39-17.77,C39)","v":20},"°C"]
[null,"Montagehöhe",15,"ft",{"$f":"C40*$F$5","v":15},"m"]
[null,"Obergrenze Aufenthaltsbereich",1.8,"ft",{"$f":"C41*$F$5","v":1.8},"m"]
[null,"Raumlänge",100,"ft",100,"m"]
[null,"Raumbreite",100,"ft",100,"m"]
[null,"Raumhöhe",30,"ft",30,"m"]
[null,"Abstand Durchlass zur nächstgelegenen Wand",3,"ft",3,"m"]
[null,"kleinster Abstand zwischen 2 Durchlässen",3,"ft",3,"m"]
[null,"Größen von Weiterberechnung (SI - Einheit)",null,null,"Größen zur Vorgabe/Auslegung (imperial)"]
[null,"Totaldruckverlust",29.696000000000002,"Pa",{"$f":"C48/$F$14","v":29.696000000000002},"in w.g."]
[null,"Kritischer Strahlweg deckenbündig",0,"m",{"$f":"C49/$F$5","v":0},"ft"]
[null,"Geschwindigkeit am Fußboden",0,"m",{"$f":"C50/$F$9","v":0},"ft/min"]
[null,"Zugluftrisiko am Fußboden**",0,"%",{"$f":"C51","v":0},"%"]
[null,"Geschwindigkeit im Aufenthaltsbereich nach Stoß*",0,"m/s",{"$f":"C52/$F$9","v":0},"ft/min"]
[null,"Zugluftrisiko im Aufenthaltsbereich**",0,"%",{"$f":"C53","v":0},"%"]
[null,"Geschwindigkeit nach Ablösen an Xkr.",0,"m/s",{"$f":"C54/$F$9","v":0},"ft/min"]
[null,"Zugluftrisiko nach Ablösepunkt**",0,"%",{"$f":"C55","v":0},"%"]
[null,"Eindringtiefe",2.9345936686362561,"m",{"$f":"IFERROR(C56/$F$5,\">Montagehöhe\")","v":2.9345936686362561},"ft"]
["Auslegung IVA","Größen aus Vorgabe/Auslegung (Zahlenwerte imperial)",null,null,"Größen zur Weiterberechnung (SI - Einheit)"]
[null,"Luftvolumenstrom",1350,"ft³/min",{"$f":"C58*$F$11","v":1350},"m³/h"]
[null,"Temperatur Zuluft Kühlfall",16,"°F",{"$f":"IF($F$2=3,(5/9)*C59-17.77,C59)","v":16},"°C"]
[null,"Temperatur Raum Kühlfall",26,"°F",{"$f":"IF($F$2=3,(5/9)*C60-17.77,C60)","v":26},"°C"]
[null,"Temperatur Zuluft Heizfall",30,"°F",{"$f":"IF($F$2=3,(5/9)*C61-17.77,C61)","v":30},"°C"]
[null,"Temperatur Raum Heizfall",20,"°F",20,"°C"]
[null,"Montagehöhe",10,"ft",{"$f":"C63*$F$5","v":10},"m"]
[null,"Obergrenze Aufenthaltsbereich",1.8,"ft",1.8,"m"]
[null,"Raumlänge",100,"ft",100,"m"]
[null,"Raumbreite",100,"ft",100,"m"]
[null,"Raumhöhe",12,"ft",12,"m"]
[null,"Größen von Weiterberechnung (SI - Einheit)",null,null,"Größen zur Vorgabe/Auslegung (imperial)"]
[null,"Totaldruckverlust",9.1118627486866721,"Pa",{"$f":"C69/$F$14","v":9.1118627486866721},"in w.g."]
[null,"Horizontale Wurfweite",1.4212208571838922,"m",{"$f":"C70/$F$5","v":1.4212208571838922},"ft"]
[null,"Vertikale Eindringtiefe",6.1674584363598228,"m",{"$f":"C71/$F$5","v":6.1674584363598228},"ft"]
["Auslegung IVA-T","Größen aus Vorgabe/Auslegung (Zahlenwerte imperial)",null,null,"Größen zur Weiterberechnung (SI - Einheit)"]
[null,"Luftvolumenstrom",1800,"ft³/min",{"$f":"C73*$F$11","v":1800},"m³/h"]
[null,"Temperatur Zuluft",18,"°F",{"$f":"IF($F$2=3,(5/9)*C74-17.77,C74)","v":18},"°C"]
[null,"Temperatur Raum",26,"°F",{"$f":"IF($F$2=3,(5/9)*C75-17.77,C75)","v":26},"°C"]
[null,"Montagehöhe",5,"ft",{"$f":"C76*$F$5","v":5},"m"]
[null,"Obergrenze Aufenthaltsbereich",1.8,"ft",1.8,"m"]
[null,"Raumlänge",100,"ft",100,"m"]
[null,"Raumbreite",100,"ft",100,"m"]
[null,"Raumhöhe",8,"ft",8,"m"]
[null,"Abstand Durchlass zur nächstgelegenen Wand",3,"ft",3,"m"]
[null,"kleinster Abstand zwischen 2 Durchlässen",5,"ft",5,"m"]
[null,"Größen von Weiterberechnung (SI - Einheit)",null,null,"Größen zur Vorgabe/Auslegung (imperial)"]
[null,"Totaldruckverlust",14.699594469657111,"Pa",{"$f":"C84/$F$14","v":14.699594469657111},"in w.g."]
[null,"Geschwindigkeit im Stutzen",3.4226317444749887,"m/s",{"$f":"C85/$F$9","v":3.4226317444749887},"ft/min"]
[null,"Strahlbreite an Oberkante Aufenthaltsbereich",3.1844080246313009,"m",{"$f":"C86/$F$5","v":3.1844080246313009},"ft"]
[null,"Mittlere Geschwindigkeit im Aufenthaltsbereich",0.52984983032828448,"m",{"$f":"C87/$F$5","v":0.52984983032828448},"ft"]
[null,"Vertikale Eindringtiefe",3.4,"m",{"$f":"C88/$F$5","v":3.4},"ft"]
["Auslegung IVA-TH","Größen aus Vorgabe/Auslegung (Zahlenwerte imperial)",null,null,"Größen zur Weiterberechnung (SI - Einheit)"]
[null,"Luftvolumenstrom",700,"ft³/min",{"$f":"C90*$F$11","v":700},"m³/h"]
[null,"Temperatur Zuluft",18,"°F",{"$f":"IF($F$2=3,(5/9)*C91-17.77,C91)","v":18},"°C"]
[null,"Temperatur Raum",26,"°F",{"$f":"IF($F$2=3,(5/9)*C92-17.77,C92)","v":26},"°C"]
[null,"Montagehöhe",2.5,"ft",{"$f":"C93*$F$5","v":2.5},"m"]
[null,"Obergrenze Aufenthaltsbereich",1.8,"ft",1.8,"m"]
[null,"Raumlänge",100,"ft",100,"m"]
[null,"Raumbreite",5,"ft",5,"m"]
[null,"Raumhöhe",8,"ft",8,"m"]
[null,"Größen von Weiterberechnung (SI - Einheit)",null,null,"Größen zur Vorgabe/Auslegung (imperial)"]
[null,"Totaldruckverlust",11.611188396657747,"Pa",{"$f":"C99/$F$14","v":11.611188396657747},"in w.g."]
[null,"Geschwindigkeit im Stutzen",2.5117112645151178,"m/s",{"$f":"C100/$F$9","v":2.5117112645151178},"ft/min"]
[null,"Austrittsgeschwindigkeit",0.948509485094851,"m/s",{"$f":"C101/$F$9","v":0.948509485094851},"ft/min"]
[null,"Wurfweite an Oberkante Aufenthaltsbereich",2.0493224445773377,"m",{"$f":"C102/$F$5","v":2.0493224445773377},"ft"]
[null,"Nicht durchströmte Weite unterhalb des Durchlasses",0.26853016153433662,"m",{"$f":"C103/$F$5","v":0.26853016153433662},"ft"]
[null,"Mittlere Geschwindigkeit an Oberkante Aufenthaltsbereich",0.53286768824913644,"m/s",{"$f":"C104/$F$9","v":0.53286768824913644},"ft/min"]
["Auslegung IQA","Größen aus Vorgabe/Auslegung (Zahlenwerte imperial)",null,null,"Größen zur Weiterberechnung (SI - Einheit)"]
[null,"Luftvolumenstrom",1270,"ft³/min",{"$f":"C106*$F$11","v":1270},"m³/h"]
[null,"Montagehöhe",0,"ft",{"$f":"C107*$F$5","v":0},"m"]
[null,"Temperatur Zuluft Kühlfall",18,"°F",{"$f":"IF($F$2=3,(5/9)*C108-17.77,C108)","v":18},"°C"]
[null,"Temperatur Raum Kühlfall",26,"°F",{"$f":"IF($F$2=3,(5/9)*C109-17.77,C109)","v":26},"°C"]
[null,"Temperatur Zuluft Heizfall",30,"°F",{"$f":"IF($F$2=3,(5/9)*C110-17.77,C110)","v":30},"°C"]
[null,"Temperatur Raum Heizfall",20,"°F",20,"°C"]
[null,"Raumlänge",100,"ft",{"$f":"C112*$F$5","v":100},"m"]
[null,"Raumbreite",100,"ft",100,"m"]
[null,"Raumhöhe",12,"ft",12,"m"]
[null,"Montagehöhe",0,"ft",0,"m"]
[null,"Maximalgeschwindigkeit",0.2,"ft",0.2,"m"]
[null,"Größen von Weiterberechnung (SI - Einheit)",null,null,"Größen zur Vorgabe/Auslegung (imperial)"]
[null,"Totaldruckverlust Kühlfall",9.2819179729787802,"Pa",{"$f":"C118/$F$14","v":9.2819179729787802},"in w.g."]
[null,"Totaldruckverlust Heizfall",4.7286150780302822,"Pa",{"$f":"C119/$F$14","v":4.7286150780302822},"in w.g."]
[null,"Geschwindigkeit im Stutzen",2.8073163573153757,"m/s",{"$f":"C120/$F$9","v":2.8073163573153757},"ft/min"]
[null,"Austrittsgeschwindigkeit Kühlfall",0.39763687780671053,"m/s",{"$f":"C121/$F$9","v":0.39763687780671053},"ft/min"]
[null,"Austrittsgeschwindigkeit Heizfall",1.2645569177096287,"m/s",1.2645569177096287,"ft/min"]
[null,"Nahzone Kühlfall",3.6348641494702441,"m",{"$f":"C123/$F$5","v":3.6348641494702441},"ft"]
[null,"Horizontale Lauflänge Heizfall",2.6479481357581349,"m",{"$f":"C124/$F$5","v":2.6479481357581349},"ft"]

{"sheet":"Übersetzung","index":13,"n_rows":247,"n_cols":6,"rows_kept":247,"cut":false,"hidden":true,"merged":[]}
[]
["Sprachauswahl:",1]
["Deutsch","Englisch SI","Englisch Imperial"]
[1,2,3,null,"Index","Auswahl"]
["Auslegung Kampmann Kombiluftdurchlässe","Calculation Kampmann combinated diffusers",{"$f":"B5","v":"Calculation Kampmann combinated diffusers"},null,2,{"$f":"HLOOKUP($B$2,Übersetzung!$A$4:$D$137,E5,FALSE)","v":"Auslegung Kampmann Kombiluftdurchlässe"}]
["Eingabefelder sind gelb gekennzeichnet","Input cells are marked yellow",{"$f":"B6","v":"Input cells are marked yellow"},null,3,{"$f":"HLOOKUP($B$2,Übersetzung!$A$4:$D$137,E6,FALSE)","v":"Eingabefelder sind gelb gekennzeichnet"}]
["Ergebnisfelder sind blau gekennzeichnet","Output cells are marked blue","Output cells are marked blue",null,4,{"$f":"HLOOKUP($B$2,Übersetzung!$A$4:$D$137,E7,FALSE)","v":"Ergebnisfelder sind blau gekennzeichnet"}]
["Vorgaben","Settings","Settings",null,5,{"$f":"HLOOKUP($B$2,Übersetzung!$A$4:$D$137,E8,FALSE)","v":"Vorgaben"}]
["Lüftungstechnik","Ventilation technology","Ventilation technology",null,6,{"$f":"HLOOKUP($B$2,Übersetzung!$A$4:$D$137,E9,FALSE)","v":"Lüftungstechnik"}]
["Symbol","Symbol","Symbol",null,7,{"$f":"HLOOKUP($B$2,Übersetzung!$A$4:$D$137,E10,FALSE)","v":"Symbol"}]
["Einheit","Unit","Unit",null,8,{"$f":"HLOOKUP($B$2,Übersetzung!$A$4:$D$137,E11,FALSE)","v":"Einheit"}]
["Wert","Value","Value",null,9,{"$f":"HLOOKUP($B$2,Übersetzung!$A$4:$D$137,E12,FALSE)","v":"Wert"}]
["Durchlass Typ","Diffuser type","Diffuser type",null,10,{"$f":"HLOOKUP($B$2,Übersetzung!$A$4:$D$137,E13,FALSE)","v":"Durchlass Typ"}]
["Baubreite","Diffuser width","Diffuser width",null,11,{"$f":"HLOOKUP($B$2,Übersetzung!$A$4:$D$137,E14,FALSE)","v":"Baubreite"}]
["Baulänge","Diffuser length","Diffuser length",null,12,{"$f":"HLOOKUP($B$2,Übersetzung!$A$4:$D$137,E15,FALSE)","v":"Baulänge"}]
["Luftvolumenstrom","Volume-flow rate","Volume-flow rate",null,13,{"$f":"HLOOKUP($B$2,Übersetzung!$A$4:$D$137,E16,FALSE)","v":"Luftvolumenstrom"}]
["max. Luftgeschwindigkeit im Aufenthaltsbereich","Max. air speeed, habitation area","Max. air speeed, habitation area",null,14,{"$f":"HLOOKUP($B$2,Übersetzung!$A$4:$D$137,E17,FALSE)","v":"max. Luftgeschwindigkeit im Aufenthaltsbereich"}]
["Temperatur Zuluft","Supply air temperature","Supply air temperature",null,15,{"$f":"HLOOKUP($B$2,Übersetzung!$A$4:$D$137,E18,FALSE)","v":"Temperatur Zuluft"}]
["Temperatur Raum","Room temperature","Room temperature",null,16,{"$f":"HLOOKUP($B$2,Übersetzung!$A$4:$D$137,E19,FALSE)","v":"Temperatur Raum"}]
["Raumdaten","Room parameters","Room parameters",null,17,{"$f":"HLOOKUP($B$2,Übersetzung!$A$4:$D$137,E20,FALSE)","v":"Raumdaten"}]
["Montagehöhe","Installation height","Installation height",null,18,{"$f":"HLOOKUP($B$2,Übersetzung!$A$4:$D$137,E21,FALSE)","v":"Montagehöhe"}]
["Obergrenze Aufenthaltsbereich","Upper limit, habitation area","Upper limit, habitation area",null,19,{"$f":"HLOOKUP($B$2,Übersetzung!$A$4:$D$137,E22,FALSE)","v":"Obergrenze Aufenthaltsbereich"}]
["Raumlänge","Room length","Room length",null,20,{"$f":"HLOOKUP($B$2,Übersetzung!$A$4:$D$137,E23,FALSE)","v":"Raumlänge"}]
["Raumbreite","Room width","Room width",null,21,{"$f":"HLOOKUP($B$2,Übersetzung!$A$4:$D$137,E24,FALSE)","v":"Raumbreite"}]
["Raumhöhe","Room height","Room height",null,22,{"$f":"HLOOKUP($B$2,Übersetzung!$A$4:$D$137,E25,FALSE)","v":"Raumhöhe"}]
["Berechnung strömungstechnische und Akustische Daten","Calculation, fluidic and acoustical parameters","Calculation, fluidic and acoustical parameters",null,23,{"$f":"HLOOKUP($B$2,Übersetzung!$A$4:$D$137,E26,FALSE)","v":"Berechnung strömungstechnische und Akustische Daten"}]
["Totaldruckverlust","Total pressure drop","Total pressure drop",null,24,{"$f":"HLOOKUP($B$2,Übersetzung!$A$4:$D$137,E27,FALSE)","v":"Totaldruckverlust"}]
["Geschwindigkeit im Stutzen","Velocity, duct connector","Velocity, duct connector",null,25,{"$f":"HLOOKUP($B$2,Übersetzung!$A$4:$D$137,E28,FALSE)","v":"Geschwindigkeit im Stutzen"}]
["Austrittsgeschwindigkeit","Outlet velocity","Outlet velocity",null,26,{"$f":"HLOOKUP($B$2,Übersetzung!$A$4:$D$137,E29,FALSE)","v":"Austrittsgeschwindigkeit"}]
["Wurfweite an Oberkante Aufenthaltsbereich","Throw distance at upper limit, habitation area","Throw distance at upper limit, habitation area",null,27,{"$f":"HLOOKUP($B$2,Übersetzung!$A$4:$D$137,E30,FALSE)","v":"Wurfweite an Oberkante Aufenthaltsbereich"}]
["Nicht durchströmte Weite unterhalb des Durchlasses","Not perfused width below the diffuser","Not perfused width below the diffuser",null,28,{"$f":"HLOOKUP($B$2,Übersetzung!$A$4:$D$137,E31,FALSE)","v":"Nicht durchströmte Weite unterhalb des Durchlasses"}]
["Mittlere Geschwindigkeit an Oberkante Aufenthaltsbereich","Mediate air velocity at upper limit, habitation area","Mediate air velocity at upper limit, habitation area",null,29,{"$f":"HLOOKUP($B$2,Übersetzung!$A$4:$D$137,E32,FALSE)","v":"Mittlere Geschwindigkeit an Oberkante Aufenthaltsbereich"}]
["Schallleistungspegel, Einzeldurchlass","Sound Power Level, single diffuser","Sound Power Level, single diffuser",null,30,{"$f":"HLOOKUP($B$2,Übersetzung!$A$4:$D$137,E33,FALSE)","v":"Schallleistungspegel, Einzeldurchlass"}]
["Oktavspektrum Schallleistung","Sound Power Level, octave bandwidth","Sound Power Level, octave bandwidth",null,31,{"$f":"HLOOKUP($B$2,Übersetzung!$A$4:$D$137,E34,FALSE)","v":"Oktavspektrum Schallleistung"}]
["Länge, Durchlass","Diffuser length","Diffuser length",null,32,{"$f":"HLOOKUP($B$2,Übersetzung!$A$4:$D$137,E35,FALSE)","v":"Länge, Durchlass"}]
["Breite, Durchlass","Diffuser width","Diffuser width",null,33,{"$f":"HLOOKUP($B$2,Übersetzung!$A$4:$D$137,E36,FALSE)","v":"Breite, Durchlass"}]
["Gesamthöhe","Total height","Total height",null,34,{"$f":"HLOOKUP($B$2,Übersetzung!$A$4:$D$137,E37,FALSE)","v":"Gesamthöhe"}]
["Aktive Höhe","Active height","Active height",null,35,{"$f":"HLOOKUP($B$2,Übersetzung!$A$4:$D$137,E38,FALSE)","v":"Aktive Höhe"}]
["Minimaler Volumenstrom","Minimum air volume flow","Minimum air volume flow",null,36,{"$f":"HLOOKUP($B$2,Übersetzung!$A$4:$D$137,E39,FALSE)","v":"Minimaler Volumenstrom"}]
["Maximaler Volumenstrom","Maximum air volume flow","Maximum air volume flow",null,37,{"$f":"HLOOKUP($B$2,Übersetzung!$A$4:$D$137,E40,FALSE)","v":"Maximaler Volumenstrom"}]
["Empfohlene maximale Einbauhöhe","Recommended max. installation height","Recommended max. installation height",null,38,{"$f":"HLOOKUP($B$2,Übersetzung!$A$4:$D$137,E41,FALSE)","v":"Empfohlene maximale Einbauhöhe"}]
["Durchmesser Anschlussstutzen","Branch diameter","Branch diameter",null,39,{"$f":"HLOOKUP($B$2,Übersetzung!$A$4:$D$137,E42,FALSE)","v":"Durchmesser Anschlussstutzen"}]
["Stutzenanzahl","No. Of branches","No. Of branches",null,40,{"$f":"HLOOKUP($B$2,Übersetzung!$A$4:$D$137,E43,FALSE)","v":"Stutzenanzahl"}]
["Änderungen vorbehalten","Subject to modifications","Subject to modifications",null,41,{"$f":"HLOOKUP($B$2,Übersetzung!$A$4:$D$137,E44,FALSE)","v":"Änderungen vorbehalten"}]
["Stand:","Date issued:","Date issued:",null,42,{"$f":"HLOOKUP($B$2,Übersetzung!$A$4:$D$137,E45,FALSE)","v":"Stand:"}]
["Nenndurchmesser","Nominal diameter","Nominal diameter",null,43,{"$f":"HLOOKUP($B$2,Übersetzung!$A$4:$D$137,E46,FALSE)","v":"Nenndurchmesser"}]
["Montageart","Type of installation","Type of installation",null,44,{"$f":"HLOOKUP($B$2,Übersetzung!$A$4:$D$137,E47,FALSE)","v":"Montageart"}]
["Abstand Durchlass zur nächstgelegenen Wand","Distance between diffuser and next wall","Distance between diffuser and next wall",null,45,{"$f":"HLOOKUP($B$2,Übersetzung!$A$4:$D$137,E48,FALSE)","v":"Abstand Durchlass zur nächstgelegenen Wand"}]
["kleinster Abstand zwischen 2 Durchlässen","Minimum distance between 2 diffusers","Minimum distance between 2 diffusers",null,46,{"$f":"HLOOKUP($B$2,Übersetzung!$A$4:$D$137,E49,FALSE)","v":"kleinster Abstand zwischen 2 Durchlässen"}]
["deckenbündig","flush installed","flush installed",null,47,{"$f":"HLOOKUP($B$2,Übersetzung!$A$4:$D$137,E50,FALSE)","v":"deckenbündig"}]
["freihängend","hanging installed","hanging installed",null,48,{"$f":"HLOOKUP($B$2,Übersetzung!$A$4:$D$137,E51,FALSE)","v":"freihängend"}]
["Geschwindigkeit im Fußbodenbereich in Wandnähe","Velocity at the floor next to the wall","Velocity at the floor next to the wall",null,49,{"$f":"HLOOKUP($B$2,Übersetzung!$A$4:$D$137,E52,FALSE)","v":"Geschwindigkeit im Fußbodenbereich in Wandnähe"}]
["Zugluftrisiko am Fußboden**","Draught rating at the floor **","Draught rating at the floor **",null,50,{"$f":"HLOOKUP($B$2,Übersetzung!$A$4:$D$137,E53,FALSE)","v":"Zugluftrisiko am Fußboden**"}]
["Vertikale Eindringtiefe","Vertical penetration depth","Vertical penetration depth",null,51,{"$f":"HLOOKUP($B$2,Übersetzung!$A$4:$D$137,E54,FALSE)","v":"Vertikale Eindringtiefe"}]
["Geschwindigkeit im Aufenthaltsbereich nach Stoß*","Velocity after stream impact *","Velocity after stream impact *",null,52,{"$f":"HLOOKUP($B$2,Übersetzung!$A$4:$D$137,E55,FALSE)","v":"Geschwindigkeit im Aufenthaltsbereich nach Stoß*"}]
["Zugluftrisiko im Aufenthaltsbereich**","Draught rating, habitation area **","Draught rating, habitation area **",null,53,{"$f":"HLOOKUP($B$2,Übersetzung!$A$4:$D$137,E56,FALSE)","v":"Zugluftrisiko im Aufenthaltsbereich**"}]
["Geschwindigkeit nach Ablösen an Xkr.","Velocity after stream release at Xkr.","Velocity after stream release at Xkr.",null,54,{"$f":"HLOOKUP($B$2,Übersetzung!$A$4:$D$137,E57,FALSE)","v":"Geschwindigkeit nach Ablösen an Xkr."}]
["Zugluftrisiko nach Ablösepunkt**","Draught rating after releasing point **","Draught rating after releasing point **",null,55,{"$f":"HLOOKUP($B$2,Übersetzung!$A$4:$D$137,E58,FALSE)","v":"Zugluftrisiko nach Ablösepunkt**"}]
["Resultierende Raumkategorie","Resulting room category","Resulting room category",null,56,{"$f":"HLOOKUP($B$2,Übersetzung!$A$4:$D$137,E59,FALSE)","v":"Resultierende Raumkategorie"}]
["*Gilt für Eintritt der Luftströmung in den Aufenthaltbereich nach dem Stoßpunkt","* Valid for an air stream entering the habitation area after the collision point.","* Valid for an air stream entering the habitation area after the collision point.",null,57,{"$f":"HLOOKUP($B$2,Übersetzung!$A$4:$D$137,E60,FALSE)","v":"*Gilt für Eintritt der Luftströmung in den Aufenthaltbereich nach dem Stoßpunkt"}]
["** Berechnung gemäß DIN EN ISO 7730","** Calculation according to DIN EN ISO 7730","** Calculation according to DIN EN ISO 7730",null,58,{"$f":"HLOOKUP($B$2,Übersetzung!$A$4:$D$137,E61,FALSE)","v":"** Berechnung gemäß DIN EN ISO 7730"}]
["Strahlbreite an Oberkante Aufenthaltsbereich","Width of the air stream, upper limit habitation area","Width of the air stream, upper limit habitation area",null,59,{"$f":"HLOOKUP($B$2,Übersetzung!$A$4:$D$137,E62,FALSE)","v":"Strahlbreite an Oberkante Aufenthaltsbereich"}]
["Mittlere Geschwindigkeit im Aufenthaltsbereich","Mediate air velocity in the habitation area","Mediate air velocity in the habitation area",null,60,{"$f":"HLOOKUP($B$2,Übersetzung!$A$4:$D$137,E63,FALSE)","v":"Mittlere Geschwindigkeit im Aufenthaltsbereich"}]
["Strahlgeschwindigkeit bei Eintritt in den Aufenthaltsbereich","Air velocity at the upper limit of the habitation area","Air velocity at the upper limit of the habitation area",null,61,{"$f":"HLOOKUP($B$2,Übersetzung!$A$4:$D$137,E64,FALSE)","v":"Strahlgeschwindigkeit bei Eintritt in den Aufenthaltsbereich"}]
["Werksseitig voreingestellte Walzenstellung","Factory presetted drum setting","Factory presetted drum setting",null,62,{"$f":"HLOOKUP($B$2,Übersetzung!$A$4:$D$137,E65,FALSE)","v":"Werksseitig voreingestellte Walzenstellung"}]
["bodenstehend","floor standing","floor standing",null,63,{"$f":"HLOOKUP($B$2,Übersetzung!$A$4:$D$137,E66,FALSE)","v":"bodenstehend"}]
["Leitschaufelwinkel","Guide vane angle","Guide vane angle",null,64,{"$f":"HLOOKUP($B$2,Übersetzung!$A$4:$D$137,E67,FALSE)","v":"Leitschaufelwinkel"}]
["Höhe Durchlass","Diffuser height","Diffuser height",null,65,{"$f":"HLOOKUP($B$2,Übersetzung!$A$4:$D$137,E68,FALSE)","v":"Höhe Durchlass"}]
["Klappenwinkel Kühlfall / Heizfall","Guide vane angle Cooling-/Heating mode","Guide vane angle Cooling-/Heating mode",null,66,{"$f":"HLOOKUP($B$2,Übersetzung!$A$4:$D$137,E69,FALSE)","v":"Klappenwinkel Kühlfall / Heizfall"}]
["Abmessungen","Dimensions",{"$f":"B70","v":"Dimensions"},null,67,{"$f":"HLOOKUP($B$2,Übersetzung!$A$4:$D$137,E70,FALSE)","v":"Abmessungen"}]
["Anschlussdurchmesser LDI","Branch diameter LDI","Branch diameter LDI",null,68,{"$f":"HLOOKUP($B$2,Übersetzung!$A$4:$D$137,E71,FALSE)","v":"Anschlussdurchmesser LDI"}]
["Höhe Anschlusskasten","Height plenum box","Height plenum box",null,69,{"$f":"HLOOKUP($B$2,Übersetzung!$A$4:$D$137,E72,FALSE)","v":"Höhe Anschlusskasten"}]
["Außendurchmesser, einfache Düsenkontur","Outer diameter standard nozzle contour","Outer diameter standard nozzle contour",null,70,{"$f":"HLOOKUP($B$2,Übersetzung!$A$4:$D$137,E73,FALSE)","v":"Außendurchmesser, einfache Düsenkontur"}]
["Außendurchmesser, verlängerte Düsenkontur","Outer diameter long nozzle contour","Outer diameter long nozzle contour",null,71,{"$f":"HLOOKUP($B$2,Übersetzung!$A$4:$D$137,E74,FALSE)","v":"Außendurchmesser, verlängerte Düsenkontur"}]
["Höhe LDI","Height LDI","Height LDI",null,72,{"$f":"HLOOKUP($B$2,Übersetzung!$A$4:$D$137,E75,FALSE)","v":"Höhe LDI"}]
["Anschlussdurchmesser opt. RAK","Branch diameter, opt. plenum box","Branch diameter, opt. plenum box",null,73,{"$f":"HLOOKUP($B$2,Übersetzung!$A$4:$D$137,E76,FALSE)","v":"Anschlussdurchmesser opt. RAK"}]
["Außendurchmesser opt. RAK","Outer diameter, opt. plenum box","Outer diameter, opt. plenum box",null,74,{"$f":"HLOOKUP($B$2,Übersetzung!$A$4:$D$137,E77,FALSE)","v":"Außendurchmesser opt. RAK"}]
["Höhe opt. RAK","Height, opt. plenum box","Height, opt. plenum box",null,75,{"$f":"HLOOKUP($B$2,Übersetzung!$A$4:$D$137,E78,FALSE)","v":"Höhe opt. RAK"}]
["minimale Einbauhöhe","Minimum installation height","Minimum installation height",null,76,{"$f":"HLOOKUP($B$2,Übersetzung!$A$4:$D$137,E79,FALSE)","v":"minimale Einbauhöhe"}]
["maximale Einbauhöhe","Maximum installation height","Maximum installation height",null,77,{"$f":"HLOOKUP($B$2,Übersetzung!$A$4:$D$137,E80,FALSE)","v":"maximale Einbauhöhe"}]
["Einsatzbereich","Range of application","Range of application",null,78,{"$f":"HLOOKUP($B$2,Übersetzung!$A$4:$D$137,E81,FALSE)","v":"Einsatzbereich"}]
["Temperaturvorgabe Kühlfall / Heizfall","Specified temperature","Specified temperature",null,79,{"$f":"HLOOKUP($B$2,Übersetzung!$A$4:$D$137,E82,FALSE)","v":"Temperaturvorgabe Kühlfall / Heizfall"}]
["Horizontale Wurfweite","Horizontal throw distance","Horizontal throw distance",null,80,{"$f":"HLOOKUP($B$2,Übersetzung!$A$4:$D$137,E83,FALSE)","v":"Horizontale Wurfweite"}]
["Abmessungen und Einsatzbereich","Dimensions and range of application","Dimensions and range of application",null,81,{"$f":"HLOOKUP($B$2,Übersetzung!$A$4:$D$137,E84,FALSE)","v":"Abmessungen und Einsatzbereich"}]
["Empfohlene minimale Einbauhöhe","Recommended min. installation height","Recommended min. installation height",null,82,{"$f":"HLOOKUP($B$2,Übersetzung!$A$4:$D$137,E85,FALSE)","v":"Empfohlene minimale Einbauhöhe"}]
["Typ","Type","Type",null,83,{"$f":"HLOOKUP($B$2,Übersetzung!$A$4:$D$137,E86,FALSE)","v":"Typ"}]
["Projekt","Project","Project",null,84,{"$f":"HLOOKUP($B$2,Übersetzung!$A$4:$D$137,E87,FALSE)","v":"Projekt"}]
["Definition:","Definition:","Definition:",null,85,{"$f":"HLOOKUP($B$2,Übersetzung!$A$4:$D$137,E88,FALSE)","v":"Definition:"}]
["bitte Projektnummer angeben","Please enter project-No.","Please enter project-No.",null,86,{"$f":"HLOOKUP($B$2,Übersetzung!$A$4:$D$137,E89,FALSE)","v":"bitte Projektnummer angeben"}]
["technische Vorgaben","Technical parameters","Technical parameters",null,87,{"$f":"HLOOKUP($B$2,Übersetzung!$A$4:$D$137,E90,FALSE)","v":"technische Vorgaben"}]
["Kritischer Strahlweg","Critical airflow distance","Critical airflow distance",null,88,{"$f":"HLOOKUP($B$2,Übersetzung!$A$4:$D$137,E91,FALSE)","v":"Kritischer Strahlweg"}]
["** Raumkategorie nach DIN EN ISO 7730: DR<10 % = A; DR<20 % = B; DR<30 % = C","** Room category according to DIN EN ISO 7730: DR<10 % = A; DR<20 % = B; DR<30 % = C","** Room category according to DIN EN ISO 7730: DR<10 % = A; DR<20 % = B; DR<30 % = C",null,89,{"$f":"HLOOKUP($B$2,Übersetzung!$A$4:$D$137,E92,FALSE)","v":"** Raumkategorie nach DIN EN ISO 7730: DR<10 % = A; DR<20 % = B; DR<30 % = C"}]
["Durchmesser Anschlusskasten","Diameter plenum box","Diameter plenum box",null,90,{"$f":"HLOOKUP($B$2,Übersetzung!$A$4:$D$137,E93,FALSE)","v":"Durchmesser Anschlusskasten"}]
["Beschreibung:\nLuftdurchlass für die Belüftung industrieller Bereiche. In Abhängigkeit des ausgewählten Durchlasses erfolgt eine Umschaltung zwischen Kühl- und Heizbetrieb manuell oder elektrisch.\n","Description: Diffuser for the ventilation of industrial areas. Depending on the Type of diffuser, a change in airflow characteristics between heating- and cooling mode is executed manually or electrically.","Description: Diffuser for the ventilation of industrial areas. Depending on the Type of diffuser, a change in airflow characteristics between heating- and cooling mode is executed manually or electrically.",null,91,{"$f":"HLOOKUP($B$2,Übersetzung!$A$4:$D$137,E94,FALSE)","v":"Beschreibung:\nLuftdurchlass für die Belüftung industrieller Bereiche. In Abhängigkeit des ausgewählten Durchlasses erfolgt eine Umschaltung zwischen Kühl- und Heizbetrieb manuell oder elektrisch.\n"}]
["Zulufttemperatur Kühlfall","Supply air temperature cooling mode","Supply air temperature cooling mode",null,92,{"$f":"HLOOKUP($B$2,Übersetzung!$A$4:$D$137,E95,FALSE)","v":"Zulufttemperatur Kühlfall"}]
["Raumtemperatur Kühlfall","Room temperature cooling mode","Room temperature cooling mode",null,93,{"$f":"HLOOKUP($B$2,Übersetzung!$A$4:$D$137,E96,FALSE)","v":"Raumtemperatur Kühlfall"}]
["Zulufttemperatur Heizfall","Supply air temperature heating mode","Supply air temperature heating mode",null,94,{"$f":"HLOOKUP($B$2,Übersetzung!$A$4:$D$137,E97,FALSE)","v":"Zulufttemperatur Heizfall"}]
["Raumtemperatur Heizfall","Room temperature heating mode","Room temperature heating mode",null,95,{"$f":"HLOOKUP($B$2,Übersetzung!$A$4:$D$137,E98,FALSE)","v":"Raumtemperatur Heizfall"}]
["Klappenwinkel Kühlfall","Guide vane angle cooling mode","Guide vane angle cooling mode",null,96,{"$f":"HLOOKUP($B$2,Übersetzung!$A$4:$D$137,E99,FALSE)","v":"Klappenwinkel Kühlfall"}]
["Klappenwinkel Heizfall","Guide vane angle heating mode","Guide vane angle heating mode",null,97,{"$f":"HLOOKUP($B$2,Übersetzung!$A$4:$D$137,E100,FALSE)","v":"Klappenwinkel Heizfall"}]
["Kühlfall","Cooling mode","Cooling mode",null,98,{"$f":"HLOOKUP($B$2,Übersetzung!$A$4:$D$137,E101,FALSE)","v":"Kühlfall"}]
["Heizfall","Heating mode","Heating mode",null,99,{"$f":"HLOOKUP($B$2,Übersetzung!$A$4:$D$137,E102,FALSE)","v":"Heizfall"}]
["Beschreibung:\nQuellluftdurchlass für die Belüftung industrieller Bereiche. In Abhängigkeit des vorgegebenen Klappenwinkels sind erfolgt eine Änderung des Resultierenden Strömunnggsprofils von horizontaler bis vertikaler Luftströmung. ","Description: Displacement air diffuser for the ventilation of industrial areas. Depending on the given guide vane angle a change in the resulting air flow characterists between horizontal and vertical airflows is implemented.","Description: Displacement air diffuser for the ventilation of industrial areas. Depending on the given guide vane angle a change in the resulting air flow characterists between horizontal and vertical airflows is implemented.",null,100,{"$f":"HLOOKUP($B$2,Übersetzung!$A$4:$D$137,E103,FALSE)","v":"Beschreibung:\nQuellluftdurchlass für die Belüftung industrieller Bereiche. In Abhängigkeit des vorgegebenen Klappenwinkels sind erfolgt eine Änderung des Resultierenden Strömunnggsprofils von horizontaler bis vertikaler Luftströmung. "}]
["Breite / Länge:","Width / Length:","Width / Length:",null,101,{"$f":"HLOOKUP($B$2,Übersetzung!$A$4:$D$137,E104,FALSE)","v":"Breite / Länge:"}]
["Beschreibung:\nQuellluftdurchlass für die Belüftung industrieller Bereiche. In Abhängigkeit des Haupt-Einsatzbereiches findet eine werksseitige Voreinstellung auf den Kühlfall (Walzenstellung DE) oder den Heizfall statt (Walzenstellung A1). Die Einstellung der Walzen kann jederzeit durch den Kunden nachjustiert werden.","Description: Displacement air diffuser for the ventilation of industrial areas. Depending on the main application area a factory drum setting for heating (drum setting DE) or cooling mode (drum setting CD) is presetted. The drum setting can be adjusted by the custumer at any time.","Description: Displacement air diffuser for the ventilation of industrial areas. Depending on the main application area a factory drum setting for heating (drum setting DE) or cooling mode (drum setting CD) is presetted. The drum setting can be adjusted by the custumer at any time.",null,102,{"$f":"HLOOKUP($B$2,Übersetzung!$A$4:$D$137,E105,FALSE)","v":"Beschreibung:\nQuellluftdurchlass für die Belüftung industrieller Bereiche. In Abhängigkeit des Haupt-Einsatzbereiches findet eine werksseitige Voreinstellung auf den Kühlfall (Walzenstellung DE) oder den Heizfall statt (Walzenstellung A1). Die Einstellung der Walzen kann jederzeit durch den Kunden nachjustiert werden."}]
["Bitte wählen Sie einen Durchlasstypen","Please choose a diffuser type","Please choose a diffuser type",null,103,{"$f":"HLOOKUP($B$2,Übersetzung!$A$4:$D$137,E106,FALSE)","v":"Bitte wählen Sie einen Durchlasstypen"}]
["Durch Klick auf einen Durchlass glangen sie direkt zur technischen Auslegung","By clicking the shape of a diffuser You get to the technical calculation directly","By clicking the shape of a diffuser You get to the technical calculation directly",null,104,{"$f":"HLOOKUP($B$2,Übersetzung!$A$4:$D$137,E107,FALSE)","v":"Durch Klick auf einen Durchlass glangen sie direkt zur technischen Auslegung"}]
["Akustische Projektauslegung emcoair Industrieluftdurchlässe","Acoustical project design emcoair industrial diffusers","Acoustical project design emcoair industrial diffusers",null,105,{"$f":"HLOOKUP($B$2,Übersetzung!$A$4:$D$137,E108,FALSE)","v":"Akustische Projektauslegung emcoair Industrieluftdurchlässe"}]
["Grunddaten Luftdurchlass","Basic data, choosen diffuser","Basic data, choosen diffuser",null,106,{"$f":"HLOOKUP($B$2,Übersetzung!$A$4:$D$137,E109,FALSE)","v":"Grunddaten Luftdurchlass"}]
["Bezugshöhe zur Schalldruckpegelberechnung","Refefrence height for Sound Pressure calculations","Refefrence height for Sound Pressure calculations",null,107,{"$f":"HLOOKUP($B$2,Übersetzung!$A$4:$D$137,E110,FALSE)","v":"Bezugshöhe zur Schalldruckpegelberechnung"}]
["Angaben Montageraster","Details about the installation pattern","Details about the installation pattern",null,108,{"$f":"HLOOKUP($B$2,Übersetzung!$A$4:$D$137,E111,FALSE)","v":"Angaben Montageraster"}]
["Durchlassabstand in Längsrichtung der Halle","Distance between 2 diffusers in longitudinal direction","Distance between 2 diffusers in longitudinal direction",null,109,{"$f":"HLOOKUP($B$2,Übersetzung!$A$4:$D$137,E112,FALSE)","v":"Durchlassabstand in Längsrichtung der Halle"}]
["Anzahl Durchlässe in Längsrichtung der Halle","Number of diffusers in longitudinal direction","Number of diffusers in longitudinal direction",null,110,{"$f":"HLOOKUP($B$2,Übersetzung!$A$4:$D$137,E113,FALSE)","v":"Anzahl Durchlässe in Längsrichtung der Halle"}]
["Durchlassabstand in Querrichtung der Halle","Distance between 2 diffusers in transversal direction","Distance between 2 diffusers in transversal direction",null,111,{"$f":"HLOOKUP($B$2,Übersetzung!$A$4:$D$137,E114,FALSE)","v":"Durchlassabstand in Querrichtung der Halle"}]
["Anzahl Durchlässe in Querrichtung der Halle","Number of diffusers in transversal direction","Number of diffusers in transversal direction",null,112,{"$f":"HLOOKUP($B$2,Übersetzung!$A$4:$D$137,E115,FALSE)","v":"Anzahl Durchlässe in Querrichtung der Halle"}]
["Zwischenergebnisse","Intermediate results","Intermediate results",null,113,{"$f":"HLOOKUP($B$2,Übersetzung!$A$4:$D$137,E116,FALSE)","v":"Zwischenergebnisse"}]
["Anzahl Durchlässe, gesamt","Total number of diffusers","Total number of diffusers",null,114,{"$f":"HLOOKUP($B$2,Übersetzung!$A$4:$D$137,E117,FALSE)","v":"Anzahl Durchlässe, gesamt"}]
["Gesamtvolumenstrom","Total air volume flow","Total air volume flow",null,115,{"$f":"HLOOKUP($B$2,Übersetzung!$A$4:$D$137,E118,FALSE)","v":"Gesamtvolumenstrom"}]
["Thermische Leistung","Total thermal capacity","Total thermal capacity",null,116,{"$f":"HLOOKUP($B$2,Übersetzung!$A$4:$D$137,E119,FALSE)","v":"Thermische Leistung"}]
["Heizleistung","Heating capacity","Heating capacity",null,117,{"$f":"HLOOKUP($B$2,Übersetzung!$A$4:$D$137,E120,FALSE)","v":"Heizleistung"}]
["Grundfläche","Floor space","Floor space",null,118,{"$f":"HLOOKUP($B$2,Übersetzung!$A$4:$D$137,E121,FALSE)","v":"Grundfläche"}]
["Raumvolumen","Room volume","Room volume",null,119,{"$f":"HLOOKUP($B$2,Übersetzung!$A$4:$D$137,E122,FALSE)","v":"Raumvolumen"}]
["Raumoberfläche","Room surface","Room surface",null,120,{"$f":"HLOOKUP($B$2,Übersetzung!$A$4:$D$137,E123,FALSE)","v":"Raumoberfläche"}]
["Oktavband, Mittenfrequenz f [Hz]","Octave bandwith Medium frequency [Hz]","Octave bandwith Medium frequency [Hz]",null,121,{"$f":"HLOOKUP($B$2,Übersetzung!$A$4:$D$137,E124,FALSE)","v":"Oktavband, Mittenfrequenz f [Hz]"}]
["Schallleistungspegel im Kühlfall [dB]","Sound Power Level, Cooling mode [dB(A)]","Sound Power Level, Cooling mode [dB(A)]",null,122,{"$f":"HLOOKUP($B$2,Übersetzung!$A$4:$D$137,E125,FALSE)","v":"Schallleistungspegel im Kühlfall [dB]"}]
["Schallleistungspegel im Heizfall [dB]","Sound Power Level, Heating mode [dB(A)]","Sound Power Level, Heating mode [dB(A)]",null,123,{"$f":"HLOOKUP($B$2,Übersetzung!$A$4:$D$137,E126,FALSE)","v":"Schallleistungspegel im Heizfall [dB]"}]
["Mit der Anzahl der gewälten Durchlässe berechneter Schalldruckpegel in einer Höhe von","With the given number of diffusers calculated Sound Pressure level in a height of","With the given number of diffusers calculated Sound Pressure level in a height of",null,124,{"$f":"HLOOKUP($B$2,Übersetzung!$A$4:$D$137,E127,FALSE)","v":"Mit der Anzahl der gewälten Durchlässe berechneter Schalldruckpegel in einer Höhe von"}]
["im Kühlfall","in cooling mode","in cooling mode",null,125,{"$f":"HLOOKUP($B$2,Übersetzung!$A$4:$D$137,E128,FALSE)","v":"im Kühlfall"}]
["im Heizfall","in heating mode","in heating mode",null,126,{"$f":"HLOOKUP($B$2,Übersetzung!$A$4:$D$137,E129,FALSE)","v":"im Heizfall"}]
["Abmessungen (Breite / Länge)","Dimensions (width/length)","Dimensions (width/length)",null,127,{"$f":"HLOOKUP($B$2,Übersetzung!$A$4:$D$137,E130,FALSE)","v":"Abmessungen (Breite / Länge)"}]
["Näherungsrechnung des Schalldruckpegels nach VDI 2081","Approximate calculation of the resulting Sound Pressure level according to VDI 2081","Approximate calculation of the resulting Sound Pressure level according to VDI 2081",null,128,{"$f":"HLOOKUP($B$2,Übersetzung!$A$4:$D$137,E131,FALSE)","v":"Näherungsrechnung des Schalldruckpegels nach VDI 2081"}]
["Hinweis: Die in diesem Arbeitsblatt durchgeführten Berechnungen erfolgen anhand von VDI2081. Als Grundannahmen werden ein kubischer Raum sowie eine symmetrische Verteilung der Luftdurchlässe vorausgesetzt. Als Ergebnis liefert das Arbeitsblatt einen angenäherten Schalldruckpegel unterhalb eines zentral gelegenen Durchlasses in Höhe einer vorzugebenden Bezugshöhe. Es werden ausschließlich die durch die Durchlässe emittierten Geräuschemissionen berücksichtigt.","Information: The calculation on the Sound Pressure level proceeded in this worksheet take place according to VDI 2081. A cubic room as welll as a symmetric arrangement of industrial diffusers are required. The worksheet results in an approximated Sound Pressure level below a centrally located diffuser in a specified reference height. Only the noise emissions caused by the diffusers are taken into account.","Information: The calculation on the Sound Pressure level proceeded in this worksheet take place according to VDI 2081. A cubic room as welll as a symmetric arrangement of industrial diffusers are required. The worksheet results in an approximated Sound Pressure level below a centrally located diffuser in a specified reference height. Only the noise emissions caused by the diffusers are taken into account.",null,129,{"$f":"HLOOKUP($B$2,Übersetzung!$A$4:$D$137,E132,FALSE)","v":"Hinweis: Die in diesem Arbeitsblatt durchgeführten Berechnungen erfolgen anhand von VDI2081. Als Grundannahmen werden ein kubischer Raum sowie eine symmetrische Verteilung der Luftdurchlässe vorausgesetzt. Als Ergebnis liefert das Arbeitsblatt einen angenäherten Schalldruckpegel unterhalb eines zentral gelegenen Durchlasses in Höhe einer vorzugebenden Bezugshöhe. Es werden ausschließlich die durch die Durchlässe emittierten Geräuschemissionen berücksichtigt."}]
["Oktavspektrum","1/1-octave spectrum","1/1-octave spectrum",null,130,{"$f":"HLOOKUP($B$2,Übersetzung!$A$4:$D$137,E133,FALSE)","v":"Oktavspektrum"}]
["Akustische Vorgaben","Acoustical parameters",{"$f":"B134","v":"Acoustical parameters"},null,131,{"$f":"HLOOKUP($B$2,Übersetzung!$A$4:$D$137,E134,FALSE)","v":"Akustische Vorgaben"}]
["Schallabsorptionsgrad","Sound absorption coefficient","Sound absorption coefficient",null,132,{"$f":"HLOOKUP($B$2,Übersetzung!$A$4:$D$137,E135,FALSE)","v":"Schallabsorptionsgrad"}]
["Akustische Ergebnisse","Acoustical results","Acoustical results",null,133,{"$f":"HLOOKUP($B$2,Übersetzung!$A$4:$D$137,E136,FALSE)","v":"Akustische Ergebnisse"}]
["Akustische Auslegung eines gewählten Luftdurchlasses in einer definierten Einbausituation","Acoustical calculation of a choosen diffuser in a predefined installing situation","Acoustical calculation of a choosen diffuser in a predefined installing situation",null,134,{"$f":"HLOOKUP($B$2,Übersetzung!$A$4:$D$138,E137,FALSE)","v":"Akustische Auslegung eines gewählten Luftdurchlasses in einer definierten Einbausituation"}]
["bodennah","near the floor","near the floor",null,135,{"$f":"HLOOKUP($B$2,Übersetzung!$A$4:$D$156,E138,FALSE)","v":"bodennah"}]
["Nahzone im Kühlbetrieb","Close-up zone in cooling mode","Close-up zone in cooling mode",null,136,{"$f":"HLOOKUP($B$2,Übersetzung!$A$4:$D$156,E139,FALSE)","v":"Nahzone im Kühlbetrieb"}]
["Horizontale Lauflänge im Heizfall","Horizontal run length in heating mode","Horizontal run length in heating mode",null,137,{"$f":"HLOOKUP($B$2,Übersetzung!$A$4:$D$156,E140,FALSE)","v":"Horizontale Lauflänge im Heizfall"}]
["Maximalgeschwindigkeit in 0,1m Höhe, Kühlfall","Maximum air-velocity in 0.1m height, cooling mode","Maximum air-velocity in 0.1m height, cooling mode",null,138,{"$f":"HLOOKUP($B$2,Übersetzung!$A$4:$D$156,E141,FALSE)","v":"Maximalgeschwindigkeit in 0,1m Höhe, Kühlfall"}]
["Schlitzanzahl","Number of slots","Number of slots",null,139,{"$f":"HLOOKUP($B$2,Übersetzung!$A$4:$D$156,E142,FALSE)","v":"Schlitzanzahl"}]
["BVR in Zuluft","Volume flow regulator supply air","Volume flow regulator supply air",null,140,{"$f":"HLOOKUP($B$2,Übersetzung!$A$4:$D$156,E143,FALSE)","v":"BVR in Zuluft"}]
["Luftvolumenstrom Zuluft","Volume flow, supply air","Volume flow, supply air",null,141,{"$f":"HLOOKUP($B$2,Übersetzung!$A$4:$D$156,E144,FALSE)","v":"Luftvolumenstrom Zuluft"}]
["BVR in Abluft","Volume flow regulator extract air","Volume flow regulator extract air",null,142,{"$f":"HLOOKUP($B$2,Übersetzung!$A$4:$D$156,E145,FALSE)","v":"BVR in Abluft"}]
["Luftvolumenstrom Abluft","Volume flow, extract air","Volume flow, extract air",null,143,{"$f":"HLOOKUP($B$2,Übersetzung!$A$4:$D$156,E146,FALSE)","v":"Luftvolumenstrom Abluft"}]
["Temperatur Zuluft","Temperature supply air","Temperature supply air",null,144,{"$f":"HLOOKUP($B$2,Übersetzung!$A$4:$D$156,E147,FALSE)","v":"Temperatur Zuluft"}]
["Raumart nach VDI 2081","Room type according to VDI 2081","Room type according to VDI 2081",null,145,{"$f":"HLOOKUP($B$2,Übersetzung!$A$4:$D$156,E148,FALSE)","v":"Raumart nach VDI 2081"}]
["Abstand zur Schallquelle","Distance to sound source","Distance to sound source",null,146,{"$f":"HLOOKUP($B$2,Übersetzung!$A$4:$D$156,E149,FALSE)","v":"Abstand zur Schallquelle"}]
["Zusatzdaten","Supplementary data","Supplementary data",null,147,{"$f":"HLOOKUP($B$2,Übersetzung!$A$4:$D$156,E150,FALSE)","v":"Zusatzdaten"}]
["Walzenfarbe","Colour of drums","Colour of drums",null,148,{"$f":"HLOOKUP($B$2,Übersetzung!$A$4:$D$156,E151,FALSE)","v":"Walzenfarbe"}]
["Lackierung Frontblende","Front panel varnish","Front panel varnish",null,149,{"$f":"HLOOKUP($B$2,Übersetzung!$A$4:$D$156,E152,FALSE)","v":"Lackierung Frontblende"}]
["Ausführung","Implementation","Implementation",null,150,{"$f":"HLOOKUP($B$2,Übersetzung!$A$4:$D$156,E153,FALSE)","v":"Ausführung"}]
["schwarz","black","black",null,151,{"$f":"HLOOKUP($B$2,Übersetzung!$A$4:$D$156,E154,FALSE)","v":"schwarz"}]
["weiß","white","white",null,152,{"$f":"HLOOKUP($B$2,Übersetzung!$A$4:$D$156,E155,FALSE)","v":"weiß"}]
["naturfarbig eloxiert","Natural colour anodised","Natural colour anodised",null,153,{"$f":"HLOOKUP($B$2,Übersetzung!$A$4:$D$216,E156,FALSE)","v":"naturfarbig eloxiert"}]
["weiß (RAL 9010) bepulvert","white (RAL 9010) powder-coated","white (RAL 9010) powder-coated",null,154,{"$f":"HLOOKUP($B$2,Übersetzung!$A$4:$D$216,E157,FALSE)","v":"weiß (RAL 9010) bepulvert"}]
["ohne Drossel / ohne BVR","no damper / no regulator","no damper / no regulator",null,155,{"$f":"HLOOKUP($B$2,Übersetzung!$A$4:$D$216,E158,FALSE)","v":"ohne Drossel / ohne BVR"}]
["mit frontseitig bedienbarer Drossel*","with damper, accessible via front panel","with damper, accessible via front panel",null,156,{"$f":"HLOOKUP($B$2,Übersetzung!$A$4:$D$216,E159,FALSE)","v":"mit frontseitig bedienbarer Drossel*"}]
["mit BVR*","with volume flor regulator","with volume flor regulator",null,157,{"$f":"HLOOKUP($B$2,Übersetzung!$A$4:$D$216,E160,FALSE)","v":"mit BVR*"}]
["Strahllauflänge bis Aufenthaltsbereich","Air path length to habitation area","Air path length to habitation area",null,158,{"$f":"HLOOKUP($B$2,Übersetzung!$A$4:$D$216,E161,FALSE)","v":"Strahllauflänge bis Aufenthaltsbereich"}]
["Zuluft","Supply air","Supply air",null,159,{"$f":"HLOOKUP($B$2,Übersetzung!$A$4:$D$216,E162,FALSE)","v":"Zuluft"}]
["Abluft","Extract air","Extract air",null,160,{"$f":"HLOOKUP($B$2,Übersetzung!$A$4:$D$216,E163,FALSE)","v":"Abluft"}]
["Schallleistungspegel","Sound Power Level","Sound Power Level",null,161,{"$f":"HLOOKUP($B$2,Übersetzung!$A$4:$D$216,E164,FALSE)","v":"Schallleistungspegel"}]
["Druckdifferenz am BVR","Pressure difference regulator","Pressure difference regulator",null,162,{"$f":"HLOOKUP($B$2,Übersetzung!$A$4:$D$216,E165,FALSE)","v":"Druckdifferenz am BVR"}]
["Schallleistungspegel mit BVR Zuluft/Abluft","Sound Power Level with regulator","Sound Power Level with regulator",null,163,{"$f":"HLOOKUP($B$2,Übersetzung!$A$4:$D$216,E166,FALSE)","v":"Schallleistungspegel mit BVR Zuluft/Abluft"}]
["Schallleistungspegel ohne BVR Zuluft/Abluft","Sound Power Level without regulator","Sound Power Level without regulator",null,164,{"$f":"HLOOKUP($B$2,Übersetzung!$A$4:$D$216,E167,FALSE)","v":"Schallleistungspegel ohne BVR Zuluft/Abluft"}]
["Summen-Schallleistungspegel Zuluft + Abluft","Resulting Sound Power Level","Resulting Sound Power Level",null,165,{"$f":"HLOOKUP($B$2,Übersetzung!$A$4:$D$216,E168,FALSE)","v":"Summen-Schallleistungspegel Zuluft + Abluft"}]
["Schalldruckpegel im Raum","Sound Pressure Level in given distance","Sound Pressure Level in given distance",null,166,{"$f":"HLOOKUP($B$2,Übersetzung!$A$4:$D$216,E169,FALSE)","v":"Schalldruckpegel im Raum"}]
["Durchgangsdämpfungsmaß (Kanal -> Raum)","Transmission loss (duct -> room)","Transmission loss (duct -> room)",null,167,{"$f":"HLOOKUP($B$2,Übersetzung!$A$4:$D$216,E170,FALSE)","v":"Durchgangsdämpfungsmaß (Kanal -> Raum)"}]
["Breite Frontblende","Front panel width","Front panel width",null,168,{"$f":"HLOOKUP($B$2,Übersetzung!$A$4:$D$216,E171,FALSE)","v":"Breite Frontblende"}]
["Höhe Frontblende","Front panel height","Front panel height",null,169,{"$f":"HLOOKUP($B$2,Übersetzung!$A$4:$D$216,E172,FALSE)","v":"Höhe Frontblende"}]
["Tiefe Anschlusskasten","Depth plenum box","Depth plenum box",null,170,{"$f":"HLOOKUP($B$2,Übersetzung!$A$4:$D$216,E173,FALSE)","v":"Tiefe Anschlusskasten"}]
["Breite Anschlusskasten","Width plenum box","Width plenum box",null,171,{"$f":"HLOOKUP($B$2,Übersetzung!$A$4:$D$216,E174,FALSE)","v":"Breite Anschlusskasten"}]
["ja","yes","yes",null,172,{"$f":"HLOOKUP($B$2,Übersetzung!$A$4:$D$216,E175,FALSE)","v":"ja"}]
["nein","no","no",null,173,{"$f":"HLOOKUP($B$2,Übersetzung!$A$4:$D$216,E176,FALSE)","v":"nein"}]
["Einzelbüro","single office room","single office room",null,174,{"$f":"HLOOKUP($B$2,Übersetzung!$A$4:$D$216,E177,FALSE)","v":"Einzelbüro"}]
["Großraumbüro","open plan office","open plan office",null,175,{"$f":"HLOOKUP($B$2,Übersetzung!$A$4:$D$216,E178,FALSE)","v":"Großraumbüro"}]
["Werkstätten","Workshops","Workshops",null,176,{"$f":"HLOOKUP($B$2,Übersetzung!$A$4:$D$216,E179,FALSE)","v":"Werkstätten"}]
["Ruheraum, Pausenraum","Break rooms","Break rooms",null,177,{"$f":"HLOOKUP($B$2,Übersetzung!$A$4:$D$216,E180,FALSE)","v":"Ruheraum, Pausenraum"}]
["Untersuchungsraum Krankenhaus","Operating theatre (room)","Operating theatre (room)",null,178,{"$f":"HLOOKUP($B$2,Übersetzung!$A$4:$D$216,E181,FALSE)","v":"Untersuchungsraum Krankenhaus"}]
["Rundfunk-, Fernsehstudio","Radio and TV Studios","Radio and TV Studios",null,179,{"$f":"HLOOKUP($B$2,Übersetzung!$A$4:$D$216,E182,FALSE)","v":"Rundfunk-, Fernsehstudio"}]
["Chemielabor","Chemical-Laboratory","Chemical-Laboratory",null,180,{"$f":"HLOOKUP($B$2,Übersetzung!$A$4:$D$216,E183,FALSE)","v":"Chemielabor"}]
["Wasch- und WC-Raum, Umkleide","Washroom , Toilets ","Washroom , Toilets ",null,181,{"$f":"HLOOKUP($B$2,Übersetzung!$A$4:$D$216,E184,FALSE)","v":"Wasch- und WC-Raum, Umkleide"}]
["Schwimmbad","Swimming pools","Swimming pools",null,182,{"$f":"HLOOKUP($B$2,Übersetzung!$A$4:$D$216,E185,FALSE)","v":"Schwimmbad"}]
["EDV-Raum","Computer rooms","Computer rooms",null,183,{"$f":"HLOOKUP($B$2,Übersetzung!$A$4:$D$216,E186,FALSE)","v":"EDV-Raum"}]
["Konzertsaal","Concert halls.","Concert halls.",null,184,{"$f":"HLOOKUP($B$2,Übersetzung!$A$4:$D$216,E187,FALSE)","v":"Konzertsaal"}]
["Lesesaal","Lecture halls","Lecture halls",null,185,{"$f":"HLOOKUP($B$2,Übersetzung!$A$4:$D$216,E188,FALSE)","v":"Lesesaal"}]
["Museum","Museum","Museum",null,186,{"$f":"HLOOKUP($B$2,Übersetzung!$A$4:$D$216,E189,FALSE)","v":"Museum"}]
["Küche","Kitchen","Kitchen",null,187,{"$f":"HLOOKUP($B$2,Übersetzung!$A$4:$D$216,E190,FALSE)","v":"Küche"}]
["Theater, Kino","Theaters. Cinemas.","Theaters. Cinemas.",null,188,{"$f":"HLOOKUP($B$2,Übersetzung!$A$4:$D$216,E191,FALSE)","v":"Theater, Kino"}]
["Klassen- Seminarraum","Classrooms / seminar rooms","Classrooms / seminar rooms",null,189,{"$f":"HLOOKUP($B$2,Übersetzung!$A$4:$D$216,E192,FALSE)","v":"Klassen- Seminarraum"}]
["Gaststätte","Restaurants","Restaurants",null,190,{"$f":"HLOOKUP($B$2,Übersetzung!$A$4:$D$216,E193,FALSE)","v":"Gaststätte"}]
["kein Typ","no type","no type",null,191,{"$f":"HLOOKUP($B$2,Übersetzung!$A$4:$D$216,E194,FALSE)","v":"kein Typ"}]
["Konferenzraum","Conference rooms","Conference rooms",null,192,{"$f":"HLOOKUP($B$2,Übersetzung!$A$4:$D$216,E195,FALSE)","v":"Konferenzraum"}]
["Hotelzimmer","Hotel rooms","Hotel rooms",null,193,{"$f":"HLOOKUP($B$2,Übersetzung!$A$4:$D$216,E196,FALSE)","v":"Hotelzimmer"}]
["Hörsaal","Auditorium","Auditorium",null,194,{"$f":"HLOOKUP($B$2,Übersetzung!$A$4:$D$216,E197,FALSE)","v":"Hörsaal"}]
["Bettenzimmer Krankenhaus","Patient rooms",{"$f":"B198","v":"Patient rooms"},null,195,{"$f":"HLOOKUP($B$2,Übersetzung!$A$4:$D$216,E198,FALSE)","v":"Bettenzimmer Krankenhaus"}]
["Verkaufsraum","Showrooms","Showrooms",null,196,{"$f":"HLOOKUP($B$2,Übersetzung!$A$4:$D$216,E199,FALSE)","v":"Verkaufsraum"}]
["Sporthalle","Gymnasiums","Gymnasiums",null,197,{"$f":"HLOOKUP($B$2,Übersetzung!$A$4:$D$216,E200,FALSE)","v":"Sporthalle"}]
["Beschreibung:\nVerstellbarer Luftdurchlass für Wandeinbau. Zuluft- und Abluftfunktion in einer gemeinsamen Frontblende. Ausgestattet mit im Anschlusskasten integrierten schwenkbaren Schalldämmkulisssen nach VDI6022, zur Minderung der Telefonieschallübertragung. Variable Luftlenkung durch integrierte Luftleitelemente (Exzenterwalze). Optional: Konstantvolumenstromregler für Zu- bzw. Abluft.","Description: Adjustable air diffuser for wall installation. Supply- and extract air function combined in one front panel. In the plenum, swivel-mounted sound traps according to VDI 6022 are installed for increasing cross talk. Variable air deflection caused by internal guiding elements (eccentric drums). Optional: Volume flow regulators in the supply- and/or extract air.","Description: Adjustable air diffuser for wall installation. Supply- and extract air function combined in one front panel. In the plenum, swivel-mounted sound traps according to VDI 6022 are installed for increasing cross talk. Variable air deflection caused by internal guiding elements (eccentric drums). Optional: Volume flow regulators in the supply- and/or extract air.",null,198,{"$f":"HLOOKUP($B$2,Übersetzung!$A$4:$D$216,E201,FALSE)","v":"Beschreibung:\nVerstellbarer Luftdurchlass für Wandeinbau. Zuluft- und Abluftfunktion in einer gemeinsamen Frontblende. Ausgestattet mit im Anschlusskasten integrierten schwenkbaren Schalldämmkulisssen nach VDI6022, zur Minderung der Telefonieschallübertragung. Variable Luftlenkung durch integrierte Luftleitelemente (Exzenterwalze). Optional: Konstantvolumenstromregler für Zu- bzw. Abluft."}]
["Kommentar","Comment","Comment",null,199,{"$f":"HLOOKUP($B$2,Übersetzung!$A$4:$D$216,E202,FALSE)","v":"Kommentar"}]
[" bei"," for"," for",null,200,{"$f":"HLOOKUP($B$2,Übersetzung!$A$4:$D$216,E203,FALSE)","v":" bei"}]
["Technische Daten","Specifications","Specifications",null,201,{"$f":"HLOOKUP($B$2,Übersetzung!$A$4:$D$216,E204,FALSE)","v":"Technische Daten"}]
["Abstand","distance","distance",null,202,{"$f":"HLOOKUP($B$2,Übersetzung!$A$4:$D$216,E205,FALSE)","v":"Abstand"}]
["* Daten gelten für Walzenstellung D/E","* Given data are valid for drumm setting D/E","* Given data are valid for drumm setting D/E",null,203,{"$f":"HLOOKUP($B$2,Übersetzung!$A$4:$D$216,E206,FALSE)","v":"* Daten gelten für Walzenstellung D/E"}]
["Funktion","Functionality","Functionality",null,204,{"$f":"HLOOKUP($B$2,Übersetzung!$A$4:$D$216,E207,FALSE)","v":"Funktion"}]
["Zuluft/Abluft-Kombination","Supply/Extract-Combination","Supply/Extract-Combination",null,205,{"$f":"HLOOKUP($B$2,Übersetzung!$A$4:$D$216,E208,FALSE)","v":"Zuluft/Abluft-Kombination"}]
["sichtbare Breite Schlitzdurchlass","Visible width slot diffuser","Visible width slot diffuser",null,206,{"$f":"HLOOKUP($B$2,Übersetzung!$A$4:$D$216,E209,FALSE)","v":"sichtbare Breite Schlitzdurchlass"}]
["Abstand Anschlussstutzen","Branch distance","Branch distance",null,207,{"$f":"HLOOKUP($B$2,Übersetzung!$A$4:$D$216,E210,FALSE)","v":"Abstand Anschlussstutzen"}]
["Farbe Abdeckprofil","Colour cover profile","Colour cover profile",null,208,{"$f":"HLOOKUP($B$2,Übersetzung!$A$4:$D$216,E211,FALSE)","v":"Farbe Abdeckprofil"}]
["Beschreibung:\nVerstellbarer Luftdurchlass für den Einbau in Leichtbauwänden (z.B. Trockenbau). Zuluft- und Abluftfunktion in einer Frontblende (außer KSW500). ,Ausgestattet mit im Anschlusskasten integriertem Absorptionsmaterial nach VDI6022, zur Minderung der Telefonieschallübertragung. Variable Luftlenkung durch integrierte Luftleitelemente (Exzenterwalze).\n","Description: Adjustable air diffuser for installation in e.g. drywalls Supply- and Extract air function in one front panel (not KSW500). In the plenum, absorption material according to VDI 6022 is installed for increasing cross talk. Variable air deflection caused by internal guiding elements (eccentric drums).","Description: Adjustable air diffuser for installation in e.g. drywalls Supply- and Extract air function in one front panel (not KSW500). In the plenum, absorption material according to VDI 6022 is installed for increasing cross talk. Variable air deflection caused by internal guiding elements (eccentric drums).",null,209,{"$f":"HLOOKUP($B$2,Übersetzung!$A$4:$D$216,E212,FALSE)","v":"Beschreibung:\nVerstellbarer Luftdurchlass für den Einbau in Leichtbauwänden (z.B. Trockenbau). Zuluft- und Abluftfunktion in einer Frontblende (außer KSW500). ,Ausgestattet mit im Anschlusskasten integriertem Absorptionsmaterial nach VDI6022, zur Minderung der Telefonieschallübertragung. Variable Luftlenkung durch integrierte Luftleitelemente (Exzenterwalze).\n"}]
["Maße","Dimensions","Dimensions",null,210,{"$f":"HLOOKUP($B$2,Übersetzung!$A$4:$D$216,E213,FALSE)","v":"Maße"}]
["Nennvolumenstrom Konstantvolumenstromregler","Nominal volume flow, regulator","Nominal volume flow, regulator",null,211,{"$f":"HLOOKUP($B$2,Übersetzung!$A$4:$D$247,E214,FALSE)","v":"Nennvolumenstrom Konstantvolumenstromregler"}]
["Bauakustik - resultierendes Schalldämm-Maß","Building acoustigs - resulting transmission loss","Building acoustigs - resulting transmission loss",null,212,{"$f":"HLOOKUP($B$2,Übersetzung!$A$4:$D$247,E215,FALSE)","v":"Bauakustik - resultierendes Schalldämm-Maß"}]
["Erläuterung:","Note:","Note:",null,213,{"$f":"HLOOKUP($B$2,Übersetzung!$A$4:$D$247,E216,FALSE)","v":"Erläuterung:"}]
["Aus den Einzahlangaben der bewerteten Schalldämm-Maße nach DIN EN ISO 717-1 und den Flächenanteilen der Einzelelemente wird das resultierende Schalldämm-Maß R´W,R,res nach DIN 4109 berechnet.","From the single value specification of the weighted Sound Reduction Index according to DIN EN ISO 717-1 and the partial surfaces of the components the resulting Sound Reduction Index R´W,R,res is calculated according to DIN 4109","From the single value specification of the weighted Sound Reduction Index according to DIN EN ISO 717-1 and the partial surfaces of the components the resulting Sound Reduction Index R´W,R,res is calculated according to DIN 4109",null,214,{"$f":"HLOOKUP($B$2,Übersetzung!$A$4:$D$247,E217,FALSE)","v":"Aus den Einzahlangaben der bewerteten Schalldämm-Maße nach DIN EN ISO 717-1 und den Flächenanteilen der Einzelelemente wird das resultierende Schalldämm-Maß R´W,R,res nach DIN 4109 berechnet."}]
["Luftdurchlass","Diffuser","Diffuser",null,215,{"$f":"HLOOKUP($B$2,Übersetzung!$A$4:$D$247,E218,FALSE)","v":"Luftdurchlass"}]
["Schalldämm-Maß","Sound reduction index","Sound reduction index",null,216,{"$f":"HLOOKUP($B$2,Übersetzung!$A$4:$D$247,E219,FALSE)","v":"Schalldämm-Maß"}]
["Bezugsfläche für die Berechnung","Reference surface for calculation","Reference surface for calculation",null,217,{"$f":"HLOOKUP($B$2,Übersetzung!$A$4:$D$247,E220,FALSE)","v":"Bezugsfläche für die Berechnung"}]
["Vorgaben Trennwand","Specifications partition","Specifications partition",null,218,{"$f":"HLOOKUP($B$2,Übersetzung!$A$4:$D$247,E221,FALSE)","v":"Vorgaben Trennwand"}]
["Vorgaben weitere Bauteile im System (Tür, Fenster, …)","Specifications adittional components (door, window, …)","Specifications adittional components (door, window, …)",null,219,{"$f":"HLOOKUP($B$2,Übersetzung!$A$4:$D$247,E222,FALSE)","v":"Vorgaben weitere Bauteile im System (Tür, Fenster, …)"}]
["Breite Trennwand","Width partition","Width partition",null,220,{"$f":"HLOOKUP($B$2,Übersetzung!$A$4:$D$247,E223,FALSE)","v":"Breite Trennwand"}]
["Höhe Trennwand","Height partition","Height partition",null,221,{"$f":"HLOOKUP($B$2,Übersetzung!$A$4:$D$247,E224,FALSE)","v":"Höhe Trennwand"}]
["Fläche Trennwand exklusive Einbauten","Surface area without components","Surface area without components",null,222,{"$f":"HLOOKUP($B$2,Übersetzung!$A$4:$D$247,E225,FALSE)","v":"Fläche Trennwand exklusive Einbauten"}]
["Schalldämm-Maß der Trennwand","Sound Reduction Index, partition","Sound Reduction Index, partition",null,223,{"$f":"HLOOKUP($B$2,Übersetzung!$A$4:$D$247,E226,FALSE)","v":"Schalldämm-Maß der Trennwand"}]
["Breite Element","Width component","Width component",null,224,{"$f":"HLOOKUP($B$2,Übersetzung!$A$4:$D$247,E227,FALSE)","v":"Breite Element"}]
["Höhe Element","Height Component","Height Component",null,225,{"$f":"HLOOKUP($B$2,Übersetzung!$A$4:$D$247,E228,FALSE)","v":"Höhe Element"}]
["Fläche Element","Surface area component","Surface area component",null,226,{"$f":"HLOOKUP($B$2,Übersetzung!$A$4:$D$247,E229,FALSE)","v":"Fläche Element"}]
["Schalldämm-Maß Element","Sound Reduction Index component","Sound Reduction Index component",null,227,{"$f":"HLOOKUP($B$2,Übersetzung!$A$4:$D$247,E230,FALSE)","v":"Schalldämm-Maß Element"}]
["resultierendes Schalldämmmaß des Gesamtsystems","Resulting Sound Reduction Index, complete system","Resulting Sound Reduction Index, complete system",null,228,{"$f":"HLOOKUP($B$2,Übersetzung!$A$4:$D$247,E231,FALSE)","v":"resultierendes Schalldämmmaß des Gesamtsystems"}]
["Länge Anschlusskasten","Length Plenum box","Length Plenum box",null,229,{"$f":"HLOOKUP($B$2,Übersetzung!$A$4:$D$247,E232,FALSE)","v":"Länge Anschlusskasten"}]
["Tiefe Hals","Heck depth","Heck depth",null,230,{"$f":"HLOOKUP($B$2,Übersetzung!$A$4:$D$247,E233,FALSE)","v":"Tiefe Hals"}]
["Höhe Hals","Neck height","Neck height",null,231,{"$f":"HLOOKUP($B$2,Übersetzung!$A$4:$D$247,E234,FALSE)","v":"Höhe Hals"}]
["Beschreibung:\nVerstellbarer Luftdurchlass für Wandeinbau. Zuluft- und Abluftfunktion in einer gemeinsamen Frontblende. Ausgestattet mit im Anschlusskasten integrierten werkzeuglos entnehmbaren Schalldämmkulisssen nach VDI6022, zur Minderung der Telefonieschallübertragung. Variable Luftlenkung durch integrierte Luftleitelemente (Exzenterwalze). Optional: Konstantvolumenstromregler für Zu- bzw. Abluft.","Description: Adjustable air diffuser for wall installation. Supply- and extract air function combined in one front panel. In the plenum, toolless removable sound traps according to VDI 6022 are installed for increasing cross talk. Variable air deflection caused by internal guiding elements (eccentric drums). Optional: Volume flow regulators in the supply- and/or extract air.","Description: Adjustable air diffuser for wall installation. Supply- and extract air function combined in one front panel. In the plenum, toolless removable sound traps according to VDI 6022 are installed for increasing cross talk. Variable air deflection caused by internal guiding elements (eccentric drums). Optional: Volume flow regulators in the supply- and/or extract air.",null,232,{"$f":"HLOOKUP($B$2,Übersetzung!$A$4:$D$247,E235,FALSE)","v":"Beschreibung:\nVerstellbarer Luftdurchlass für Wandeinbau. Zuluft- und Abluftfunktion in einer gemeinsamen Frontblende. Ausgestattet mit im Anschlusskasten integrierten werkzeuglos entnehmbaren Schalldämmkulisssen nach VDI6022, zur Minderung der Telefonieschallübertragung. Variable Luftlenkung durch integrierte Luftleitelemente (Exzenterwalze). Optional: Konstantvolumenstromregler für Zu- bzw. Abluft."}]
["Ausführung Abluft","Extract air design","Extract air design",null,233,{"$f":"HLOOKUP($B$2,Übersetzung!$A$4:$D$247,E236,FALSE)","v":"Ausführung Abluft"}]
["Exzenterwalze","Eccentric drum","Eccentric drum",null,234,{"$f":"HLOOKUP($B$2,Übersetzung!$A$4:$D$247,E237,FALSE)","v":"Exzenterwalze"}]
["Düsenwalze","Nozzle cylinder","Nozzle cylinder",null,235,{"$f":"HLOOKUP($B$2,Übersetzung!$A$4:$D$247,E238,FALSE)","v":"Düsenwalze"}]
["Zuluftdurchlass","Supply air diffuser","Supply air diffuser",null,236,{"$f":"HLOOKUP($B$2,Übersetzung!$A$4:$D$247,E239,FALSE)","v":"Zuluftdurchlass"}]
["Abluftdurchlass","Extract air diffuser","Extract air diffuser",null,237,{"$f":"HLOOKUP($B$2,Übersetzung!$A$4:$D$247,E240,FALSE)","v":"Abluftdurchlass"}]
[null,null,0,null,238,{"$f":"HLOOKUP($B$2,Übersetzung!$A$4:$D$247,E241,FALSE)","v":0}]
[null,null,0,null,239,{"$f":"HLOOKUP($B$2,Übersetzung!$A$4:$D$247,E242,FALSE)","v":0}]
[null,null,0,null,240,{"$f":"HLOOKUP($B$2,Übersetzung!$A$4:$D$247,E243,FALSE)","v":0}]
[null,null,0,null,241,{"$f":"HLOOKUP($B$2,Übersetzung!$A$4:$D$247,E244,FALSE)","v":0}]
[null,null,0,null,242,{"$f":"HLOOKUP($B$2,Übersetzung!$A$4:$D$247,E245,FALSE)","v":0}]
[null,null,0,null,243,{"$f":"HLOOKUP($B$2,Übersetzung!$A$4:$D$247,E246,FALSE)","v":0}]
[null,null,null,null,244,{"$f":"HLOOKUP($B$2,Übersetzung!$A$4:$D$247,E247,FALSE)","v":0}]

{"sheet":"Bauakustik","index":14,"n_rows":54,"n_cols":5,"rows_kept":54,"cut":false,"hidden":true,"merged":[[3,0,3,3],[0,0,0,3],[8,0,8,3],[22,0,22,3],[29,0,29,3]]}
[{"$f":"Übersetzung!F215","v":"Bauakustik - resultierendes Schalldämm-Maß"}]
[]
[{"$f":"Übersetzung!F216","v":"Erläuterung:"}]
[{"$f":"Übersetzung!F217","v":"Aus den Einzahlangaben der bewerteten Schalldämm-Maße nach DIN EN ISO 717-1 und den Flächenanteilen der Einzelelemente wird das resultierende Schalldämm-Maß R´W,R,res nach DIN 4109 berechnet."}]
[]
[{"$f":"Übersetzung!F6","v":"Eingabefelder sind gelb gekennzeichnet"}]
[{"$f":"Übersetzung!F7","v":"Ergebnisfelder sind blau gekennzeichnet"}]
[]
[{"$f":"Übersetzung!F8","v":"Vorgaben"}]
[{"$f":"Übersetzung!F218","v":"Luftdurchlass"},{"$f":"Übersetzung!F10","v":"Symbol"},{"$f":"Übersetzung!F11","v":"Einheit"},{"$f":"Übersetzung!F12","v":"Wert"}]
["gewählter Luftdurchlass",null,null,{"$f":"'Auslegung KSW'!B78","v":{"$error":"#REF!"}}]
[{"$f":"Übersetzung!F13","v":"Durchlass Typ"},null,null,{"$f":"'Übergabedaten Bauakustik'!$B$43","v":"KS"}]
[{"$f":"Übersetzung!F15","v":"Baulänge"},"L",{"$f":"Einheiten!$L$10","v":"mm"},{"$f":"'Übergabedaten Bauakustik'!$F$43","v":750}]
[{"$f":"Übersetzung!F142","v":"Schlitzanzahl"},"n","[-]",{"$f":"'Übergabedaten Bauakustik'!$G$43","v":3}]
[{"$f":"Übersetzung!F174","v":"Breite Anschlusskasten"},"bAK",{"$f":"Einheiten!$L$5","v":"m"},{"$f":"'Übergabedaten Bauakustik'!$H$43/1000","v":0.71699999999999997}]
[{"$f":"Übersetzung!F72","v":"Höhe Anschlusskasten"},"hAK",{"$f":"Einheiten!$L$5","v":"m"},{"$f":"'Übergabedaten Bauakustik'!$I$43/1000","v":0.15}]
[{"$f":"Übersetzung!F220","v":"Bezugsfläche für die Berechnung"},"SAK",{"$f":"Einheiten!$L$12","v":"m²"},{"$f":"D15*D16","v":0.10754999999999999}]
["Abluft an Kanal angeschlossen?",null,null,"nein"]
[null,null,null,"ja"]
[null,null,null,"nein"]
[{"$f":"Übersetzung!F219","v":"Schalldämm-Maß"},"RW_AK","dB",{"$f":"IF(D18=\"ja\",'Übergabedaten Bauakustik'!$M$43,'Übergabedaten Bauakustik'!$O$43)","v":20.316104147234814}]
[]
[{"$f":"Übersetzung!F221","v":"Vorgaben Trennwand"}]
[null,{"$f":"B10","v":"Symbol"},{"$f":"C10","v":"Einheit"},"Wert"]
[{"$f":"Übersetzung!F223","v":"Breite Trennwand"},"bE1",{"$f":"Einheiten!$L$5","v":"m"},5]
[{"$f":"Übersetzung!F224","v":"Höhe Trennwand"},"hE1",{"$f":"Einheiten!$L$5","v":"m"},3]
[{"$f":"Übersetzung!F225","v":"Fläche Trennwand exklusive Einbauten"},"SE1",{"$f":"Einheiten!$L$12","v":"m²"},{"$f":"D25*D26-D34-D17","v":12.89245}]
[{"$f":"Übersetzung!F226","v":"Schalldämm-Maß der Trennwand"},"RW_E1","dB",40]
[]
[{"$f":"Übersetzung!F222","v":"Vorgaben weitere Bauteile im System (Tür, Fenster, …)"}]
[null,{"$f":"B10","v":"Symbol"},{"$f":"C10","v":"Einheit"},"Wert"]
[{"$f":"Übersetzung!F227","v":"Breite Element"},"bE2",{"$f":"Einheiten!$L$5","v":"m"},1]
[{"$f":"Übersetzung!F228","v":"Höhe Element"},"hE2",{"$f":"Einheiten!$L$5","v":"m"},2]
[{"$f":"Übersetzung!F229","v":"Fläche Element"},"SE2",{"$f":"Einheiten!$L$12","v":"m²"},{"$f":"D32*D33","v":2}]
[{"$f":"Übersetzung!F230","v":"Schalldämm-Maß Element"},"RW_E2","dB",35]
[]
[{"$f":"Übersetzung!F231","v":"resultierendes Schalldämmmaß des Gesamtsystems"},"R´W,R,res","dB",{"$f":"-10*LOG(1/(D34+D27+D17)*($D$17*10^(-0.1*$D$21)+$D$27*10^(-0.1*$D$28)+$D$34*10^(-0.1*$D$35)))","v":37.104555594185086}]
[]
[]
[]
[]
[]
[]
[]
[]
[]
[]
[]
[]
[]
[]
[]
[null,null,null,null,{"$f":"Übersetzung!F44","v":"Änderungen vorbehalten"}]
[null,null,null,{"$f":"Übersetzung!F45","v":"Stand:"},{"$f":"'Grunddaten KSW'!$E$52","v":"2020-10-30"}]

{"sheet":"Auslegung KSW","index":15,"n_rows":112,"n_cols":12,"rows_kept":112,"cut":false,"hidden":true,"merged":[[60,1,60,4],[64,1,64,4],[107,3,107,4],[108,3,108,4],[103,3,103,4],[104,3,104,4],[105,3,105,4],[106,3,106,4],[102,3,102,4],[100,3,100,4],[101,3,101,4],[88,3,88,4],[77,1,77,4],[81,4,84,4],[73,1,73,4],[70,1,70,4],[18,3,18,4],[18,1,18,2],[32,1,32,2],[26,3,26,4],[57,3,57,4],[28,3,28,4],[29,3,29,4],[30,3,30,4],[31,3,31,4],[68,1,68,4],[0,0,0,3],[87,3,87,4],[27,0,27,4],[32,3,32,4],[7,3,7,4],[5,0,5,4],[8,3,8,4],[14,3,14,4],[23,3,23,4],[25,3,25,4],[24,3,24,4],[6,3,6,4],[59,1,59,4],[65,1,65,4],[58,0,58,4]]}
[{"$f":"Übersetzung!F5","v":"Auslegung Kampmann Kombiluftdurchlässe"}]
[]
[{"$f":"Übersetzung!F6","v":"Eingabefelder sind gelb gekennzeichnet"}]
[{"$f":"Übersetzung!F7","v":"Ergebnisfelder sind blau gekennzeichnet"}]
[]
[{"$f":"Übersetzung!F8","v":"Vorgaben"}]
[{"$f":"Übersetzung!F9","v":"Lüftungstechnik"},{"$f":"Übersetzung!F10","v":"Symbol"},{"$f":"Übersetzung!F11","v":"Einheit"},{"$f":"Übersetzung!F12","v":"Wert"}]
[{"$f":"Übersetzung!F13","v":"Durchlass Typ"},null,null,"KSW"]
[{"$f":"Übersetzung!F15","v":"Baulänge"},"L",{"$f":"Einheiten!$L$10","v":"mm"},1200]
[null,null,null,500]
[null,null,null,800]
[null,null,null,1000]
[null,null,null,1200]
[]
[{"$f":"Übersetzung!F142","v":"Schlitzanzahl"},"n","[-]",2]
[null,null,null,1]
[null,null,null,2]
[]
[{"$f":"Übersetzung!F207","v":"Funktion"},null,null,"Zuluft"]
[null,{"$f":"Übersetzung!F162","v":"Zuluft"}]
[null,{"$f":"Übersetzung!F163","v":"Abluft"}]
[null,{"$f":"IF(D9>500,Übersetzung!F208,\"\")","v":"Zuluft/Abluft-Kombination"}]
[]
[{"$f":"Übersetzung!F144","v":"Luftvolumenstrom Zuluft"},"V·SUP",{"$f":"Einheiten!$L$7","v":"m³/h"},150]
[{"$f":"Übersetzung!F146","v":"Luftvolumenstrom Abluft"},"V·ETA",{"$f":"Einheiten!$L$7","v":"m³/h"},80]
[{"$f":"Übersetzung!F147","v":"Temperatur Zuluft"},"tSUP",{"$f":"Einheiten!$L$9","v":"°C"},16]
[{"$f":"Übersetzung!F19","v":"Temperatur Raum"},"tRaum",{"$f":"Einheiten!$L$9","v":"°C"},20]
[{"$f":"Übersetzung!F20","v":"Raumdaten"}]
[{"$f":"Übersetzung!F25","v":"Raumhöhe"},"H1",{"$f":"Einheiten!$L$5","v":"m"},3]
[{"$f":"Übersetzung!F22","v":"Obergrenze Aufenthaltsbereich"},"H2",{"$f":"Einheiten!$L$5","v":"m"},1.8]
[{"$f":"Übersetzung!F23","v":"Raumlänge"},"LR",{"$f":"Einheiten!$L$5","v":"m"},6]
[{"$f":"Übersetzung!F24","v":"Raumbreite"},"BR",{"$f":"Einheiten!$L$5","v":"m"},3]
[{"$f":"Übersetzung!F148","v":"Raumart nach VDI 2081"},null,null,"Einzelbüro",null,null,null,null,1,{"$f":"Übersetzung!F174","v":"Breite Anschlusskasten"},{"$f":"'Grunddaten KSW'!M49","v":1218},{"$f":"Einheiten!$L$10","v":"mm"}]
[null,null,{"$f":"Übersetzung!F177","v":"Einzelbüro"}]
[null,null,{"$f":"Übersetzung!F178","v":"Großraumbüro"}]
[null,null,{"$f":"Übersetzung!F179","v":"Werkstätten"}]
[null,null,{"$f":"Übersetzung!F180","v":"Ruheraum, Pausenraum"}]
[null,null,{"$f":"Übersetzung!F181","v":"Untersuchungsraum Krankenhaus"}]
[null,null,{"$f":"Übersetzung!F182","v":"Rundfunk-, Fernsehstudio"}]
[null,null,{"$f":"Übersetzung!F183","v":"Chemielabor"}]
[null,null,{"$f":"Übersetzung!F184","v":"Wasch- und WC-Raum, Umkleide"}]
[null,null,{"$f":"Übersetzung!F185","v":"Schwimmbad"}]
[null,null,{"$f":"Übersetzung!F186","v":"EDV-Raum"}]
[null,null,{"$f":"Übersetzung!F187","v":"Konzertsaal"}]
[null,null,{"$f":"Übersetzung!F188","v":"Lesesaal"}]
[null,null,{"$f":"Übersetzung!F189","v":"Museum"}]
[null,null,{"$f":"Übersetzung!F190","v":"Küche"}]
[null,null,{"$f":"Übersetzung!F191","v":"Theater, Kino"}]
[null,null,{"$f":"Übersetzung!F192","v":"Klassen- Seminarraum"}]
[null,null,{"$f":"Übersetzung!F193","v":"Gaststätte"}]
[null,null,{"$f":"Übersetzung!F194","v":"kein Typ"}]
[null,null,{"$f":"Übersetzung!F195","v":"Konferenzraum"}]
[null,null,{"$f":"Übersetzung!F196","v":"Hotelzimmer"}]
[null,null,{"$f":"Übersetzung!F197","v":"Hörsaal"}]
[null,null,{"$f":"Übersetzung!F198","v":"Bettenzimmer Krankenhaus"}]
[null,null,{"$f":"Übersetzung!F199","v":"Verkaufsraum"}]
[null,null,{"$f":"Übersetzung!F200","v":"Sporthalle"}]
[{"$f":"Übersetzung!F149","v":"Abstand zur Schallquelle"},"r",{"$f":"Einheiten!$L$5","v":"m"},3,null,null,null,null,2,{"$f":"Übersetzung!F209","v":"sichtbare Breite Schlitzdurchlass"},{"$f":"'Grunddaten KSW'!N49","v":1230},{"$f":"Einheiten!$L$10","v":"mm"}]
[{"$f":"Übersetzung!F150","v":"Zusatzdaten"}]
["Farbe Abdeckprofil und Endwinkel",9010,null,null,null,{"$f":"VLOOKUP(B60,'Eingabe KSW'!A45:B48,2,FALSE)","v":{"$error":"#N/A"}},{"$f":"$B$60","v":9010}]
["Farbe Luftlenkelement","schwarz",null,null,null,null,{"$f":"VLOOKUP(B61,B62:G64,6,FALSE)","v":"S"}]
[null,"schwarz",null,null,null,null,"S"]
[null,"weiß",null,null,null,null,"W"]
[null,"grau",null,null,null,null,"G"]
["Einstellung Luftlenkelement","Deckenstrahl D / E",null,null,null,null,{"$f":"VLOOKUP(B65,B66:G69,6,FALSE)","v":"D"}]
[null,"Deckenstrahl D / E",null,null,null,null,"D"]
[null,"Sondereinstellung",null,null,null,null,"S"]
[]
["Werkstoff Anschlusskasten","Stahl verzinkt",null,null,null,null,"V"]
[null,"Stahl verzinkt"]
["frontseitig bedienbare Drossel","ohne",null,null,null,{"$f":"VLOOKUP(B71,'Eingabe KSW'!$A$45:$B$51,2,FALSE)","v":{"$error":"#N/A"}},{"$f":"VLOOKUP(B71,B72:G74,6,FALSE)","v":0}]
[null,"mit",null,null,null,null,1]
[null,"ohne",null,null,null,null,0]
["Innenauskleidung","Baustoffklasse B1 (Standard)",null,null,null,null,{"$f":"VLOOKUP(B74,B75:G78,6,FALSE)","v":"B1"}]
[null,"Baustoffklasse B1 (Standard)",null,null,null,null,"B1"]
[null,"Baustoffklasse A2 (optional)",null,null,null,null,"A2"]
[]
["Merkmalschlüssel",{"$f":"CONCATENATE(1,\"KSW\",\"0\",D15,G78,#REF!,\"A\",G60,G61,G65,G69,G71,G74,1,G79)","v":{"$error":"#REF!"}},null,null,null,null,{"$f":"IF(D9<1000,CONCATENATE(0,D9),D9)","v":1200}]
[null,null,null,null,null,null,{"$f":"IF(K80=78,\"080\",100)","v":100},null,3,{"$f":"Übersetzung!F72","v":"Höhe Anschlusskasten"},{"$f":"'Grunddaten KSW'!L49","v":280},{"$f":"Einheiten!$L$10","v":"mm"}]
[{"$f":"Übersetzung!F26","v":"Berechnung strömungstechnische und Akustische Daten"},null,null,{"$f":"Übersetzung!F162","v":"Zuluft"},{"$f":"Übersetzung!F163","v":"Abluft"},null,null,null,4,{"$f":"Übersetzung!F42","v":"Durchmesser Anschlussstutzen"},{"$f":"'Grunddaten KSW'!P49","v":98},{"$f":"Einheiten!$L$10","v":"mm"}]
[{"$f":"Übersetzung!F27","v":"Totaldruckverlust"},"Dpt",{"$f":"Einheiten!$L$8","v":"Pa"},{"$f":"IF(OR(D19=Übersetzung!F162,D19=Übersetzung!F208),'Grunddaten KSW'!$K$49,\"\")","v":31.01563534702883},{"$f":"IF(OR(D19=Übersetzung!F163,D19=Übersetzung!F208),'Grunddaten KSW'!$K$50,\"\")","v":""},null,null,null,5,{"$f":"Übersetzung!F210","v":"Abstand Anschlussstutzen"},{"$f":"'Grunddaten KSW'!O49","v":608},{"$f":"Einheiten!$L$10","v":"mm"}]
[{"$f":"Übersetzung!F91","v":"Kritischer Strahlweg"},"xkr.",{"$f":"Einheiten!$L$5","v":"m"},{"$f":"IF(OR(D19=Übersetzung!F162,D19=Übersetzung!F208),IF($D$15=2,'xkr._vx KSW'!$F$11,'xkr._vx KSW'!$F$10),\"\")","v":2.6632416266967365}]
[{"$f":"Übersetzung!F161","v":"Strahllauflänge bis Aufenthaltsbereich"},"x+y",{"$f":"Einheiten!$L$5","v":"m"},{"$f":"IF(OR(D19=Übersetzung!F162,D19=Übersetzung!F208),IF($D$15=2,'xkr._vx KSW'!$J$11,'xkr._vx KSW'!$J$10),\"\")","v":4.3602979015444507}]
[{"$f":"Übersetzung!F57","v":"Geschwindigkeit nach Ablösen an Xkr."},"vx+y",{"$f":"Einheiten!$L$6","v":"m/s"},{"$f":"IF(OR(D19=Übersetzung!F162,D19=Übersetzung!F208),IF('xkr._vx KSW'!$K$13<0.1,\"<0,1\",'xkr._vx KSW'!$K$13),\"\")","v":"<0,1"}]
[{"$f":"Übersetzung!F58","v":"Zugluftrisiko nach Ablösepunkt**"},"DR","%",{"$f":"IF(OR(D19=Übersetzung!F162,D19=Übersetzung!F208),IF(D15=1,'xkr._vx KSW'!M10,'xkr._vx KSW'!M11),\"\")","v":10.29049598223042}]
[{"$f":"CONCATENATE(Übersetzung!F164,\" \",Übersetzung!F162,\"/\",Übersetzung!F163)","v":"Schallleistungspegel Zuluft/Abluft"},"LWA_SUP/ETA","dB(A)",{"$f":"IF(OR(D19=Übersetzung!F162,D19=Übersetzung!F208),'Lw KSW'!I102,\"\")","v":29.050237937377773},{"$f":"IF(OR(D19=Übersetzung!F163,D19=Übersetzung!F208),'Lw KSW'!I103,\"\")","v":""}]
[null,null,null,{"$f":"IF(OR(D86=\"<25\",D86=\"\"),0,D86)","v":29.050237937377773},{"$f":"IF(OR(E86=\"<25\",E86=\"\"),0,E86)","v":0}]
[{"$f":"Übersetzung!F168","v":"Summen-Schallleistungspegel Zuluft + Abluft"},"LWA_gesamt","dB(A)",{"$f":"IF(D87+E87=0,\"25\",10*LOG(10^(0.1*D87)+10^(0.1*E87)))","v":29.055639139498016}]
[{"$f":"Übersetzung!F169","v":"Schalldruckpegel im Raum"},"LPA","dB(A)",{"$f":"IF(D88+10*LOG('Lw KSW'!$F$110/(4*PI()*'Auslegung KSW'!D58^2)+4/('Lw KSW'!$H$110))>=25,D88+10*LOG('Lw KSW'!$F$110/(4*PI()*'Auslegung KSW'!D58^2)+4/('Lw KSW'!$H$110)),\"<25\")","v":"<25"}]
[{"$f":"Übersetzung!F206","v":"* Daten gelten für Walzenstellung D/E"}]
[]
[{"$f":"Übersetzung!F34","v":"Oktavspektrum Schallleistung"},"LW_Okt","dB",{"$f":"D80","v":"Zuluft"},{"$f":"E80","v":"Abluft"}]
[null,"LW_125","dB",{"$f":"IF(OR($D$19=Übersetzung!$F$162,$D$19=Übersetzung!$F$208),'Lw KSW'!B$104,\"\")","v":32.805003154287562},{"$f":"IF(OR($D$19=Übersetzung!$F$163,$D$19=\"Zuluft/Abluft-Kombination\"),'Lw KSW'!B$105,\"\")","v":""}]
[null,"LW_250","dB",{"$f":"IF(OR($D$19=Übersetzung!$F$162,$D$19=Übersetzung!$F$208),'Lw KSW'!C$104,\"\")","v":33.623994367512388},{"$f":"IF(OR($D$19=Übersetzung!$F$163,$D$19=\"Zuluft/Abluft-Kombination\"),'Lw KSW'!C$105,\"\")","v":""}]
[null,"LW_500","dB",{"$f":"IF(OR($D$19=Übersetzung!$F$162,$D$19=Übersetzung!$F$208),'Lw KSW'!D$104,\"\")","v":24.92369410884876},{"$f":"IF(OR($D$19=Übersetzung!$F$163,$D$19=\"Zuluft/Abluft-Kombination\"),'Lw KSW'!D$105,\"\")","v":""}]
[null,"LW_1000","dB",{"$f":"IF(OR($D$19=Übersetzung!$F$162,$D$19=Übersetzung!$F$208),'Lw KSW'!E$104,\"\")","v":18.743171570056354},{"$f":"IF(OR($D$19=Übersetzung!$F$163,$D$19=\"Zuluft/Abluft-Kombination\"),'Lw KSW'!E$105,\"\")","v":""}]
[null,"LW_2000","dB",{"$f":"IF(OR($D$19=Übersetzung!$F$162,$D$19=Übersetzung!$F$208),'Lw KSW'!F$104,\"\")","v":12.070308440395126},{"$f":"IF(OR($D$19=Übersetzung!$F$163,$D$19=\"Zuluft/Abluft-Kombination\"),'Lw KSW'!F$105,\"\")","v":""}]
[null,"LW_4000","dB",{"$f":"IF(OR($D$19=Übersetzung!$F$162,$D$19=Übersetzung!$F$208),'Lw KSW'!G$104,\"\")","v":14.319107584039775},{"$f":"IF(OR($D$19=Übersetzung!$F$163,$D$19=\"Zuluft/Abluft-Kombination\"),'Lw KSW'!G$105,\"\")","v":""}]
[null,"LW_8000","dB",{"$f":"IF(OR($D$19=Übersetzung!$F$162,$D$19=Übersetzung!$F$208),'Lw KSW'!H$104,\"\")","v":23.138582149380397},{"$f":"IF(OR($D$19=Übersetzung!$F$163,$D$19=\"Zuluft/Abluft-Kombination\"),'Lw KSW'!H$105,\"\")","v":""}]
[]
[{"$f":"Übersetzung!F170","v":"Durchgangsdämpfungsmaß (Kanal -> Raum)"},"Dt","dB"]
[null,"Dt_63","dB",{"$f":"'Dt KSW'!D$25","v":26.586931301393477}]
[null,"Dt_125","dB",{"$f":"'Dt KSW'!E$25","v":17.558938755907572}]
[null,"Dt_250","dB",{"$f":"'Dt KSW'!F$25","v":17.474165863635744}]
[null,"Dt_500","dB",{"$f":"'Dt KSW'!G$25","v":15.406717376002225}]
[null,"Dt_1000","dB",{"$f":"'Dt KSW'!H$25","v":21.057493990079905}]
[null,"Dt_2000","dB",{"$f":"'Dt KSW'!I$25","v":25.102077261988079}]
[null,"Dt_4000","dB",{"$f":"'Dt KSW'!J$25","v":25.110134750760974}]
[null,"Dt_8000","dB",{"$f":"'Dt KSW'!K$25","v":25.027137785707243}]
[{"$f":"Übersetzung!F44","v":"Änderungen vorbehalten"}]
[{"$f":"Übersetzung!F45","v":"Stand:"},null,null,null,{"$f":"IF(D9=500,KSW(),\"\")","v":""}]
[{"$f":"'Grunddaten KSW'!E52","v":"2020-10-30"}]

{"sheet":"Datenblatt KSW","index":16,"n_rows":40,"n_cols":9,"rows_kept":40,"cut":false,"hidden":true,"merged":[[27,2,27,3],[9,0,9,8],[16,6,16,7],[1,1,1,7],[26,2,26,3],[24,5,24,6],[25,5,25,6],[26,5,26,6],[27,5,27,6]]}
[]
[{"$f":"Übersetzung!F86","v":"Typ"},"Kampmann KSW",null,null,null,null,null,null,{"$f":"TODAY()","v":"2022-01-19"}]
[{"$f":"Übersetzung!F87","v":"Projekt"},{"$f":"Übersetzung!F89","v":"bitte Projektnummer angeben"}]
[]
[{"$f":"Übersetzung!F88","v":"Definition:"}]
[{"$f":"Übersetzung!F15","v":"Baulänge"},{"$f":"'Auslegung KSW'!D9","v":1200},{"$f":"Übersetzung!F151","v":"Walzenfarbe"},null,{"$f":"'Auslegung KSW'!B61","v":"schwarz"},{"$f":"Übersetzung!F207","v":"Funktion"},{"$f":"'Auslegung KSW'!D19","v":"Zuluft"}]
[{"$f":"Übersetzung!F142","v":"Schlitzanzahl"},{"$f":"'Auslegung KSW'!D15","v":2},{"$f":"Übersetzung!F211","v":"Farbe Abdeckprofil"},null,{"$f":"'Auslegung KSW'!B60","v":9010}]
["Innenauskleidung:",{"$f":"'Auslegung KSW'!G74","v":"B1"},"Drossel fb:",null,{"$f":"'Auslegung KSW'!B71","v":"ohne"}]
[]
[{"$f":"Übersetzung!F212","v":"Beschreibung:\nVerstellbarer Luftdurchlass für den Einbau in Leichtbauwänden (z.B. Trockenbau). Zuluft- und Abluftfunktion in einer Frontblende (außer KSW500). ,Ausgestattet mit im Anschlusskasten integriertem Absorptionsmaterial nach VDI6022, zur Minderung der Telefonieschallübertragung. Variable Luftlenkung durch integrierte Luftleitelemente (Exzenterwalze).\n"}]
[]
[]
[{"$f":"Übersetzung!F90","v":"technische Vorgaben"},null,null,null,null,{"$f":"Übersetzung!F20","v":"Raumdaten"}]
[{"$f":"Übersetzung!F144","v":"Luftvolumenstrom Zuluft"},"V·SUP",{"$f":"'Auslegung KSW'!D24","v":150},{"$f":"Einheiten!$L$7","v":"m³/h"},null,{"$f":"Übersetzung!F25","v":"Raumhöhe"},{"$f":"'Auslegung KSW'!D29","v":3},{"$f":"Einheiten!$L$5","v":"m"}]
[{"$f":"Übersetzung!F146","v":"Luftvolumenstrom Abluft"},"V·ETA",{"$f":"IF(B6=500,\"\",'Auslegung KSW'!D25)","v":80},{"$f":"Einheiten!$L$7","v":"m³/h"},null,{"$f":"Übersetzung!F24","v":"Raumbreite"},{"$f":"'Auslegung KSW'!D32","v":3},{"$f":"Einheiten!$L$5","v":"m"}]
[{"$f":"Übersetzung!F18","v":"Temperatur Zuluft"},"tZUL",{"$f":"'Auslegung KSW'!D26","v":16},{"$f":"Einheiten!$L$9","v":"°C"},null,{"$f":"Übersetzung!F23","v":"Raumlänge"},{"$f":"'Auslegung KSW'!D31","v":6},{"$f":"Einheiten!$L$5","v":"m"}]
[{"$f":"Übersetzung!F19","v":"Temperatur Raum"},"tRAUM",{"$f":"'Auslegung KSW'!D27","v":20},{"$f":"Einheiten!$L$9","v":"°C"},null,{"$f":"Übersetzung!F148","v":"Raumart nach VDI 2081"},{"$f":"'Auslegung KSW'!D33","v":"Einzelbüro"}]
[]
[]
[{"$f":"Übersetzung!F204","v":"Technische Daten"},null,{"$f":"IF(B6=500,Übersetzung!F208,Übersetzung!F162)","v":"Zuluft"},{"$f":"IF(B6=500,\" \",Übersetzung!F163)","v":"Abluft"}]
[{"$f":"Übersetzung!F27","v":"Totaldruckverlust"},"Dp",{"$f":"'Auslegung KSW'!D81","v":31.01563534702883},{"$f":"'Auslegung KSW'!E81","v":""},{"$f":"Einheiten!$L$8","v":"Pa"}]
[{"$f":"Übersetzung!F91","v":"Kritischer Strahlweg"},"xkr.",{"$f":"'Auslegung KSW'!D82","v":2.6632416266967365},null,{"$f":"Einheiten!$L$5","v":"m"}]
[{"$f":"Übersetzung!F161","v":"Strahllauflänge bis Aufenthaltsbereich"},"x+y",{"$f":"'Auslegung KSW'!D83","v":4.3602979015444507},null,{"$f":"Einheiten!$L$5","v":"m"}]
[{"$f":"Übersetzung!F57","v":"Geschwindigkeit nach Ablösen an Xkr."},"vx+y",{"$f":"'Auslegung KSW'!D84","v":"<0,1"},null,{"$f":"Einheiten!$L$6","v":"m/s"},{"$f":"Übersetzung!F213","v":"Maße"}]
[{"$f":"Übersetzung!F58","v":"Zugluftrisiko nach Ablösepunkt**"},"DR",{"$f":"'Auslegung KSW'!D85","v":10.29049598223042},null,"%",{"$f":"'Auslegung KSW'!J33","v":"Breite Anschlusskasten"},null,{"$f":"'Auslegung KSW'!K33","v":1218},{"$f":"Einheiten!$L$10","v":"mm"}]
[{"$f":"Übersetzung!F164","v":"Schallleistungspegel"},"LWA_SUP/ETA",{"$f":"'Auslegung KSW'!D86","v":29.050237937377773},{"$f":"'Auslegung KSW'!E86","v":""},"dB(A)",{"$f":"'Auslegung KSW'!J58","v":"sichtbare Breite Schlitzdurchlass"},null,{"$f":"'Auslegung KSW'!K58","v":1230},{"$f":"Einheiten!$L$10","v":"mm"}]
[{"$f":"Übersetzung!F168","v":"Summen-Schallleistungspegel Zuluft + Abluft"},"LWA_gesamt",{"$f":"'Auslegung KSW'!D88","v":29.055639139498016},null,"dB(A)",{"$f":"'Auslegung KSW'!J79","v":"Höhe Anschlusskasten"},null,{"$f":"'Auslegung KSW'!K79","v":280},{"$f":"Einheiten!$L$10","v":"mm"}]
[{"$f":"CONCATENATE(Übersetzung!$F$169,\" in \",'Auslegung KS'!$D$88,\" \",Einheiten!$L$5,\" \",Übersetzung!$F$205)","v":"Schalldruckpegel im Raum in 3 m Abstand"},"LPA",{"$f":"'Auslegung KSW'!D89","v":"<25"},null,"dB(A)",{"$f":"'Auslegung KSW'!J80","v":"Durchmesser Anschlussstutzen"},null,{"$f":"'Auslegung KSW'!K80","v":98},{"$f":"Einheiten!$L$10","v":"mm"}]
[{"$f":"Übersetzung!$F$206","v":"* Daten gelten für Walzenstellung D/E"}]
[{"$f":"Übersetzung!$F$92","v":"** Raumkategorie nach DIN EN ISO 7730: DR<10 % = A; DR<20 % = B; DR<30 % = C"}]
[]
[]
[{"$f":"Übersetzung!F133","v":"Oktavspektrum"},"f [Hz]",125,250,500,1000,2000,4000,8000]
[{"$f":"IF(B6=500,Übersetzung!F208,Übersetzung!F162)","v":"Zuluft"},"LWA_Okt",{"$f":"'Auslegung KSW'!D93","v":32.805003154287562},{"$f":"'Auslegung KSW'!D94","v":33.623994367512388},{"$f":"'Auslegung KSW'!D95","v":24.92369410884876},{"$f":"'Auslegung KSW'!D96","v":18.743171570056354},{"$f":"'Auslegung KSW'!D97","v":12.070308440395126},{"$f":"'Auslegung KSW'!D98","v":14.319107584039775},{"$f":"'Auslegung KSW'!D99","v":23.138582149380397}]
[{"$f":"Übersetzung!F163","v":"Abluft"},"LWA_Okt",{"$f":"'Auslegung KSW'!E93","v":""},{"$f":"'Auslegung KSW'!E94","v":""},{"$f":"'Auslegung KSW'!E95","v":""},{"$f":"'Auslegung KSW'!E96","v":""},{"$f":"'Auslegung KSW'!E97","v":""},{"$f":"'Auslegung KSW'!E98","v":""},{"$f":"'Auslegung KSW'!E99","v":""}]
[]
[{"$f":"Übersetzung!F170","v":"Durchgangsdämpfungsmaß (Kanal -> Raum)"},"f [Hz]",125,250,500,1000,2000,4000,8000]
[{"$f":"Übersetzung!F208","v":"Zuluft/Abluft-Kombination"},"Dt",{"$f":"'Auslegung KSW'!D102","v":26.586931301393477},{"$f":"'Auslegung KSW'!D104","v":17.474165863635744},{"$f":"'Auslegung KSW'!D105","v":15.406717376002225},{"$f":"'Auslegung KSW'!D106","v":21.057493990079905},{"$f":"'Auslegung KSW'!D107","v":25.102077261988079},{"$f":"'Auslegung KSW'!D108","v":25.110134750760974},{"$f":"'Auslegung KSW'!D109","v":25.027137785707243}]
[null,null,null,null,null,null,null,null,{"$f":"Übersetzung!$F$44","v":"Änderungen vorbehalten"}]
[null,null,null,null,null,null,null,{"$f":"Übersetzung!$F$45","v":"Stand:"},{"$f":"'Grunddaten KSW'!E52","v":"2020-10-30"}]

{"sheet":"Datenblatt KS","index":17,"n_rows":39,"n_cols":9,"rows_kept":39,"cut":false,"hidden":true,"merged":[[31,0,31,1],[1,1,1,7],[6,4,6,5],[9,0,9,8],[15,6,15,7],[24,2,24,3],[25,2,25,3],[6,2,6,3]]}
[]
[{"$f":"Übersetzung!F86","v":"Typ"},"Kampmann KS",null,null,null,null,null,null,{"$f":"TODAY()","v":"2022-01-19"}]
[{"$f":"Übersetzung!F87","v":"Projekt"},{"$f":"Übersetzung!F89","v":"bitte Projektnummer angeben"}]
[{"$f":"Übersetzung!F202","v":"Kommentar"},{"$f":"Übersetzung!F89","v":"bitte Projektnummer angeben"}]
[{"$f":"Übersetzung!F88","v":"Definition:"}]
[{"$f":"Übersetzung!F171","v":"Breite Frontblende"},{"$f":"'Auslegung KS'!$D$9","v":750},{"$f":"Übersetzung!F151","v":"Walzenfarbe"},null,{"$f":"'Auslegung KS'!$B$91","v":"schwarz"},null,{"$f":"Übersetzung!F143","v":"BVR in Zuluft"},null,{"$f":"'Auslegung KS'!D17","v":"nein"}]
[{"$f":"Übersetzung!F142","v":"Schlitzanzahl"},{"$f":"'Auslegung KS'!$D$15","v":3},{"$f":"Übersetzung!F152","v":"Lackierung Frontblende"},null,{"$f":"'Auslegung KS'!$B$94","v":"weiß (RAL 9010) bepulvert"},null,{"$f":"Übersetzung!F145","v":"BVR in Abluft"},null,{"$f":"'Auslegung KS'!D36","v":"nein"}]
["Brutto-Listenpreis",{"$f":"'Auslegung KS'!$B$103","v":309},{"$f":"IF(AND(I6=\"nein\",I7=\"nein\"),\"\",\"*Preis ohneBVR\")","v":""}]
[]
[{"$f":"Übersetzung!F201","v":"Beschreibung:\nVerstellbarer Luftdurchlass für Wandeinbau. Zuluft- und Abluftfunktion in einer gemeinsamen Frontblende. Ausgestattet mit im Anschlusskasten integrierten schwenkbaren Schalldämmkulisssen nach VDI6022, zur Minderung der Telefonieschallübertragung. Variable Luftlenkung durch integrierte Luftleitelemente (Exzenterwalze). Optional: Konstantvolumenstromregler für Zu- bzw. Abluft."}]
[]
[{"$f":"Übersetzung!F90","v":"technische Vorgaben"},null,null,null,null,{"$f":"Übersetzung!F20","v":"Raumdaten"}]
[{"$f":"IF('Auslegung KS'!D17=Übersetzung!F176,Übersetzung!F144,CONCATENATE(Übersetzung!F144,Übersetzung!F203,\" \",'Auslegung KS'!D114,\" \",Einheiten!L8))","v":"Luftvolumenstrom Zuluft"},"V·SUP",{"$f":"'Auslegung KS'!$B$32","v":70},"m³/h",null,{"$f":"Übersetzung!F25","v":"Raumhöhe"},{"$f":"'Auslegung KS'!$D$59","v":3},"m"]
[{"$f":"IF('Auslegung KS'!D36=Übersetzung!F176,Übersetzung!F146,CONCATENATE(Übersetzung!F146,Übersetzung!F203,\" \",'Auslegung KS'!E114,\" \",Einheiten!L8))","v":"Luftvolumenstrom Abluft"},"V·ETA",{"$f":"'Auslegung KS'!$D$54","v":60},{"$f":"IF(B6=500,\"\",\"m³/h\")","v":"m³/h"},null,{"$f":"Übersetzung!F24","v":"Raumbreite"},{"$f":"'Auslegung KS'!$D$62","v":3},"m"]
[{"$f":"Übersetzung!F18","v":"Temperatur Zuluft"},"tZUL",{"$f":"'Auslegung KS'!$D$55","v":22},"°C",null,{"$f":"Übersetzung!F23","v":"Raumlänge"},{"$f":"'Auslegung KS'!$D$61","v":5},"m"]
[{"$f":"Übersetzung!F19","v":"Temperatur Raum"},"tRAUM",{"$f":"'Auslegung KS'!$D$56","v":26},"°C",null,{"$f":"Übersetzung!F148","v":"Raumart nach VDI 2081"},{"$f":"'Auslegung KS'!$D$63","v":"Einzelbüro"}]
[]
[{"$f":"Übersetzung!F204","v":"Technische Daten"},null,{"$f":"Übersetzung!F162","v":"Zuluft"},{"$f":"Übersetzung!F163","v":"Abluft"}]
[{"$f":"Übersetzung!F27","v":"Totaldruckverlust"},"Dp",{"$f":"'Auslegung KS'!$D$107","v":13.346520009717127},{"$f":"'Auslegung KS'!$E$107","v":10.807592921849361},"Pa"]
[{"$f":"Übersetzung!F91","v":"Kritischer Strahlweg"},"xkr.",{"$f":"'Auslegung KS'!D108","v":1.7905575082577256},null,"m"]
[{"$f":"Übersetzung!F161","v":"Strahllauflänge bis Aufenthaltsbereich"},"x+y",{"$f":"'Auslegung KS'!D109","v":3.4876137831054397},null,"m"]
[{"$f":"Übersetzung!F57","v":"Geschwindigkeit nach Ablösen an Xkr."},"vx+y",{"$f":"'Auslegung KS'!$D$110","v":0.15274704150677398},null,"m/s"]
[{"$f":"Übersetzung!F58","v":"Zugluftrisiko nach Ablösepunkt**"},{"$f":"'Auslegung KS'!B111","v":"DR"},{"$f":"'Auslegung KS'!D111","v":11.106726052888908},null,{"$f":"'Auslegung KS'!C111","v":"%"}]
[{"$f":"Übersetzung!F164","v":"Schallleistungspegel"},"LWA_SUP/ETA",{"$f":"IF('Auslegung KS'!D124=\"\",'Auslegung KS'!$D$123,'Auslegung KS'!$D$124)","v":"<25"},{"$f":"IF('Auslegung KS'!E124=\"\",'Auslegung KS'!E123,'Auslegung KS'!E124)","v":"<25"},"dB(A)"]
[{"$f":"Übersetzung!F168","v":"Summen-Schallleistungspegel Zuluft + Abluft"},"LWA_ges",{"$f":"'Auslegung KS'!D128","v":25},null,"dB(A)"]
[{"$f":"CONCATENATE(Übersetzung!$F$169,\" in \",'Auslegung KS'!$D$88,\" \",Einheiten!$L$5,\" \",Übersetzung!$F$205)","v":"Schalldruckpegel im Raum in 3 m Abstand"},"LPA",{"$f":"'Auslegung KS'!D129","v":"<25"},null,"dB(A)"]
[{"$f":"Übersetzung!$F$206","v":"* Daten gelten für Walzenstellung D/E"}]
[{"$f":"Übersetzung!$F$92","v":"** Raumkategorie nach DIN EN ISO 7730: DR<10 % = A; DR<20 % = B; DR<30 % = C"}]
[{"$f":"Übersetzung!F133","v":"Oktavspektrum"},"f [Hz]",125,250,500,1000,2000,4000,8000]
[{"$f":"Übersetzung!F162","v":"Zuluft"},"LW_Okt",{"$f":"'Auslegung KS'!$D132","v":""},{"$f":"'Auslegung KS'!$D133","v":""},{"$f":"'Auslegung KS'!$D134","v":""},{"$f":"'Auslegung KS'!$D135","v":""},{"$f":"'Auslegung KS'!$D136","v":""},{"$f":"'Auslegung KS'!$D137","v":""},{"$f":"'Auslegung KS'!$D138","v":""}]
[{"$f":"Übersetzung!F163","v":"Abluft"},"LW_Okt",{"$f":"'Auslegung KS'!$E132","v":""},{"$f":"'Auslegung KS'!$E133","v":""},{"$f":"'Auslegung KS'!$E134","v":""},{"$f":"'Auslegung KS'!$E135","v":""},{"$f":"'Auslegung KS'!$E136","v":""},{"$f":"'Auslegung KS'!$E137","v":""},{"$f":"'Auslegung KS'!$E138","v":""}]
[]
[{"$f":"Übersetzung!F170","v":"Durchgangsdämpfungsmaß (Kanal -> Raum)"},"f [Hz]",125,250,500,1000,2000,4000,8000]
[{"$f":"Übersetzung!F162","v":"Zuluft"},"Dt",{"$f":"'Auslegung KS'!D142","v":19.619320040336305},{"$f":"'Auslegung KS'!D143","v":11.608143519538658},{"$f":"'Auslegung KS'!D144","v":14.014647942100822},{"$f":"'Auslegung KS'!D145","v":18.606735713918468},{"$f":"'Auslegung KS'!D146","v":18.594417482649945},{"$f":"'Auslegung KS'!D147","v":16.228425273925268},{"$f":"'Auslegung KS'!D148","v":18.486727439935741}]
[{"$f":"Übersetzung!F163","v":"Abluft"},"Dt",{"$f":"'Auslegung KS'!E142","v":23.481804853097941},{"$f":"'Auslegung KS'!E143","v":12.351468719764426},{"$f":"'Auslegung KS'!E144","v":14.236812267850596},{"$f":"'Auslegung KS'!E145","v":22.687218723862067},{"$f":"'Auslegung KS'!E146","v":19.775560106218393},{"$f":"'Auslegung KS'!E147","v":23.157974829717972},{"$f":"'Auslegung KS'!E148","v":21.496130733384632}]
[]
[{"$f":"Übersetzung!F44","v":"Änderungen vorbehalten"}]
[{"$f":"Übersetzung!F45","v":"Stand:"}]
[{"$f":"'Grunddaten KS'!A28","v":"2020-04-21"}]

{"sheet":"Auslegung KS","index":18,"n_rows":151,"n_cols":11,"rows_kept":151,"cut":false,"hidden":true,"merged":[[139,3,139,4],[102,1,102,4],[103,1,103,4],[107,4,110,4],[127,3,127,4],[128,3,128,4],[131,0,137,0],[87,3,87,4],[90,1,90,4],[93,1,93,4],[96,1,96,4],[97,1,97,4],[101,1,101,4],[62,3,62,4],[19,3,19,4],[20,3,20,4],[35,3,35,4],[38,3,38,4],[39,3,39,4],[54,3,54,4],[55,3,55,4],[58,3,58,4],[59,3,59,4],[60,3,60,4],[61,3,61,4],[16,3,16,4],[0,0,0,3],[5,0,5,4],[6,3,6,4],[8,3,8,4],[14,3,14,4],[7,3,7,4]]}
[{"$f":"Übersetzung!F5","v":"Auslegung Kampmann Kombiluftdurchlässe"}]
[]
[{"$f":"Übersetzung!F6","v":"Eingabefelder sind gelb gekennzeichnet"}]
[{"$f":"Übersetzung!F7","v":"Ergebnisfelder sind blau gekennzeichnet"}]
[]
[{"$f":"Übersetzung!F8","v":"Vorgaben"}]
[{"$f":"Übersetzung!F9","v":"Lüftungstechnik"},{"$f":"Übersetzung!F10","v":"Symbol"},{"$f":"Übersetzung!F11","v":"Einheit"},{"$f":"Übersetzung!F12","v":"Wert"}]
[{"$f":"Übersetzung!F13","v":"Durchlass Typ"},null,null,"KS"]
[{"$f":"Übersetzung!F15","v":"Baulänge"},"L",{"$f":"Einheiten!$L$10","v":"mm"},750]
[null,null,null,550]
[null,null,null,750]
[null,null,null,950]
[null,null,null,1150]
[]
[{"$f":"Übersetzung!F142","v":"Schlitzanzahl"},"n","[-]",3]
[null,null,null,3]
[{"$f":"Übersetzung!F143","v":"BVR in Zuluft"},null,null,"nein"]
[null,null,null,{"$f":"Übersetzung!F175","v":"ja"}]
[null,null,null,{"$f":"Übersetzung!F176","v":"nein"}]
[{"$f":"Übersetzung!F144","v":"Luftvolumenstrom Zuluft"},"V·SUP",{"$f":"Einheiten!$L$7","v":"m³/h"},70]
[{"$f":"Übersetzung!F214","v":"Nennvolumenstrom Konstantvolumenstromregler"},"V°BVR_SUP","m³/h",50]
[null,50,100,{"$f":"IF(OR($D$9=550,$D$9=750),B22,C22)","v":50}]
[null,55,110,{"$f":"IF(OR($D$9=550,$D$9=750),B23,C23)","v":55}]
[null,60,120,60]
[null,70,130,70]
[null,75,140,75]
[null,80,150,80]
[null,90,160,90]
[null,null,170,0]
[null,null,180,0]
[null,null,190,0]
[null,{"$f":"IF(D17=\"ja\",D21,D20)","v":70}]
[]
[]
[]
[{"$f":"Übersetzung!F145","v":"BVR in Abluft"},null,null,"nein"]
[null,null,null,{"$f":"Übersetzung!F175","v":"ja"}]
[null,null,null,{"$f":"Übersetzung!F176","v":"nein"}]
[{"$f":"Übersetzung!F146","v":"Luftvolumenstrom Abluft"},"V·ETA",{"$f":"Einheiten!$L$7","v":"m³/h"},60]
[{"$f":"Übersetzung!F214","v":"Nennvolumenstrom Konstantvolumenstromregler"},"V·BVR_ETA","m³/h",50]
[null,50,100,{"$f":"IF(OR($D$9=550,$D$9=750),B41,C41)","v":50}]
[null,55,110,{"$f":"IF(OR($D$9=550,$D$9=750),B42,C42)","v":55}]
[null,60,120,45]
[null,70,130,{"$f":"IF(OR($D$9=550,$D$9=750),B44,C44)","v":70}]
[null,75,140,75]
[null,80,150,80]
[null,90,160,90]
[null,null,170,0]
[null,null,180,0]
[null,null,190,0]
[null,null,null,0]
[null,null,null,0]
[null,null,null,0]
[null,null,null,{"$f":"IF($D$36=\"Ja\",$D$40,D39)","v":60}]
[{"$f":"Übersetzung!F18","v":"Temperatur Zuluft"},"tSUP",{"$f":"Einheiten!$L$9","v":"°C"},22]
[{"$f":"Übersetzung!F19","v":"Temperatur Raum"},"tRaum",{"$f":"Einheiten!$L$9","v":"°C"},26]
[]
[{"$f":"Übersetzung!F20","v":"Raumdaten"}]
[{"$f":"Übersetzung!F25","v":"Raumhöhe"},"H1",{"$f":"Einheiten!$L$5","v":"m"},3,null,null,null,1,{"$f":"Übersetzung!F171","v":"Breite Frontblende"},{"$f":"'Grunddaten KS'!$Q$23","v":750},{"$f":"Einheiten!$L$10","v":"mm"}]
[{"$f":"Übersetzung!F22","v":"Obergrenze Aufenthaltsbereich"},"H2",{"$f":"Einheiten!$L$5","v":"m"},1.8,null,null,null,2,{"$f":"Übersetzung!F172","v":"Höhe Frontblende"},{"$f":"'Grunddaten KS'!$R$23","v":170},{"$f":"Einheiten!$L$10","v":"mm"}]
[{"$f":"Übersetzung!F23","v":"Raumlänge"},"LR",{"$f":"Einheiten!$L$5","v":"m"},5,null,null,null,3,{"$f":"Übersetzung!F174","v":"Breite Anschlusskasten"},{"$f":"'Grunddaten KS'!$T$23","v":717},{"$f":"Einheiten!$L$10","v":"mm"}]
[{"$f":"Übersetzung!F24","v":"Raumbreite"},"BR",{"$f":"Einheiten!$L$5","v":"m"},3,null,null,null,4,{"$f":"Übersetzung!F72","v":"Höhe Anschlusskasten"},{"$f":"'Grunddaten KS'!$U$23","v":150},{"$f":"Einheiten!$L$10","v":"mm"}]
[{"$f":"Übersetzung!F148","v":"Raumart nach VDI 2081"},null,null,"Einzelbüro",null,null,null,5,{"$f":"Übersetzung!F173","v":"Tiefe Anschlusskasten"},{"$f":"'Grunddaten KS'!$V$23","v":370},{"$f":"Einheiten!$L$10","v":"mm"}]
[null,null,{"$f":"Übersetzung!F177","v":"Einzelbüro"},null,null,null,null,null,null,null,{"$f":"Einheiten!$L$10","v":"mm"}]
[null,null,{"$f":"Übersetzung!F178","v":"Großraumbüro"},null,null,null,null,null,null,null,{"$f":"Einheiten!$L$10","v":"mm"}]
[null,null,{"$f":"Übersetzung!F179","v":"Werkstätten"},null,null,null,null,null,null,null,{"$f":"Einheiten!$L$10","v":"mm"}]
[null,null,{"$f":"Übersetzung!F180","v":"Ruheraum, Pausenraum"},null,null,null,null,null,null,null,{"$f":"Einheiten!$L$10","v":"mm"}]
[null,null,{"$f":"Übersetzung!F181","v":"Untersuchungsraum Krankenhaus"},null,null,null,null,null,null,null,{"$f":"Einheiten!$L$10","v":"mm"}]
[null,null,{"$f":"Übersetzung!F182","v":"Rundfunk-, Fernsehstudio"},null,null,null,null,null,null,null,{"$f":"Einheiten!$L$10","v":"mm"}]
[null,null,{"$f":"Übersetzung!F183","v":"Chemielabor"},null,null,null,null,null,null,null,{"$f":"Einheiten!$L$10","v":"mm"}]
[null,null,{"$f":"Übersetzung!F184","v":"Wasch- und WC-Raum, Umkleide"},null,null,null,null,null,null,null,{"$f":"Einheiten!$L$10","v":"mm"}]
[null,null,{"$f":"Übersetzung!F185","v":"Schwimmbad"},null,null,null,null,null,null,null,{"$f":"Einheiten!$L$10","v":"mm"}]
[null,null,{"$f":"Übersetzung!F186","v":"EDV-Raum"},null,null,null,null,null,null,null,{"$f":"Einheiten!$L$10","v":"mm"}]
[null,null,{"$f":"Übersetzung!F187","v":"Konzertsaal"},null,null,null,null,null,null,null,{"$f":"Einheiten!$L$10","v":"mm"}]
[null,null,{"$f":"Übersetzung!F188","v":"Lesesaal"},null,null,null,null,null,null,null,{"$f":"Einheiten!$L$10","v":"mm"}]
[null,null,{"$f":"Übersetzung!F189","v":"Museum"},null,null,null,null,null,null,null,{"$f":"Einheiten!$L$10","v":"mm"}]
[null,null,{"$f":"Übersetzung!F190","v":"Küche"},null,null,null,null,null,null,null,{"$f":"Einheiten!$L$10","v":"mm"}]
[null,null,{"$f":"Übersetzung!F191","v":"Theater, Kino"},null,null,null,null,null,null,null,{"$f":"Einheiten!$L$10","v":"mm"}]
[null,null,{"$f":"Übersetzung!F192","v":"Klassen- Seminarraum"},null,null,null,null,null,null,null,{"$f":"Einheiten!$L$10","v":"mm"}]
[null,null,{"$f":"Übersetzung!F193","v":"Gaststätte"},null,null,null,null,null,null,null,{"$f":"Einheiten!$L$10","v":"mm"}]
[null,null,{"$f":"Übersetzung!F194","v":"kein Typ"},null,null,null,null,null,null,null,{"$f":"Einheiten!$L$10","v":"mm"}]
[null,null,{"$f":"Übersetzung!F195","v":"Konferenzraum"},null,null,null,null,null,null,null,{"$f":"Einheiten!$L$10","v":"mm"}]
[null,null,{"$f":"Übersetzung!F196","v":"Hotelzimmer"},null,null,null,null,null,null,null,{"$f":"Einheiten!$L$10","v":"mm"}]
[null,null,{"$f":"Übersetzung!F197","v":"Hörsaal"},null,null,null,null,null,null,null,{"$f":"Einheiten!$L$10","v":"mm"}]
[null,null,{"$f":"Übersetzung!F198","v":"Bettenzimmer Krankenhaus"},null,null,null,null,null,null,null,{"$f":"Einheiten!$L$10","v":"mm"}]
[null,null,{"$f":"Übersetzung!F199","v":"Verkaufsraum"},null,null,null,null,null,null,null,{"$f":"Einheiten!$L$10","v":"mm"}]
[null,null,{"$f":"Übersetzung!F200","v":"Sporthalle"},null,null,null,null,null,null,null,{"$f":"Einheiten!$L$10","v":"mm"}]
[{"$f":"Übersetzung!F149","v":"Abstand zur Schallquelle"},"r",{"$f":"Einheiten!$L$5","v":"m"},3,null,null,null,6,{"$f":"Übersetzung!F42","v":"Durchmesser Anschlussstutzen"},{"$f":"'Grunddaten KS'!$X$23","v":98},{"$f":"Einheiten!$L$10","v":"mm"}]
[]
[{"$f":"Übersetzung!F150","v":"Zusatzdaten"}]
[{"$f":"Übersetzung!F151","v":"Walzenfarbe"},"schwarz",null,null,null,{"$f":"VLOOKUP($B$91,'Schlüssel KS'!$A$38:$B$43,2,FALSE)","v":"S"}]
[null,{"$f":"Übersetzung!F154","v":"schwarz"}]
[null,{"$f":"Übersetzung!F155","v":"weiß"}]
[{"$f":"Übersetzung!F152","v":"Lackierung Frontblende"},"weiß (RAL 9010) bepulvert",null,null,null,{"$f":"VLOOKUP($B$94,'Schlüssel KS'!$A$38:$B$43,2,FALSE)","v":9010}]
[null,{"$f":"Übersetzung!F156","v":"naturfarbig eloxiert"}]
[null,{"$f":"Übersetzung!F157","v":"weiß (RAL 9010) bepulvert"}]
[null,null,null,null,null,{"$f":"VLOOKUP(D9,'Schlüssel KS'!A38:B48,2,0)","v":"0750"}]
[{"$f":"Übersetzung!F153","v":"Ausführung"},"ohne Drossel / ohne BVR",null,null,null,{"$f":"VLOOKUP(B98,'Schlüssel KS'!A38:B48,2,0)","v":0}]
[null,{"$f":"Übersetzung!F158","v":"ohne Drossel / ohne BVR"}]
[null,{"$f":"Übersetzung!F159","v":"mit frontseitig bedienbarer Drossel*"}]
[null,{"$f":"Übersetzung!F160","v":"mit BVR*"}]
["Ident-Nr.",{"$f":"'Grunddaten KS'!$Y$23","v":"071-9605"}]
["Brutto-Listenpreis",{"$f":"IF(B98=\"ohne Drossel / ohne BVR\",'Grunddaten KS'!Z$23,\"\")","v":309}]
["Merkmalschlüssel",{"$f":"CONCATENATE(1,\"K\",\"S0\",3,\"K\",$F$97,\"A\",$F$94,$F$91,\"J\",\"DE\",\"A\",F98,\"V\")","v":"1KS03K0750A9010SJDEA0V"}]
[{"$f":"IF(B98=B99,\"\",\"*Preis für Variante mit Drossel/BVR auf Anfrage\")","v":""}]
[{"$f":"Übersetzung!F26","v":"Berechnung strömungstechnische und Akustische Daten"},null,null,{"$f":"Übersetzung!F162","v":"Zuluft"},{"$f":"Übersetzung!F163","v":"Abluft"}]
[{"$f":"Übersetzung!F27","v":"Totaldruckverlust"},"Dpt",{"$f":"Einheiten!$L$8","v":"Pa"},{"$f":"'Grunddaten KS'!O23","v":13.346520009717127},{"$f":"'Grunddaten KS'!O24","v":10.807592921849361}]
[{"$f":"Übersetzung!F91","v":"Kritischer Strahlweg"},"xkr.",{"$f":"Einheiten!$L$5","v":"m"},{"$f":"VLOOKUP($D$9,'xkr._vx KS'!$D$7:$J$13,2,FALSE)","v":1.7905575082577256}]
[{"$f":"Übersetzung!F161","v":"Strahllauflänge bis Aufenthaltsbereich"},"x+y",{"$f":"Einheiten!$L$5","v":"m"},{"$f":"VLOOKUP($D$9,'xkr._vx KS'!$D$7:$J$13,7,FALSE)","v":3.4876137831054397}]
[{"$f":"Übersetzung!F57","v":"Geschwindigkeit nach Ablösen an Xkr."},"vx+y",{"$f":"Einheiten!$L$6","v":"m/s"},{"$f":"VLOOKUP($D$9,'xkr._vx KS'!$D$7:$J$13,6,FALSE)","v":0.15274704150677398}]
[{"$f":"Übersetzung!F56","v":"Zugluftrisiko im Aufenthaltsbereich**"},"DR","%",{"$f":"VLOOKUP($D$9,'xkr._vx KS'!$D$7:$K$13,8,0)","v":11.106726052888908}]
[]
[{"$f":"Übersetzung!F164","v":"Schallleistungspegel"},null,null," ",{"$f":"Übersetzung!F163","v":"Abluft"}]
[{"$f":"Übersetzung!F165","v":"Druckdifferenz am BVR"},"DpBVR ",{"$f":"Einheiten!$L$8","v":"Pa"}," "," "]
[null,null,null,50,50]
[null,null,null,75,75]
[null,null,null,100,100]
[null,null,null,125,125]
[null,null,null,150,150]
[null,null,null,175,175]
[null,null,null,200,200]
[]
[{"$f":"Übersetzung!F166","v":"Schallleistungspegel mit BVR Zuluft/Abluft"},"LWA_SUP/ETA","dB(A)",{"$f":"IF($D$17=\"ja\",'Lw KS'!$X$39,\"\")","v":""},{"$f":"IF($D$36=\"ja\",'Lw KS'!$X$40,\"\")","v":""}]
[{"$f":"Übersetzung!F167","v":"Schallleistungspegel ohne BVR Zuluft/Abluft"},"LWA_SUP/ETA","dB(A)",{"$f":"IF(D17=\"ja\",\"\",'Lw KS'!I178)","v":"<25"},{"$f":"IF($D$36=\"ja\",\"\",'Lw KS'!$I$179)","v":"<25"}]
[null,null,null,{"$f":"IF(OR(D123=\"\",D123=\"<25\"),0,D123)","v":0},{"$f":"IF(OR(E123=\"\",E123=\"<25\"),0,E123)","v":0}]
[null,null,null,{"$f":"IF(OR(D124=\"\",D124=\"<25\"),0,D124)","v":0},{"$f":"IF(OR(E124=\"\",E124=\"<25\"),0,E124)","v":0}]
[null,null,null,{"$f":"IF(SUM(D125:E126)>0,MAX(D125:E126),25)","v":25}]
[{"$f":"Übersetzung!F168","v":"Summen-Schallleistungspegel Zuluft + Abluft"},"LWA_gesamt","dB(A)",{"$f":"IF(10*LOG(10^(0.1*D125)+10^(0.1*E125)+10^(0.1*D126)+10^(0.1*E126))>25,10*LOG(10^(0.1*D125)+10^(0.1*E125)+10^(0.1*D126)+10^(0.1*E126)),D127)","v":25}]
[{"$f":"Übersetzung!F169","v":"Schalldruckpegel im Raum"},"LPA","dB(A)",{"$f":"IF('Auslegung KS'!$D$128+10*LOG('Lw KS'!$G$117/(4*PI()*'Auslegung KS'!$D$88^2)+4/'Lw KS'!I117)>=25,'Auslegung KS'!$D$128+10*LOG('Lw KS'!$G$117/(4*PI()*'Auslegung KS'!$D$88^2)+4/'Lw KS'!I117),\"<25\")","v":"<25"}]
[]
[{"$f":"Übersetzung!F34","v":"Oktavspektrum Schallleistung"},"LW_Okt","dB(A)",{"$f":"Übersetzung!F162","v":"Zuluft"},{"$f":"Übersetzung!F163","v":"Abluft"}]
[null,"LW_125","dB",{"$f":"IF(D17=\"ja\",'Lw KS'!$D$110,'Lw KS'!$B$181)","v":""},{"$f":"IF(D36=\"ja\",'Lw KS'!$D$111,'Lw KS'!$B$182)","v":""}]
[null,"LW_250","dB",{"$f":"IF(D17=\"ja\",'Lw KS'!$E$110,'Lw KS'!$C$181)","v":""},{"$f":"IF(D36=\"ja\",'Lw KS'!$E$111,'Lw KS'!$C$182)","v":""}]
[null,"LW_500","dB",{"$f":"IF(D17=\"ja\",'Lw KS'!$F$110,'Lw KS'!$D$181)","v":""},{"$f":"IF(D36=\"ja\",'Lw KS'!$F$111,'Lw KS'!$D$182)","v":""}]
[null,"LW_1000","dB",{"$f":"IF(D17=\"ja\",'Lw KS'!$G$110,'Lw KS'!$E$181)","v":""},{"$f":"IF(D36=\"ja\",'Lw KS'!$G$111,'Lw KS'!$E$182)","v":""}]
[null,"LW_2000","dB",{"$f":"IF(D17=\"ja\",'Lw KS'!$H$110,'Lw KS'!$F$181)","v":""},{"$f":"IF(D36=\"ja\",'Lw KS'!$H$111,'Lw KS'!$F$182)","v":""}]
[null,"LW_4000","dB",{"$f":"IF(D17=\"ja\",'Lw KS'!$I$110,'Lw KS'!$G$181)","v":""},{"$f":"IF(D36=\"ja\",'Lw KS'!$I$111,'Lw KS'!$G$182)","v":""}]
[null,"LW_8000","dB",{"$f":"IF(D17=\"ja\",'Lw KS'!$J$110,'Lw KS'!$H$181)","v":""},{"$f":"IF(D36=\"ja\",'Lw KS'!$J$111,'Lw KS'!$H$182)","v":""}]
[]
[{"$f":"Übersetzung!F170","v":"Durchgangsdämpfungsmaß (Kanal -> Raum)"},"Dt","dB"]
[null,"Dt_63","dB",{"$f":"'Dt KS'!D$12","v":30.210634642115298},{"$f":"'Dt KS'!D$13","v":34.453918279291699}]
[null,"Dt_125","dB",{"$f":"'Dt KS'!E$12","v":19.619320040336305},{"$f":"'Dt KS'!E$13","v":23.481804853097941}]
[null,"Dt_250","dB",{"$f":"'Dt KS'!F$12","v":11.608143519538658},{"$f":"'Dt KS'!F$13","v":12.351468719764426}]
[null,"Dt_500","dB",{"$f":"'Dt KS'!G$12","v":14.014647942100822},{"$f":"'Dt KS'!G$13","v":14.236812267850596}]
[null,"Dt_1000","dB",{"$f":"'Dt KS'!H$12","v":18.606735713918468},{"$f":"'Dt KS'!H$13","v":22.687218723862067}]
[null,"Dt_2000","dB",{"$f":"'Dt KS'!I$12","v":18.594417482649945},{"$f":"'Dt KS'!I$13","v":19.775560106218393}]
[null,"Dt_4000","dB",{"$f":"'Dt KS'!J$12","v":16.228425273925268},{"$f":"'Dt KS'!J$13","v":23.157974829717972}]
[null,"Dt_8000","dB",{"$f":"'Dt KS'!K$12","v":18.486727439935741},{"$f":"'Dt KS'!K$13","v":21.496130733384632}]
[{"$f":"Übersetzung!F44","v":"Änderungen vorbehalten"}]
[{"$f":"Übersetzung!F45","v":"Stand:"}]
[{"$f":"'Grunddaten KS'!A28","v":"2020-04-21"}]

{"sheet":"Grunddaten KS","index":19,"n_rows":28,"n_cols":32,"rows_kept":28,"cut":false,"hidden":true,"merged":[]}
[null,null,null,null,null,null,null,null,null,null,null,null,null,null,null,"Breite ","Breite ","Höhe ","Breite ","Breite ","Höhe ","Tiefe ","Durchmesser ","Durchmesser ","Ident-Nr.","Bruttopreis","Norm-Schallpegeldifferenz","Schalldämm-Maß","Norm-Schallpegeldifferenz","Schalldämm-Maß","Norm-Schallpegeldifferenz","Schalldämm-Maß"]
["Typ","Seite","Verkettung","Verkettung","Baulänge","Schlitzanzahl","Schlitzlänge",null,"spez.Volumenstrom","Widerstandsbeiwert","Durchmesser Anschluss",null,"Anströmgeschwindigkeit",null,"Druckverlust","Frontblende","Frontblende","Frontblende","Anschlusskasten","Anschlusskasten","Anschlusskasten","Anschlusskasten","Anschlusskasten","Anschlusskasten",null,null,"Dn,w","Rw","Dn,w","Rw","Dn,w","Rw"]
[null,null,null,null,"l","n","L",null,"V°spez","z","d",null,"v",null,"Dp",null,"mit BVR",null,null,"mit BVR",null,null,null,"mit BVR",null,null,"dB","dB","dB","dB","dB","dB"]
[null,null,null,null,"mm",1,"mm",null,"m³/(h·Walze)",1,"mm",null,"m/s",null,"Pa"]
["KS","ZUL",{"$f":"CONCATENATE(B5,E5,F5)","v":"ZUL5503"},{"$f":"CONCATENATE(B5,E5,F5)","v":"ZUL5503"},550,3,900,null,{"$f":"'Auslegung KS'!$B$32/(0.01*'Grunddaten KS'!$G5)","v":7.7777777777777777},4.6004317784321298,100,null,{"$f":"'Auslegung KS'!$B$32/(PI()/4*('Grunddaten KS'!$K5/1000)^2*3600)","v":2.4757435592072605},null,{"$f":"$J5*1.2/2*M5^2","v":16.918472933164331},550,550,170,517,517,150,370,98,98,"071-9604",273,39,{"$f":"AA5+10*LOG(($U5/1000*$S5/1000)/10)","v":17.89581802149624},47,{"$f":"AC5+10*LOG(($U5/1000*$S5/1000)/10)","v":25.89581802149624},40,{"$f":"AE5+10*LOG(($U5/1000*$S5/1000)/10)","v":18.89581802149624}]
["KS","ZUL",{"$f":"CONCATENATE(B6,E6,F6)","v":"ZUL7503"},{"$f":"CONCATENATE(B6,E6,F6)","v":"ZUL7503"},750,3,1200,null,{"$f":"'Auslegung KS'!$B$32/(0.01*'Grunddaten KS'!$G6)","v":5.833333333333333},3.6291546540128032,100,null,{"$f":"'Auslegung KS'!$B$32/(PI()/4*('Grunddaten KS'!$K6/1000)^2*3600)","v":2.4757435592072605},null,{"$f":"$J6*1.2/2*M6^2","v":13.346520009717127},750,750,170,717,717,150,370,98,98,"071-9605",309,39,{"$f":"AA6+10*LOG(($U6/1000*$S6/1000)/10)","v":19.316104147234814},47,27.316104147234814,40,{"$f":"AE6+10*LOG(($U6/1000*$S6/1000)/10)","v":20.316104147234814}]
["KS","ZUL","ZUL9503","ZUL9503",950,3,1500,null,{"$f":"'Auslegung KS'!$B$32/(0.01*'Grunddaten KS'!$G7)","v":4.666666666666667},5.3585256110483357,125,null,{"$f":"'Auslegung KS'!$B$32/(PI()/4*('Grunddaten KS'!$K7/1000)^2*3600)","v":1.5844758778926469},null,8.0717522767934895,950,950,170,917,917,150,370,123,123,"071-9606",345,39,20.384605947257022,47,28.384605947257022,40,{"$f":"AE7+10*LOG(($U7/1000*$S7/1000)/10)","v":21.384605947257022}]
["KS","ZUL","ZUL11503","ZUL11503",1150,3,1800,null,{"$f":"'Auslegung KS'!$B$32/(0.01*'Grunddaten KS'!$G8)","v":3.8888888888888888},4.7134800962413612,125,null,{"$f":"'Auslegung KS'!$B$32/(PI()/4*('Grunddaten KS'!$K8/1000)^2*3600)","v":1.5844758778926469},null,7.1000955225468676,1150,1150,170,1117,1117,150,370,123,123,"071-9620",381,39,21.241444321712901,47,29.241444321712901,40,{"$f":"AE8+10*LOG(($U8/1000*$S8/1000)/10)","v":22.241444321712901}]
["KS","ZUL","ZUL","ZUL",null,null,{"$f":"E9*F9","v":0},null,{"$f":"'Auslegung KS'!$B$32/(0.01*'Grunddaten KS'!$G9)","v":{"$error":"#DIV/0!"}},null,100,null,{"$f":"'Auslegung KS'!$D$21/(PI()/4*('Grunddaten KS'!$K9/1000)^2*3600)","v":1.7683882565766147},null,0,null,null,null,null,null,null,null,null,null,null,null,41,{"$f":"AA9+10*LOG(($L9/1000*$M9/1000)/10)","v":{"$error":"#NUM!"}},52,{"$f":"AC9+10*LOG(($L9/1000*$M9/1000)/10)","v":{"$error":"#NUM!"}},44,{"$f":"AE9+10*LOG(($L9/1000*$M9/1000)/10)","v":{"$error":"#NUM!"}}]
["KS","ZUL","ZUL","ZUL",null,null,{"$f":"E10/2*F10","v":0},null,{"$f":"'Auslegung KS'!$B$32/(0.01*'Grunddaten KS'!$G10)","v":{"$error":"#DIV/0!"}},null,100,null,{"$f":"'Auslegung KS'!$D$21/(PI()/4*('Grunddaten KS'!$K10/1000)^2*3600)","v":1.7683882565766147},null,0,null,null,null,null,null,null,null,null,null,null,null,41,{"$f":"AA10+10*LOG(($L10/1000*$M10/1000)/10)","v":{"$error":"#NUM!"}},52,{"$f":"AC10+10*LOG(($L10/1000*$M10/1000)/10)","v":{"$error":"#NUM!"}},43,{"$f":"AE10+10*LOG(($L10/1000*$M10/1000)/10)","v":{"$error":"#NUM!"}}]
["KS","ZUL","ZUL","ZUL",null,null,{"$f":"E11/2*F11","v":0},null,{"$f":"'Auslegung KS'!$B$32/(0.01*'Grunddaten KS'!$G11)","v":{"$error":"#DIV/0!"}},null,125,null,{"$f":"'Auslegung KS'!$D$21/(PI()/4*('Grunddaten KS'!$K11/1000)^2*3600)","v":1.1317684842090336},null,0,null,null,null,null,null,null,null,null,null,null,null,41,{"$f":"AA11+10*LOG(($L11/1000*$M11/1000)/10)","v":{"$error":"#NUM!"}},52,{"$f":"AC11+10*LOG(($L11/1000*$M11/1000)/10)","v":{"$error":"#NUM!"}},43,{"$f":"AE11+10*LOG(($L11/1000*$M11/1000)/10)","v":{"$error":"#NUM!"}}]
["KS","ZUL","ZUL","ZUL",null,null,{"$f":"E12/2*F12","v":0},null,{"$f":"'Auslegung KS'!$B$32/(0.01*'Grunddaten KS'!$G12)","v":{"$error":"#DIV/0!"}},null,125,null,{"$f":"'Auslegung KS'!$D$21/(PI()/4*('Grunddaten KS'!$K12/1000)^2*3600)","v":1.1317684842090336},null,0]
["KS","ABL","ABL5503","ABL5503",550,3,600,null,{"$f":"'Auslegung KS'!$D$54/(0.01*'Grunddaten KS'!$G13)","v":10},4.7751830705757632,100,null,{"$f":"'Auslegung KS'!$D$54/(PI()/4*('Grunddaten KS'!$K13/1000)^2*3600)","v":2.1220659078919377},null,12.902058688522379]
["KS","ABL","ABL7503","ABL7503",750,3,900,null,{"$f":"'Auslegung KS'!$D$54/(0.01*'Grunddaten KS'!$G14)","v":6.666666666666667},4,100,null,{"$f":"'Auslegung KS'!$D$54/(PI()/4*('Grunddaten KS'!$K14/1000)^2*3600)","v":2.1220659078919377},null,10.807592921849361]
["KS","ABL","ABL9503","ABL9503",950,3,1200,null,{"$f":"'Auslegung KS'!$D$54/(0.01*'Grunddaten KS'!$G15)","v":5},4.6653375935134145,125,null,{"$f":"'Auslegung KS'!$D$54/(PI()/4*('Grunddaten KS'!$K15/1000)^2*3600)","v":1.3581221810508404},null,5.1631175222981973]
["KS","ABL","ABL11503","ABL11503",1150,3,1500,null,{"$f":"'Auslegung KS'!$D$54/(0.01*'Grunddaten KS'!$G16)","v":4},4.0999999999999996,125,null,{"$f":"'Auslegung KS'!$D$54/(PI()/4*('Grunddaten KS'!$K16/1000)^2*3600)","v":1.3581221810508404},null,4.5374598123092369]
["KS","ABL","ABL","ABL0",null,null,{"$f":"E17*F17","v":0},null,null,null,100,null,{"$f":"'Auslegung KS'!$D$21/(PI()/4*('Grunddaten KS'!$K17/1000)^2*3600)","v":1.7683882565766147},null,0]
["KS","ABL","ABL","ABL0",null,null,{"$f":"E18/2*F18","v":0},null,null,null,100,null,{"$f":"'Auslegung KS'!$D$21/(PI()/4*('Grunddaten KS'!$K18/1000)^2*3600)","v":1.7683882565766147},null,0]
["KS","ABL","ABL","ABL0",null,null,{"$f":"E19/2*F19","v":0},null,null,null,125,null,{"$f":"'Auslegung KS'!$D$21/(PI()/4*('Grunddaten KS'!$K19/1000)^2*3600)","v":1.1317684842090336},null,0]
["KS","ABL","ABL","ABL0",null,null,{"$f":"E20/2*F20","v":0},null,null,null,125,null,{"$f":"'Auslegung KS'!$D$21/(PI()/4*('Grunddaten KS'!$K20/1000)^2*3600)","v":1.1317684842090336},null,0,null,null,null,null,null,null,null,null,null,null,null,15,16,17,18,19,20]
[null,null,null,null,2,3,4,null,6,7,8,null,10,null,12,13,14,15,16,17,18,19,20,21,22,23,24,25,26,27,28,29]
[]
["Auswahl:","Zuluft",{"$f":"CONCATENATE($B$5,'Auslegung KS'!$D$9,'Auslegung KS'!$D$15)","v":"ZUL7503"},{"$f":"CONCATENATE($B$5,'Auslegung KS'!$D$9,'Auslegung KS'!$D$15)","v":"ZUL7503"},{"$f":"VLOOKUP($C$23,$D$5:$X$16,E21,FALSE)","v":750},{"$f":"VLOOKUP($C$23,$D$5:$X$16,F21,FALSE)","v":3},1200,null,{"$f":"VLOOKUP($D$23,$D$5:$X$16,I21,FALSE)","v":5.833333333333333},3.6291546540128032,100,null,{"$f":"VLOOKUP($D$23,$D$5:$X$16,M21,FALSE)","v":2.4757435592072605},null,{"$f":"VLOOKUP($D$23,$D$5:$X$16,O21,FALSE)","v":13.346520009717127},750,{"$f":"VLOOKUP($D$23,$D$5:$X$16,Q21,FALSE)","v":750},170,717,{"$f":"VLOOKUP($D$23,$D$5:$X$16,T21,FALSE)","v":717},150,370,98,{"$f":"VLOOKUP($D$23,$D$5:$X$16,X21,FALSE)","v":98},{"$f":"VLOOKUP($D$23,$D$5:$Z$16,Y21,FALSE)","v":"071-9605"},{"$f":"VLOOKUP($D$23,$D$5:$Z$16,Z21,FALSE)","v":309},{"$f":"VLOOKUP($D$23,$D$5:$AF$16,AA21,FALSE)","v":39},19.316104147234814,47,27.316104147234814,40,20.316104147234814]
[null,"Abluft",{"$f":"CONCATENATE($B$13,'Auslegung KS'!$D$9,'Auslegung KS'!$D$15)","v":"ABL7503"},{"$f":"CONCATENATE($B$13,'Auslegung KS'!$D$9,'Auslegung KS'!$D$15)","v":"ABL7503"},{"$f":"VLOOKUP($C$24,$D$5:$X$20,E21,FALSE)","v":750},{"$f":"VLOOKUP($C$24,$D$5:$X$20,F21,FALSE)","v":3},900,null,{"$f":"VLOOKUP($D$24,$D$5:$X$20,I21,FALSE)","v":6.666666666666667},4,100,null,{"$f":"VLOOKUP($D$24,$D$5:$X$20,M21,FALSE)","v":2.1220659078919377},null,{"$f":"VLOOKUP($D$24,$D$5:$X$20,O21,FALSE)","v":10.807592921849361},0,{"$f":"VLOOKUP($D$24,$D$5:$X$20,Q21,FALSE)","v":0},0,0,{"$f":"VLOOKUP($D$24,$D$5:$X$20,T21,FALSE)","v":0},0,0,0,{"$f":"VLOOKUP($D$24,$D$5:$X$20,X21,FALSE)","v":0},null,null,"offen",null,"geschlossen",null,"ZUL geschlossen, ABL offen"]
[]
[]
[]
["2020-04-21",null,null,"2020-04-21","Änderung des Datums, wurde bei der letzten Aktualisierung übersehen. TU"]

{"sheet":"Lw ohne BVR KS","index":20,"n_rows":67,"n_cols":23,"rows_kept":67,"cut":false,"hidden":true,"merged":[[62,0,62,1],[63,0,63,1],[64,0,64,1],[65,0,65,1],[66,0,66,1],[61,0,61,1],[50,0,50,1],[51,0,51,1],[52,0,52,1],[53,0,53,1],[54,0,54,1],[55,0,55,1],[56,0,56,1],[57,0,57,1],[58,0,58,1],[59,0,59,1],[60,0,60,1],[49,0,49,1],[1,1,1,21],[13,1,13,21],[24,1,24,7],[41,0,41,2],[42,0,42,1],[43,0,43,1],[44,0,44,1],[45,0,45,1],[46,0,46,1],[47,0,47,1],[48,0,48,1]]}
[]
[null,"Terzfrequenzband fm [Hz]"]
[null,100,125,160,200,250,315,400,500,630,800,1000,1250,1600,2000,2500,3150,4000,5000,6300,8000,10000]
["KSD-1ZUL",-14.581163383522227,2.1175825247699587,-24.00303953490068,-19.848459571292292,-35.539687853058432,-25.622073765049766,-29.605309445853916,-43.206635412566541,-45.063788917724267,-48.375647579764426,-42.949323823651071,-37.150590543850349,-26.516684152701057,-17.884741990536522,-7.6474983543426189,-1.6418330078896519,2.8631957394804681,6.990791095258893,12.121536374609423,12.364408340600837,17.615545584739948]
[null,5.2443599978492657,-20.406195774580492,-2.6024696119392519,-13.754203351649565,16.383984810552626,-46.918974669004221,9.3901161390536778,-1.1324706596392606,32.660786989651022,27.112250311515119,15.236953214726476,13.460505906135726,10.117205252510592,8.7834424893881469,12.653868165265818,11.418599425908587,8.2236570440235699,6.0546100499050413,3.4180983290761104,3.7592377331334701,-0.74430213323116101]
[null,-6.6813865474421883,54.698398914872399,-23.508258458883969,-8.3492806822054586,-27.143978434927551,-47.334375433297005,-11.044784992318789,-44.259782209138898,-13.841520214683749,-32.537698289024426,-18.900539491841265,-14.726886987626628,-8.9814366140780066,-5.8623355747937094,-2.0956535597082726,-1.6109625313301938,-4.0598116276313814,-1.7046332837382057,3.5130225749877049,-0.69909268389106938,10.938638841404011]
[null,16.786076108776786,3.9383951216807067,37.608829083246256,38.54106438900444,37.022400421919656,81.149642110996538,36.174093676350694,62.406406248021014,29.411371822012494,40.006159020345684,37.417959334790623,31.586088695649856,23.166264443942335,16.304345990663599,5.5526308326168783,2.1893339633243705,1.9804124537302477,-0.26079397305053903,-3.2442081531805296,-1.5291582945587527,-5.102490704044933]
["KSD-1ABL",6.878541405535163,-19.10662080333428,-16.039627048513282,-23.768378500630497,-25.986134634995924,-11.675765473785011,-23.791235210994355,-35.787889365943684,-44.001375113776362,-38.556860442685398,-37.951086836009559,-30.42158099673944,-25.452428329103991,-21.431976806827251,-11.878187411945561,-8.2900223341737522,3.0818861574790066,7.963336624559286,10.600546055995704,12.552966637475889,12.632750355600132]
[null,-0.76202058300702069,23.641681047145788,23.022010039996584,11.40028525268891,19.594241176062539,-0.73163247698683442,18.488483389200447,23.274866826862507,42.645344218365942,31.147940303512673,28.945940248381735,23.378569638345233,17.009988002848743,13.862611378148673,9.5343045717975698,10.013753580347743,4.4654025179015573,1.0992856160580227,0.98124211035990971,0.52788147813595054,1.2726161918498631]
[null,20.811173084941181,24.407404065105329,41.340437369277538,7.9299059614280578,17.39397159367212,37.631011590671342,14.057725345374854,6.6558519500212814,-2.8617982559680049,14.736346635120166,9.661574870799825,18.826103625185432,13.731311330990447,8.4908999476391607,8.6827108445550572,3.5852587783662573,9.9861053937693338,6.4453314710459146,1.5070882837932618,-0.95330850522283062,-5.6832475638532678]
[null,-2.7141242066045437,-2.1008972718460912,-8.2597801140962464,17.699474741675079,9.3789082665202894,9.6257944595009057,13.274744375843802,19.619876236194411,13.368256914087016,9.9989086237266545,11.905019098443992,6.966016285141019,9.32699315177382,10.409899697659418,6.9342822115590632,5.8573981432878801,-0.58114748095472823,-0.46580208802601625,0.1372854407463919,0.56165101596930123,2.7646760579511049]
[null,2,3,4,5,6,7,8,9,10,11,12,13,14,15,16,17,18,19,20,21,22]
[]
[null,"Terzfrequenzband fm [Hz]"]
[null,100,125,160,200,250,315,400,500,630,800,1000,1250,1600,2000,2500,3150,4000,5000,6300,8000,10000]
[{"$f":"'Grunddaten KS'!C5","v":"ZUL5503"},{"$f":"B$4+B$5*LOG('Grunddaten KS'!$H5)+B$6*LOG('Grunddaten KS'!$L5)+B$7*LOG('Grunddaten KS'!$N5)","v":{"$error":"#NUM!"}},{"$f":"C$4+C$5*LOG('Grunddaten KS'!$H5)+C$6*LOG('Grunddaten KS'!$L5)+C$7*LOG('Grunddaten KS'!$N5)","v":{"$error":"#NUM!"}},{"$f":"D$4+D$5*LOG('Grunddaten KS'!$H5)+D$6*LOG('Grunddaten KS'!$L5)+D$7*LOG('Grunddaten KS'!$N5)","v":{"$error":"#NUM!"}},{"$f":"E$4+E$5*LOG('Grunddaten KS'!$H5)+E$6*LOG('Grunddaten KS'!$L5)+E$7*LOG('Grunddaten KS'!$N5)","v":{"$error":"#NUM!"}},{"$f":"F$4+F$5*LOG('Grunddaten KS'!$H5)+F$6*LOG('Grunddaten KS'!$L5)+F$7*LOG('Grunddaten KS'!$N5)","v":{"$error":"#NUM!"}},{"$f":"G$4+G$5*LOG('Grunddaten KS'!$H5)+G$6*LOG('Grunddaten KS'!$L5)+G$7*LOG('Grunddaten KS'!$N5)","v":{"$error":"#NUM!"}},{"$f":"H$4+H$5*LOG('Grunddaten KS'!$H5)+H$6*LOG('Grunddaten KS'!$L5)+H$7*LOG('Grunddaten KS'!$N5)","v":{"$error":"#NUM!"}},{"$f":"I$4+I$5*LOG('Grunddaten KS'!$H5)+I$6*LOG('Grunddaten KS'!$L5)+I$7*LOG('Grunddaten KS'!$N5)","v":{"$error":"#NUM!"}},{"$f":"J$4+J$5*LOG('Grunddaten KS'!$H5)+J$6*LOG('Grunddaten KS'!$L5)+J$7*LOG('Grunddaten KS'!$N5)","v":{"$error":"#NUM!"}},{"$f":"K$4+K$5*LOG('Grunddaten KS'!$H5)+K$6*LOG('Grunddaten KS'!$L5)+K$7*LOG('Grunddaten KS'!$N5)","v":{"$error":"#NUM!"}},{"$f":"L$4+L$5*LOG('Grunddaten KS'!$H5)+L$6*LOG('Grunddaten KS'!$L5)+L$7*LOG('Grunddaten KS'!$N5)","v":{"$error":"#NUM!"}},{"$f":"M$4+M$5*LOG('Grunddaten KS'!$H5)+M$6*LOG('Grunddaten KS'!$L5)+M$7*LOG('Grunddaten KS'!$N5)","v":{"$error":"#NUM!"}},{"$f":"N$4+N$5*LOG('Grunddaten KS'!$H5)+N$6*LOG('Grunddaten KS'!$L5)+N$7*LOG('Grunddaten KS'!$N5)","v":{"$error":"#NUM!"}},{"$f":"O$4+O$5*LOG('Grunddaten KS'!$H5)+O$6*LOG('Grunddaten KS'!$L5)+O$7*LOG('Grunddaten KS'!$N5)","v":{"$error":"#NUM!"}},{"$f":"P$4+P$5*LOG('Grunddaten KS'!$H5)+P$6*LOG('Grunddaten KS'!$L5)+P$7*LOG('Grunddaten KS'!$N5)","v":{"$error":"#NUM!"}},{"$f":"Q$4+Q$5*LOG('Grunddaten KS'!$H5)+Q$6*LOG('Grunddaten KS'!$L5)+Q$7*LOG('Grunddaten KS'!$N5)","v":{"$error":"#NUM!"}},{"$f":"R$4+R$5*LOG('Grunddaten KS'!$H5)+R$6*LOG('Grunddaten KS'!$L5)+R$7*LOG('Grunddaten KS'!$N5)","v":{"$error":"#NUM!"}},{"$f":"S$4+S$5*LOG('Grunddaten KS'!$H5)+S$6*LOG('Grunddaten KS'!$L5)+S$7*LOG('Grunddaten KS'!$N5)","v":{"$error":"#NUM!"}},{"$f":"T$4+T$5*LOG('Grunddaten KS'!$H5)+T$6*LOG('Grunddaten KS'!$L5)+T$7*LOG('Grunddaten KS'!$N5)","v":{"$error":"#NUM!"}},{"$f":"U$4+U$5*LOG('Grunddaten KS'!$H5)+U$6*LOG('Grunddaten KS'!$L5)+U$7*LOG('Grunddaten KS'!$N5)","v":{"$error":"#NUM!"}},{"$f":"V$4+V$5*LOG('Grunddaten KS'!$H5)+V$6*LOG('Grunddaten KS'!$L5)+V$7*LOG('Grunddaten KS'!$N5)","v":{"$error":"#NUM!"}},{"$f":"10*LOG(10^(0.1*B16)+10^(0.1*C16)+10^(0.1*D16)+10^(0.1*E16)+10^(0.1*F16)+10^(0.1*G16)+10^(0.1*H16)+10^(0.1*I16)+10^(0.1*J16)+10^(0.1*K16)+10^(0.1*L16)+10^(0.1*M16)+10^(0.1*N16)+10^(0.1*O16)+10^(0.1*P16)+10^(0.1*Q16)+10^(0.1*R16)+10^(0.1*S16)+10^(0.1*T16)+10^(0.1*U16)+10^(0.1*V16))","v":{"$error":"#NUM!"}}]
[{"$f":"'Grunddaten KS'!C6","v":"ZUL7503"},{"$f":"B$4+B$5*LOG('Grunddaten KS'!$H6)+B$6*LOG('Grunddaten KS'!$L6)+B$7*LOG('Grunddaten KS'!$N6)","v":{"$error":"#NUM!"}},{"$f":"C$4+C$5*LOG('Grunddaten KS'!$H6)+C$6*LOG('Grunddaten KS'!$L6)+C$7*LOG('Grunddaten KS'!$N6)","v":{"$error":"#NUM!"}},{"$f":"D$4+D$5*LOG('Grunddaten KS'!$H6)+D$6*LOG('Grunddaten KS'!$L6)+D$7*LOG('Grunddaten KS'!$N6)","v":{"$error":"#NUM!"}},{"$f":"E$4+E$5*LOG('Grunddaten KS'!$H6)+E$6*LOG('Grunddaten KS'!$L6)+E$7*LOG('Grunddaten KS'!$N6)","v":{"$error":"#NUM!"}},{"$f":"F$4+F$5*LOG('Grunddaten KS'!$H6)+F$6*LOG('Grunddaten KS'!$L6)+F$7*LOG('Grunddaten KS'!$N6)","v":{"$error":"#NUM!"}},{"$f":"G$4+G$5*LOG('Grunddaten KS'!$H6)+G$6*LOG('Grunddaten KS'!$L6)+G$7*LOG('Grunddaten KS'!$N6)","v":{"$error":"#NUM!"}},{"$f":"H$4+H$5*LOG('Grunddaten KS'!$H6)+H$6*LOG('Grunddaten KS'!$L6)+H$7*LOG('Grunddaten KS'!$N6)","v":{"$error":"#NUM!"}},{"$f":"I$4+I$5*LOG('Grunddaten KS'!$H6)+I$6*LOG('Grunddaten KS'!$L6)+I$7*LOG('Grunddaten KS'!$N6)","v":{"$error":"#NUM!"}},{"$f":"J$4+J$5*LOG('Grunddaten KS'!$H6)+J$6*LOG('Grunddaten KS'!$L6)+J$7*LOG('Grunddaten KS'!$N6)","v":{"$error":"#NUM!"}},{"$f":"K$4+K$5*LOG('Grunddaten KS'!$H6)+K$6*LOG('Grunddaten KS'!$L6)+K$7*LOG('Grunddaten KS'!$N6)","v":{"$error":"#NUM!"}},{"$f":"L$4+L$5*LOG('Grunddaten KS'!$H6)+L$6*LOG('Grunddaten KS'!$L6)+L$7*LOG('Grunddaten KS'!$N6)","v":{"$error":"#NUM!"}},{"$f":"M$4+M$5*LOG('Grunddaten KS'!$H6)+M$6*LOG('Grunddaten KS'!$L6)+M$7*LOG('Grunddaten KS'!$N6)","v":{"$error":"#NUM!"}},{"$f":"N$4+N$5*LOG('Grunddaten KS'!$H6)+N$6*LOG('Grunddaten KS'!$L6)+N$7*LOG('Grunddaten KS'!$N6)","v":{"$error":"#NUM!"}},{"$f":"O$4+O$5*LOG('Grunddaten KS'!$H6)+O$6*LOG('Grunddaten KS'!$L6)+O$7*LOG('Grunddaten KS'!$N6)","v":{"$error":"#NUM!"}},{"$f":"P$4+P$5*LOG('Grunddaten KS'!$H6)+P$6*LOG('Grunddaten KS'!$L6)+P$7*LOG('Grunddaten KS'!$N6)","v":{"$error":"#NUM!"}},{"$f":"Q$4+Q$5*LOG('Grunddaten KS'!$H6)+Q$6*LOG('Grunddaten KS'!$L6)+Q$7*LOG('Grunddaten KS'!$N6)","v":{"$error":"#NUM!"}},{"$f":"R$4+R$5*LOG('Grunddaten KS'!$H6)+R$6*LOG('Grunddaten KS'!$L6)+R$7*LOG('Grunddaten KS'!$N6)","v":{"$error":"#NUM!"}},{"$f":"S$4+S$5*LOG('Grunddaten KS'!$H6)+S$6*LOG('Grunddaten KS'!$L6)+S$7*LOG('Grunddaten KS'!$N6)","v":{"$error":"#NUM!"}},{"$f":"T$4+T$5*LOG('Grunddaten KS'!$H6)+T$6*LOG('Grunddaten KS'!$L6)+T$7*LOG('Grunddaten KS'!$N6)","v":{"$error":"#NUM!"}},{"$f":"U$4+U$5*LOG('Grunddaten KS'!$H6)+U$6*LOG('Grunddaten KS'!$L6)+U$7*LOG('Grunddaten KS'!$N6)","v":{"$error":"#NUM!"}},{"$f":"V$4+V$5*LOG('Grunddaten KS'!$H6)+V$6*LOG('Grunddaten KS'!$L6)+V$7*LOG('Grunddaten KS'!$N6)","v":{"$error":"#NUM!"}},{"$error":"#NUM!"}]
[{"$f":"'Grunddaten KS'!C7","v":"ZUL9503"},{"$f":"B$4+B$5*LOG('Grunddaten KS'!$H7)+B$6*LOG('Grunddaten KS'!$L7)+B$7*LOG('Grunddaten KS'!$N7)","v":{"$error":"#NUM!"}},{"$f":"C$4+C$5*LOG('Grunddaten KS'!$H7)+C$6*LOG('Grunddaten KS'!$L7)+C$7*LOG('Grunddaten KS'!$N7)","v":{"$error":"#NUM!"}},{"$f":"D$4+D$5*LOG('Grunddaten KS'!$H7)+D$6*LOG('Grunddaten KS'!$L7)+D$7*LOG('Grunddaten KS'!$N7)","v":{"$error":"#NUM!"}},{"$f":"E$4+E$5*LOG('Grunddaten KS'!$H7)+E$6*LOG('Grunddaten KS'!$L7)+E$7*LOG('Grunddaten KS'!$N7)","v":{"$error":"#NUM!"}},{"$f":"F$4+F$5*LOG('Grunddaten KS'!$H7)+F$6*LOG('Grunddaten KS'!$L7)+F$7*LOG('Grunddaten KS'!$N7)","v":{"$error":"#NUM!"}},{"$f":"G$4+G$5*LOG('Grunddaten KS'!$H7)+G$6*LOG('Grunddaten KS'!$L7)+G$7*LOG('Grunddaten KS'!$N7)","v":{"$error":"#NUM!"}},{"$f":"H$4+H$5*LOG('Grunddaten KS'!$H7)+H$6*LOG('Grunddaten KS'!$L7)+H$7*LOG('Grunddaten KS'!$N7)","v":{"$error":"#NUM!"}},{"$f":"I$4+I$5*LOG('Grunddaten KS'!$H7)+I$6*LOG('Grunddaten KS'!$L7)+I$7*LOG('Grunddaten KS'!$N7)","v":{"$error":"#NUM!"}},{"$f":"J$4+J$5*LOG('Grunddaten KS'!$H7)+J$6*LOG('Grunddaten KS'!$L7)+J$7*LOG('Grunddaten KS'!$N7)","v":{"$error":"#NUM!"}},{"$f":"K$4+K$5*LOG('Grunddaten KS'!$H7)+K$6*LOG('Grunddaten KS'!$L7)+K$7*LOG('Grunddaten KS'!$N7)","v":{"$error":"#NUM!"}},{"$f":"L$4+L$5*LOG('Grunddaten KS'!$H7)+L$6*LOG('Grunddaten KS'!$L7)+L$7*LOG('Grunddaten KS'!$N7)","v":{"$error":"#NUM!"}},{"$f":"M$4+M$5*LOG('Grunddaten KS'!$H7)+M$6*LOG('Grunddaten KS'!$L7)+M$7*LOG('Grunddaten KS'!$N7)","v":{"$error":"#NUM!"}},{"$f":"N$4+N$5*LOG('Grunddaten KS'!$H7)+N$6*LOG('Grunddaten KS'!$L7)+N$7*LOG('Grunddaten KS'!$N7)","v":{"$error":"#NUM!"}},{"$f":"O$4+O$5*LOG('Grunddaten KS'!$H7)+O$6*LOG('Grunddaten KS'!$L7)+O$7*LOG('Grunddaten KS'!$N7)","v":{"$error":"#NUM!"}},{"$f":"P$4+P$5*LOG('Grunddaten KS'!$H7)+P$6*LOG('Grunddaten KS'!$L7)+P$7*LOG('Grunddaten KS'!$N7)","v":{"$error":"#NUM!"}},{"$f":"Q$4+Q$5*LOG('Grunddaten KS'!$H7)+Q$6*LOG('Grunddaten KS'!$L7)+Q$7*LOG('Grunddaten KS'!$N7)","v":{"$error":"#NUM!"}},{"$f":"R$4+R$5*LOG('Grunddaten KS'!$H7)+R$6*LOG('Grunddaten KS'!$L7)+R$7*LOG('Grunddaten KS'!$N7)","v":{"$error":"#NUM!"}},{"$f":"S$4+S$5*LOG('Grunddaten KS'!$H7)+S$6*LOG('Grunddaten KS'!$L7)+S$7*LOG('Grunddaten KS'!$N7)","v":{"$error":"#NUM!"}},{"$f":"T$4+T$5*LOG('Grunddaten KS'!$H7)+T$6*LOG('Grunddaten KS'!$L7)+T$7*LOG('Grunddaten KS'!$N7)","v":{"$error":"#NUM!"}},{"$f":"U$4+U$5*LOG('Grunddaten KS'!$H7)+U$6*LOG('Grunddaten KS'!$L7)+U$7*LOG('Grunddaten KS'!$N7)","v":{"$error":"#NUM!"}},{"$f":"V$4+V$5*LOG('Grunddaten KS'!$H7)+V$6*LOG('Grunddaten KS'!$L7)+V$7*LOG('Grunddaten KS'!$N7)","v":{"$error":"#NUM!"}},{"$error":"#NUM!"}]
[{"$f":"'Grunddaten KS'!C8","v":"ZUL11503"},{"$f":"B$4+B$5*LOG('Grunddaten KS'!$H8)+B$6*LOG('Grunddaten KS'!$L8)+B$7*LOG('Grunddaten KS'!$N8)","v":{"$error":"#NUM!"}},{"$f":"C$4+C$5*LOG('Grunddaten KS'!$H8)+C$6*LOG('Grunddaten KS'!$L8)+C$7*LOG('Grunddaten KS'!$N8)","v":{"$error":"#NUM!"}},{"$f":"D$4+D$5*LOG('Grunddaten KS'!$H8)+D$6*LOG('Grunddaten KS'!$L8)+D$7*LOG('Grunddaten KS'!$N8)","v":{"$error":"#NUM!"}},{"$f":"E$4+E$5*LOG('Grunddaten KS'!$H8)+E$6*LOG('Grunddaten KS'!$L8)+E$7*LOG('Grunddaten KS'!$N8)","v":{"$error":"#NUM!"}},{"$f":"F$4+F$5*LOG('Grunddaten KS'!$H8)+F$6*LOG('Grunddaten KS'!$L8)+F$7*LOG('Grunddaten KS'!$N8)","v":{"$error":"#NUM!"}},{"$f":"G$4+G$5*LOG('Grunddaten KS'!$H8)+G$6*LOG('Grunddaten KS'!$L8)+G$7*LOG('Grunddaten KS'!$N8)","v":{"$error":"#NUM!"}},{"$f":"H$4+H$5*LOG('Grunddaten KS'!$H8)+H$6*LOG('Grunddaten KS'!$L8)+H$7*LOG('Grunddaten KS'!$N8)","v":{"$error":"#NUM!"}},{"$f":"I$4+I$5*LOG('Grunddaten KS'!$H8)+I$6*LOG('Grunddaten KS'!$L8)+I$7*LOG('Grunddaten KS'!$N8)","v":{"$error":"#NUM!"}},{"$f":"J$4+J$5*LOG('Grunddaten KS'!$H8)+J$6*LOG('Grunddaten KS'!$L8)+J$7*LOG('Grunddaten KS'!$N8)","v":{"$error":"#NUM!"}},{"$f":"K$4+K$5*LOG('Grunddaten KS'!$H8)+K$6*LOG('Grunddaten KS'!$L8)+K$7*LOG('Grunddaten KS'!$N8)","v":{"$error":"#NUM!"}},{"$f":"L$4+L$5*LOG('Grunddaten KS'!$H8)+L$6*LOG('Grunddaten KS'!$L8)+L$7*LOG('Grunddaten KS'!$N8)","v":{"$error":"#NUM!"}},{"$f":"M$4+M$5*LOG('Grunddaten KS'!$H8)+M$6*LOG('Grunddaten KS'!$L8)+M$7*LOG('Grunddaten KS'!$N8)","v":{"$error":"#NUM!"}},{"$f":"N$4+N$5*LOG('Grunddaten KS'!$H8)+N$6*LOG('Grunddaten KS'!$L8)+N$7*LOG('Grunddaten KS'!$N8)","v":{"$error":"#NUM!"}},{"$f":"O$4+O$5*LOG('Grunddaten KS'!$H8)+O$6*LOG('Grunddaten KS'!$L8)+O$7*LOG('Grunddaten KS'!$N8)","v":{"$error":"#NUM!"}},{"$f":"P$4+P$5*LOG('Grunddaten KS'!$H8)+P$6*LOG('Grunddaten KS'!$L8)+P$7*LOG('Grunddaten KS'!$N8)","v":{"$error":"#NUM!"}},{"$f":"Q$4+Q$5*LOG('Grunddaten KS'!$H8)+Q$6*LOG('Grunddaten KS'!$L8)+Q$7*LOG('Grunddaten KS'!$N8)","v":{"$error":"#NUM!"}},{"$f":"R$4+R$5*LOG('Grunddaten KS'!$H8)+R$6*LOG('Grunddaten KS'!$L8)+R$7*LOG('Grunddaten KS'!$N8)","v":{"$error":"#NUM!"}},{"$f":"S$4+S$5*LOG('Grunddaten KS'!$H8)+S$6*LOG('Grunddaten KS'!$L8)+S$7*LOG('Grunddaten KS'!$N8)","v":{"$error":"#NUM!"}},{"$f":"T$4+T$5*LOG('Grunddaten KS'!$H8)+T$6*LOG('Grunddaten KS'!$L8)+T$7*LOG('Grunddaten KS'!$N8)","v":{"$error":"#NUM!"}},{"$f":"U$4+U$5*LOG('Grunddaten KS'!$H8)+U$6*LOG('Grunddaten KS'!$L8)+U$7*LOG('Grunddaten KS'!$N8)","v":{"$error":"#NUM!"}},{"$f":"V$4+V$5*LOG('Grunddaten KS'!$H8)+V$6*LOG('Grunddaten KS'!$L8)+V$7*LOG('Grunddaten KS'!$N8)","v":{"$error":"#NUM!"}},{"$error":"#NUM!"}]
[{"$f":"'Grunddaten KS'!C13","v":"ABL5503"},{"$f":"B$8+B$9*LOG('Grunddaten KS'!$H13)+B$10*LOG('Grunddaten KS'!$L13)+B$11*LOG('Grunddaten KS'!$N13)","v":{"$error":"#NUM!"}},{"$f":"C$8+C$9*LOG('Grunddaten KS'!$H13)+C$10*LOG('Grunddaten KS'!$L13)+C$11*LOG('Grunddaten KS'!$N13)","v":{"$error":"#NUM!"}},{"$f":"D$8+D$9*LOG('Grunddaten KS'!$H13)+D$10*LOG('Grunddaten KS'!$L13)+D$11*LOG('Grunddaten KS'!$N13)","v":{"$error":"#NUM!"}},{"$f":"E$8+E$9*LOG('Grunddaten KS'!$H13)+E$10*LOG('Grunddaten KS'!$L13)+E$11*LOG('Grunddaten KS'!$N13)","v":{"$error":"#NUM!"}},{"$f":"F$8+F$9*LOG('Grunddaten KS'!$H13)+F$10*LOG('Grunddaten KS'!$L13)+F$11*LOG('Grunddaten KS'!$N13)","v":{"$error":"#NUM!"}},{"$f":"G$8+G$9*LOG('Grunddaten KS'!$H13)+G$10*LOG('Grunddaten KS'!$L13)+G$11*LOG('Grunddaten KS'!$N13)","v":{"$error":"#NUM!"}},{"$f":"H$8+H$9*LOG('Grunddaten KS'!$H13)+H$10*LOG('Grunddaten KS'!$L13)+H$11*LOG('Grunddaten KS'!$N13)","v":{"$error":"#NUM!"}},{"$f":"I$8+I$9*LOG('Grunddaten KS'!$H13)+I$10*LOG('Grunddaten KS'!$L13)+I$11*LOG('Grunddaten KS'!$N13)","v":{"$error":"#NUM!"}},{"$f":"J$8+J$9*LOG('Grunddaten KS'!$H13)+J$10*LOG('Grunddaten KS'!$L13)+J$11*LOG('Grunddaten KS'!$N13)","v":{"$error":"#NUM!"}},{"$f":"K$8+K$9*LOG('Grunddaten KS'!$H13)+K$10*LOG('Grunddaten KS'!$L13)+K$11*LOG('Grunddaten KS'!$N13)","v":{"$error":"#NUM!"}},{"$f":"L$8+L$9*LOG('Grunddaten KS'!$H13)+L$10*LOG('Grunddaten KS'!$L13)+L$11*LOG('Grunddaten KS'!$N13)","v":{"$error":"#NUM!"}},{"$f":"M$8+M$9*LOG('Grunddaten KS'!$H13)+M$10*LOG('Grunddaten KS'!$L13)+M$11*LOG('Grunddaten KS'!$N13)","v":{"$error":"#NUM!"}},{"$f":"N$8+N$9*LOG('Grunddaten KS'!$H13)+N$10*LOG('Grunddaten KS'!$L13)+N$11*LOG('Grunddaten KS'!$N13)","v":{"$error":"#NUM!"}},{"$f":"O$8+O$9*LOG('Grunddaten KS'!$H13)+O$10*LOG('Grunddaten KS'!$L13)+O$11*LOG('Grunddaten KS'!$N13)","v":{"$error":"#NUM!"}},{"$f":"P$8+P$9*LOG('Grunddaten KS'!$H13)+P$10*LOG('Grunddaten KS'!$L13)+P$11*LOG('Grunddaten KS'!$N13)","v":{"$error":"#NUM!"}},{"$f":"Q$8+Q$9*LOG('Grunddaten KS'!$H13)+Q$10*LOG('Grunddaten KS'!$L13)+Q$11*LOG('Grunddaten KS'!$N13)","v":{"$error":"#NUM!"}},{"$f":"R$8+R$9*LOG('Grunddaten KS'!$H13)+R$10*LOG('Grunddaten KS'!$L13)+R$11*LOG('Grunddaten KS'!$N13)","v":{"$error":"#NUM!"}},{"$f":"S$8+S$9*LOG('Grunddaten KS'!$H13)+S$10*LOG('Grunddaten KS'!$L13)+S$11*LOG('Grunddaten KS'!$N13)","v":{"$error":"#NUM!"}},{"$f":"T$8+T$9*LOG('Grunddaten KS'!$H13)+T$10*LOG('Grunddaten KS'!$L13)+T$11*LOG('Grunddaten KS'!$N13)","v":{"$error":"#NUM!"}},{"$f":"U$8+U$9*LOG('Grunddaten KS'!$H13)+U$10*LOG('Grunddaten KS'!$L13)+U$11*LOG('Grunddaten KS'!$N13)","v":{"$error":"#NUM!"}},{"$f":"V$8+V$9*LOG('Grunddaten KS'!$H13)+V$10*LOG('Grunddaten KS'!$L13)+V$11*LOG('Grunddaten KS'!$N13)","v":{"$error":"#NUM!"}},{"$error":"#NUM!"}]
[{"$f":"'Grunddaten KS'!C14","v":"ABL7503"},{"$f":"B$8+B$9*LOG('Grunddaten KS'!$H14)+B$10*LOG('Grunddaten KS'!$L14)+B$11*LOG('Grunddaten KS'!$N14)","v":{"$error":"#NUM!"}},{"$f":"C$8+C$9*LOG('Grunddaten KS'!$H14)+C$10*LOG('Grunddaten KS'!$L14)+C$11*LOG('Grunddaten KS'!$N14)","v":{"$error":"#NUM!"}},{"$f":"D$8+D$9*LOG('Grunddaten KS'!$H14)+D$10*LOG('Grunddaten KS'!$L14)+D$11*LOG('Grunddaten KS'!$N14)","v":{"$error":"#NUM!"}},{"$f":"E$8+E$9*LOG('Grunddaten KS'!$H14)+E$10*LOG('Grunddaten KS'!$L14)+E$11*LOG('Grunddaten KS'!$N14)","v":{"$error":"#NUM!"}},{"$f":"F$8+F$9*LOG('Grunddaten KS'!$H14)+F$10*LOG('Grunddaten KS'!$L14)+F$11*LOG('Grunddaten KS'!$N14)","v":{"$error":"#NUM!"}},{"$f":"G$8+G$9*LOG('Grunddaten KS'!$H14)+G$10*LOG('Grunddaten KS'!$L14)+G$11*LOG('Grunddaten KS'!$N14)","v":{"$error":"#NUM!"}},{"$f":"H$8+H$9*LOG('Grunddaten KS'!$H14)+H$10*LOG('Grunddaten KS'!$L14)+H$11*LOG('Grunddaten KS'!$N14)","v":{"$error":"#NUM!"}},{"$f":"I$8+I$9*LOG('Grunddaten KS'!$H14)+I$10*LOG('Grunddaten KS'!$L14)+I$11*LOG('Grunddaten KS'!$N14)","v":{"$error":"#NUM!"}},{"$f":"J$8+J$9*LOG('Grunddaten KS'!$H14)+J$10*LOG('Grunddaten KS'!$L14)+J$11*LOG('Grunddaten KS'!$N14)","v":{"$error":"#NUM!"}},{"$f":"K$8+K$9*LOG('Grunddaten KS'!$H14)+K$10*LOG('Grunddaten KS'!$L14)+K$11*LOG('Grunddaten KS'!$N14)","v":{"$error":"#NUM!"}},{"$f":"L$8+L$9*LOG('Grunddaten KS'!$H14)+L$10*LOG('Grunddaten KS'!$L14)+L$11*LOG('Grunddaten KS'!$N14)","v":{"$error":"#NUM!"}},{"$f":"M$8+M$9*LOG('Grunddaten KS'!$H14)+M$10*LOG('Grunddaten KS'!$L14)+M$11*LOG('Grunddaten KS'!$N14)","v":{"$error":"#NUM!"}},{"$f":"N$8+N$9*LOG('Grunddaten KS'!$H14)+N$10*LOG('Grunddaten KS'!$L14)+N$11*LOG('Grunddaten KS'!$N14)","v":{"$error":"#NUM!"}},{"$f":"O$8+O$9*LOG('Grunddaten KS'!$H14)+O$10*LOG('Grunddaten KS'!$L14)+O$11*LOG('Grunddaten KS'!$N14)","v":{"$error":"#NUM!"}},{"$f":"P$8+P$9*LOG('Grunddaten KS'!$H14)+P$10*LOG('Grunddaten KS'!$L14)+P$11*LOG('Grunddaten KS'!$N14)","v":{"$error":"#NUM!"}},{"$f":"Q$8+Q$9*LOG('Grunddaten KS'!$H14)+Q$10*LOG('Grunddaten KS'!$L14)+Q$11*LOG('Grunddaten KS'!$N14)","v":{"$error":"#NUM!"}},{"$f":"R$8+R$9*LOG('Grunddaten KS'!$H14)+R$10*LOG('Grunddaten KS'!$L14)+R$11*LOG('Grunddaten KS'!$N14)","v":{"$error":"#NUM!"}},{"$f":"S$8+S$9*LOG('Grunddaten KS'!$H14)+S$10*LOG('Grunddaten KS'!$L14)+S$11*LOG('Grunddaten KS'!$N14)","v":{"$error":"#NUM!"}},{"$f":"T$8+T$9*LOG('Grunddaten KS'!$H14)+T$10*LOG('Grunddaten KS'!$L14)+T$11*LOG('Grunddaten KS'!$N14)","v":{"$error":"#NUM!"}},{"$f":"U$8+U$9*LOG('Grunddaten KS'!$H14)+U$10*LOG('Grunddaten KS'!$L14)+U$11*LOG('Grunddaten KS'!$N14)","v":{"$error":"#NUM!"}},{"$f":"V$8+V$9*LOG('Grunddaten KS'!$H14)+V$10*LOG('Grunddaten KS'!$L14)+V$11*LOG('Grunddaten KS'!$N14)","v":{"$error":"#NUM!"}},{"$error":"#NUM!"}]
[{"$f":"'Grunddaten KS'!C15","v":"ABL9503"},{"$f":"B$8+B$9*LOG('Grunddaten KS'!$H15)+B$10*LOG('Grunddaten KS'!$L15)+B$11*LOG('Grunddaten KS'!$N15)","v":{"$error":"#NUM!"}},{"$f":"C$8+C$9*LOG('Grunddaten KS'!$H15)+C$10*LOG('Grunddaten KS'!$L15)+C$11*LOG('Grunddaten KS'!$N15)","v":{"$error":"#NUM!"}},{"$f":"D$8+D$9*LOG('Grunddaten KS'!$H15)+D$10*LOG('Grunddaten KS'!$L15)+D$11*LOG('Grunddaten KS'!$N15)","v":{"$error":"#NUM!"}},{"$f":"E$8+E$9*LOG('Grunddaten KS'!$H15)+E$10*LOG('Grunddaten KS'!$L15)+E$11*LOG('Grunddaten KS'!$N15)","v":{"$error":"#NUM!"}},{"$f":"F$8+F$9*LOG('Grunddaten KS'!$H15)+F$10*LOG('Grunddaten KS'!$L15)+F$11*LOG('Grunddaten KS'!$N15)","v":{"$error":"#NUM!"}},{"$f":"G$8+G$9*LOG('Grunddaten KS'!$H15)+G$10*LOG('Grunddaten KS'!$L15)+G$11*LOG('Grunddaten KS'!$N15)","v":{"$error":"#NUM!"}},{"$f":"H$8+H$9*LOG('Grunddaten KS'!$H15)+H$10*LOG('Grunddaten KS'!$L15)+H$11*LOG('Grunddaten KS'!$N15)","v":{"$error":"#NUM!"}},{"$f":"I$8+I$9*LOG('Grunddaten KS'!$H15)+I$10*LOG('Grunddaten KS'!$L15)+I$11*LOG('Grunddaten KS'!$N15)","v":{"$error":"#NUM!"}},{"$f":"J$8+J$9*LOG('Grunddaten KS'!$H15)+J$10*LOG('Grunddaten KS'!$L15)+J$11*LOG('Grunddaten KS'!$N15)","v":{"$error":"#NUM!"}},{"$f":"K$8+K$9*LOG('Grunddaten KS'!$H15)+K$10*LOG('Grunddaten KS'!$L15)+K$11*LOG('Grunddaten KS'!$N15)","v":{"$error":"#NUM!"}},{"$f":"L$8+L$9*LOG('Grunddaten KS'!$H15)+L$10*LOG('Grunddaten KS'!$L15)+L$11*LOG('Grunddaten KS'!$N15)","v":{"$error":"#NUM!"}},{"$f":"M$8+M$9*LOG('Grunddaten KS'!$H15)+M$10*LOG('Grunddaten KS'!$L15)+M$11*LOG('Grunddaten KS'!$N15)","v":{"$error":"#NUM!"}},{"$f":"N$8+N$9*LOG('Grunddaten KS'!$H15)+N$10*LOG('Grunddaten KS'!$L15)+N$11*LOG('Grunddaten KS'!$N15)","v":{"$error":"#NUM!"}},{"$f":"O$8+O$9*LOG('Grunddaten KS'!$H15)+O$10*LOG('Grunddaten KS'!$L15)+O$11*LOG('Grunddaten KS'!$N15)","v":{"$error":"#NUM!"}},{"$f":"P$8+P$9*LOG('Grunddaten KS'!$H15)+P$10*LOG('Grunddaten KS'!$L15)+P$11*LOG('Grunddaten KS'!$N15)","v":{"$error":"#NUM!"}},{"$f":"Q$8+Q$9*LOG('Grunddaten KS'!$H15)+Q$10*LOG('Grunddaten KS'!$L15)+Q$11*LOG('Grunddaten KS'!$N15)","v":{"$error":"#NUM!"}},{"$f":"R$8+R$9*LOG('Grunddaten KS'!$H15)+R$10*LOG('Grunddaten KS'!$L15)+R$11*LOG('Grunddaten KS'!$N15)","v":{"$error":"#NUM!"}},{"$f":"S$8+S$9*LOG('Grunddaten KS'!$H15)+S$10*LOG('Grunddaten KS'!$L15)+S$11*LOG('Grunddaten KS'!$N15)","v":{"$error":"#NUM!"}},{"$f":"T$8+T$9*LOG('Grunddaten KS'!$H15)+T$10*LOG('Grunddaten KS'!$L15)+T$11*LOG('Grunddaten KS'!$N15)","v":{"$error":"#NUM!"}},{"$f":"U$8+U$9*LOG('Grunddaten KS'!$H15)+U$10*LOG('Grunddaten KS'!$L15)+U$11*LOG('Grunddaten KS'!$N15)","v":{"$error":"#NUM!"}},{"$f":"V$8+V$9*LOG('Grunddaten KS'!$H15)+V$10*LOG('Grunddaten KS'!$L15)+V$11*LOG('Grunddaten KS'!$N15)","v":{"$error":"#NUM!"}},{"$error":"#NUM!"}]
[{"$f":"'Grunddaten KS'!C16","v":"ABL11503"},{"$f":"B$8+B$9*LOG('Grunddaten KS'!$H16)+B$10*LOG('Grunddaten KS'!$L16)+B$11*LOG('Grunddaten KS'!$N16)","v":{"$error":"#NUM!"}},{"$f":"C$8+C$9*LOG('Grunddaten KS'!$H16)+C$10*LOG('Grunddaten KS'!$L16)+C$11*LOG('Grunddaten KS'!$N16)","v":{"$error":"#NUM!"}},{"$f":"D$8+D$9*LOG('Grunddaten KS'!$H16)+D$10*LOG('Grunddaten KS'!$L16)+D$11*LOG('Grunddaten KS'!$N16)","v":{"$error":"#NUM!"}},{"$f":"E$8+E$9*LOG('Grunddaten KS'!$H16)+E$10*LOG('Grunddaten KS'!$L16)+E$11*LOG('Grunddaten KS'!$N16)","v":{"$error":"#NUM!"}},{"$f":"F$8+F$9*LOG('Grunddaten KS'!$H16)+F$10*LOG('Grunddaten KS'!$L16)+F$11*LOG('Grunddaten KS'!$N16)","v":{"$error":"#NUM!"}},{"$f":"G$8+G$9*LOG('Grunddaten KS'!$H16)+G$10*LOG('Grunddaten KS'!$L16)+G$11*LOG('Grunddaten KS'!$N16)","v":{"$error":"#NUM!"}},{"$f":"H$8+H$9*LOG('Grunddaten KS'!$H16)+H$10*LOG('Grunddaten KS'!$L16)+H$11*LOG('Grunddaten KS'!$N16)","v":{"$error":"#NUM!"}},{"$f":"I$8+I$9*LOG('Grunddaten KS'!$H16)+I$10*LOG('Grunddaten KS'!$L16)+I$11*LOG('Grunddaten KS'!$N16)","v":{"$error":"#NUM!"}},{"$f":"J$8+J$9*LOG('Grunddaten KS'!$H16)+J$10*LOG('Grunddaten KS'!$L16)+J$11*LOG('Grunddaten KS'!$N16)","v":{"$error":"#NUM!"}},{"$f":"K$8+K$9*LOG('Grunddaten KS'!$H16)+K$10*LOG('Grunddaten KS'!$L16)+K$11*LOG('Grunddaten KS'!$N16)","v":{"$error":"#NUM!"}},{"$f":"L$8+L$9*LOG('Grunddaten KS'!$H16)+L$10*LOG('Grunddaten KS'!$L16)+L$11*LOG('Grunddaten KS'!$N16)","v":{"$error":"#NUM!"}},{"$f":"M$8+M$9*LOG('Grunddaten KS'!$H16)+M$10*LOG('Grunddaten KS'!$L16)+M$11*LOG('Grunddaten KS'!$N16)","v":{"$error":"#NUM!"}},{"$f":"N$8+N$9*LOG('Grunddaten KS'!$H16)+N$10*LOG('Grunddaten KS'!$L16)+N$11*LOG('Grunddaten KS'!$N16)","v":{"$error":"#NUM!"}},{"$f":"O$8+O$9*LOG('Grunddaten KS'!$H16)+O$10*LOG('Grunddaten KS'!$L16)+O$11*LOG('Grunddaten KS'!$N16)","v":{"$error":"#NUM!"}},{"$f":"P$8+P$9*LOG('Grunddaten KS'!$H16)+P$10*LOG('Grunddaten KS'!$L16)+P$11*LOG('Grunddaten KS'!$N16)","v":{"$error":"#NUM!"}},{"$f":"Q$8+Q$9*LOG('Grunddaten KS'!$H16)+Q$10*LOG('Grunddaten KS'!$L16)+Q$11*LOG('Grunddaten KS'!$N16)","v":{"$error":"#NUM!"}},{"$f":"R$8+R$9*LOG('Grunddaten KS'!$H16)+R$10*LOG('Grunddaten KS'!$L16)+R$11*LOG('Grunddaten KS'!$N16)","v":{"$error":"#NUM!"}},{"$f":"S$8+S$9*LOG('Grunddaten KS'!$H16)+S$10*LOG('Grunddaten KS'!$L16)+S$11*LOG('Grunddaten KS'!$N16)","v":{"$error":"#NUM!"}},{"$f":"T$8+T$9*LOG('Grunddaten KS'!$H16)+T$10*LOG('Grunddaten KS'!$L16)+T$11*LOG('Grunddaten KS'!$N16)","v":{"$error":"#NUM!"}},{"$f":"U$8+U$9*LOG('Grunddaten KS'!$H16)+U$10*LOG('Grunddaten KS'!$L16)+U$11*LOG('Grunddaten KS'!$N16)","v":{"$error":"#NUM!"}},{"$f":"V$8+V$9*LOG('Grunddaten KS'!$H16)+V$10*LOG('Grunddaten KS'!$L16)+V$11*LOG('Grunddaten KS'!$N16)","v":{"$error":"#NUM!"}},{"$error":"#NUM!"}]
[]
[null,"Oktav-Frequenz fOkt [Hz]",null,null,null,null,null,null,"SLWA "]
[null,125,250,500,1000,2000,4000,8000,"Summe"]
[{"$f":"A16","v":"ZUL5503"},{"$f":"10*LOG(10^(0.1*B16)+10^(0.1*C16)+10^(0.1*D16))","v":{"$error":"#NUM!"}},{"$f":"10*LOG(10^(0.1*E16)+10^(0.1*F16)+10^(0.1*G16))","v":{"$error":"#NUM!"}},{"$f":"10*LOG(10^(0.1*H16)+10^(0.1*I16)+10^(0.1*J16))","v":{"$error":"#NUM!"}},{"$f":"10*LOG(10^(0.1*K16)+10^(0.1*L16)+10^(0.1*M16))","v":{"$error":"#NUM!"}},{"$f":"10*LOG(10^(0.1*N16)+10^(0.1*O16)+10^(0.1*P16))","v":{"$error":"#NUM!"}},{"$f":"10*LOG(10^(0.1*Q16)+10^(0.1*R16)+10^(0.1*S16))","v":{"$error":"#NUM!"}},{"$f":"10*LOG(10^(0.1*T16)+10^(0.1*U16)+10^(0.1*V16))","v":{"$error":"#NUM!"}},{"$f":"10*LOG(10^(0.1*B27)+10^(0.1*C27)+10^(0.1*D27)+10^(0.1*E27)+10^(0.1*F27)+10^(0.1*G27)+10^(0.1*H27))","v":{"$error":"#NUM!"}}]
["ZUL7503",{"$error":"#NUM!"},{"$error":"#NUM!"},{"$error":"#NUM!"},{"$error":"#NUM!"},{"$error":"#NUM!"},{"$error":"#NUM!"},{"$error":"#NUM!"},{"$f":"10*LOG(10^(0.1*B28)+10^(0.1*C28)+10^(0.1*D28)+10^(0.1*E28)+10^(0.1*F28)+10^(0.1*G28)+10^(0.1*H28))","v":{"$error":"#NUM!"}}]
["ZUL9503",{"$error":"#NUM!"},{"$error":"#NUM!"},{"$error":"#NUM!"},{"$error":"#NUM!"},{"$error":"#NUM!"},{"$error":"#NUM!"},{"$error":"#NUM!"},{"$error":"#NUM!"}]
["ZUL11503",{"$error":"#NUM!"},{"$error":"#NUM!"},{"$error":"#NUM!"},{"$error":"#NUM!"},{"$error":"#NUM!"},{"$error":"#NUM!"},{"$error":"#NUM!"},{"$error":"#NUM!"}]
["ABL5503",{"$error":"#NUM!"},{"$error":"#NUM!"},{"$error":"#NUM!"},{"$error":"#NUM!"},{"$error":"#NUM!"},{"$error":"#NUM!"},{"$error":"#NUM!"},{"$error":"#NUM!"}]
["ABL7503",{"$error":"#NUM!"},{"$error":"#NUM!"},{"$error":"#NUM!"},{"$error":"#NUM!"},{"$error":"#NUM!"},{"$error":"#NUM!"},{"$error":"#NUM!"},{"$error":"#NUM!"}]
["ABL9503",{"$error":"#NUM!"},{"$error":"#NUM!"},{"$error":"#NUM!"},{"$error":"#NUM!"},{"$error":"#NUM!"},{"$error":"#NUM!"},{"$error":"#NUM!"},{"$error":"#NUM!"}]
["ABL11503",{"$error":"#NUM!"},{"$error":"#NUM!"},{"$error":"#NUM!"},{"$error":"#NUM!"},{"$error":"#NUM!"},{"$error":"#NUM!"},{"$error":"#NUM!"},{"$error":"#NUM!"}]
[null,2,3,4,5,6,7,8,9]
["Auswahl:"]
[{"$f":"CONCATENATE(\"ZUL\",#REF!,#REF!)","v":{"$error":"#REF!"}},{"$f":"IF($I$37=\"<25\",\"\",VLOOKUP($A$37,$A$27:$I$34,B$35,FALSE))","v":{"$error":"#REF!"}},{"$error":"#REF!"},{"$error":"#REF!"},{"$error":"#REF!"},{"$error":"#REF!"},{"$error":"#REF!"},{"$error":"#REF!"},{"$f":"IF(VLOOKUP(A37,A27:I34,I35,FALSE)<25,\"<25\",VLOOKUP(A37,A27:I34,I35,FALSE))","v":{"$error":"#REF!"}}]
[{"$f":"CONCATENATE(\"ABL\",#REF!,#REF!)","v":{"$error":"#REF!"}},{"$f":"IF($I$38=\"<25\",\"\",VLOOKUP($A$38,$A$27:$I$34,B$35,FALSE))","v":{"$error":"#REF!"}},{"$error":"#REF!"},{"$error":"#REF!"},{"$error":"#REF!"},{"$error":"#REF!"},{"$error":"#REF!"},{"$error":"#REF!"},{"$f":"IF(VLOOKUP(A38,A27:I34,I35,FALSE)<25,\"<25\",VLOOKUP(A38,A27:I34,I35,FALSE))","v":{"$error":"#REF!"}}]
[]
[]
[]
["T[s] nach VDI 2081",null,null,null,"Nachhallzeit","Richtungsfaktor","Raumvolumen","äqu. Absorptionsfläche"]
["Raumart",null,"s",null,"t","Q","V","A"]
["Einzelbüro",null,0.5,null,"s",null,"m³","m²Sabine"]
["Großraumbüro",null,0.5,{"$f":"#REF!","v":{"$error":"#REF!"}},{"$f":"VLOOKUP(D45,'Lw ohne BVR KS'!$A$44:$C$67,3,FALSE)","v":{"$error":"#REF!"}},4,{"$f":"#REF!*#REF!*#REF!","v":{"$error":"#REF!"}},{"$f":"0.163*G45/E45","v":{"$error":"#REF!"}}]
["Werkstätten",null,1.5]
["Ruheraum, Pausenraum",null,1]
["Untersuchungsraum Krankenhaus",null,2]
["Rundfunk-, Fernsehstudio",null,0.5]
["Chemielabor",null,2]
["Wasch- und WC-Raum, Umkleide",null,2]
["Schwimmbad",null,2]
["EDV-Raum",null,1.5]
["Konzertsaal",null,1.5]
["Lesesaal",null,1]
["Museum",null,1.5]
["Küche",null,1.5]
["Theater, Kino",null,1]
["Klassen- Seminarraum",null,1]
["Gaststätte",null,1]
["kein Typ",null,"x"]
["Konferenzraum",null,1]
["Hotelzimmer",null,0.5]
["Hörsaal",null,1]
["Bettenzimmer Krankenhaus",null,1]
["Verkaufsraum",null,1]
["Sporthalle",null,2]

{"sheet":"Lw KS","index":21,"n_rows":182,"n_cols":24,"rows_kept":182,"cut":false,"hidden":true,"merged":[[138,1,138,2],[142,1,142,21],[154,1,154,21],[165,1,165,7],[132,1,132,2],[133,1,133,2],[134,1,134,2],[135,1,135,2],[136,1,136,2],[137,1,137,2],[131,1,131,2],[120,1,120,2],[121,1,121,2],[122,1,122,2],[123,1,123,2],[124,1,124,2],[125,1,125,2],[126,1,126,2],[127,1,127,2],[128,1,128,2],[129,1,129,2],[130,1,130,2],[119,1,119,2],[40,3,40,9],[108,0,108,1],[109,0,109,1],[110,0,110,1],[111,0,111,1],[113,1,113,3],[114,1,114,2],[115,1,115,2],[116,1,116,2],[117,1,117,2],[118,1,118,2],[1,0,1,1],[1,2,1,22],[21,0,21,1],[21,2,21,22],[28,0,28,1],[28,2,28,22]]}
[]
["Sammlung Konstanten K1-K4",null,"Terzfrequenzband fm [Hz]"]
["Konstante","Verkettung",100,125,160,200,250,315,400,500,630,800,1000,1250,1600,2000,2500,3150,4000,5000,6300,8000,10000]
["K1",{"$f":"CONCATENATE('Grunddaten KS'!$E$5,A4)","v":"550K1"},-36.542437216815316,-40.974733233743834,-44.704093362381407,-43.931553510590753,-48.422708448931324,-45.281883892478064,-42.407367423852193,-55.249461139791713,-64.283600868793883,-60.61237519708709,-66.28714149015488,-58.8644904604526,-60.271547705531901,-46.133326402711639,-24.993622958499358,-25.709164742193689,-17.891082664509963,-7.626048727521245,3.170453744035922,8.8901752823211915,9.4590378177524244]
["K2",{"$f":"CONCATENATE('Grunddaten KS'!$E$5,A5)","v":"550K2"},11.808135401048926,15.99877199787527,17.589484251042247,18.031615222502566,20.704168629882563,19.034283768477913,19.385743113782183,20.867666572667684,24.749989747221839,20.719445529839554,21.746176141762039,14.505136901903347,13.646818197494971,7.329827370730988,0.58783925294485184,2.0733831483857679,1.0152042879942427,-1.5781366207883909,-2.2317404822535711,-1.7277920868526961,1.6899874571426856]
["K3",{"$f":"CONCATENATE('Grunddaten KS'!$E$5,A6)","v":"550K3"},15.574715269668609,17.151503061680174,17.632665767287122,18.026154227982801,18.479273952460758,20.023289222809204,20.130978736917122,22.489419673617533,21.087485989926314,21.026854569357507,22.443597970526199,24.211214370405031,25.607584455135548,23.20078015955599,18.609218607760468,17.824207560782774,14.845921021829234,11.895404915179675,7.2427754150788655,4.1631844377240101,1.3837323309507989]
["K4",{"$f":"CONCATENATE('Grunddaten KS'!$E$5,A7)","v":"550K4"},1,1,1,1,1,1,1,1,1,1,1,1,1,1,1,1,1,1,1,1,1]
["K1",{"$f":"CONCATENATE('Grunddaten KS'!$E$6,A8)","v":"750K1"},-36.93916815255384,-38.904334392319846,-62.014892040320539,-39.310861740480988,-44.129794707273355,-41.562130385095585,-33.260888705566828,-48.000265892248287,-61.570706385550274,-65.160555756663101,-64.239649235359181,-55.008527456438138,-50.269294229136321,-60.052084439840101,-30.870460972829786,-25.422611905982301,-19.626313888886351,-11.313649499442953,-1.6514397710472581,7.5478024119214409,19.930695185893079]
["K2",{"$f":"CONCATENATE('Grunddaten KS'!$E$6,A9)","v":"750K2"},11.136981708028282,16.987495209979748,25.502868467240607,14.399889412994833,16.23901386008724,16.959437047632093,12.289535554260116,15.923223037910955,18.076960015845771,17.631939322763387,16.78667361836056,10.898777502826587,9.7778029227210457,18.698268884173931,9.024887821345434,6.3497993621536768,4.860438433918298,3.878878296934182,3.1181027942306936,1.3688158544899534,-2.5465771799309729]
["K3",{"$f":"CONCATENATE('Grunddaten KS'!$E$6,A10)","v":"750K3"},15.440991872470301,16.456022353179083,17.665084950412901,18.499207953427028,19.53687502400793,19.605169400682961,20.305740578305343,20.812570255177192,22.55911420606547,24.770247893661853,24.3482318128376,24.001019544037739,22.807501647549472,18.396691228185702,12.615060635048899,12.938238263293247,11.554275602218652,8.1890206507272474,4.3781517347620609,1.7038162340004623,0.1173280667856888]
["K4",{"$f":"CONCATENATE('Grunddaten KS'!$E$6,A11)","v":"750K4"},1,1,1,1,1,1,1,1,1,1,1,1,1,1,1,1,1,1,1,1,1]
["K1",{"$f":"CONCATENATE('Grunddaten KS'!$E$7,A12)","v":"950K1"},-38.761088507046885,-73.375343776610038,-86.157040380370887,-107.48445597321306,-116.7958039593158,-104.21711251570014,-114.09424142620483,-120.20214033409442,-109.07439396716548,-112.53342757012553,-93.532207821064688,-20.099646163526025,-11.010391658418941,-10.67861629150627,-5.9269831967611291,-14.353904893819971,-22.134256999482041,-20.936819101434139,0.62174123353300503,8.7064380321954342,5.1511178077056998]
["K2",{"$f":"CONCATENATE('Grunddaten KS'!$E$7,A13)","v":"950K2"},18.708406121347654,32.968854140319706,38.559066991611608,47.821421562734955,51.033467919267459,46.480126006201054,49.425732412228335,49.750914596357859,39.208252560931868,38.886962160416211,28.964575344031552,-6.224824307528765,-13.456464529846896,-14.035412715115354,-12.690340783893115,-6.217206800990386,0.59327071789863506,3.5939966713960563,-9.6465737343941427E-2,0.42770422678413134,4.8632561022645424]
["K3",{"$f":"CONCATENATE('Grunddaten KS'!$E$7,A14)","v":"950K3"},8.0921209974971138,14.865148628519313,18.230162048907662,20.864142172929697,22.366613517340042,22.683092924337497,23.045146436267999,23.433101331153225,27.415880670513367,29.086364721375013,28.767149792465236,25.224825029492056,27.739864632850121,27.08760575803641,22.793388382251738,20.767710521112541,17.625329713039569,13.83827545680249,6.4965476555280421,2.1406998507506931,0.16499137414920245]
["K4",{"$f":"CONCATENATE('Grunddaten KS'!$E$7,A15)","v":"950K4"},1,1,1,1,1,1,1,1,1,1,1,1,1,1,1,1,1,1,1,1,1]
["K1",{"$f":"CONCATENATE('Grunddaten KS'!$E$8,A16)","v":"1150K1"},-52.343435401293071,-86.20553841918381,-101.76081338429647,-111.9663100635327,-125.06702967045753,-124.16970639307789,-147.07269443916923,-145.28096091123317,-148.89222144817523,-137.00907830889415,-142.80423624433456,-123.07381678533568,-105.38528138232961,-79.755518251662352,-51.356320384939515,-34.19465049739879,-38.87602497842915,-35.709758485783937,-3.9722896464028756,7.61564668313504,25.405988352924414]
["K2",{"$f":"CONCATENATE('Grunddaten KS'!$E$8,A17)","v":"1150K2"},23.527389821877648,36.127418994700029,42.947789969746694,46.008737876403437,51.283188177131152,53.036589694458883,62.31326352913986,58.850976894176583,59.457475148209483,51.419853574182838,51.940234408538316,41.027252587464574,31.951531945448735,20.419971863814808,9.0629578913273345,2.2916537072425185,5.3129079043410208,5.8379236847199119,-1.1258401717614528,-1.5104425347816106,-6.3923953522045336]
["K3",{"$f":"CONCATENATE('Grunddaten KS'!$E$8,A18)","v":"1150K3"},10.700593501933065,18.237228014836997,20.779601658699544,23.272782048290608,24.986648807586278,24.866337632412733,24.623698883891819,24.39343289613705,25.953431977906156,26.487773875180071,28.957473255261256,27.824407779175917,27.792172832110552,26.515426133739023,23.59759115924815,22.254430569911168,21.492267462004367,19.056560965736242,9.9489714994261682,4.6207887728730768,1.5285199839827552]
["K4",{"$f":"CONCATENATE('Grunddaten KS'!$E$8,A19)","v":"1150K4"},1,1,1,1,1,1,1,1,1,1,1,1,1,1,1,1,1,1,1,1,1]
[null,null,2,3,4,5,6,7,8,9,10,11,12,13,14,15,16,17,18,19,20,21,22]
[]
["Auswahl Konstanten K1-K4",null,"Terzfrequenzband fm [Hz]"]
["Konstante","Verkettung",100,125,160,200,250,315,400,500,630,800,1000,1250,1600,2000,2500,3150,4000,5000,6300,8000,10000]
["K1",{"$f":"CONCATENATE('Auslegung KS'!$D$9,A24)","v":"750K1"},{"$f":"VLOOKUP($B24,$B$4:$W$19,C$20,FALSE)","v":-36.93916815255384},{"$f":"VLOOKUP($B24,$B$4:$W$19,D$20,FALSE)","v":-38.904334392319846},{"$f":"VLOOKUP($B24,$B$4:$W$19,E$20,FALSE)","v":-62.014892040320539},-39.310861740480988,-44.129794707273355,-41.562130385095585,-33.260888705566828,-48.000265892248287,-61.570706385550274,-65.160555756663101,-64.239649235359181,-55.008527456438138,-50.269294229136321,-60.052084439840101,-30.870460972829786,-25.422611905982301,-19.626313888886351,-11.313649499442953,-1.6514397710472581,7.5478024119214409,19.930695185893079]
["K2",{"$f":"CONCATENATE('Auslegung KS'!$D$9,A25)","v":"750K2"},{"$f":"VLOOKUP($B25,$B$4:$W$19,C$20,FALSE)","v":11.136981708028282},{"$f":"VLOOKUP($B25,$B$4:$W$19,D$20,FALSE)","v":16.987495209979748},25.502868467240607,14.399889412994833,16.23901386008724,16.959437047632093,12.289535554260116,15.923223037910955,18.076960015845771,17.631939322763387,16.78667361836056,10.898777502826587,9.7778029227210457,18.698268884173931,9.024887821345434,6.3497993621536768,4.860438433918298,3.878878296934182,3.1181027942306936,1.3688158544899534,-2.5465771799309729]
["K3",{"$f":"CONCATENATE('Auslegung KS'!$D$9,A26)","v":"750K3"},15.440991872470301,16.456022353179083,17.665084950412901,18.499207953427028,19.53687502400793,19.605169400682961,20.305740578305343,20.812570255177192,22.55911420606547,24.770247893661853,24.3482318128376,24.001019544037739,22.807501647549472,18.396691228185702,12.615060635048899,12.938238263293247,11.554275602218652,8.1890206507272474,4.3781517347620609,1.7038162340004623,0.1173280667856888]
["K4",{"$f":"CONCATENATE('Auslegung KS'!$D$9,A27)","v":"750K4"},1,1,1,1,1,1,1,1,1,1,1,1,1,1,1,1,1,1,1,1,1]
[]
["Berechnung LWA",null,"Terzfrequenzband fm [Hz]",null,null,null,null,null,null,null,null,null,null,null,null,null,null,null,null,null,null,null,null,"SLWA "]
[null,"Dp",100,125,160,200,250,315,400,500,630,800,1000,1250,1600,2000,2500,3150,4000,5000,6300,8000,10000,"[dB(A)]"]
[null,50,{"$f":"C$24+C$25*LOG('Auslegung KS'!$D$21)+'Lw KS'!C$26*LOG($B31)","v":8.2160117367484276},{"$f":"D$24+D$25*LOG('Auslegung KS'!$D$21)+'Lw KS'!D$26*LOG($B31)","v":17.915198786971832},{"$f":"E$24+E$25*LOG('Auslegung KS'!$D$21)+'Lw KS'!E$26*LOG($B31)","v":11.326165964847299},{"$f":"F$24+F$25*LOG('Auslegung KS'!$D$21)+'Lw KS'!F$26*LOG($B31)","v":16.583717854799865},{"$f":"G$24+G$25*LOG('Auslegung KS'!$D$21)+'Lw KS'!G$26*LOG($B31)","v":16.652367385262739},{"$f":"H$24+H$25*LOG('Auslegung KS'!$D$21)+'Lw KS'!H$26*LOG($B31)","v":20.560039190943062},{"$f":"I$24+I$25*LOG('Auslegung KS'!$D$21)+'Lw KS'!I$26*LOG($B31)","v":22.11750772671164},{"$f":"J$24+J$25*LOG('Auslegung KS'!$D$21)+'Lw KS'!J$26*LOG($B31)","v":14.412744998196771},{"$f":"K$24+K$25*LOG('Auslegung KS'!$D$21)+'Lw KS'!K$26*LOG($B31)","v":7.4687648114490415},{"$f":"L$24+L$25*LOG('Auslegung KS'!$D$21)+'Lw KS'!L$26*LOG($B31)","v":6.8794884422835665},{"$f":"M$24+M$25*LOG('Auslegung KS'!$D$21)+'Lw KS'!M$26*LOG($B31)","v":5.6473212234452816},{"$f":"N$24+N$25*LOG('Auslegung KS'!$D$21)+'Lw KS'!N$26*LOG($B31)","v":4.2851808835991179},{"$f":"O$24+O$25*LOG('Auslegung KS'!$D$21)+'Lw KS'!O$26*LOG($B31)","v":5.0921608179066666},{"$f":"P$24+P$25*LOG('Auslegung KS'!$D$21)+'Lw KS'!P$26*LOG($B31)","v":2.9711401030999873},{"$f":"Q$24+Q$25*LOG('Auslegung KS'!$D$21)+'Lw KS'!Q$26*LOG($B31)","v":5.8951623499617156},{"$f":"R$24+R$25*LOG('Auslegung KS'!$D$21)+'Lw KS'!R$26*LOG($B31)","v":7.3471854621565527},{"$f":"S$24+S$25*LOG('Auslegung KS'!$D$21)+'Lw KS'!S$26*LOG($B31)","v":8.2617928882637504},{"$f":"T$24+T$25*LOG('Auslegung KS'!$D$21)+'Lw KS'!T$26*LOG($B31)","v":9.1893488279920224},{"$f":"U$24+U$25*LOG('Auslegung KS'!$D$21)+'Lw KS'!U$26*LOG($B31)","v":11.084471818579463},{"$f":"V$24+V$25*LOG('Auslegung KS'!$D$21)+'Lw KS'!V$26*LOG($B31)","v":12.768112164626992},{"$f":"W$24+W$25*LOG('Auslegung KS'!$D$21)+'Lw KS'!W$26*LOG($B31)","v":15.803473809599366},{"$f":"10*LOG(10^(0.1*C31)+10^(0.1*D31)+10^(0.1*E31)+10^(0.1*F31)+10^(0.1*G31)+10^(0.1*H31)+10^(0.1*I31)+10^(0.1*J31)+10^(0.1*K31)+10^(0.1*L31)+10^(0.1*M31)+10^(0.1*N31)+10^(0.1*O31)+10^(0.1*P31)+10^(0.1*Q31)+10^(0.1*R31)+10^(0.1*S31)+10^(0.1*T31)+10^(0.1*U31)+10^(0.1*V31)+10^(0.1*W31))","v":27.739621185133878}]
[null,75,{"$f":"C$24+C$25*LOG('Auslegung KS'!$D$21)+'Lw KS'!C$26*LOG($B32)","v":10.935035436640266},{"$f":"D$24+D$25*LOG('Auslegung KS'!$D$21)+'Lw KS'!D$26*LOG($B32)","v":20.812960482191574},{"$f":"E$24+E$25*LOG('Auslegung KS'!$D$21)+'Lw KS'!E$26*LOG($B32)","v":14.436833015091075},{"$f":"F$24+F$25*LOG('Auslegung KS'!$D$21)+'Lw KS'!F$26*LOG($B32)","v":19.841266674851706},{"$f":"G$24+G$25*LOG('Auslegung KS'!$D$21)+'Lw KS'!G$26*LOG($B32)","v":20.092640306253795},{"$f":"H$24+H$25*LOG('Auslegung KS'!$D$21)+'Lw KS'!H$26*LOG($B32)","v":24.012338154709244},{"$f":"I$24+I$25*LOG('Auslegung KS'!$D$21)+'Lw KS'!I$26*LOG($B32)","v":25.693171151203469},{"$f":"J$24+J$25*LOG('Auslegung KS'!$D$21)+'Lw KS'!J$26*LOG($B32)","v":18.077656698615748},{"$f":"K$24+K$25*LOG('Auslegung KS'!$D$21)+'Lw KS'!K$26*LOG($B32)","v":11.44122763517602},{"$f":"L$24+L$25*LOG('Auslegung KS'!$D$21)+'Lw KS'!L$26*LOG($B32)","v":11.241312580999825},{"$f":"M$24+M$25*LOG('Auslegung KS'!$D$21)+'Lw KS'!M$26*LOG($B32)","v":9.93483201914745},{"$f":"N$24+N$25*LOG('Auslegung KS'!$D$21)+'Lw KS'!N$26*LOG($B32)","v":8.5115506337287385},{"$f":"O$24+O$25*LOG('Auslegung KS'!$D$21)+'Lw KS'!O$26*LOG($B32)","v":9.1083624989381775},{"$f":"P$24+P$25*LOG('Auslegung KS'!$D$21)+'Lw KS'!P$26*LOG($B32)","v":6.2106366239298154},{"$f":"Q$24+Q$25*LOG('Auslegung KS'!$D$21)+'Lw KS'!Q$26*LOG($B32)","v":8.1165642602512378},{"$f":"R$24+R$25*LOG('Auslegung KS'!$D$21)+'Lw KS'!R$26*LOG($B32)","v":9.6254961279022524},{"$f":"S$24+S$25*LOG('Auslegung KS'!$D$21)+'Lw KS'!S$26*LOG($B32)","v":10.296399826534776},{"$f":"T$24+T$25*LOG('Auslegung KS'!$D$21)+'Lw KS'!T$26*LOG($B32)","v":10.631363784811558},{"$f":"U$24+U$25*LOG('Auslegung KS'!$D$21)+'Lw KS'!U$26*LOG($B32)","v":11.85542606989053},{"$f":"V$24+V$25*LOG('Auslegung KS'!$D$21)+'Lw KS'!V$26*LOG($B32)","v":13.068139310471643},{"$f":"W$24+W$25*LOG('Auslegung KS'!$D$21)+'Lw KS'!W$26*LOG($B32)","v":15.824134256602227},{"$f":"10*LOG(10^(0.1*C32)+10^(0.1*D32)+10^(0.1*E32)+10^(0.1*F32)+10^(0.1*G32)+10^(0.1*H32)+10^(0.1*I32)+10^(0.1*J32)+10^(0.1*K32)+10^(0.1*L32)+10^(0.1*M32)+10^(0.1*N32)+10^(0.1*O32)+10^(0.1*P32)+10^(0.1*Q32)+10^(0.1*R32)+10^(0.1*S32)+10^(0.1*T32)+10^(0.1*U32)+10^(0.1*V32)+10^(0.1*W32))","v":30.844662717237142}]
[null,100,{"$f":"C$24+C$25*LOG('Auslegung KS'!$D$21)+'Lw KS'!C$26*LOG($B33)","v":12.864213453165732},{"$f":"D$24+D$25*LOG('Auslegung KS'!$D$21)+'Lw KS'!D$26*LOG($B33)","v":22.868955124595711},{"$f":"E$24+E$25*LOG('Auslegung KS'!$D$21)+'Lw KS'!E$26*LOG($B33)","v":16.643886410873954},{"$f":"F$24+F$25*LOG('Auslegung KS'!$D$21)+'Lw KS'!F$26*LOG($B33)","v":22.152534344807091},{"$f":"G$24+G$25*LOG('Auslegung KS'!$D$21)+'Lw KS'!G$26*LOG($B33)","v":22.533552789027592},{"$f":"H$24+H$25*LOG('Auslegung KS'!$D$21)+'Lw KS'!H$26*LOG($B33)","v":26.461783250622272},{"$f":"I$24+I$25*LOG('Auslegung KS'!$D$21)+'Lw KS'!I$26*LOG($B33)","v":28.230144724952826},{"$f":"J$24+J$25*LOG('Auslegung KS'!$D$21)+'Lw KS'!J$26*LOG($B33)","v":20.677952931869065},{"$f":"K$24+K$25*LOG('Auslegung KS'!$D$21)+'Lw KS'!K$26*LOG($B33)","v":14.259734863084191},{"$f":"L$24+L$25*LOG('Auslegung KS'!$D$21)+'Lw KS'!L$26*LOG($B33)","v":14.336076058308336},{"$f":"M$24+M$25*LOG('Auslegung KS'!$D$21)+'Lw KS'!M$26*LOG($B33)","v":12.976869340489394},{"$f":"N$24+N$25*LOG('Auslegung KS'!$D$21)+'Lw KS'!N$26*LOG($B33)","v":11.51020769287193},{"$f":"O$24+O$25*LOG('Auslegung KS'!$D$21)+'Lw KS'!O$26*LOG($B33)","v":11.95790293997473},{"$f":"P$24+P$25*LOG('Auslegung KS'!$D$21)+'Lw KS'!P$26*LOG($B33)","v":8.5090959837523314},{"$f":"Q$24+Q$25*LOG('Auslegung KS'!$D$21)+'Lw KS'!Q$26*LOG($B33)","v":9.6926739982313457},{"$f":"R$24+R$25*LOG('Auslegung KS'!$D$21)+'Lw KS'!R$26*LOG($B33)","v":11.241983270455275},{"$f":"S$24+S$25*LOG('Auslegung KS'!$D$21)+'Lw KS'!S$26*LOG($B33)","v":11.739976422700076},{"$f":"T$24+T$25*LOG('Auslegung KS'!$D$21)+'Lw KS'!T$26*LOG($B33)","v":11.654489678972698},{"$f":"U$24+U$25*LOG('Auslegung KS'!$D$21)+'Lw KS'!U$26*LOG($B33)","v":12.402426816311138},{"$f":"V$24+V$25*LOG('Auslegung KS'!$D$21)+'Lw KS'!V$26*LOG($B33)","v":13.281011958160372},{"$f":"W$24+W$25*LOG('Auslegung KS'!$D$21)+'Lw KS'!W$26*LOG($B33)","v":15.838793077035124},33.153946849923827]
[null,125,{"$f":"C$24+C$25*LOG('Auslegung KS'!$D$21)+'Lw KS'!C$26*LOG($B34)","v":14.360600176384121},{"$f":"D$24+D$25*LOG('Auslegung KS'!$D$21)+'Lw KS'!D$26*LOG($B34)","v":24.46370846490316},{"$f":"E$24+E$25*LOG('Auslegung KS'!$D$21)+'Lw KS'!E$26*LOG($B34)","v":18.355810023206885},{"$f":"F$24+F$25*LOG('Auslegung KS'!$D$21)+'Lw KS'!F$26*LOG($B34)","v":23.945292828212441},{"$f":"G$24+G$25*LOG('Auslegung KS'!$D$21)+'Lw KS'!G$26*LOG($B34)","v":24.426871601740967},{"$f":"H$24+H$25*LOG('Auslegung KS'!$D$21)+'Lw KS'!H$26*LOG($B34)","v":28.361720472267603},{"$f":"I$24+I$25*LOG('Auslegung KS'!$D$21)+'Lw KS'!I$26*LOG($B34)","v":30.197974308534615},{"$f":"J$24+J$25*LOG('Auslegung KS'!$D$21)+'Lw KS'!J$26*LOG($B34)","v":22.69489938602937},{"$f":"K$24+K$25*LOG('Auslegung KS'!$D$21)+'Lw KS'!K$26*LOG($B34)","v":16.445938914244223},{"$f":"L$24+L$25*LOG('Auslegung KS'!$D$21)+'Lw KS'!L$26*LOG($B34)","v":16.736561103895887},{"$f":"M$24+M$25*LOG('Auslegung KS'!$D$21)+'Lw KS'!M$26*LOG($B34)","v":15.336456802194654},{"$f":"N$24+N$25*LOG('Auslegung KS'!$D$21)+'Lw KS'!N$26*LOG($B34)","v":13.83614680909124},{"$f":"O$24+O$25*LOG('Auslegung KS'!$D$21)+'Lw KS'!O$26*LOG($B34)","v":14.168178221320012},{"$f":"P$24+P$25*LOG('Auslegung KS'!$D$21)+'Lw KS'!P$26*LOG($B34)","v":10.291919569981005},{"$f":"Q$24+Q$25*LOG('Auslegung KS'!$D$21)+'Lw KS'!Q$26*LOG($B34)","v":10.915199688471354},{"$f":"R$24+R$25*LOG('Auslegung KS'!$D$21)+'Lw KS'!R$26*LOG($B34)","v":12.495828108852354},{"$f":"S$24+S$25*LOG('Auslegung KS'!$D$21)+'Lw KS'!S$26*LOG($B34)","v":12.859701421609751},{"$f":"T$24+T$25*LOG('Auslegung KS'!$D$21)+'Lw KS'!T$26*LOG($B34)","v":12.448087776757916},{"$f":"U$24+U$25*LOG('Auslegung KS'!$D$21)+'Lw KS'!U$26*LOG($B34)","v":12.826713557878172},{"$f":"V$24+V$25*LOG('Auslegung KS'!$D$21)+'Lw KS'!V$26*LOG($B34)","v":13.446128811560694},{"$f":"W$24+W$25*LOG('Auslegung KS'!$D$21)+'Lw KS'!W$26*LOG($B34)","v":15.850163341513536},34.98590481968067]
[null,150,{"$f":"C$24+C$25*LOG('Auslegung KS'!$D$21)+'Lw KS'!C$26*LOG($B35)","v":15.583237153057571},{"$f":"D$24+D$25*LOG('Auslegung KS'!$D$21)+'Lw KS'!D$26*LOG($B35)","v":25.766716819815453},{"$f":"E$24+E$25*LOG('Auslegung KS'!$D$21)+'Lw KS'!E$26*LOG($B35)","v":19.75455346111773},{"$f":"F$24+F$25*LOG('Auslegung KS'!$D$21)+'Lw KS'!F$26*LOG($B35)","v":25.410083164858928},{"$f":"G$24+G$25*LOG('Auslegung KS'!$D$21)+'Lw KS'!G$26*LOG($B35)","v":25.973825710018641},{"$f":"H$24+H$25*LOG('Auslegung KS'!$D$21)+'Lw KS'!H$26*LOG($B35)","v":29.914082214388454},{"$f":"I$24+I$25*LOG('Auslegung KS'!$D$21)+'Lw KS'!I$26*LOG($B35)","v":31.805808149444655},{"$f":"J$24+J$25*LOG('Auslegung KS'!$D$21)+'Lw KS'!J$26*LOG($B35)","v":24.342864632288041},{"$f":"K$24+K$25*LOG('Auslegung KS'!$D$21)+'Lw KS'!K$26*LOG($B35)","v":18.232197686811169},{"$f":"L$24+L$25*LOG('Auslegung KS'!$D$21)+'Lw KS'!L$26*LOG($B35)","v":18.697900197024587},{"$f":"M$24+M$25*LOG('Auslegung KS'!$D$21)+'Lw KS'!M$26*LOG($B35)","v":17.264380136191562},{"$f":"N$24+N$25*LOG('Auslegung KS'!$D$21)+'Lw KS'!N$26*LOG($B35)","v":15.736577443001551},{"$f":"O$24+O$25*LOG('Auslegung KS'!$D$21)+'Lw KS'!O$26*LOG($B35)","v":15.974104621006241},{"$f":"P$24+P$25*LOG('Auslegung KS'!$D$21)+'Lw KS'!P$26*LOG($B35)","v":11.748592504582163},{"$f":"Q$24+Q$25*LOG('Auslegung KS'!$D$21)+'Lw KS'!Q$26*LOG($B35)","v":11.914075908520868},{"$f":"R$24+R$25*LOG('Auslegung KS'!$D$21)+'Lw KS'!R$26*LOG($B35)","v":13.520293936200975},{"$f":"S$24+S$25*LOG('Auslegung KS'!$D$21)+'Lw KS'!S$26*LOG($B35)","v":13.774583360971098},{"$f":"T$24+T$25*LOG('Auslegung KS'!$D$21)+'Lw KS'!T$26*LOG($B35)","v":13.096504635792236},{"$f":"U$24+U$25*LOG('Auslegung KS'!$D$21)+'Lw KS'!U$26*LOG($B35)","v":13.173381067622202},{"$f":"V$24+V$25*LOG('Auslegung KS'!$D$21)+'Lw KS'!V$26*LOG($B35)","v":13.581039104005022},{"$f":"W$24+W$25*LOG('Auslegung KS'!$D$21)+'Lw KS'!W$26*LOG($B35)","v":15.859453524037985},36.502449346226861]
[null,175,{"$f":"C$24+C$25*LOG('Auslegung KS'!$D$21)+'Lw KS'!C$26*LOG($B36)","v":16.616961987631843},{"$f":"D$24+D$25*LOG('Auslegung KS'!$D$21)+'Lw KS'!D$26*LOG($B36)","v":26.868394686450397},{"$f":"E$24+E$25*LOG('Auslegung KS'!$D$21)+'Lw KS'!E$26*LOG($B36)","v":20.937174187099934},{"$f":"F$24+F$25*LOG('Auslegung KS'!$D$21)+'Lw KS'!F$26*LOG($B36)","v":26.648545748049973},{"$f":"G$24+G$25*LOG('Auslegung KS'!$D$21)+'Lw KS'!G$26*LOG($B36)","v":27.281756772290482},{"$f":"H$24+H$25*LOG('Auslegung KS'!$D$21)+'Lw KS'!H$26*LOG($B36)","v":31.226585365928504},{"$f":"I$24+I$25*LOG('Auslegung KS'!$D$21)+'Lw KS'!I$26*LOG($B36)","v":33.165212292234258},{"$f":"J$24+J$25*LOG('Auslegung KS'!$D$21)+'Lw KS'!J$26*LOG($B36)","v":25.73619939483374},{"$f":"K$24+K$25*LOG('Auslegung KS'!$D$21)+'Lw KS'!K$26*LOG($B36)","v":19.742457959817607},{"$f":"L$24+L$25*LOG('Auslegung KS'!$D$21)+'Lw KS'!L$26*LOG($B36)","v":20.356188771859706},{"$f":"M$24+M$25*LOG('Auslegung KS'!$D$21)+'Lw KS'!M$26*LOG($B36)","v":18.894416089243002},{"$f":"N$24+N$25*LOG('Auslegung KS'!$D$21)+'Lw KS'!N$26*LOG($B36)","v":17.343368649336476},{"$f":"O$24+O$25*LOG('Auslegung KS'!$D$21)+'Lw KS'!O$26*LOG($B36)","v":17.500993635804598},{"$f":"P$24+P$25*LOG('Auslegung KS'!$D$21)+'Lw KS'!P$26*LOG($B36)","v":12.980191922134857},{"$f":"Q$24+Q$25*LOG('Auslegung KS'!$D$21)+'Lw KS'!Q$26*LOG($B36)","v":12.758613719032915},{"$f":"R$24+R$25*LOG('Auslegung KS'!$D$21)+'Lw KS'!R$26*LOG($B36)","v":14.386467451404418},{"$f":"S$24+S$25*LOG('Auslegung KS'!$D$21)+'Lw KS'!S$26*LOG($B36)","v":14.548105019046956},{"$f":"T$24+T$25*LOG('Auslegung KS'!$D$21)+'Lw KS'!T$26*LOG($B36)","v":13.644733278577217},{"$f":"U$24+U$25*LOG('Auslegung KS'!$D$21)+'Lw KS'!U$26*LOG($B36)","v":13.466484270780224},{"$f":"V$24+V$25*LOG('Auslegung KS'!$D$21)+'Lw KS'!V$26*LOG($B36)","v":13.695104130991876},{"$f":"W$24+W$25*LOG('Auslegung KS'!$D$21)+'Lw KS'!W$26*LOG($B36)","v":15.867308261442853},37.795758120108566]
[null,200,{"$f":"C$24+C$25*LOG('Auslegung KS'!$D$21)+'Lw KS'!C$26*LOG($B37)","v":17.51241516958304},{"$f":"D$24+D$25*LOG('Auslegung KS'!$D$21)+'Lw KS'!D$26*LOG($B37)","v":27.822711462219591},{"$f":"E$24+E$25*LOG('Auslegung KS'!$D$21)+'Lw KS'!E$26*LOG($B37)","v":21.961606856900609},{"$f":"F$24+F$25*LOG('Auslegung KS'!$D$21)+'Lw KS'!F$26*LOG($B37)","v":27.721350834814313},{"$f":"G$24+G$25*LOG('Auslegung KS'!$D$21)+'Lw KS'!G$26*LOG($B37)","v":28.414738192792445},{"$f":"H$24+H$25*LOG('Auslegung KS'!$D$21)+'Lw KS'!H$26*LOG($B37)","v":32.363527310301478},{"$f":"I$24+I$25*LOG('Auslegung KS'!$D$21)+'Lw KS'!I$26*LOG($B37)","v":34.342781723194008},{"$f":"J$24+J$25*LOG('Auslegung KS'!$D$21)+'Lw KS'!J$26*LOG($B37)","v":26.943160865541358},{"$f":"K$24+K$25*LOG('Auslegung KS'!$D$21)+'Lw KS'!K$26*LOG($B37)","v":21.05070491471934},{"$f":"L$24+L$25*LOG('Auslegung KS'!$D$21)+'Lw KS'!L$26*LOG($B37)","v":21.792663674333106},{"$f":"M$24+M$25*LOG('Auslegung KS'!$D$21)+'Lw KS'!M$26*LOG($B37)","v":20.306417457533506},{"$f":"N$24+N$25*LOG('Auslegung KS'!$D$21)+'Lw KS'!N$26*LOG($B37)","v":18.735234502144742},{"$f":"O$24+O$25*LOG('Auslegung KS'!$D$21)+'Lw KS'!O$26*LOG($B37)","v":18.823645062042793},{"$f":"P$24+P$25*LOG('Auslegung KS'!$D$21)+'Lw KS'!P$26*LOG($B37)","v":14.047051864404672},{"$f":"Q$24+Q$25*LOG('Auslegung KS'!$D$21)+'Lw KS'!Q$26*LOG($B37)","v":13.490185646500976},{"$f":"R$24+R$25*LOG('Auslegung KS'!$D$21)+'Lw KS'!R$26*LOG($B37)","v":15.136781078753998},{"$f":"S$24+S$25*LOG('Auslegung KS'!$D$21)+'Lw KS'!S$26*LOG($B37)","v":15.218159957136402},{"$f":"T$24+T$25*LOG('Auslegung KS'!$D$21)+'Lw KS'!T$26*LOG($B37)","v":14.119630529953376},{"$f":"U$24+U$25*LOG('Auslegung KS'!$D$21)+'Lw KS'!U$26*LOG($B37)","v":13.720381814042813},{"$f":"V$24+V$25*LOG('Auslegung KS'!$D$21)+'Lw KS'!V$26*LOG($B37)","v":13.793911751693752},{"$f":"W$24+W$25*LOG('Auslegung KS'!$D$21)+'Lw KS'!W$26*LOG($B37)","v":15.874112344470884},38.922983526620946]
[null,1,2,3,4,5,6,7,8,9,10,11,12,13,14,15,16,17,18,19,20,21,22,23]
[null,null,null,null,null,null,null,null,null,null,null,null,null,null,null,null,null,null,null,null,null,null,{"$f":"'Auslegung KS'!$D$114","v":" "},{"$f":"IF(W39>0,VLOOKUP($W$39,$B$31:$X$37,$X$38,FALSE),\"\")","v":{"$error":"#N/A"}}]
[null,null,null,null,null,null,null,null,null,null,null,null,null,null,null,null,null,null,null,null,null,null,{"$f":"'Auslegung KS'!$E$114","v":" "},{"$f":"IF(W40>0,VLOOKUP($W$40,$B$31:$X$37,$X$38,FALSE),\"\")","v":{"$error":"#N/A"}}]
["Baugröße","V°nenn","Verkettung","Frequenz f [Hz]"]
[null,"m³/h",null,125,250,500,1000,2000,4000,8000]
[550,15,{"$f":"CONCATENATE(A43,B43)","v":"55015"},{"$f":"D$46","v":10.678474225133099},{"$f":"E$46","v":5.7367603484122576},{"$f":"F$46","v":3.5433054981263736},15.22163891859617,14.598814725469049,12.867239779958055,11.354507954784641]
[550,20,{"$f":"CONCATENATE(A44,B44)","v":"55020"},{"$f":"D$46","v":10.678474225133099},5.7367603484122576,3.5433054981263736,15.22163891859617,14.598814725469049,12.867239779958055,11.354507954784641]
[550,25,{"$f":"CONCATENATE(A45,B45)","v":"55025"},10.678474225133099,5.7367603484122576,3.5433054981263736,15.22163891859617,14.598814725469049,12.867239779958055,11.354507954784641]
[550,30,{"$f":"CONCATENATE(A46,B46)","v":"55030"},10.678474225133099,5.7367603484122576,3.5433054981263736,15.22163891859617,14.598814725469049,12.867239779958055,11.354507954784641]
[550,35,{"$f":"CONCATENATE(A47,B47)","v":"55035"},10.707168333657112,5.5540914429835153,3.3124427847775393,15.04106627527805,15.285127842520922,13.945939930619494,12.502369841025009]
[550,40,"55040",10.76499989939799,5.4310104348415225,3.1470073364479538,14.912820696375082,15.890584495897139,14.914214515038125,13.529953876856808]
[550,45,"55045",10.837020699313078,5.3450499152502342,3.0231732085894292,14.817146520464707,16.428410791562658,15.789917134637784,14.457472591565539]
[550,50,"55050",10.915421695666126,5.2833411721237038,2.9271426891830261,14.742811761871469,16.90973051942732,16.587677443233723,15.301163940143292]
[550,55,"55055",10.995988656339875,5.2381063764925493,2.8504740736511933,14.683071835518593,17.343609687422518,17.319310641578106,16.073988087300073]
[550,60,"55060",11.07640839013138,5.2044301114230747,2.7877606976862226,14.6336864742152,17.737374010218108,17.994354610381329,16.786326467890895]
[550,65,"55065",11.155412371768952,5.1790870648712621,2.7354033039729897,14.591883471791061,18.096948870428474,18.62055079793268,17.446559610152068]
[550,70,"55070",11.23232315733299,5.1598921428440336,2.6909253910380402,14.555788160719505,18.427152270116601,19.204232210693615,18.06151603833311]
[550,75,"55075",11.30680474017422,5.1453237001779693,2.6525736963960895,14.524094911927728,18.731929780237209,19.750625041377099,18.636813735443148]
[550,80,{"$f":"CONCATENATE(A56,B56)","v":"55080"},11.378720744987188,5.1342965038435846,2.6190757612019313,14.49587049504424,19.01453787466891,20.264080303039098,19.177118714938512]
[550,85,{"$f":"CONCATENATE(A57,B57)","v":"55085"},{"$f":"D56","v":11.378720744987188},{"$f":"E56","v":5.1342965038435846},2.6190757612019313,14.49587049504424,19.01453787466891,20.264080303039098,19.177118714938512]
[550,90,"55090",11.514846326552476,5.1199086796462119,2.563095742765833,14.447270613545243,19.523644481292514,21.206231415778465,20.167786948673658]
[750,15,"75015",{"$f":"D$62","v":9.9622450092573978},{"$f":"E$62","v":4.8991429796893913},4.079087544249818,16.005398907305086,17.582417795447789,14.755463171633503,10.752246721008518]
[750,20,"75020",{"$f":"D$62","v":9.9622450092573978},4.8991429796893913,4.079087544249818,16.005398907305086,17.582417795447789,14.755463171633503,10.752246721008518]
[750,25,"75025",9.9622450092573978,4.8991429796893913,4.079087544249818,16.005398907305086,17.582417795447789,14.755463171633503,10.752246721008518]
[750,30,"75030",9.9622450092573978,4.8991429796893913,4.079087544249818,16.005398907305086,17.582417795447789,14.755463171633503,10.752246721008518]
[750,35,"75035",9.6627911208678992,4.6843819674042226,4.0860495403850319,15.841680906339676,17.721188856191262,15.295977381945523,11.653770317429576]
[750,40,"75040",9.4146579798038115,4.5192943264653476,4.112044158163628,15.714811139231106,17.853273932490193,15.785189239666545,12.45174542700784]
[750,45,"75045",9.2026216134089598,4.3883483329329396,4.1488155112794844,15.613142878887993,17.976820005010659,16.231401943064697,13.167221315468728]
[750,50,"75050",9.0171755702562315,4.281945519801444,4.1917311171292333,15.529545018792026,18.091548149531313,16.64129640962463,13.815508486485061]
[750,55,"75055",8.852050503495116,4.1938261222546398,4.2380711916247558,15.45940223936287,18.197827875325299,17.020227263021134,14.408068899370429]
[750,60,"75060",8.7029257849005184,4.1197271866278893,4.2861846940896724,15.399590434373199,18.296275503909005,17.372509013295009,14.953693962867542]
[750,65,"75065",8.5667138106461405,4.0566404783702747,4.3350452816492115,15.347915120826617,18.387574887252157,17.701648421871763,15.459267310374477]
[750,70,"75070",8.4411400502108318,4.002379079605749,4.3840052175447592,15.302786150598809,18.47239768010008,18.010523562009656,15.930275266026451]
[750,75,"75075",8.3244851243520053,3.95531251718173,4.4326530350388458,15.263020409853592,18.551369795989139,18.301519688007712,16.371158354222008]
[750,80,"75080",8.2154201542636596,3.9141985515224258,4.4807282285923664,15.22771737623774,18.625059659580064,18.576632222107428,16.785559455012919]
[750,85,"75085",8.1128981065885277,3.8780727759071256,4.5280685691093101,15.19617794500466,18.693976693845023,18.837545223761015,17.176502870546919]
[750,90,"75090",8.0160799951773392,3.8461740592107794,4.5745767310282908,15.16784990797033,18.758574424772064,19.085691656872442,17.546526063746207]
[950,60,"95060",10.03978802281577,5.0503403349695839,8.919632204099921,9.4114388927030888,7.4419065509294002,11.475528994087924,11.88186559328274]
[950,75,"95075",9.5384593312631374,3.3555723357975538,7.2357528397091047,10.842340431002729,11.668426065131754,14.55347489117184,14.614695223102933]
[950,80,"95080",9.578656775133803,3.0616772453613477,6.9398790641008334,11.294437249814425,13.088249566797467,15.634138064398716,15.600501110776534]
[950,85,"95085",9.6685689297051969,2.8416140546277204,6.7160675808856727,11.716894315405858,14.478455378258852,16.702922240644575,16.58218053255597]
[950,90,"95090",9.7900764282221076,2.6740093348969971,6.5433460153652705,12.108117129558117,15.829482349941207,17.748406950675474,17.547298617266371]
[950,95,"95095",9.9310230672148325,2.5440625094652125,6.407222714386319,12.469187315210608,17.136426519668181,18.76411441485012,18.488540182329096]
[950,100,"950100",10.083323431146841,2.4415121878217314,6.2976765961824634,12.80247015103331,18.397400632972175,19.746812577829211,19.401974817679491]
[950,110,"950110",10.402392073372463,2.2920535953955978,6.1324830760616749,13.396974679999996,20.782489416548216,21.60974907734634,21.13972947699655]
[950,120,"950120",10.722859427669281,2.1898562788832949,6.013074160108868,13.913187976825805,22.995221545414779,23.340099602310932,22.759715895728306]
[950,130,"950130",11.034361303379418,2.1162717645740257,5.9214941843697613,14.368643906653404,25.052082679293839,24.948487526646822,24.269799944496377]
[950,140,"950140",11.33284573800867,2.0610235293472527,5.8479162330357441,14.776430346228745,26.970114856016984,26.447326276436833,25.680306234725954]
[950,150,"950150",{"$f":"AVERAGE(D85,D87)","v":11.610075673153236},{"$f":"AVERAGE(E85,E87)","v":2.0224768593029894},5.7910775915116774,15.130575781477184,28.710328558511165,27.805161488783842,26.961707628353739]
[950,160,"950160",11.887305608297803,1.9839301892587258,5.7342389499876107,15.484721216725621,30.450542261005346,29.162996701130851,28.243109021981525]
[950,170,{"$f":"CONCATENATE(A88,B88)","v":"950170"},{"$f":"D87","v":11.887305608297803},1.9839301892587258,5.7342389499876107,15.484721216725621,30.450542261005346,29.162996701130851,28.243109021981525]
[950,180,{"$f":"CONCATENATE(A89,B89)","v":"950180"},{"$f":"D88+1","v":12.887305608297803},2.983930189258726,6.7342389499876107,16.484721216725621,31.450542261005346,30.162996701130851,29.243109021981525]
[950,190,{"$f":"CONCATENATE(A90,B90)","v":"950190"},{"$f":"D89","v":12.887305608297803},2.983930189258726,6.7342389499876107,16.484721216725621,31.450542261005346,30.162996701130851,29.243109021981525]
[1150,60,"115060",8.1440681293870192,4.9201503514228921,12.218562606424777,15.943538620564897,12.774511670655141,8.9993462736259975,6.7629809127793497]
[1150,75,"115075",7.7863760696140201,3.2924671080862353,9.6205072970207546,14.482508624979777,14.430382878058339,11.900552533467261,10.452900333880935]
[1150,80,"115080",7.854229736851603,3.006243106079725,9.0558239618910079,14.239992694254449,15.064707539170229,12.926328226660294,11.705256959734893]
[1150,85,"115085",7.9716845251956556,2.7959257075436641,8.5847873210769645,14.069070526929746,15.706569232742629,13.949273605113069,12.940413751324206]
[1150,90,"115090",8.1223690923868439,2.6416098672665007,8.1853950658161061,13.950502377048483,16.34436564821409,14.958423350888589,14.149083780375491]
[1150,95,"115095",8.2946304544806964,2.5287580666063576,7.8413610987069262,13.870284914967067,16.970519289986974,15.946736513822202,15.325628671557478]
[1150,100,"1150100",8.4802929961839162,2.4468129131117577,7.5406552034802559,13.818294577566757,17.580359287208246,16.910004213797087,16.467023410204639]
[1150,110,"1150110",8.870869650356159,2.3470559589290771,7.0358123278255507,13.771771401972265,18.741873660893969,18.753758294802186,18.640607794061459]
[1150,120,"1150120",9.2668153163882732,2.3025678050200895,6.6230401721537451,13.773348148959141,19.821479063403284,20.48503719522926,20.671690830690334]
[1150,130,"1150130",9.6555262237050883,2.2916178704583046,6.2745338353598381,13.802839777906092,20.821824972917987,22.108824899031013,22.570174593008765]
[1150,140,"1150140",10.03151657497617,2.3018615439802756,5.9732566860965459,13.849025336269722,21.74932799022266,23.633571478338563,24.348317685652024]
[1150,150,"1150150",{"$f":"AVERAGE(D101,D103)","v":10.385179846051319},{"$f":"AVERAGE(E101,E103)","v":2.3306621404616497},5.7225591650416252,13.908591694648589,22.582212516974572,25.027941295238492,25.969856018387297]
[1150,160,"1150160",10.73884311712647,2.3594627369430241,5.4718616439867045,13.968158053027457,23.41509704372648,26.422311112138424,27.591394351122574]
[1150,170,"1150170",{"$f":"D103","v":10.73884311712647},{"$f":"E103","v":2.3594627369430241},5.4718616439867045,13.968158053027457,23.41509704372648,26.422311112138424,27.591394351122574]
[1150,180,"1150180",{"$f":"D104+1","v":11.73884311712647},{"$f":"E104+1","v":3.3594627369430241},6.4718616439867045,14.968158053027457,24.41509704372648,27.422311112138424,28.591394351122574]
[1150,190,"1150190",{"$f":"D105","v":11.73884311712647},{"$f":"E105","v":3.3594627369430241},6.4718616439867045,14.968158053027457,24.41509704372648,27.422311112138424,28.591394351122574]
[]
[null,null,null,2,3,4,5,6,7,8]
["Auswahl Relativspektrum",null,{"$f":"CONCATENATE('Auslegung KS'!$D$9,'Auslegung KS'!$D$21)","v":"75050"},{"$f":"VLOOKUP($C$109,$C$46:$J$106,D108,FALSE)*-1","v":-9.0171755702562315},{"$f":"VLOOKUP($C$109,$C$46:$J$106,E108,FALSE)*-1","v":-4.281945519801444},-4.1917311171292333,-15.529545018792026,-18.091548149531313,-16.64129640962463,-13.815508486485061]
["Oktavpektrum Zuluft",null,null,{"$f":"$X$39+D109-D112","v":{"$error":"#N/A"}},{"$f":"$X$39+E109-E112","v":{"$error":"#N/A"}},{"$error":"#N/A"},{"$error":"#N/A"},{"$error":"#N/A"},{"$error":"#N/A"},{"$error":"#N/A"},{"$f":"10*LOG(10^(0.1*D110)+10^(0.1*E110)+10^(0.1*F110)+10^(0.1*G110)+10^(0.1*H110)+10^(0.1*I110)+10^(0.1*J110))","v":{"$error":"#N/A"}}]
["Oktavspektrum Abluft",null,null,{"$f":"$X$40+D109-D112","v":{"$error":"#N/A"}},{"$f":"$X$40+E109-E112","v":{"$error":"#N/A"}},{"$error":"#N/A"},{"$error":"#N/A"},{"$error":"#N/A"},{"$error":"#N/A"},{"$error":"#N/A"}]
["A-Bewertung",null,null,-16.100000000000001,-8.6,-3.2,0,1.2,1,-1.1000000000000001]
[]
[null,"T[s] nach VDI 2081",null,null,null,"Nachhallzeit","Richtungsfaktor","Raumvolumen","äqu. Absorptionsfläche"]
[null,"Raumart",null,"s",null,"t","Q","V","A"]
[null,"Einzelbüro",null,0.5,null,"s",null,"m³","m²Sabine"]
[null,"Großraumbüro",null,0.5,{"$f":"'Auslegung KS'!$D$63","v":"Einzelbüro"},{"$f":"VLOOKUP(E117,'Lw KS'!$B$116:$D$139,3,1)","v":0.5},4,{"$f":"'Auslegung KS'!$D$59*'Auslegung KS'!$D$61*'Auslegung KS'!$D$62","v":45},{"$f":"0.163*H117/F117","v":14.67}]
[null,"Werkstätten",null,1.5]
[null,"Ruheraum, Pausenraum",null,1]
[null,"Untersuchungsraum Krankenhaus",null,2]
[null,"Rundfunk-, Fernsehstudio",null,0.5]
[null,"Chemielabor",null,2]
[null,"Wasch- und WC-Raum, Umkleide",null,2]
[null,"Schwimmbad",null,2]
[null,"EDV-Raum",null,1.5]
[null,"Konzertsaal",null,1.5]
[null,"Lesesaal",null,1]
[null,"Museum",null,1.5]
[null,"Küche",null,1.5]
[null,"Theater, Kino",null,1]
[null,"Klassen- Seminarraum",null,1]
[null,"Gaststätte",null,1]
[null,"kein Typ",null,"x"]
[null,"Konferenzraum",null,1]
[null,"Hotelzimmer",null,0.5]
[null,"Hörsaal",null,1]
[null,"Bettenzimmer Krankenhaus",null,1]
[null,"Verkaufsraum",null,1]
[null,"Sporthalle",null,2]
[]
[]
[]
[null,"Terzfrequenzband fm [Hz]"]
[null,100,125,160,200,250,315,400,500,630,800,1000,1250,1600,2000,2500,3150,4000,5000,6300,8000,10000]
["KSD-1ZUL",-14.581163383522227,2.1175825247699587,-24.00303953490068,-19.848459571292292,-35.539687853058432,-25.622073765049766,-29.605309445853916,-43.206635412566541,-45.063788917724267,-48.375647579764426,-42.949323823651071,-37.150590543850349,-26.516684152701057,-17.884741990536522,-7.6474983543426189,-1.6418330078896519,2.8631957394804681,6.990791095258893,12.121536374609423,12.364408340600837,17.615545584739948]
[null,5.2443599978492657,-20.406195774580492,-2.6024696119392519,-13.754203351649565,16.383984810552626,-46.918974669004221,9.3901161390536778,-1.1324706596392606,32.660786989651022,27.112250311515119,15.236953214726476,13.460505906135726,10.117205252510592,8.7834424893881469,12.653868165265818,11.418599425908587,8.2236570440235699,6.0546100499050413,3.4180983290761104,3.7592377331334701,-0.74430213323116101]
[null,-6.6813865474421883,54.698398914872399,-23.508258458883969,-8.3492806822054586,-27.143978434927551,-47.334375433297005,-11.044784992318789,-44.259782209138898,-13.841520214683749,-32.537698289024426,-18.900539491841265,-14.726886987626628,-8.9814366140780066,-5.8623355747937094,-2.0956535597082726,-1.6109625313301938,-4.0598116276313814,-1.7046332837382057,3.5130225749877049,-0.69909268389106938,10.938638841404011]
[null,16.786076108776786,3.9383951216807067,37.608829083246256,38.54106438900444,37.022400421919656,81.149642110996538,36.174093676350694,62.406406248021014,29.411371822012494,40.006159020345684,37.417959334790623,31.586088695649856,23.166264443942335,16.304345990663599,5.5526308326168783,2.1893339633243705,1.9804124537302477,-0.26079397305053903,-3.2442081531805296,-1.5291582945587527,-5.102490704044933]
["KSD-1ABL",6.878541405535163,-19.10662080333428,-16.039627048513282,-23.768378500630497,-25.986134634995924,-11.675765473785011,-23.791235210994355,-35.787889365943684,-44.001375113776362,-38.556860442685398,-37.951086836009559,-30.42158099673944,-25.452428329103991,-21.431976806827251,-11.878187411945561,-8.2900223341737522,3.0818861574790066,7.963336624559286,10.600546055995704,12.552966637475889,12.632750355600132]
[null,-0.76202058300702069,23.641681047145788,23.022010039996584,11.40028525268891,19.594241176062539,-0.73163247698683442,18.488483389200447,23.274866826862507,42.645344218365942,31.147940303512673,28.945940248381735,23.378569638345233,17.009988002848743,13.862611378148673,9.5343045717975698,10.013753580347743,4.4654025179015573,1.0992856160580227,0.98124211035990971,0.52788147813595054,1.2726161918498631]
[null,20.811173084941181,24.407404065105329,41.340437369277538,7.9299059614280578,17.39397159367212,37.631011590671342,14.057725345374854,6.6558519500212814,-2.8617982559680049,14.736346635120166,9.661574870799825,18.826103625185432,13.731311330990447,8.4908999476391607,8.6827108445550572,3.5852587783662573,9.9861053937693338,6.4453314710459146,1.5070882837932618,-0.95330850522283062,-5.6832475638532678]
[null,-2.7141242066045437,-2.1008972718460912,-8.2597801140962464,17.699474741675079,9.3789082665202894,9.6257944595009057,13.274744375843802,19.619876236194411,13.368256914087016,9.9989086237266545,11.905019098443992,6.966016285141019,9.32699315177382,10.409899697659418,6.9342822115590632,5.8573981432878801,-0.58114748095472823,-0.46580208802601625,0.1372854407463919,0.56165101596930123,2.7646760579511049]
[null,2,3,4,5,6,7,8,9,10,11,12,13,14,15,16,17,18,19,20,21,22]
[]
[null,"Terzfrequenzband fm [Hz]"]
[null,100,125,160,200,250,315,400,500,630,800,1000,1250,1600,2000,2500,3150,4000,5000,6300,8000,10000]
[{"$f":"'Grunddaten KS'!C5","v":"ZUL5503"},{"$f":"B$145+B$146*LOG('Grunddaten KS'!$I5)+B$147*LOG('Grunddaten KS'!$M5)+B$148*LOG('Grunddaten KS'!$O5)","v":8.0796679747996691},{"$f":"C$145+C$146*LOG('Grunddaten KS'!$I5)+C$147*LOG('Grunddaten KS'!$M5)+C$148*LOG('Grunddaten KS'!$O5)","v":10.311450894592831},{"$f":"D$145+D$146*LOG('Grunddaten KS'!$I5)+D$147*LOG('Grunddaten KS'!$M5)+D$148*LOG('Grunddaten KS'!$O5)","v":10.62042660918798},{"$f":"E$145+E$146*LOG('Grunddaten KS'!$I5)+E$147*LOG('Grunddaten KS'!$M5)+E$148*LOG('Grunddaten KS'!$O5)","v":11.953719856067934},{"$f":"F$145+F$146*LOG('Grunddaten KS'!$I5)+F$147*LOG('Grunddaten KS'!$M5)+F$148*LOG('Grunddaten KS'!$O5)","v":13.846216503058372},{"$f":"G$145+G$146*LOG('Grunddaten KS'!$I5)+G$147*LOG('Grunddaten KS'!$M5)+G$148*LOG('Grunddaten KS'!$O5)","v":13.625155332849474},{"$f":"H$145+H$146*LOG('Grunddaten KS'!$I5)+H$147*LOG('Grunddaten KS'!$M5)+H$148*LOG('Grunddaten KS'!$O5)","v":18.846384811019529},{"$f":"I$145+I$146*LOG('Grunddaten KS'!$I5)+I$147*LOG('Grunddaten KS'!$M5)+I$148*LOG('Grunddaten KS'!$O5)","v":15.016775791914064},{"$f":"J$145+J$146*LOG('Grunddaten KS'!$I5)+J$147*LOG('Grunddaten KS'!$M5)+J$148*LOG('Grunddaten KS'!$O5)","v":14.710555818035534},{"$f":"K$145+K$146*LOG('Grunddaten KS'!$I5)+K$147*LOG('Grunddaten KS'!$M5)+K$148*LOG('Grunddaten KS'!$O5)","v":12.109186583621884},{"$f":"L$145+L$146*LOG('Grunddaten KS'!$I5)+L$147*LOG('Grunddaten KS'!$M5)+L$148*LOG('Grunddaten KS'!$O5)","v":9.1461188492909358},{"$f":"M$145+M$146*LOG('Grunddaten KS'!$I5)+M$147*LOG('Grunddaten KS'!$M5)+M$148*LOG('Grunddaten KS'!$O5)","v":7.8418414358147039},{"$f":"N$145+N$146*LOG('Grunddaten KS'!$I5)+N$147*LOG('Grunddaten KS'!$M5)+N$148*LOG('Grunddaten KS'!$O5)","v":7.4167811759470723},{"$f":"O$145+O$146*LOG('Grunddaten KS'!$I5)+O$147*LOG('Grunddaten KS'!$M5)+O$148*LOG('Grunddaten KS'!$O5)","v":7.6596270134265474},{"$f":"P$145+P$146*LOG('Grunddaten KS'!$I5)+P$147*LOG('Grunddaten KS'!$M5)+P$148*LOG('Grunddaten KS'!$O5)","v":9.6208354761024815},{"$f":"Q$145+Q$146*LOG('Grunddaten KS'!$I5)+Q$147*LOG('Grunddaten KS'!$M5)+Q$148*LOG('Grunddaten KS'!$O5)","v":10.585537187694541},{"$f":"R$145+R$146*LOG('Grunddaten KS'!$I5)+R$147*LOG('Grunddaten KS'!$M5)+R$148*LOG('Grunddaten KS'!$O5)","v":11.023577031719636},{"$f":"S$145+S$146*LOG('Grunddaten KS'!$I5)+S$147*LOG('Grunddaten KS'!$M5)+S$148*LOG('Grunddaten KS'!$O5)","v":11.393100987776585},{"$f":"T$145+T$146*LOG('Grunddaten KS'!$I5)+T$147*LOG('Grunddaten KS'!$M5)+T$148*LOG('Grunddaten KS'!$O5)","v":12.564605745871521},{"$f":"U$145+U$146*LOG('Grunddaten KS'!$I5)+U$147*LOG('Grunddaten KS'!$M5)+U$148*LOG('Grunddaten KS'!$O5)","v":13.559750662955885},{"$f":"V$145+V$146*LOG('Grunddaten KS'!$I5)+V$147*LOG('Grunddaten KS'!$M5)+V$148*LOG('Grunddaten KS'!$O5)","v":14.99138250954606},{"$f":"10*LOG(10^(0.1*B157)+10^(0.1*C157)+10^(0.1*D157)+10^(0.1*E157)+10^(0.1*F157)+10^(0.1*G157)+10^(0.1*H157)+10^(0.1*I157)+10^(0.1*J157)+10^(0.1*K157)+10^(0.1*L157)+10^(0.1*M157)+10^(0.1*N157)+10^(0.1*O157)+10^(0.1*P157)+10^(0.1*Q157)+10^(0.1*R157)+10^(0.1*S157)+10^(0.1*T157)+10^(0.1*U157)+10^(0.1*V157))","v":25.920994985772531}]
[{"$f":"'Grunddaten KS'!C6","v":"ZUL7503"},{"$f":"B$145+B$146*LOG('Grunddaten KS'!$I6)+B$147*LOG('Grunddaten KS'!$M6)+B$148*LOG('Grunddaten KS'!$O6)","v":5.6955939281197523},{"$f":"C$145+C$146*LOG('Grunddaten KS'!$I6)+C$147*LOG('Grunddaten KS'!$M6)+C$148*LOG('Grunddaten KS'!$O6)","v":12.455347616210696},{"$f":"D$145+D$146*LOG('Grunddaten KS'!$I6)+D$147*LOG('Grunddaten KS'!$M6)+D$148*LOG('Grunddaten KS'!$O6)","v":7.0721252653096158},{"$f":"E$145+E$146*LOG('Grunddaten KS'!$I6)+E$147*LOG('Grunddaten KS'!$M6)+E$148*LOG('Grunddaten KS'!$O6)","v":9.7026882148383393},{"$f":"F$145+F$146*LOG('Grunddaten KS'!$I6)+F$147*LOG('Grunddaten KS'!$M6)+F$148*LOG('Grunddaten KS'!$O6)","v":7.9861696478643722},{"$f":"G$145+G$146*LOG('Grunddaten KS'!$I6)+G$147*LOG('Grunddaten KS'!$M6)+G$148*LOG('Grunddaten KS'!$O6)","v":11.129298004132849},{"$f":"H$145+H$146*LOG('Grunddaten KS'!$I6)+H$147*LOG('Grunddaten KS'!$M6)+H$148*LOG('Grunddaten KS'!$O6)","v":13.947512829242626},{"$f":"I$145+I$146*LOG('Grunddaten KS'!$I6)+I$147*LOG('Grunddaten KS'!$M6)+I$148*LOG('Grunddaten KS'!$O6)","v":8.7308348202540031},{"$f":"J$145+J$146*LOG('Grunddaten KS'!$I6)+J$147*LOG('Grunddaten KS'!$M6)+J$148*LOG('Grunddaten KS'!$O6)","v":7.6007894368712918},{"$f":"K$145+K$146*LOG('Grunddaten KS'!$I6)+K$147*LOG('Grunddaten KS'!$M6)+K$148*LOG('Grunddaten KS'!$O6)","v":4.6014571863415412},{"$f":"L$145+L$146*LOG('Grunddaten KS'!$I6)+L$147*LOG('Grunddaten KS'!$M6)+L$148*LOG('Grunddaten KS'!$O6)","v":3.3886408263440586},{"$f":"M$145+M$146*LOG('Grunddaten KS'!$I6)+M$147*LOG('Grunddaten KS'!$M6)+M$148*LOG('Grunddaten KS'!$O6)","v":2.9069530419892899},{"$f":"N$145+N$146*LOG('Grunddaten KS'!$I6)+N$147*LOG('Grunddaten KS'!$M6)+N$148*LOG('Grunddaten KS'!$O6)","v":3.7667845030101184},{"$f":"O$145+O$146*LOG('Grunddaten KS'!$I6)+O$147*LOG('Grunddaten KS'!$M6)+O$148*LOG('Grunddaten KS'!$O6)","v":4.8829993588823601},{"$f":"P$145+P$146*LOG('Grunddaten KS'!$I6)+P$147*LOG('Grunddaten KS'!$M6)+P$148*LOG('Grunddaten KS'!$O6)","v":7.4679944062143715},{"$f":"Q$145+Q$146*LOG('Grunddaten KS'!$I6)+Q$147*LOG('Grunddaten KS'!$M6)+Q$148*LOG('Grunddaten KS'!$O6)","v":8.9334254681678704},{"$f":"R$145+R$146*LOG('Grunddaten KS'!$I6)+R$147*LOG('Grunddaten KS'!$M6)+R$148*LOG('Grunddaten KS'!$O6)","v":9.7921548548214687},{"$f":"S$145+S$146*LOG('Grunddaten KS'!$I6)+S$147*LOG('Grunddaten KS'!$M6)+S$148*LOG('Grunddaten KS'!$O6)","v":10.663505642186644},{"$f":"T$145+T$146*LOG('Grunddaten KS'!$I6)+T$147*LOG('Grunddaten KS'!$M6)+T$148*LOG('Grunddaten KS'!$O6)","v":12.471683975418044},{"$f":"U$145+U$146*LOG('Grunddaten KS'!$I6)+U$147*LOG('Grunddaten KS'!$M6)+U$148*LOG('Grunddaten KS'!$O6)","v":13.247569032170652},{"$f":"V$145+V$146*LOG('Grunddaten KS'!$I6)+V$147*LOG('Grunddaten KS'!$M6)+V$148*LOG('Grunddaten KS'!$O6)","v":15.609896110009544},23.330277545907244]
[{"$f":"'Grunddaten KS'!C7","v":"ZUL9503"},{"$f":"B$145+B$146*LOG('Grunddaten KS'!$I7)+B$147*LOG('Grunddaten KS'!$M7)+B$148*LOG('Grunddaten KS'!$O7)","v":2.81626678162222},{"$f":"C$145+C$146*LOG('Grunddaten KS'!$I7)+C$147*LOG('Grunddaten KS'!$M7)+C$148*LOG('Grunddaten KS'!$O7)","v":2.9711208641022271},{"$f":"D$145+D$146*LOG('Grunddaten KS'!$I7)+D$147*LOG('Grunddaten KS'!$M7)+D$148*LOG('Grunddaten KS'!$O7)","v":3.6669254611075601},{"$f":"E$145+E$146*LOG('Grunddaten KS'!$I7)+E$147*LOG('Grunddaten KS'!$M7)+E$148*LOG('Grunddaten KS'!$O7)","v":4.2364892122544759},{"$f":"F$145+F$146*LOG('Grunddaten KS'!$I7)+F$147*LOG('Grunddaten KS'!$M7)+F$148*LOG('Grunddaten KS'!$O7)","v":3.5737437858555481},{"$f":"G$145+G$146*LOG('Grunddaten KS'!$I7)+G$147*LOG('Grunddaten KS'!$M7)+G$148*LOG('Grunddaten KS'!$O7)","v":7.1274668781512247},{"$f":"H$145+H$146*LOG('Grunddaten KS'!$I7)+H$147*LOG('Grunddaten KS'!$M7)+H$148*LOG('Grunddaten KS'!$O7)","v":7.2777871566257204},{"$f":"I$145+I$146*LOG('Grunddaten KS'!$I7)+I$147*LOG('Grunddaten KS'!$M7)+I$148*LOG('Grunddaten KS'!$O7)","v":3.7894420368627877},{"$f":"J$145+J$146*LOG('Grunddaten KS'!$I7)+J$147*LOG('Grunddaten KS'!$M7)+J$148*LOG('Grunddaten KS'!$O7)","v":0.69494596371583839},{"$f":"K$145+K$146*LOG('Grunddaten KS'!$I7)+K$147*LOG('Grunddaten KS'!$M7)+K$148*LOG('Grunddaten KS'!$O7)","v":-0.45688762795337823},{"$f":"L$145+L$146*LOG('Grunddaten KS'!$I7)+L$147*LOG('Grunddaten KS'!$M7)+L$148*LOG('Grunddaten KS'!$O7)","v":-2.5967598916252754},{"$f":"M$145+M$146*LOG('Grunddaten KS'!$I7)+M$147*LOG('Grunddaten KS'!$M7)+M$148*LOG('Grunddaten KS'!$O7)","v":-2.4415477678325459},{"$f":"N$145+N$146*LOG('Grunddaten KS'!$I7)+N$147*LOG('Grunddaten KS'!$M7)+N$148*LOG('Grunddaten KS'!$O7)","v":-0.53240889387848611},{"$f":"O$145+O$146*LOG('Grunddaten KS'!$I7)+O$147*LOG('Grunddaten KS'!$M7)+O$148*LOG('Grunddaten KS'!$O7)","v":1.6071611636145509},{"$f":"P$145+P$146*LOG('Grunddaten KS'!$I7)+P$147*LOG('Grunddaten KS'!$M7)+P$148*LOG('Grunddaten KS'!$O7)","v":5.4351917262165532},{"$f":"Q$145+Q$146*LOG('Grunddaten KS'!$I7)+Q$147*LOG('Grunddaten KS'!$M7)+Q$148*LOG('Grunddaten KS'!$O7)","v":7.660934636248836},{"$f":"R$145+R$146*LOG('Grunddaten KS'!$I7)+R$147*LOG('Grunddaten KS'!$M7)+R$148*LOG('Grunddaten KS'!$O7)","v":9.3495504292843332},{"$f":"S$145+S$146*LOG('Grunddaten KS'!$I7)+S$147*LOG('Grunddaten KS'!$M7)+S$148*LOG('Grunddaten KS'!$O7)","v":10.464102831209569},{"$f":"T$145+T$146*LOG('Grunddaten KS'!$I7)+T$147*LOG('Grunddaten KS'!$M7)+T$148*LOG('Grunddaten KS'!$O7)","v":12.168077659769033},{"$f":"U$145+U$146*LOG('Grunddaten KS'!$I7)+U$147*LOG('Grunddaten KS'!$M7)+U$148*LOG('Grunddaten KS'!$O7)","v":13.352727920145449},{"$f":"V$145+V$146*LOG('Grunddaten KS'!$I7)+V$147*LOG('Grunddaten KS'!$M7)+V$148*LOG('Grunddaten KS'!$O7)","v":14.676284251787578},21.007438955273155]
[{"$f":"'Grunddaten KS'!C8","v":"ZUL11503"},{"$f":"B$145+B$146*LOG('Grunddaten KS'!$I8)+B$147*LOG('Grunddaten KS'!$M8)+B$148*LOG('Grunddaten KS'!$O8)","v":1.46596639500987},{"$f":"C$145+C$146*LOG('Grunddaten KS'!$I8)+C$147*LOG('Grunddaten KS'!$M8)+C$148*LOG('Grunddaten KS'!$O8)","v":4.3675259551758376},{"$f":"D$145+D$146*LOG('Grunddaten KS'!$I8)+D$147*LOG('Grunddaten KS'!$M8)+D$148*LOG('Grunddaten KS'!$O8)","v":1.7780438255883269},{"$f":"E$145+E$146*LOG('Grunddaten KS'!$I8)+E$147*LOG('Grunddaten KS'!$M8)+E$148*LOG('Grunddaten KS'!$O8)","v":3.178686856262722},{"$f":"F$145+F$146*LOG('Grunddaten KS'!$I8)+F$147*LOG('Grunddaten KS'!$M8)+F$148*LOG('Grunddaten KS'!$O8)","v":0.21415723821446875},{"$f":"G$145+G$146*LOG('Grunddaten KS'!$I8)+G$147*LOG('Grunddaten KS'!$M8)+G$148*LOG('Grunddaten KS'!$O8)","v":6.322239853246451},{"$f":"H$145+H$146*LOG('Grunddaten KS'!$I8)+H$147*LOG('Grunddaten KS'!$M8)+H$148*LOG('Grunddaten KS'!$O8)","v":4.5192376129255685},{"$f":"I$145+I$146*LOG('Grunddaten KS'!$I8)+I$147*LOG('Grunddaten KS'!$M8)+I$148*LOG('Grunddaten KS'!$O8)","v":0.40284890875069124},{"$f":"J$145+J$146*LOG('Grunddaten KS'!$I8)+J$147*LOG('Grunddaten KS'!$M8)+J$148*LOG('Grunddaten KS'!$O8)","v":-3.5294961163567926},{"$f":"K$145+K$146*LOG('Grunddaten KS'!$I8)+K$147*LOG('Grunddaten KS'!$M8)+K$148*LOG('Grunddaten KS'!$O8)","v":-4.8321578005619656},{"$f":"L$145+L$146*LOG('Grunddaten KS'!$I8)+L$147*LOG('Grunddaten KS'!$M8)+L$148*LOG('Grunddaten KS'!$O8)","v":-5.8875571168639489},{"$f":"M$145+M$146*LOG('Grunddaten KS'!$I8)+M$147*LOG('Grunddaten KS'!$M8)+M$148*LOG('Grunddaten KS'!$O8)","v":-5.2668272983982369},{"$f":"N$145+N$146*LOG('Grunddaten KS'!$I8)+N$147*LOG('Grunddaten KS'!$M8)+N$148*LOG('Grunddaten KS'!$O8)","v":-2.6239469106365299},{"$f":"O$145+O$146*LOG('Grunddaten KS'!$I8)+O$147*LOG('Grunddaten KS'!$M8)+O$148*LOG('Grunddaten KS'!$O8)","v":3.4659332814026556E-3},{"$f":"P$145+P$146*LOG('Grunddaten KS'!$I8)+P$147*LOG('Grunddaten KS'!$M8)+P$148*LOG('Grunddaten KS'!$O8)","v":4.1239409660988642},{"$f":"Q$145+Q$146*LOG('Grunddaten KS'!$I8)+Q$147*LOG('Grunddaten KS'!$M8)+Q$148*LOG('Grunddaten KS'!$O8)","v":6.6348418494331591},{"$f":"R$145+R$146*LOG('Grunddaten KS'!$I8)+R$147*LOG('Grunddaten KS'!$M8)+R$148*LOG('Grunddaten KS'!$O8)","v":8.5880748484650269},{"$f":"S$145+S$146*LOG('Grunddaten KS'!$I8)+S$147*LOG('Grunddaten KS'!$M8)+S$148*LOG('Grunddaten KS'!$O8)","v":9.999218434954086},{"$f":"T$145+T$146*LOG('Grunddaten KS'!$I8)+T$147*LOG('Grunddaten KS'!$M8)+T$148*LOG('Grunddaten KS'!$O8)","v":12.078142556109063},{"$f":"U$145+U$146*LOG('Grunddaten KS'!$I8)+U$147*LOG('Grunddaten KS'!$M8)+U$148*LOG('Grunddaten KS'!$O8)","v":13.140246465067118},{"$f":"V$145+V$146*LOG('Grunddaten KS'!$I8)+V$147*LOG('Grunddaten KS'!$M8)+V$148*LOG('Grunddaten KS'!$O8)","v":15.019446292969477},20.522522041185592]
[{"$f":"'Grunddaten KS'!C13","v":"ABL5503"},{"$f":"B$149+B$150*LOG('Grunddaten KS'!$I13)+B$151*LOG('Grunddaten KS'!$M13)+B$152*LOG('Grunddaten KS'!$O13)","v":9.9022896740679514},{"$f":"C$149+C$150*LOG('Grunddaten KS'!$I13)+C$151*LOG('Grunddaten KS'!$M13)+C$152*LOG('Grunddaten KS'!$O13)","v":10.177015482542201},{"$f":"D$149+D$150*LOG('Grunddaten KS'!$I13)+D$151*LOG('Grunddaten KS'!$M13)+D$152*LOG('Grunddaten KS'!$O13)","v":11.316938289546398},{"$f":"E$149+E$150*LOG('Grunddaten KS'!$I13)+E$151*LOG('Grunddaten KS'!$M13)+E$152*LOG('Grunddaten KS'!$O13)","v":9.8811549977748481},{"$f":"F$149+F$150*LOG('Grunddaten KS'!$I13)+F$151*LOG('Grunddaten KS'!$M13)+F$152*LOG('Grunddaten KS'!$O13)","v":9.7085100123495671},{"$f":"G$149+G$150*LOG('Grunddaten KS'!$I13)+G$151*LOG('Grunddaten KS'!$M13)+G$152*LOG('Grunddaten KS'!$O13)","v":10.579844182100528},{"$f":"H$149+H$150*LOG('Grunddaten KS'!$I13)+H$151*LOG('Grunddaten KS'!$M13)+H$152*LOG('Grunddaten KS'!$O13)","v":14.034449089451609},{"$f":"I$149+I$150*LOG('Grunddaten KS'!$I13)+I$151*LOG('Grunddaten KS'!$M13)+I$152*LOG('Grunddaten KS'!$O13)","v":11.452828488377584},{"$f":"J$149+J$150*LOG('Grunddaten KS'!$I13)+J$151*LOG('Grunddaten KS'!$M13)+J$152*LOG('Grunddaten KS'!$O13)","v":12.556426175962804},{"$f":"K$149+K$150*LOG('Grunddaten KS'!$I13)+K$151*LOG('Grunddaten KS'!$M13)+K$152*LOG('Grunddaten KS'!$O13)","v":8.5116897932576379},{"$f":"L$149+L$150*LOG('Grunddaten KS'!$I13)+L$151*LOG('Grunddaten KS'!$M13)+L$152*LOG('Grunddaten KS'!$O13)","v":7.3742754451154102},{"$f":"M$149+M$150*LOG('Grunddaten KS'!$I13)+M$151*LOG('Grunddaten KS'!$M13)+M$152*LOG('Grunddaten KS'!$O13)","v":6.845453728009895},{"$f":"N$149+N$150*LOG('Grunddaten KS'!$I13)+N$151*LOG('Grunddaten KS'!$M13)+N$152*LOG('Grunddaten KS'!$O13)","v":6.4034964327012336},{"$f":"O$149+O$150*LOG('Grunddaten KS'!$I13)+O$151*LOG('Grunddaten KS'!$M13)+O$152*LOG('Grunddaten KS'!$O13)","v":6.7669603529879874},{"$f":"P$149+P$150*LOG('Grunddaten KS'!$I13)+P$151*LOG('Grunddaten KS'!$M13)+P$152*LOG('Grunddaten KS'!$O13)","v":8.194892966195038},{"$f":"Q$149+Q$150*LOG('Grunddaten KS'!$I13)+Q$151*LOG('Grunddaten KS'!$M13)+Q$152*LOG('Grunddaten KS'!$O13)","v":9.4008183879537199},{"$f":"R$149+R$150*LOG('Grunddaten KS'!$I13)+R$151*LOG('Grunddaten KS'!$M13)+R$152*LOG('Grunddaten KS'!$O13)","v":10.164880484430942},{"$f":"S$149+S$150*LOG('Grunddaten KS'!$I13)+S$151*LOG('Grunddaten KS'!$M13)+S$152*LOG('Grunddaten KS'!$O13)","v":10.651344170221083},{"$f":"T$149+T$150*LOG('Grunddaten KS'!$I13)+T$151*LOG('Grunddaten KS'!$M13)+T$152*LOG('Grunddaten KS'!$O13)","v":12.226719940449152},{"$f":"U$149+U$150*LOG('Grunddaten KS'!$I13)+U$151*LOG('Grunddaten KS'!$M13)+U$152*LOG('Grunddaten KS'!$O13)","v":13.393148870437658},{"$f":"V$149+V$150*LOG('Grunddaten KS'!$I13)+V$151*LOG('Grunddaten KS'!$M13)+V$152*LOG('Grunddaten KS'!$O13)","v":15.118927387479348},24.089631562339719]
[{"$f":"'Grunddaten KS'!C14","v":"ABL7503"},{"$f":"B$149+B$150*LOG('Grunddaten KS'!$I14)+B$151*LOG('Grunddaten KS'!$M14)+B$152*LOG('Grunddaten KS'!$O14)","v":10.24527250777658},{"$f":"C$149+C$150*LOG('Grunddaten KS'!$I14)+C$151*LOG('Grunddaten KS'!$M14)+C$152*LOG('Grunddaten KS'!$O14)","v":6.1755442011117623},{"$f":"D$149+D$150*LOG('Grunddaten KS'!$I14)+D$151*LOG('Grunddaten KS'!$M14)+D$152*LOG('Grunddaten KS'!$O14)","v":7.8983887277002385},{"$f":"E$149+E$150*LOG('Grunddaten KS'!$I14)+E$151*LOG('Grunddaten KS'!$M14)+E$152*LOG('Grunddaten KS'!$O14)","v":6.5120432052055879},{"$f":"F$149+F$150*LOG('Grunddaten KS'!$I14)+F$151*LOG('Grunddaten KS'!$M14)+F$152*LOG('Grunddaten KS'!$O14)","v":5.5366156735511289},{"$f":"G$149+G$150*LOG('Grunddaten KS'!$I14)+G$151*LOG('Grunddaten KS'!$M14)+G$152*LOG('Grunddaten KS'!$O14)","v":9.9681655628425201},{"$f":"H$149+H$150*LOG('Grunddaten KS'!$I14)+H$151*LOG('Grunddaten KS'!$M14)+H$152*LOG('Grunddaten KS'!$O14)","v":9.7575622238645501},{"$f":"I$149+I$150*LOG('Grunddaten KS'!$I14)+I$151*LOG('Grunddaten KS'!$M14)+I$152*LOG('Grunddaten KS'!$O14)","v":5.8449701217397099},{"$f":"J$149+J$150*LOG('Grunddaten KS'!$I14)+J$151*LOG('Grunddaten KS'!$M14)+J$152*LOG('Grunddaten KS'!$O14)","v":4.0185333493084983},{"$f":"K$149+K$150*LOG('Grunddaten KS'!$I14)+K$151*LOG('Grunddaten KS'!$M14)+K$152*LOG('Grunddaten KS'!$O14)","v":2.2575933792646836},{"$f":"L$149+L$150*LOG('Grunddaten KS'!$I14)+L$151*LOG('Grunddaten KS'!$M14)+L$152*LOG('Grunddaten KS'!$O14)","v":1.3612948480096598},{"$f":"M$149+M$150*LOG('Grunddaten KS'!$I14)+M$151*LOG('Grunddaten KS'!$M14)+M$152*LOG('Grunddaten KS'!$O14)","v":2.1927960898417638},{"$f":"N$149+N$150*LOG('Grunddaten KS'!$I14)+N$151*LOG('Grunddaten KS'!$M14)+N$152*LOG('Grunddaten KS'!$O14)","v":2.6906603204797097},{"$f":"O$149+O$150*LOG('Grunddaten KS'!$I14)+O$151*LOG('Grunddaten KS'!$M14)+O$152*LOG('Grunddaten KS'!$O14)","v":3.5250417150103628},{"$f":"P$149+P$150*LOG('Grunddaten KS'!$I14)+P$151*LOG('Grunddaten KS'!$M14)+P$152*LOG('Grunddaten KS'!$O14)","v":5.9825306976826855},{"$f":"Q$149+Q$150*LOG('Grunddaten KS'!$I14)+Q$151*LOG('Grunddaten KS'!$M14)+Q$152*LOG('Grunddaten KS'!$O14)","v":7.1868740687819237},{"$f":"R$149+R$150*LOG('Grunddaten KS'!$I14)+R$151*LOG('Grunddaten KS'!$M14)+R$152*LOG('Grunddaten KS'!$O14)","v":9.4232698288302092},{"$f":"S$149+S$150*LOG('Grunddaten KS'!$I14)+S$151*LOG('Grunddaten KS'!$M14)+S$152*LOG('Grunddaten KS'!$O14)","v":10.493603752895975},{"$f":"T$149+T$150*LOG('Grunddaten KS'!$I14)+T$151*LOG('Grunddaten KS'!$M14)+T$152*LOG('Grunddaten KS'!$O14)","v":12.043370408055431},{"$f":"U$149+U$150*LOG('Grunddaten KS'!$I14)+U$151*LOG('Grunddaten KS'!$M14)+U$152*LOG('Grunddaten KS'!$O14)","v":13.256985724084482},{"$f":"V$149+V$150*LOG('Grunddaten KS'!$I14)+V$151*LOG('Grunddaten KS'!$M14)+V$152*LOG('Grunddaten KS'!$O14)","v":14.682144174455102},22.020448349454504]
[{"$f":"'Grunddaten KS'!C15","v":"ABL9503"},{"$f":"B$149+B$150*LOG('Grunddaten KS'!$I15)+B$151*LOG('Grunddaten KS'!$M15)+B$152*LOG('Grunddaten KS'!$O15)","v":7.1775933858355145},{"$f":"C$149+C$150*LOG('Grunddaten KS'!$I15)+C$151*LOG('Grunddaten KS'!$M15)+C$152*LOG('Grunddaten KS'!$O15)","v":-0.8348577589170787},{"$f":"D$149+D$150*LOG('Grunddaten KS'!$I15)+D$151*LOG('Grunddaten KS'!$M15)+D$152*LOG('Grunddaten KS'!$O15)","v":-0.34067915731858633},{"$f":"E$149+E$150*LOG('Grunddaten KS'!$I15)+E$151*LOG('Grunddaten KS'!$M15)+E$152*LOG('Grunddaten KS'!$O15)","v":-2.127560427323731},{"$f":"F$149+F$150*LOG('Grunddaten KS'!$I15)+F$151*LOG('Grunddaten KS'!$M15)+F$152*LOG('Grunddaten KS'!$O15)","v":-3.2916770009038085},{"$f":"G$149+G$150*LOG('Grunddaten KS'!$I15)+G$151*LOG('Grunddaten KS'!$M15)+G$152*LOG('Grunddaten KS'!$O15)","v":-0.32218703544463967},{"$f":"H$149+H$150*LOG('Grunddaten KS'!$I15)+H$151*LOG('Grunddaten KS'!$M15)+H$152*LOG('Grunddaten KS'!$O15)","v":0.46420253772463838},{"$f":"I$149+I$150*LOG('Grunddaten KS'!$I15)+I$151*LOG('Grunddaten KS'!$M15)+I$152*LOG('Grunddaten KS'!$O15)","v":-4.6473889330018281},{"$f":"J$149+J$150*LOG('Grunddaten KS'!$I15)+J$151*LOG('Grunddaten KS'!$M15)+J$152*LOG('Grunddaten KS'!$O15)","v":-5.0436119136175783},{"$f":"K$149+K$150*LOG('Grunddaten KS'!$I15)+K$151*LOG('Grunddaten KS'!$M15)+K$152*LOG('Grunddaten KS'!$O15)","v":-7.6980095632845122},{"$f":"L$149+L$150*LOG('Grunddaten KS'!$I15)+L$151*LOG('Grunddaten KS'!$M15)+L$152*LOG('Grunddaten KS'!$O15)","v":-7.9471131768351544},{"$f":"M$149+M$150*LOG('Grunddaten KS'!$I15)+M$151*LOG('Grunddaten KS'!$M15)+M$152*LOG('Grunddaten KS'!$O15)","v":-6.6117849803777444},{"$f":"N$149+N$150*LOG('Grunddaten KS'!$I15)+N$151*LOG('Grunddaten KS'!$M15)+N$152*LOG('Grunddaten KS'!$O15)","v":-5.0882068703465064},{"$f":"O$149+O$150*LOG('Grunddaten KS'!$I15)+O$151*LOG('Grunddaten KS'!$M15)+O$152*LOG('Grunddaten KS'!$O15)","v":-3.1923143403820191},{"$f":"P$149+P$150*LOG('Grunddaten KS'!$I15)+P$151*LOG('Grunddaten KS'!$M15)+P$152*LOG('Grunddaten KS'!$O15)","v":0.88380809604051791},{"$f":"Q$149+Q$150*LOG('Grunddaten KS'!$I15)+Q$151*LOG('Grunddaten KS'!$M15)+Q$152*LOG('Grunddaten KS'!$O15)","v":3.3617206871647252},{"$f":"R$149+R$150*LOG('Grunddaten KS'!$I15)+R$151*LOG('Grunddaten KS'!$M15)+R$152*LOG('Grunddaten KS'!$O15)","v":7.1163028451967882},{"$f":"S$149+S$150*LOG('Grunddaten KS'!$I15)+S$151*LOG('Grunddaten KS'!$M15)+S$152*LOG('Grunddaten KS'!$O15)","v":9.2564632968777243},{"$f":"T$149+T$150*LOG('Grunddaten KS'!$I15)+T$151*LOG('Grunddaten KS'!$M15)+T$152*LOG('Grunddaten KS'!$O15)","v":11.584627869298533},{"$f":"U$149+U$150*LOG('Grunddaten KS'!$I15)+U$151*LOG('Grunddaten KS'!$M15)+U$152*LOG('Grunddaten KS'!$O15)","v":13.195615982567491},{"$f":"V$149+V$150*LOG('Grunddaten KS'!$I15)+V$151*LOG('Grunddaten KS'!$M15)+V$152*LOG('Grunddaten KS'!$O15)","v":14.737717316382387},19.735925527345714]
[{"$f":"'Grunddaten KS'!C16","v":"ABL11503"},{"$f":"B$149+B$150*LOG('Grunddaten KS'!$I16)+B$151*LOG('Grunddaten KS'!$M16)+B$152*LOG('Grunddaten KS'!$O16)","v":7.4037010585714143},{"$f":"C$149+C$150*LOG('Grunddaten KS'!$I16)+C$151*LOG('Grunddaten KS'!$M16)+C$152*LOG('Grunddaten KS'!$O16)","v":-3.0081146806831756},{"$f":"D$149+D$150*LOG('Grunddaten KS'!$I16)+D$151*LOG('Grunddaten KS'!$M16)+D$152*LOG('Grunddaten KS'!$O16)","v":-2.1083752366652604},{"$f":"E$149+E$150*LOG('Grunddaten KS'!$I16)+E$151*LOG('Grunddaten KS'!$M16)+E$152*LOG('Grunddaten KS'!$O16)","v":-4.2252889282937254},{"$f":"F$149+F$150*LOG('Grunddaten KS'!$I16)+F$151*LOG('Grunddaten KS'!$M16)+F$152*LOG('Grunddaten KS'!$O16)","v":-5.7167045965161707},{"$f":"G$149+G$150*LOG('Grunddaten KS'!$I16)+G$151*LOG('Grunddaten KS'!$M16)+G$152*LOG('Grunddaten KS'!$O16)","v":-0.79128407353567098},{"$f":"H$149+H$150*LOG('Grunddaten KS'!$I16)+H$151*LOG('Grunddaten KS'!$M16)+H$152*LOG('Grunddaten KS'!$O16)","v":-2.0722194192701036},{"$f":"I$149+I$150*LOG('Grunddaten KS'!$I16)+I$151*LOG('Grunddaten KS'!$M16)+I$152*LOG('Grunddaten KS'!$O16)","v":-8.0036163127034996},{"$f":"J$149+J$150*LOG('Grunddaten KS'!$I16)+J$151*LOG('Grunddaten KS'!$M16)+J$152*LOG('Grunddaten KS'!$O16)","v":-9.926321548158052},{"$f":"K$149+K$150*LOG('Grunddaten KS'!$I16)+K$151*LOG('Grunddaten KS'!$M16)+K$152*LOG('Grunddaten KS'!$O16)","v":-11.277487827417348},{"$f":"L$149+L$150*LOG('Grunddaten KS'!$I16)+L$151*LOG('Grunddaten KS'!$M16)+L$152*LOG('Grunddaten KS'!$O16)","v":-11.4201268958459},{"$f":"M$149+M$150*LOG('Grunddaten KS'!$I16)+M$151*LOG('Grunddaten KS'!$M16)+M$152*LOG('Grunddaten KS'!$O16)","v":-9.2681905409301564},{"$f":"N$149+N$150*LOG('Grunddaten KS'!$I16)+N$151*LOG('Grunddaten KS'!$M16)+N$152*LOG('Grunddaten KS'!$O16)","v":-7.2598820599376221},{"$f":"O$149+O$150*LOG('Grunddaten KS'!$I16)+O$151*LOG('Grunddaten KS'!$M16)+O$152*LOG('Grunddaten KS'!$O16)","v":-5.1197274317524153},{"$f":"P$149+P$150*LOG('Grunddaten KS'!$I16)+P$151*LOG('Grunddaten KS'!$M16)+P$152*LOG('Grunddaten KS'!$O16)","v":-0.42916930008372578},{"$f":"Q$149+Q$150*LOG('Grunddaten KS'!$I16)+Q$151*LOG('Grunddaten KS'!$M16)+Q$152*LOG('Grunddaten KS'!$O16)","v":2.0626922365150868},{"$f":"R$149+R$150*LOG('Grunddaten KS'!$I16)+R$151*LOG('Grunddaten KS'!$M16)+R$152*LOG('Grunddaten KS'!$O16)","v":6.7161625488771648},{"$f":"S$149+S$150*LOG('Grunddaten KS'!$I16)+S$151*LOG('Grunddaten KS'!$M16)+S$152*LOG('Grunddaten KS'!$O16)","v":9.1760626468495925},{"$f":"T$149+T$150*LOG('Grunddaten KS'!$I16)+T$151*LOG('Grunddaten KS'!$M16)+T$152*LOG('Grunddaten KS'!$O16)","v":11.481834077620398},{"$f":"U$149+U$150*LOG('Grunddaten KS'!$I16)+U$151*LOG('Grunddaten KS'!$M16)+U$152*LOG('Grunddaten KS'!$O16)","v":13.112950798336172},{"$f":"V$149+V$150*LOG('Grunddaten KS'!$I16)+V$151*LOG('Grunddaten KS'!$M16)+V$152*LOG('Grunddaten KS'!$O16)","v":14.459291897174641},19.429137306711187]
[]
[null,"Oktav-Frequenz fOkt [Hz]",null,null,null,null,null,null,"SLWA "]
[null,125,250,500,1000,2000,4000,8000,"Summe"]
[{"$f":"A157","v":"ZUL5503"},{"$f":"10*LOG(10^(0.1*B157)+10^(0.1*C157)+10^(0.1*D157))","v":14.5796563392006},{"$f":"10*LOG(10^(0.1*E157)+10^(0.1*F157)+10^(0.1*G157))","v":17.991175540377654},{"$f":"10*LOG(10^(0.1*H157)+10^(0.1*I157)+10^(0.1*J157))","v":21.398834076856129},{"$f":"10*LOG(10^(0.1*K157)+10^(0.1*L157)+10^(0.1*M157))","v":14.850318840415017},{"$f":"10*LOG(10^(0.1*N157)+10^(0.1*O157)+10^(0.1*P157))","v":13.120630906187568},{"$f":"10*LOG(10^(0.1*Q157)+10^(0.1*R157)+10^(0.1*S157))","v":15.784452891685692},{"$f":"10*LOG(10^(0.1*T157)+10^(0.1*U157)+10^(0.1*V157))","v":18.591788142956329},{"$f":"10*LOG(10^(0.1*B168)+10^(0.1*C168)+10^(0.1*D168)+10^(0.1*E168)+10^(0.1*F168)+10^(0.1*G168)+10^(0.1*H168))","v":25.920994985772531}]
["ZUL7503",{"$f":"10*LOG(10^(0.1*B158)+10^(0.1*C158)+10^(0.1*D158))","v":14.217401491929957},14.563285215141882,15.802231825480764,8.4633804305019584,10.430045452109111,14.624848003440079,{"$f":"10*LOG(10^(0.1*T158)+10^(0.1*U158)+10^(0.1*V158))","v":18.761076582013366},{"$f":"10*LOG(10^(0.1*B169)+10^(0.1*C169)+10^(0.1*D169)+10^(0.1*E169)+10^(0.1*F169)+10^(0.1*G169)+10^(0.1*H169))","v":23.330277545907251}]
["ZUL9503",{"$f":"10*LOG(10^(0.1*B159)+10^(0.1*C159)+10^(0.1*D159))","v":7.9386671631045758},10.039201079798122,9.4985137833165396,3.0536310079603854,7.6552173100593173,14.077745116569515,18.290880360744342,{"$f":"10*LOG(10^(0.1*B170)+10^(0.1*C170)+10^(0.1*D170)+10^(0.1*E170)+10^(0.1*F170)+10^(0.1*G170)+10^(0.1*H170))","v":21.007438955273159}]
["ZUL11503",7.5136772410111208,8.7024651968084026,6.406555989922456,-0.5362186168647477,6.1615210797798472,13.390615992488675,18.357466250240073,20.522522041185592]
["ABL5503",15.280920841078018,14.844319725396137,17.582079141837703,12.405030969064995,11.963937003567146,14.873690269645866,18.515159277233266,24.089631562339726]
["ABL7503",13.199376318524436,12.548955016199457,11.992382286095271,6.7271789061667508,9.0713415027705739,14.012684530433873,18.232649617382613,22.020448349454508]
["ABL9503",8.4327863247999719,3.0315836194529551,2.4769102030165495,-2.608101781181444,3.0428327994145605,11.97086058619249,18.132120510919062,19.735925527345714]
["ABL11503",8.2057925869227066,1.7012580720248369,-0.55211351829803945,-5.767895491469921,1.4658431246394066,11.635980588825488,17.95641302570473,19.429137306711191]
[null,2,3,4,5,6,7,8,9]
["Auswahl:"]
[{"$f":"CONCATENATE(\"ZUL\",'Auslegung KS'!$D$9,'Auslegung KS'!$D$15)","v":"ZUL7503"},{"$f":"VLOOKUP($A$178,$A$168:$I$175,B$176,FALSE)","v":14.217401491929957},{"$f":"VLOOKUP($A$178,$A$168:$I$175,C$176,FALSE)","v":14.563285215141882},15.802231825480764,8.4633804305019584,10.430045452109111,14.624848003440079,18.761076582013366,{"$f":"IF(VLOOKUP(A178,A168:I175,I176,FALSE)<25,\"<25\",VLOOKUP(A178,A168:I175,I176,FALSE))","v":"<25"}]
[{"$f":"CONCATENATE(\"ABL\",'Auslegung KS'!$D$9,'Auslegung KS'!$D$15)","v":"ABL7503"},{"$f":"VLOOKUP($A$179,$A$168:$I$175,B$176,FALSE)","v":13.199376318524436},{"$f":"VLOOKUP($A$179,$A$168:$I$175,C$176,FALSE)","v":12.548955016199457},11.992382286095271,6.7271789061667508,9.0713415027705739,14.012684530433873,18.232649617382613,{"$f":"IF(VLOOKUP(A179,A168:I175,I176,FALSE)<25,\"<25\",VLOOKUP(A179,A168:I175,I176,FALSE))","v":"<25"}]
["A-Bewertung",-16.100000000000001,-8.6,-3.2,0,1.2,1,-1.1000000000000001]
["Relativspektrum",{"$f":"IF($I$178=\"<25\",\"\",B178-B$180)","v":""},{"$f":"IF($I$178=\"<25\",\"\",C178-C$180)","v":""},"","","","",""]
[null,{"$f":"IF($I$179=\"<25\",\"\",B179-B$180)","v":""},{"$f":"IF($I$179=\"<25\",\"\",C179-C$180)","v":""},"","","","",""]

{"sheet":"Dt KS","index":22,"n_rows":13,"n_cols":11,"rows_kept":13,"cut":false,"hidden":true,"merged":[]}
["Frequenzband","fm_Okt","[Hz]",63,125,250,500,1000,2000,4000,8000]
[null,null,{"$f":"'Grunddaten KS'!C5","v":"ZUL5503"},35.142544247669491,19.048365689439848,12.963066499617284,12.269505126356719,22.482239344487567,17.171745041370116,16.679763868504622,18.772627448835053]
[null,null,{"$f":"'Grunddaten KS'!C6","v":"ZUL7503"},30.210634642115298,19.619320040336305,11.608143519538658,14.014647942100822,18.606735713918468,18.594417482649945,16.228425273925268,18.486727439935741]
[null,null,{"$f":"'Grunddaten KS'!C7","v":"ZUL9503"},27.022742908975864,16.612001417053321,12.555470993579334,14.703011722718387,17.271407496378998,18.089926848984661,16.277241736057803,16.064750747162535]
[null,null,{"$f":"'Grunddaten KS'!C8","v":"ZUL11503"},25.398167750276478,16.081655199585796,13.639430332947825,13.507619549876111,17.397753476456245,18.558082135819902,16.092508520192965,16.322036047781367]
[null,null,{"$f":"'Grunddaten KS'!C13","v":"ABL5503"},37.134185171257684,20.506159925697403,15.376535524186636,13.799859552540227,25.505267423270368,18.706155666420074,21.522958641079128,21.818044103718321]
[null,null,{"$f":"'Grunddaten KS'!C14","v":"ABL7503"},34.453918279291699,23.481804853097941,12.351468719764426,14.236812267850596,22.687218723862067,19.775560106218393,23.157974829717972,21.496130733384632]
[null,null,{"$f":"'Grunddaten KS'!C15","v":"ABL9503"},32.563056734720476,20.570032240037108,13.346766223584979,15.279827803101171,21.573439634810327,20.978336531563244,24.134305934940301,22.069819644954194]
[null,null,{"$f":"'Grunddaten KS'!C16","v":"ABL11503"},31.056931659368551,18.949461870614144,15.294786825597598,17.856143269129134,22.320242175036221,24.922531326507837,24.452008781943974,22.373571649269124]
[null,null,null,2,3,4,5,6,7,8,9]
[]
[null,null,{"$f":"'Grunddaten KS'!C23","v":"ZUL7503"},{"$f":"VLOOKUP($C$12,$C$2:$K$9,D$10,FALSE)","v":30.210634642115298},{"$f":"VLOOKUP($C$12,$C$2:$K$9,E10,FALSE)","v":19.619320040336305},11.608143519538658,14.014647942100822,18.606735713918468,18.594417482649945,16.228425273925268,18.486727439935741]
[null,null,{"$f":"'Grunddaten KS'!C24","v":"ABL7503"},{"$f":"VLOOKUP($C$13,$C$2:$K$9,D$10,FALSE)","v":34.453918279291699},{"$f":"VLOOKUP($C$13,$C$2:$K$9,E$10,FALSE)","v":23.481804853097941},12.351468719764426,14.236812267850596,22.687218723862067,19.775560106218393,23.157974829717972,21.496130733384632]

{"sheet":"xkr._vx KS","index":23,"n_rows":65,"n_cols":17,"rows_kept":65,"cut":false,"hidden":true,"merged":[[8,12,8,13]]}
["Geschwindigkeit im Strahl",null,null,null,null,null,null,null,null,null,null,"kritischer Strahlweg"]
[null,null,"Auswahl",null,null,null,null,null,null,null,null,"Baulänge",null,550,780,990,1200]
["Konstanten","K031",{"$f":"IF($F$28=$H$27,$H$28,IF($F$28=$I$27,$I$28,IF($F$28=$J$27,$J$28,IF($F$28=$K$27,$K$28,\"FALSCH\"))))","v":6.7999999999999996E-3},null,null,null,null,null,null,null,null,"Konstanten:","K041",7.0494041455335457E-2,1.3005559500889071E-2,1.8509123639392146E-2,{"$f":"$P$3","v":1.8509123639392146E-2}]
[null,"K033",{"$f":"IF($F$28=$H$27,$H$29,IF($F$28=$I$27,$I$29,IF($F$28=$J$27,$J$29,IF($F$28=$K$27,$K$29,\"FALSCH\"))))","v":0.6},null,null,null,null,null,null,null,null,null,"K042",0.3,0.3,0.3,0.3]
[null,"K034",{"$f":"1/SQRT(3)","v":0.57735026918962584},null,null,null,null,null,null,null,null,null,"K043",0.92208835155436053,1.2139396633671447,1.1225610999462774,{"$f":"$P$5","v":1.1225610999462774}]
[null,null,null,null,null,null,null,null,null,null,null,"mittlere Untertemperatur","Dt0",{"$f":"IF(('Auslegung KS'!$D$56-'Auslegung KS'!$D$55)>0,'Auslegung KS'!D56-'Auslegung KS'!D55,0.5)","v":4},{"$f":"$N$6","v":4},{"$f":"$N$6","v":4},{"$f":"$N$6","v":4}]
["Lauflänge","Geschwindigkeit im Strahl ZUL",null,"Baulänge","kritischer Strahlweg Anzeige","kritischer Strahlweg","vertikaler Strahlweg","Geschwindigkeit im Strahl an x_kr.","Geschwindigkeit im Strahl Anzeige","Lauflänge bis Aufenthaltsbereich, ANZEIGE","Zugluftrisiko"]
["L","vx",null,"L","xkr._Anzeige","xkr.","y","v0","vx","x+y","DR"]
["m","m/s",null,"mm","m","m","m","m/s","m/s","m","%",null,"kritischer Strahlweg bei V° und DTo"]
[0.5,{"$f":"$C$3*'Auslegung KS'!$B$28*(1/A10)^($C$4)*$C$5*SQRT('Auslegung KS'!$D$15)","v":0.9276185387043635},null,550,{"$f":"IF($N10<'Auslegung KS'!$D$61,$N10,\">Raumlänge\")","v":2.6381793591663816},{"$f":"IF($N10<'Auslegung KS'!$D$61,$N10,'Auslegung KS'!$D$61)","v":2.6381793591663816},{"$f":"IF(E10=\">Raumlänge\",'Auslegung KS'!$D$59,(('Auslegung KS'!$D$59-'Auslegung KS'!$D$60)/SIN(45/180*PI())))","v":1.697056274847714},{"$f":"$C$3*'Auslegung KS'!$B$32*(1/F10)^($C$4)","v":0.26596492220852586},{"$f":"1/(G10+0.5)*H10","v":0.12105512510231939},{"$f":"IF(($F10+$G10)<'Auslegung KS'!$D$61,($F10+$G10),\">Raumlänge\")","v":4.3352356340140954},{"$f":"IF(I10=\"<0,1\",(34-$K$14)*(0.1-0.05)^0.62*(0.37*0.1*$K$15+3.14),(34-$K$14)*(I10-0.05)^0.62*(0.37*I10*$K$15+3.14))","v":8.2675013571488645},null,"BL 550",{"$f":"$N$3*'Auslegung KS'!$B$32^'xkr._vx KS'!$N$5*(1/'xkr._vx KS'!$N$6^('xkr._vx KS'!$N$4))+0.3","v":2.6381793591663816}]
[0.6,{"$f":"$C$3*'Auslegung KS'!$B$28*(1/A11)^($C$4)*$C$5*SQRT('Auslegung KS'!$D$15)","v":0.83149697179804138},null,750,{"$f":"IF($N11<'Auslegung KS'!$D$61,$N11,\">Raumlänge\")","v":1.7905575082577256},{"$f":"IF($N11<'Auslegung KS'!$D$61,$N11,'Auslegung KS'!$D$61)","v":1.7905575082577256},{"$f":"IF(E11=\">Raumlänge\",'Auslegung KS'!$D$59,(('Auslegung KS'!$D$59-'Auslegung KS'!$D$60)/SIN(45/180*PI())))","v":1.697056274847714},{"$f":"$C$3*'Auslegung KS'!$B$32*(1/F11)^($C$4)","v":0.33559384600688202},{"$f":"1/(G11+0.5)*H11","v":0.15274704150677398},{"$f":"IF(($F11+$G11)<'Auslegung KS'!$D$61,($F11+$G11),\">Raumlänge\")","v":3.4876137831054397},{"$f":"IF(I11=\"<0,1\",(34-$K$14)*(0.1-0.05)^0.62*(0.37*0.1*$K$15+3.14),(34-$K$14)*(I11-0.05)^0.62*(0.37*I11*$K$15+3.14))","v":11.106726052888908},null,"BL 750",{"$f":"$O$3*'Auslegung KS'!$B$32^'xkr._vx KS'!$O$5*(1/'xkr._vx KS'!$O$6^('xkr._vx KS'!$O$4))+0.3","v":1.7905575082577256}]
[0.7,{"$f":"$C$3*'Auslegung KS'!$B$28*(1/A12)^($C$4)*$C$5*SQRT('Auslegung KS'!$D$15)","v":0.75804082943035367},null,950,{"$f":"IF($N12<'Auslegung KS'!$D$61,$N12,\">Raumlänge\")","v":1.738808995530843},{"$f":"IF($N12<'Auslegung KS'!$D$61,$N12,'Auslegung KS'!$D$61)","v":1.738808995530843},{"$f":"IF(E12=\">Raumlänge\",'Auslegung KS'!$D$59,(('Auslegung KS'!$D$59-'Auslegung KS'!$D$60)/SIN(45/180*PI())))","v":1.697056274847714},{"$f":"$C$3*'Auslegung KS'!$B$32*(1/F12)^($C$4)-0.05","v":0.29155120804200585},{"$f":"1/(G12+0.5)*H12","v":0.13270083765251497},{"$f":"IF(($F12+$G12)<'Auslegung KS'!$D$61,($F12+$G12),\">Raumlänge\")","v":3.435865270378557},{"$f":"IF(I12=\"<0,1\",(34-$K$14)*(0.1-0.05)^0.62*(0.37*0.1*$K$15+3.14),(34-$K$14)*(I12-0.05)^0.62*(0.37*I12*$K$15+3.14))","v":9.3129515033463122},null,"BL 950",{"$f":"$P$3*'Auslegung KS'!$B$32^'xkr._vx KS'!$P$5*(1/'xkr._vx KS'!$P$6^('xkr._vx KS'!$P$4))+0.3","v":1.738808995530843}]
[0.8,{"$f":"$C$3*'Auslegung KS'!$B$28*(1/A13)^($C$4)*$C$5*SQRT('Auslegung KS'!$D$15)","v":0.69967672944880943},null,1150,{"$f":"IF($N13<'Auslegung KS'!$D$61,$N13,\">Raumlänge\")","v":1.4672485920758249},{"$f":"IF($N13<'Auslegung KS'!$D$61,$N13,'Auslegung KS'!$D$61)","v":1.4672485920758249},{"$f":"IF(E13=\">Raumlänge\",'Auslegung KS'!$D$59,(('Auslegung KS'!$D$59-'Auslegung KS'!$D$60)/SIN(45/180*PI())))","v":1.697056274847714},{"$f":"$C$3*'Auslegung KS'!$B$32*(1/F13)^($C$4)-0.05","v":0.32818537660241576},{"$f":"1/(G13+0.5)*H13","v":0.14937504348866232},{"$f":"IF(($F13+$G13)<'Auslegung KS'!$D$61,($F13+$G13),\">Raumlänge\")","v":3.1643048669235387},{"$f":"IF(I13=\"<0,1\",(34-$K$14)*(0.1-0.05)^0.62*(0.37*0.1*$K$15+3.14),(34-$K$14)*(I13-0.05)^0.62*(0.37*I13*$K$15+3.14))","v":10.804770089230349},null,"BL 1150",{"$f":"$Q$3*('Auslegung KS'!$B$32*0.83)^'xkr._vx KS'!$Q$5*(1/'xkr._vx KS'!$Q$6^('xkr._vx KS'!$Q$4))+0.3","v":1.4672485920758249}]
[0.9,{"$f":"$C$3*'Auslegung KS'!$B$28*(1/A14)^($C$4)*$C$5*SQRT('Auslegung KS'!$D$15)","v":0.65193743054964437},null,null,"*rote Werte sind noch zu bearbeiten.",null,null,"*950/1150 - 0,05",null,null,{"$f":"('Auslegung KS'!D55+'Auslegung KS'!D56)/2","v":24},null,null,"*+0,3 m"]
[1,{"$f":"$C$3*'Auslegung KS'!$B$28*(1/A15)^($C$4)*$C$5*SQRT('Auslegung KS'!$D$15)","v":0.61199999999999999},null,null,null,null,null,null,null,null,25]
[1.1000000000000001,{"$f":"$C$3*'Auslegung KS'!$B$28*(1/A16)^($C$4)*$C$5*SQRT('Auslegung KS'!$D$15)","v":0.57798399306499992},null,null,null,null,null,null,null,null,"TU = 25 = Mittelwert Messreihen"]
[1.2,{"$f":"$C$3*'Auslegung KS'!$B$28*(1/A17)^($C$4)*$C$5*SQRT('Auslegung KS'!$D$15)","v":0.54858341603561078}]
[1.3,{"$f":"$C$3*'Auslegung KS'!$B$28*(1/A18)^($C$4)*$C$5*SQRT('Auslegung KS'!$D$15)","v":0.52285999060200394}]
[1.4,{"$f":"$C$3*'Auslegung KS'!$B$28*(1/A19)^($C$4)*$C$5*SQRT('Auslegung KS'!$D$15)","v":0.50012043556109897}]
[1.5,{"$f":"$C$3*'Auslegung KS'!$B$28*(1/A20)^($C$4)*$C$5*SQRT('Auslegung KS'!$D$15)","v":0.4798402411900668}]
[1.6,{"$f":"$C$3*'Auslegung KS'!$B$28*(1/A21)^($C$4)*$C$5*SQRT('Auslegung KS'!$D$15)","v":0.46161448974570501}]
[1.7,{"$f":"$C$3*'Auslegung KS'!$B$28*(1/A22)^($C$4)*$C$5*SQRT('Auslegung KS'!$D$15)","v":0.44512508469709428}]
[1.8,{"$f":"$C$3*'Auslegung KS'!$B$28*(1/A23)^($C$4)*$C$5*SQRT('Auslegung KS'!$D$15)","v":0.43011829846960492}]
[1.9,{"$f":"$C$3*'Auslegung KS'!$B$28*(1/A24)^($C$4)*$C$5*SQRT('Auslegung KS'!$D$15)","v":0.41638901304289783}]
[2,{"$f":"$C$3*'Auslegung KS'!$B$28*(1/A25)^($C$4)*$C$5*SQRT('Auslegung KS'!$D$15)","v":0.40376942069650568}]
[2.1,{"$f":"$C$3*'Auslegung KS'!$B$28*(1/A26)^($C$4)*$C$5*SQRT('Auslegung KS'!$D$15)","v":0.39212076866620754}]
[2.2000000000000002,{"$f":"$C$3*'Auslegung KS'!$B$28*(1/A27)^($C$4)*$C$5*SQRT('Auslegung KS'!$D$15)","v":0.38132722557468646},null,null,null,null,null,{"$f":"'Grunddaten KS'!$C$5","v":"ZUL5503"},{"$f":"'Grunddaten KS'!$C$6","v":"ZUL7503"},{"$f":"'Grunddaten KS'!$C$7","v":"ZUL9503"},{"$f":"'Grunddaten KS'!$C$8","v":"ZUL11503"}]
[2.2999999999999998,{"$f":"$C$3*'Auslegung KS'!$B$28*(1/A28)^($C$4)*$C$5*SQRT('Auslegung KS'!$D$15)","v":0.371291255085066},null,null,"Auswahl:",{"$f":"'Grunddaten KS'!$C$23","v":"ZUL7503"},"K031",8.0000000000000002E-3,6.7999999999999996E-3,6.0000000000000001E-3,5.4176891123622313E-3]
[2.4,{"$f":"$C$3*'Auslegung KS'!$B$28*(1/A29)^($C$4)*$C$5*SQRT('Auslegung KS'!$D$15)","v":0.36193007858890314},null,null,null,null,"K033",0.6,0.6,0.6,0.6]
[2.5,{"$f":"$C$3*'Auslegung KS'!$B$28*(1/A30)^($C$4)*$C$5*SQRT('Auslegung KS'!$D$15)","v":0.35317293696608598}]
[2.6,{"$f":"$C$3*'Auslegung KS'!$B$28*(1/A31)^($C$4)*$C$5*SQRT('Auslegung KS'!$D$15)","v":0.34495894691299267}]
[2.7,{"$f":"$C$3*'Auslegung KS'!$B$28*(1/A32)^($C$4)*$C$5*SQRT('Auslegung KS'!$D$15)","v":0.3372354053560726}]
[2.8,{"$f":"$C$3*'Auslegung KS'!$B$28*(1/A33)^($C$4)*$C$5*SQRT('Auslegung KS'!$D$15)","v":0.32995643553102783}]
[2.9,{"$f":"$C$3*'Auslegung KS'!$B$28*(1/A34)^($C$4)*$C$5*SQRT('Auslegung KS'!$D$15)","v":0.32308189640206098}]
[3,{"$f":"$C$3*'Auslegung KS'!$B$28*(1/A35)^($C$4)*$C$5*SQRT('Auslegung KS'!$D$15)","v":0.31657649707873348}]
[3.1,{"$f":"$C$3*'Auslegung KS'!$B$28*(1/A36)^($C$4)*$C$5*SQRT('Auslegung KS'!$D$15)","v":0.31040907228916875}]
[3.2,{"$f":"$C$3*'Auslegung KS'!$B$28*(1/A37)^($C$4)*$C$5*SQRT('Auslegung KS'!$D$15)","v":0.30455198547342538}]
[3.3,{"$f":"$C$3*'Auslegung KS'!$B$28*(1/A38)^($C$4)*$C$5*SQRT('Auslegung KS'!$D$15)","v":0.29898063381061529}]
[3.4,{"$f":"$C$3*'Auslegung KS'!$B$28*(1/A39)^($C$4)*$C$5*SQRT('Auslegung KS'!$D$15)","v":0.29367303527063521}]
[3.5,{"$f":"$C$3*'Auslegung KS'!$B$28*(1/A40)^($C$4)*$C$5*SQRT('Auslegung KS'!$D$15)","v":0.28860948213050885}]
[3.6,{"$f":"$C$3*'Auslegung KS'!$B$28*(1/A41)^($C$4)*$C$5*SQRT('Auslegung KS'!$D$15)","v":0.28377224869941031}]
[3.7,{"$f":"$C$3*'Auslegung KS'!$B$28*(1/A42)^($C$4)*$C$5*SQRT('Auslegung KS'!$D$15)","v":0.2791453435281544}]
[3.8,{"$f":"$C$3*'Auslegung KS'!$B$28*(1/A43)^($C$4)*$C$5*SQRT('Auslegung KS'!$D$15)","v":0.27471429833451078}]
[3.9,{"$f":"$C$3*'Auslegung KS'!$B$28*(1/A44)^($C$4)*$C$5*SQRT('Auslegung KS'!$D$15)","v":0.27046598739771549}]
[4,{"$f":"$C$3*'Auslegung KS'!$B$28*(1/A45)^($C$4)*$C$5*SQRT('Auslegung KS'!$D$15)","v":0.26638847236861396}]
[4.0999999999999996,{"$f":"$C$3*'Auslegung KS'!$B$28*(1/A46)^($C$4)*$C$5*SQRT('Auslegung KS'!$D$15)","v":0.26247086838340161}]
[4.2,{"$f":"$C$3*'Auslegung KS'!$B$28*(1/A47)^($C$4)*$C$5*SQRT('Auslegung KS'!$D$15)","v":0.25870322811670443}]
[4.3,{"$f":"$C$3*'Auslegung KS'!$B$28*(1/A48)^($C$4)*$C$5*SQRT('Auslegung KS'!$D$15)","v":0.25507644100723825}]
[4.4000000000000004,{"$f":"$C$3*'Auslegung KS'!$B$28*(1/A49)^($C$4)*$C$5*SQRT('Auslegung KS'!$D$15)","v":0.25158214536943935}]
[4.5,{"$f":"$C$3*'Auslegung KS'!$B$28*(1/A50)^($C$4)*$C$5*SQRT('Auslegung KS'!$D$15)","v":0.24821265149242799}]
[4.5999999999999996,{"$f":"$C$3*'Auslegung KS'!$B$28*(1/A51)^($C$4)*$C$5*SQRT('Auslegung KS'!$D$15)","v":0.2449608741427706}]
[4.7,{"$f":"$C$3*'Auslegung KS'!$B$28*(1/A52)^($C$4)*$C$5*SQRT('Auslegung KS'!$D$15)","v":0.24182027314469917}]
[4.8,{"$f":"$C$3*'Auslegung KS'!$B$28*(1/A53)^($C$4)*$C$5*SQRT('Auslegung KS'!$D$15)","v":0.23878480092235654}]
[4.9000000000000004,{"$f":"$C$3*'Auslegung KS'!$B$28*(1/A54)^($C$4)*$C$5*SQRT('Auslegung KS'!$D$15)","v":0.23584885606237463}]
[5,{"$f":"$C$3*'Auslegung KS'!$B$28*(1/A55)^($C$4)*$C$5*SQRT('Auslegung KS'!$D$15)","v":0.23300724209882359}]
[5.0999999999999996,{"$f":"$C$3*'Auslegung KS'!$B$28*(1/A56)^($C$4)*$C$5*SQRT('Auslegung KS'!$D$15)","v":0.23025513084196175}]
[5.2,{"$f":"$C$3*'Auslegung KS'!$B$28*(1/A57)^($C$4)*$C$5*SQRT('Auslegung KS'!$D$15)","v":0.2275880296717904}]
[5.3,{"$f":"$C$3*'Auslegung KS'!$B$28*(1/A58)^($C$4)*$C$5*SQRT('Auslegung KS'!$D$15)","v":0.22500175230076205}]
[5.4,{"$f":"$C$3*'Auslegung KS'!$B$28*(1/A59)^($C$4)*$C$5*SQRT('Auslegung KS'!$D$15)","v":0.22249239258002065}]
[5.5,{"$f":"$C$3*'Auslegung KS'!$B$28*(1/A60)^($C$4)*$C$5*SQRT('Auslegung KS'!$D$15)","v":0.22005630098258361}]
[5.6,{"$f":"$C$3*'Auslegung KS'!$B$28*(1/A61)^($C$4)*$C$5*SQRT('Auslegung KS'!$D$15)","v":0.21769006344680886}]
[5.7,{"$f":"$C$3*'Auslegung KS'!$B$28*(1/A62)^($C$4)*$C$5*SQRT('Auslegung KS'!$D$15)","v":0.21539048230586863}]
[5.8,{"$f":"$C$3*'Auslegung KS'!$B$28*(1/A63)^($C$4)*$C$5*SQRT('Auslegung KS'!$D$15)","v":0.21315455906501413}]
[5.8999999999999897,{"$f":"$C$3*'Auslegung KS'!$B$28*(1/A64)^($C$4)*$C$5*SQRT('Auslegung KS'!$D$15)","v":0.21097947881920981}]
[5.9999999999999902,{"$f":"$C$3*'Auslegung KS'!$B$28*(1/A65)^($C$4)*$C$5*SQRT('Auslegung KS'!$D$15)","v":0.2088625961300806}]

{"sheet":"Schlüssel KS","index":24,"n_rows":48,"n_cols":16,"rows_kept":48,"cut":false,"hidden":true,"merged":[]}
[]
[null,1,"= Produktgruppe emcoair"]
[null,null,"K","Warengruppe Kombischlitzdurchlässe"]
[null,null,null,"S0","Artikel"]
[null,null,null,null,3,null,null,"Schlitzanzahl 3"]
[null,null,null,null,null,"K",null,"Zuluft/Abluft-Kombination"]
[null,null,null,null,null,null,"0550","550 mm Breite"]
[null,null,null,null,null,null,"0750","750 mm Breite"]
[null,null,null,null,null,null,"0950","950 mm Breite"]
[null,null,null,null,null,null,"1150","1150 mm Breite"]
[null,null,null,null,null,null,null,"A","Aluminium"]
[null,null,null,null,null,null,null,null,9010,"Frontblende lackiert, RAL 9010"]
[null,null,null,null,null,null,null,null,"E6C0","naturfarbig eloxiert"]
[null,null,null,null,null,null,null,null,null,"S","Walzenfarbe schwarz"]
[null,null,null,null,null,null,null,null,null,"W","Walzenfarbe weiß"]
[null,null,null,null,null,null,null,null,null,null,"J","Schraubbefestigung in der Blende"]
[null,null,null,null,null,null,null,null,null,null,null,"DE","Walzenstellung DE (Standard, andere Walzenstellungen auf Anfrage)"]
[null,null,null,null,null,null,null,null,null,null,null,null,"A","mit Anschlusskasten"]
[null,null,null,null,null,null,null,null,null,null,null,null,null,0,"ohne Drossel"]
[null,null,null,null,null,null,null,null,null,null,null,null,null,1,"mit frontseitig bedienbarer Drossel"]
[null,null,null,null,null,null,null,null,null,null,null,null,null,2,"mit BVR( Bei Bestellung bitte Nennvolumenstrom angeben"]
[null,null,null,null,null,null,null,null,null,null,null,null,null,null,"V","Stahl, verzinkt"]
[]
[]
[]
[]
[]
[]
[]
[]
[]
[]
[]
[]
[]
[null,{"$f":"B2","v":1},{"$f":"C3","v":"K"},{"$f":"D4","v":"S0"},{"$f":"E5","v":3},{"$f":"F6","v":"K"},{"$f":"G7","v":"0550"},{"$f":"H11","v":"A"},{"$f":"I12","v":9010},{"$f":"J14","v":"S"},{"$f":"K16","v":"J"},{"$f":"L17","v":"DE"},{"$f":"M18","v":"A"},{"$f":"N19","v":0},{"$f":"O22","v":"V"}]
[]
["Schwarz","S"]
["weiß","W"]
["naturfarbig eloxiert","E6C0"]
["weiß (RAL 9010) bepulvert",9010]
[550,{"$f":"G7","v":"0550"}]
[750,{"$f":"G8","v":"0750"}]
[950,{"$f":"G9","v":"0950"}]
[1150,{"$f":"G10","v":"1150"}]
["ohne Drossel / ohne BVR",0]
["mit frontseitig bedienbarer Drossel*",1]
["mit BVR*",2]

{"sheet":"Funktion KS","index":25,"n_rows":0,"n_cols":0,"rows_kept":0,"cut":false,"hidden":true,"merged":[]}

{"sheet":"Maße KS","index":26,"n_rows":0,"n_cols":0,"rows_kept":0,"cut":false,"hidden":true,"merged":[]}

{"sheet":"Übergabedaten Bauakustik","index":27,"n_rows":46,"n_cols":15,"rows_kept":46,"cut":false,"hidden":true,"merged":[[2,11,2,12],[2,13,2,14]]}
["Datenübergabe für den Bauakustikrechner"]
[]
[null,null,null,null,null,null,null,null,null,"offen",null,"geschlossen",null,"ZUL geschlossen, ABL offen"]
[null,null,null,null,null,null,null,"Breite ","Höhe ","Norm-Schallpegeldifferenz","Schalldämm-Maß","Norm-Schallpegeldifferenz","Schalldämm-Maß","Norm-Schallpegeldifferenz","Schalldämm-Maß"]
[null,null,"Typ","Seite","Verkettung","Baulänge","Schlitzanzahl","Anschlusskasten","Anschlusskasten","Dn,w","Rw","Dn,w","Rw","Dn,w","Rw"]
[null,null,null,null,null,"l","n",null,null,"dB","dB","dB","dB","dB","dB"]
[null,null,null,null,null,"mm",1]
[null,null,"KS",null,{"$f":"CONCATENATE(C8,F8,G8)","v":"KS5503"},550,3,517,150,39,17.89581802149624,47,{"$f":"L8+10*LOG(($H8/1000*$I8/1000)/10)","v":25.89581802149624},40,{"$f":"N8+10*LOG(($H8/1000*$I8/1000)/10)","v":18.89581802149624}]
[null,null,"KS",null,{"$f":"CONCATENATE(C9,F9,G9)","v":"KS7503"},750,3,717,150,39,19.316104147234814,47,{"$f":"L9+10*LOG(($H9/1000*$I9/1000)/10)","v":27.316104147234814},40,20.316104147234814]
[null,null,"KS",null,"KS9503",950,3,917,150,39,20.384605947257022,47,28.384605947257022,40,21.384605947257022]
[null,null,"KS",null,"KS11503",1150,3,1117,150,39,21.241444321712901,47,29.241444321712901,40,22.241444321712901]
[null,null,"KSW",null,"KSW5001",500,1,518,280,43,24.614877910874522,53,34.614877910874526,"-","-"]
[null,null,"KSW",null,"KSW8001",800,1,818,280,42,25.599113350135422,52,35.599113350135426,44,27.599113350135422]
[null,null,"KSW",null,"KSW10001",1000,1,1018,280,42,26.549058093429593,52,36.549058093429593,43,27.549058093429593]
[null,null,"KSW",null,"KSW12001",1200,1,1218,280,42,27.328053196390758,52,37.328053196390755,43,28.328053196390755]
[null,null,"KSW",null,"KSW5002",500,2,518,280,43,24.614877910874522,53,34.614877910874526,"-","-"]
[null,null,"KSW",null,"KSW8002",800,2,818,280,42,25.599113350135422,52,35.599113350135426,44,27.599113350135422]
[null,null,"KSW",null,"KSW10002",1000,2,1018,280,42,26.549058093429593,52,36.549058093429593,43,27.549058093429593]
[null,null,"KSW",null,"KSW12002",1200,2,1218,280,42,27.328053196390758,52,37.328053196390755,43,28.328053196390755]
[null,null,"KSH",null,{"$f":"CONCATENATE(C20,F20,G20,\"D\")","v":"KSH5002D"},500,2,518,73,null,null,47,{"$f":"L20+10*LOG(($H20/1000*$I20/1000)/10)","v":22.776526198656889},40,{"$f":"N20+10*LOG(($H20/1000*$I20/1000)/10)","v":15.776526198656889}]
[null,null,"KSH",null,{"$f":"CONCATENATE(C21,F21,G21,\"D\")","v":"KSH6002D"},600,2,618,73,null,null,47,{"$f":"L21+10*LOG(($H21/1000*$I21/1000)/10)","v":23.543113352092718},39,15.543113352092718]
[null,null,"KSH",null,"KSH8002D",800,2,818,73,null,null,47,24.760761637917788,40,17.760761637917788]
[null,null,"KSH",null,"KSH10002D",1000,2,1018,73,null,null,47,25.71070638121196,41,19.71070638121196]
[null,null,"KSH",null,"KSH12002D",1200,2,1218,73,null,null,47,26.489701484173125,41,20.489701484173125]
[null,null,"KSH",null,{"$f":"CONCATENATE(C25,F25,G25,\"E\")","v":"KSH5002E"},500,2,518,73,null,null,47,22.776526198656889,41,16.776526198656889]
[null,null,"KSH",null,{"$f":"CONCATENATE(C26,F26,G26,\"E\")","v":"KSH6002E"},600,2,618,73,null,null,47,23.543113352092718,40,16.543113352092718]
[null,null,"KSH",null,"KSH8002E",800,2,818,73,null,null,47,24.760761637917788,41,18.760761637917788]
[null,null,"KSH",null,"KSH10002E",1000,2,1018,73,null,null,47,25.71070638121196,42,20.71070638121196]
[null,null,"KSH",null,"KSH12002E",1200,2,1218,73,null,null,47,26.489701484173125,42,21.489701484173125]
[null,null,"KSH",null,{"$f":"CONCATENATE(C30,F30,G30,\"D\")","v":"KSH5003D"},500,3,518,105,null,null,47,24.355190588151711,41,18.355190588151711]
[null,null,"KSH",null,{"$f":"CONCATENATE(C31,F31,G31,\"D\")","v":"KSH6003D"},600,3,618,105,null,null,47,25.121777741587536,40,18.121777741587536]
[null,null,"KSH",null,"KSH8003D",800,3,818,105,null,null,46,25.33942602741261,39,18.33942602741261]
[null,null,"KSH",null,"KSH10003D",1000,3,1018,105,null,null,46,26.289370770706782,39,19.289370770706782]
[null,null,"KSH",null,"KSH12003D",1200,3,1218,105,null,null,46,27.068365873667947,39,20.068365873667947]
[null,null,"KSH",null,{"$f":"CONCATENATE(C35,F35,G35,\"E\")","v":"KSH5003E"},500,3,518,105,null,null,47,24.355190588151711,41,18.355190588151711]
[null,null,"KSH",null,{"$f":"CONCATENATE(C36,F36,G36,\"E\")","v":"KSH6003E"},600,3,618,105,null,null,47,25.121777741587536,40,18.121777741587536]
[null,null,"KSH",null,"KSH8003E",800,3,818,105,null,null,46,25.33942602741261,39,18.33942602741261]
[null,null,"KSH",null,"KSH10003E",1000,3,1018,105,null,null,46,26.289370770706782,39,19.289370770706782]
[null,null,"KSH",null,"KSH12003E",1200,3,1218,105,null,null,46,27.068365873667947,39,20.068365873667947]
[]
[]
["Ausgelegter Durchlass",null,null,null,1,2,3,4,5,6,7,8,9,10,11]
[null,"KS",750,3,{"$f":"CONCATENATE(B43,C43,D43,D46)","v":"KS7503"},{"$f":"VLOOKUP($E$43,$E$8:$O$41,F42,FALSE)","v":750},{"$f":"VLOOKUP($E$43,$E$8:$O$41,G42,FALSE)","v":3},717,150,39,19.316104147234814,47,27.316104147234814,40,20.316104147234814]
[]
[]
["Sonderfall KSH: Ausführung Abluft:",null,null,{"$f":"IF(AND(B43=\"KSH\",OR('Auslegung KSH'!$D$70=\"Exzenterwalze\",'Auslegung KSH'!$D$70=\"Eccentric drum\")),\"E\",IF(AND(OR(B43=\"KSH\",'Auslegung KSH'!$D$70=\"Düsenwalze\",'Auslegung KSH'!$D$70=\"Nozzle cylinder\")),\"D\",\"\"))","v":""}]

{"sheet":"Funktion KSW","index":28,"n_rows":0,"n_cols":0,"rows_kept":0,"cut":false,"hidden":true,"merged":[]}

{"sheet":"Maße KSW","index":29,"n_rows":0,"n_cols":0,"rows_kept":0,"cut":false,"hidden":true,"merged":[]}

{"sheet":"Grunddaten KSW","index":30,"n_rows":52,"n_cols":22,"rows_kept":52,"cut":false,"hidden":true,"merged":[]}
["Typ",null,null,"Baulänge","Schlitzanzahl","Schlitzlänge","spez.Volumenstrom","Widerstandsbeiwert","Durchmesser Anschluss","Anströmgeschwindigkeit","Druckverlust","Höhe Anschlusskasten","Breite Anschlusskasten","sichtbare Breit Schlitzdurchlass","Abstand Zuluft/Abluft","Durchmesser Anschlussstutzen","Norm-Schallpegeldifferenz","Schalldämm-Maß","Norm-Schallpegeldifferenz","Schalldämm-Maß","Norm-Schallpegeldifferenz","Schalldämm-Maß"]
[null,null,null,"l","n","L","V°spez","z","d","v","Dp","h","b","b1","x","D","Dn,w","Rw","Dn,w","Rw","Dn,w","Rw"]
[null,null,null,"mm",1,"mm","m³/(h·Walze)",1,"mm","m/s","Pa","mm","mm","mm","mm","mm","dB","dB","dB","dB","dB","dB"]
["KSW","ZUL",{"$f":"CONCATENATE(A4,B4,D4,E4)","v":"KSWZUL5001"},500,1,{"$f":"D4*E4","v":500},{"$f":"'Auslegung KSW'!$D$24/(0.01*'Grunddaten KSW'!F4)","v":30},4.0195437362021975,80,{"$f":"'Auslegung KSW'!$D$24/(PI()/4*('Grunddaten KSW'!I4/1000)^2*3600)","v":8.2893199527028827},{"$f":"H4*1.2/2*J4^2","v":165.7165238664353},280,518,530,"-",78,43,{"$f":"Q4+10*LOG(($L4/1000*$M4/1000)/10)","v":24.614877910874522},53,{"$f":"S4+10*LOG(($L4/1000*$M4/1000)/10)","v":34.614877910874526},"-","-"]
["KSW","ZUL","KSWZUL8001",800,1,{"$f":"D5/2*E5","v":400},{"$f":"'Auslegung KSW'!$D$24/(0.01*'Grunddaten KSW'!F5)","v":37.5},4.9425238432329737,80,{"$f":"'Auslegung KSW'!$D$24/(PI()/4*('Grunddaten KSW'!I5/1000)^2*3600)","v":8.2893199527028827},{"$f":"H5*1.2/2*J5^2","v":203.76886636427457},280,818,830,408,78,42,25.599113350135422,52,35.599113350135426,44,{"$f":"U5+10*LOG(($L5/1000*$M5/1000)/10)","v":27.599113350135422}]
["KSW","ZUL","KSWZUL10001",1000,1,{"$f":"D6/2*E6","v":500},{"$f":"'Auslegung KSW'!$D$24/(0.01*'Grunddaten KSW'!F6)","v":30},6.6163901151928988,100,{"$f":"'Auslegung KSW'!$D$24/(PI()/4*('Grunddaten KSW'!I6/1000)^2*3600)","v":5.3051647697298439},111.7300796518013,280,1018,1030,508,98,42,26.549058093429593,52,36.549058093429593,43,{"$f":"U6+10*LOG(($L6/1000*$M6/1000)/10)","v":27.549058093429593}]
["KSW","ZUL","KSWZUL12001",1200,1,{"$f":"D7/2*E7","v":600},{"$f":"'Auslegung KSW'!$D$24/(0.01*'Grunddaten KSW'!F7)","v":25},5.5901181932007376,100,{"$f":"'Auslegung KSW'!$D$24/(PI()/4*('Grunddaten KSW'!I7/1000)^2*3600)","v":5.3051647697298439},94.39956533927753,280,1218,1230,608,98,42,27.328053196390758,52,37.328053196390755,43,{"$f":"U7+10*LOG(($L7/1000*$M7/1000)/10)","v":28.328053196390758}]
["KSW","ZUL","KSWZUL5002",500,2,{"$f":"D8*E8","v":1000},{"$f":"'Auslegung KSW'!$D$24/(0.01*'Grunddaten KSW'!F8)","v":15},3.9599037734933606,100,{"$f":"'Auslegung KSW'!$D$24/(PI()/4*('Grunddaten KSW'!I8/1000)^2*3600)","v":5.3051647697298439},66.870356240017841,280,518,530,"-",98,43,24.614877910874522,53,34.614877910874526,"-","-"]
["KSW","ZUL","KSWZUL8002",800,2,{"$f":"D9/2*E9","v":800},{"$f":"'Auslegung KSW'!$D$24/(0.01*'Grunddaten KSW'!F9)","v":18.75},3.0535716101476651,80,{"$f":"'Auslegung KSW'!$D$24/(PI()/4*('Grunddaten KSW'!I9/1000)^2*3600)","v":8.2893199527028827},125.89171951367214,280,818,830,408,78,41,24.599113350135422,52,35.599113350135426,44,{"$f":"U9+10*LOG(($L9/1000*$M9/1000)/10)","v":27.599113350135422}]
["KSW","ZUL","KSWZUL10002",1000,2,{"$f":"D10/2*E10","v":1000},{"$f":"'Auslegung KSW'!$D$24/(0.01*'Grunddaten KSW'!F10)","v":15},3.8156436993722296,100,{"$f":"'Auslegung KSW'!$D$24/(PI()/4*('Grunddaten KSW'!I10/1000)^2*3600)","v":5.3051647697298439},64.434255996303776,280,1018,1030,508,98,41,25.549058093429593,52,36.549058093429593,43,{"$f":"U10+10*LOG(($L10/1000*$M10/1000)/10)","v":27.549058093429593}]
["KSW","ZUL","KSWZUL12002",1200,2,{"$f":"D11/2*E11","v":1200},{"$f":"'Auslegung KSW'!$D$24/(0.01*'Grunddaten KSW'!F11)","v":12.5},3.4023804178958623,100,{"$f":"'Auslegung KSW'!$D$24/(PI()/4*('Grunddaten KSW'!I11/1000)^2*3600)","v":5.3051647697298439},57.455535190453418,280,1218,1230,608,98,41,26.328053196390758,52,37.328053196390755,43,{"$f":"U11+10*LOG(($L11/1000*$M11/1000)/10)","v":28.328053196390758}]
["KSW","ABL","KSWABL5001",500,1,{"$f":"D12*E12","v":500},{"$f":"'Auslegung KSW'!$D$25/(0.01*'Grunddaten KSW'!F12)","v":16},4.0152854881447197,80,{"$f":"'Auslegung KSW'!$D$25/(PI()/4*('Grunddaten KSW'!I12/1000)^2*3600)","v":4.4209706414415368},47.087208138972791,280,518,530,"-",78,43,{"$f":"Q12+10*LOG(($L12/1000*$M12/1000)/10)","v":24.614877910874522},53,{"$f":"S12+10*LOG(($L12/1000*$M12/1000)/10)","v":34.614877910874526},"-","-"]
["KSW","ABL","KSWABL8001",800,1,{"$f":"D13/2*E13","v":400},{"$f":"'Auslegung KSW'!$D$25/(0.01*'Grunddaten KSW'!F13)","v":20},4.9963459953949281,80,{"$f":"'Auslegung KSW'!$D$25/(PI()/4*('Grunddaten KSW'!I13/1000)^2*3600)","v":4.4209706414415368},58.592093766211605,280,818,830,408,78,42,25.599113350135422,52,35.599113350135426,44,{"$f":"U13+10*LOG(($L13/1000*$M13/1000)/10)","v":27.599113350135422}]
["KSW","ABL","KSWABL10001",1000,1,{"$f":"D14/2*E14","v":500},{"$f":"'Auslegung KSW'!$D$25/(0.01*'Grunddaten KSW'!F14)","v":16},6.9068970781682886,100,{"$f":"'Auslegung KSW'!$D$25/(PI()/4*('Grunddaten KSW'!I14/1000)^2*3600)","v":2.8294212105225833},33.176414210646051,280,1018,1030,508,98,42,26.549058093429593,52,36.549058093429593,43,{"$f":"U14+10*LOG(($L14/1000*$M14/1000)/10)","v":27.549058093429593}]
["KSW","ABL","KSWABL12001",1200,1,{"$f":"D15/2*E15","v":600},{"$f":"'Auslegung KSW'!$D$25/(0.01*'Grunddaten KSW'!F15)","v":13.333333333333334},5.7981370374523573,100,{"$f":"'Auslegung KSW'!$D$25/(PI()/4*('Grunddaten KSW'!I15/1000)^2*3600)","v":2.8294212105225833},27.850624358170091,280,1218,1230,608,98,42,27.328053196390758,52,37.328053196390755,43,{"$f":"U15+10*LOG(($L15/1000*$M15/1000)/10)","v":28.328053196390758}]
["KSW","ABL","KSWABL5002",500,2,{"$f":"D16*E16","v":1000},{"$f":"'Auslegung KSW'!$D$25/(0.01*'Grunddaten KSW'!F16)","v":8},3.8052344572874013,100,{"$f":"'Auslegung KSW'!$D$25/(PI()/4*('Grunddaten KSW'!I16/1000)^2*3600)","v":2.8294212105225833},18.277966660691821,280,518,530,"-",98,43,24.614877910874522,53,34.614877910874526,"-","-"]
["KSW","ABL","KSWABL8002",800,2,{"$f":"D17/2*E17","v":800},{"$f":"'Auslegung KSW'!$D$25/(0.01*'Grunddaten KSW'!F17)","v":10},2.95387868560536,80,{"$f":"'Auslegung KSW'!$D$25/(PI()/4*('Grunddaten KSW'!I17/1000)^2*3600)","v":4.4209706414415368},{"$f":"H17*1.2/2*J17^2","v":34.640102402940734},280,818,830,408,78,41,24.599113350135422,52,35.599113350135426,44,{"$f":"U17+10*LOG(($L17/1000*$M17/1000)/10)","v":27.599113350135422}]
["KSW","ABL","KSWABL10002",1000,2,{"$f":"D18/2*E18","v":1000},{"$f":"'Auslegung KSW'!$D$25/(0.01*'Grunddaten KSW'!F18)","v":8},3.8123628428332599,100,{"$f":"'Auslegung KSW'!$D$25/(PI()/4*('Grunddaten KSW'!I18/1000)^2*3600)","v":2.8294212105225833},{"$f":"H18*1.2/2*J18^2","v":18.312206966989439},280,1018,1030,508,98,41,25.549058093429593,52,36.549058093429593,43,27.549058093429593]
["KSW","ABL","KSWABL12002",1200,2,{"$f":"D19/2*E19","v":1200},{"$f":"'Auslegung KSW'!$D$25/(0.01*'Grunddaten KSW'!F19)","v":6.666666666666667},3.3772942608738101,100,{"$f":"'Auslegung KSW'!$D$25/(PI()/4*('Grunddaten KSW'!I19/1000)^2*3600)","v":2.8294212105225833},16.222409577254336,280,1218,1230,608,98,41,26.328053196390758,52,37.328053196390755,43,28.328053196390758]
["KSW-1LW","ZUL","KSW-1LWZUL8001",800,1,800,{"$f":"'Auslegung KSW'!$D$24/(0.01*'Grunddaten KSW'!F20)","v":18.75},6.7861986545717388,80,{"$f":"('Auslegung KSW'!$D$24/2)/(PI()/4*('Grunddaten KSW'!I20/1000)^2*3600)","v":4.1446599763514413},{"$f":"H20*1.2/2*J20^2","v":69.944832368291074},280,818,830,408,78,42,{"$f":"Q20+10*LOG(($L20/1000*$M20/1000)/10)","v":25.599113350135422},52,{"$f":"S20+10*LOG(($L20/1000*$M20/1000)/10)","v":35.599113350135426},44,27.599113350135422]
["KSW-1LW","ZUL","KSW-1LWZUL10001",1000,1,1000,{"$f":"'Auslegung KSW'!$D$24/(0.01*'Grunddaten KSW'!F21)","v":15},12.811266431947837,100,{"$f":"('Auslegung KSW'!$D$24/2)/(PI()/4*('Grunddaten KSW'!I21/1000)^2*3600)","v":2.6525823848649219},54.08552828509599,280,1018,1030,508,98,42,26.549058093429593,52,36.549058093429593,43,27.549058093429593]
["KSW-1LW","ZUL","KSW-1LWZUL12001",1200,1,1200,{"$f":"'Auslegung KSW'!$D$24/(0.01*'Grunddaten KSW'!F22)","v":12.5},8.7245947882339827,100,{"$f":"('Auslegung KSW'!$D$24/2)/(PI()/4*('Grunddaten KSW'!I22/1000)^2*3600)","v":2.6525823848649219},36.832761280984919,280,1218,1230,608,98,42,27.328053196390758,52,37.328053196390755,43,28.328053196390758]
["KSW-1LW","ZUL","KSW-1LWZUL8002",800,2,1600,{"$f":"'Auslegung KSW'!$D$24/(0.01*'Grunddaten KSW'!F23)","v":9.375},2.4960278124191633,80,{"$f":"('Auslegung KSW'!$D$24/2)/(PI()/4*('Grunddaten KSW'!I23/1000)^2*3600)","v":4.1446599763514413},25.726368444672108,280,818,830,408,78,41,24.599113350135422,52,35.599113350135426,44,27.599113350135422]
["KSW-1LW","ZUL","KSW-1LWZUL10002",1000,2,2000,{"$f":"'Auslegung KSW'!$D$24/(0.01*'Grunddaten KSW'!F24)","v":7.5},4.6871392731822699,100,{"$f":"('Auslegung KSW'!$D$24/2)/(PI()/4*('Grunddaten KSW'!I24/1000)^2*3600)","v":2.6525823848649219},19.787770793971426,280,1018,1030,508,98,41,25.549058093429593,52,36.549058093429593,43,27.549058093429593]
["KSW-1LW","ZUL","KSW-1LWZUL12002",1200,2,2400,{"$f":"'Auslegung KSW'!$D$24/(0.01*'Grunddaten KSW'!F25)","v":6.25},7.3466892269668431,100,{"$f":"('Auslegung KSW'!$D$24/2)/(PI()/4*('Grunddaten KSW'!I25/1000)^2*3600)","v":2.6525823848649219},{"$f":"H25*1.2/2*J25^2","v":31.01563534702883},280,1218,1230,608,98,41,26.328053196390758,52,37.328053196390755,43,28.328053196390758]
["KSW-1LW","ABL","KSW-1LWABL8001",800,1,800,{"$f":"'Auslegung KSW'!$D$25/(0.01*'Grunddaten KSW'!F26)","v":10},5.8282497463447092,80,{"$f":"('Auslegung KSW'!$D$25/2)/(PI()/4*('Grunddaten KSW'!I26/1000)^2*3600)","v":2.2104853207207684},{"$f":"H26*1.2/2*J26^2","v":17.086954943946779},280,818,830,408,78,42,{"$f":"Q26+10*LOG(($L26/1000*$M26/1000)/10)","v":25.599113350135422},52,{"$f":"S26+10*LOG(($L26/1000*$M26/1000)/10)","v":35.599113350135426},44,27.599113350135422]
["KSW-1LW","ABL","KSW-1LWABL10001",1000,1,1000,{"$f":"'Auslegung KSW'!$D$25/(0.01*'Grunddaten KSW'!F27)","v":8},12.569476757521571,100,{"$f":"('Auslegung KSW'!$D$25/2)/(PI()/4*('Grunddaten KSW'!I27/1000)^2*3600)","v":1.4147106052612917},15.093976448437795,280,1018,1030,508,98,42,26.549058093429593,52,36.549058093429593,43,27.549058093429593]
["KSW-1LW","ABL","KSW-1LWABL12001",1200,1,1200,{"$f":"'Auslegung KSW'!$D$25/(0.01*'Grunddaten KSW'!F28)","v":6.666666666666667},10.843704645347458,100,{"$f":"('Auslegung KSW'!$D$25/2)/(PI()/4*('Grunddaten KSW'!I28/1000)^2*3600)","v":1.4147106052612917},13.021593952409132,280,1218,1230,608,98,42,27.328053196390758,52,37.328053196390755,43,28.328053196390758]
["KSW-1LW","ABL","KSW-1LWABL8002",800,2,1600,{"$f":"'Auslegung KSW'!$D$25/(0.01*'Grunddaten KSW'!F29)","v":5},4.6731051664241816,80,{"$f":"('Auslegung KSW'!$D$25/2)/(PI()/4*('Grunddaten KSW'!I29/1000)^2*3600)","v":2.2104853207207684},13.700363042454335,280,818,830,408,78,41,24.599113350135422,52,35.599113350135426,44,27.599113350135422]
["KSW-1LW","ABL","KSW-1LWABL10002",1000,2,2000,{"$f":"'Auslegung KSW'!$D$25/(0.01*'Grunddaten KSW'!F30)","v":4},5.1649642113313821,100,{"$f":"('Auslegung KSW'!$D$25/2)/(PI()/4*('Grunddaten KSW'!I30/1000)^2*3600)","v":1.4147106052612917},6.2023145168878111,280,1018,1030,508,98,41,25.549058093429593,52,36.549058093429593,43,27.549058093429593]
["KSW-1LW","ABL","KSW-1LWABL12002",1200,2,2400,{"$f":"'Auslegung KSW'!$D$25/(0.01*'Grunddaten KSW'!F31)","v":3.3333333333333335},6.173672558458823,100,{"$f":"('Auslegung KSW'!$D$25/2)/(PI()/4*('Grunddaten KSW'!I31/1000)^2*3600)","v":1.4147106052612917},7.4136155382905766,280,1218,1230,608,98,41,26.328053196390758,52,37.328053196390755,43,28.328053196390758]
[]
[]
[]
[]
[]
[]
[null,null,null,2,3,4,5,6,7,8,9,10,11,12,13,14,15,16,17,18,19,20]
[]
["Verklausulierung:"]
[]
[]
["Länge:",{"$f":"'Auslegung KSW'!D9","v":1200},null,{"$f":"IF(B43=500,\"KSW\",IF(AND(B43>500,C44=3),\"KSW\",\"KSW-1LW\"))","v":"KSW-1LW"}]
["Funktion:",{"$f":"'Auslegung KSW'!D19","v":"Zuluft"},{"$f":"IF(B44=\"Zuluft\",1,IF(B44=\"Abluft\",2,IF(B44=\"Zuluft/Abluft-Kombination\",3,\"\")))","v":1},{"$f":"IF($B$44=\"Zuluft\",\"ZUL\",IF($B$44=\"Abluft\",\"ABL\",IF(AND($B$44=\"Zuluft\",$D$43=\"KSW-1LW\"),\"ZUL\",IF(AND($B$44=\"Abluft\",$D$43=\"KSW-1LW\"),\"ABL\",\"ZUL\"))))","v":"ZUL"}]
[null,null,null,{"$f":"IF($B$44=\"Zuluft\",\"ZUL\",IF($B$44=\"Abluft\",\"ABL\",IF(AND($B$44=\"Zuluft\",$D$43=\"KSW-1LW\"),\"ZUL\",IF(AND($B$44=\"Abluft\",$D$43=\"KSW-1LW\"),\"ABL\",\"ABL\"))))","v":"ZUL"}]
[]
[]
[]
["Auswahl:","Zuluft",{"$f":"CONCATENATE(D43,D44,'Auslegung KSW'!$D$9,'Auslegung KSW'!$D$15)","v":"KSW-1LWZUL12002"},{"$f":"VLOOKUP($C$49,$C$4:$L$31,D38,FALSE)","v":1200},{"$f":"VLOOKUP($C$49,$C$4:$L$31,E38,FALSE)","v":2},2400,6.25,7.3466892269668431,100,2.6525823848649219,31.01563534702883,280,{"$f":"VLOOKUP($C$49,$C$4:$V$31,M38,FALSE)","v":1218},{"$f":"VLOOKUP($C$49,$C$4:$V$31,N38,FALSE)","v":1230},608,98,41,26.328053196390758,52,37.328053196390755,43,28.328053196390758]
[null,"Abluft",{"$f":"CONCATENATE(D43,D45,'Auslegung KSW'!$D$9,'Auslegung KSW'!$D$15)","v":"KSW-1LWZUL12002"},{"$f":"VLOOKUP($C$50,$C$4:$L$31,D38,FALSE)","v":1200},{"$f":"VLOOKUP($C$50,$C$4:$L$31,E38,FALSE)","v":2},2400,6.25,7.3466892269668431,100,2.6525823848649219,31.01563534702883,280,{"$f":"VLOOKUP($C$50,$C$4:$V$31,M38,FALSE)","v":1218},{"$f":"VLOOKUP($C$50,$C$4:$V$31,N38,FALSE)","v":1230},608,98,41,26.328053196390758,52,37.328053196390755,43,28.328053196390758]
[null,null,null,null,null,null,null,null,null,null,null,null,null,null,null,null,"offen",null,"geschlossen",null,"ZUL geschlossen, ABL offen"]
[null,null,null,"Stand:","2020-10-30"]

{"sheet":"Lw KSW","index":31,"n_rows":132,"n_cols":23,"rows_kept":132,"cut":false,"hidden":true,"merged":[[131,0,131,1],[127,0,127,1],[128,0,128,1],[129,0,129,1],[130,0,130,1],[126,0,126,1],[115,0,115,1],[116,0,116,1],[117,0,117,1],[118,0,118,1],[119,0,119,1],[120,0,120,1],[121,0,121,1],[122,0,122,1],[123,0,123,1],[124,0,124,1],[125,0,125,1],[114,0,114,1],[69,1,69,7],[1,1,1,21],[37,1,37,21],[106,0,106,2],[107,0,107,1],[108,0,108,1],[109,0,109,1],[110,0,110,1],[111,0,111,1],[112,0,112,1],[113,0,113,1]]}
[]
[null,"Terzfrequenzband fm [Hz]"]
[null,100,125,160,200,250,315,400,500,630,800,1000,1250,1600,2000,2500,3150,4000,5000,6300,8000,10000]
["KSD-WZUL1",-87.0256630421339,-101.10667780523316,-96.401653588340167,-83.866675298209074,-75.70483128290428,-94.965045071129722,-79.623937273152592,-60.346799592251834,-93.256584639159712,-92.221464017842791,-90.483577394103918,-72.566422264836589,-48.308547856852606,-31.716838745014329,-30.380546431271643,-6.2396233943883894,5.7748510983634249,13.973355633592046,16.343188319820907,14.461451436360276,15.130965354123896]
[null,15.880895836068152,21.673086476222373,37.974632610785477,47.276074861632878,53.989474335403415,56.454251000485861,51.603035885707648,54.102563647760547,68.032395017851172,71.388800066071184,71.483883207249903,64.384158383205701,56.034252846771935,47.225361099874462,40.412408066347311,28.411256213300387,15.720706198491905,7.8720769157617871,2.7254897925403716,0.49093006928434046,0.20263448973522349]
[null,30.597104349666253,36.175916944880136,28.031693342744987,22.100779380466118,15.982822720822355,21.227493436991299,16.842897752378942,10.173479882101152,18.064646641299795,14.956184981583323,15.553725705875319,9.9878346348530833,3.8835648170793138,0.12941763008375853,2.7759806386107249,-2.3188453784415892,-3.0537747843447778,-3.5560134722489192,-2.2352880287342005,-0.30683549056919712,-4.432493087320627E-2]
[null,-3.6044370905962726,-14.000545767532033,-13.314699092266721,-14.269798960411718,-8.4536892306504807,-6.5501836539163687,-5.7176869967570552,-12.268952880837444,-14.258288459012293,-9.9878588123201109,-17.532264219021258,-15.083950332335636,-15.586102817601779,-12.263042809696648,-12.435564496917708,-8.9893861143659208,-4.0386761200379571,-2.0757877907814142,-1.3082043711326445,-1.3047683726382695,-0.99808569551810478]
["KSD-WZUL2",-52.042256898000552,-101.33337797797796,-158.24106166629733,-145.46455399008462,-92.670786511635626,-79.513067776115889,-91.865289698594154,-98.55717604244046,-145.05166927995967,-159.01612926206997,-158.25590724392498,-150.41116934898531,-129.16116186149179,-111.97487469032322,-94.399335285357537,-67.716643955164457,-39.27673764092394,-27.683268734710907,-19.049239363612628,-15.400387620169584,-12.917093165315329]
[null,11.071442636376633,21.309232270069248,36.922476034174508,46.951245891317839,51.702852029669863,54.215255915106162,53.678507917457203,59.373171430220687,67.525648383612918,73.397414259878374,77.800081121878634,75.192224542090102,69.498043067926417,60.515313829841574,50.5646988813562,35.402394137410838,21.135613255016867,10.420989910125757,3.6616374122042403,0.91960825754116549,0.5630685347339387]
[null,15.852817361110997,32.45877409656557,44.653254975523993,45.238428987840329,26.086460088008774,23.09939099270839,25.600385406469876,23.325939057355914,35.915464600675186,38.729404059689749,36.230415829175548,34.455345540625132,30.344373298129739,26.77967744016324,22.398075027953873,16.539098262001275,9.6058534677948071,8.2721758964429029,7.7289872347640758,7.5665208058357001,7.3996914472831827]
[null,11.11610141987552,-8.1969244311373402,1.8321184017510488,-32.751890859479765,-23.179202361450638,-33.4235274768781,-25.730840892873868,-13.113077840210741,-10.641618614556242,-11.135638387025251,-9.3054005670129687,-13.269449354983028,-23.311839176264233,-22.327552020361971,-13.141265924556283,-5.2718151422845763,4.2834296250990027,7.6750676050803861,7.5312951004031694,8.0487023087959599,7.3202393694384904]
["KSD-WABL1",-38.859098588673689,-64.131182199043593,-65.512642152145943,-90.72702562122123,-108.65829135631976,-128.6144767920367,-101.02581308609108,-107.72627080830837,-150.53941885271752,-178.52168150084589,-166.0442413267659,-145.72080979617692,-126.10510583272234,-106.7714485574519,-87.13075918755554,-89.27280153379607,-50.637416432578334,-13.812461417388811,4.5771305449505943,11.216118782896567,13.187946744915649]
[null,21.29140934894448,20.996134828204688,27.753422199942179,39.645861057463122,45.868163470833217,49.276482924636248,49.955599968011711,56.345436909729827,67.203792687937266,72.052919983826399,74.977675906263755,69.213283740295452,63.317661722466667,55.34289739592861,48.410127910605205,46.320338268609881,31.678997739387302,15.059662762572149,5.6141360286407789,0.78870191074725915,0.10615319680278922]
[null,10.069799874426952,17.99183216549935,20.046279223089233,27.565931056724011,29.529989919634861,36.431952782825498,24.513402431324405,24.094945233856308,36.840246214056307,43.535475073606023,37.218591056118989,31.881275882038306,26.551703173994746,21.793321457175686,17.503581588084412,19.584033085912694,10.570843259804727,3.1842818364354666,0.63324638334776573,0.319717240684255,0.39502390659509623]
[null,-3.125101087661907,2.0834989961505568,-9.2791227285241931,-10.498673795128903,3.6592521393253641,-1.7183457142206107,2.4464110381116972,1.5075271579699527,-0.72209157742157792,5.2353904372196149,3.1540181475099356,0.16244494632804743,0.30616607628098785,1.7437221973685995,1.7802867405699223,1.5573564160313489,1.9127891895113935,1.2994671197464802,1.5917944655806641E-2,0.14651498739299151,-5.3595321915161684E-2]
["KSD-WABL2",-37.48038683742697,-76.578688191409753,-73.624913293500782,-70.323407863330644,-78.901939056333291,-49.000770660947346,-57.271603882898233,-62.751874841666186,-75.671766960083232,-88.587040739834578,-95.553196700764232,-99.211990351143399,-81.132993774185579,-74.468776534429168,-49.193796347338136,-35.457181648953934,-14.79280525508371,2.8581951768235823,11.453818609245753,13.380198869747097,14.087804353089451]
[null,26.732823275754562,32.130657774190936,38.338065634769102,45.108817913589078,49.880031335430949,50.985358598364201,55.625311664076278,62.340374862059932,72.833041299598165,82.744939919114458,79.448114851798252,72.886408601780786,61.665901259434897,52.974066128805319,41.98298856871547,30.966138411306467,15.840289374184595,5.0893196250878914,1.0513323429464048,0.18049140186113638,0.13439609492115343]
[null,6.5233577439083632,20.385860411379443,14.148844515776791,15.721331410144682,19.29387191795465,4.7080263303857883,3.0693083291732277,7.085170727015301,7.2021517120015366,6.9023275571417209,12.461660698167616,15.188164611070141,12.877237858859377,13.214778747750143,6.9527484493534768,5.656048067794611,3.8087000639563993,1.4034076841248684,-8.0647000528631732E-2,-0.14814628694073895,0.38761782880725959]
[null,2.8838691617807806,-7.6097123449887958,8.8868652716796728,-7.0356113764436961,-9.0519897649781367,16.750068151424934,31.659580843085919,3.3139452239196925,9.1075562500518501,15.962547610472544,-1.5721872743151737,-2.7758235985486168,-6.825896867785004,-6.6348337729686646,0.99635972575952048,1.9697446413408493,-7.6534383836119962E-2,-1.4229686871613987,-0.46029524469708821,-0.17942593274832302,-1.9187415610791601]
["KSW-1LWZUL1",-66.590706756546723,-79.237842684428287,-159.53443955597257,-110.81540334850757,-101.14748579775161,-84.894389092548266,-109.15609614030502,-106.59936302562551,-84.340899151318069,-94.502748425627871,-84.621060147411214,-78.925845981909731,-81.994404668444432,-87.279810591301668,-92.413542926112925,-81.885385817735397,-71.705617077637228,-50.863424758134805,-28.322979124533436,-12.188916742038808,-9.0836033050182436]
[null,31.580346184727517,43.222196781708774,47.242842988937333,51.97150897887267,57.403530317544551,61.302120683017755,61.694308773669,61.511936025811067,64.256529025712766,68.159445647060451,75.340632827759151,81.538519518679848,83.098321117236708,80.635027421570967,77.341352045799596,70.815196229286471,53.945385360552933,35.583207250451338,16.241696399690952,2.5410172518588463,0.65417197434898489]
[null,13.599749605562231,12.287818016443918,40.641914265426713,26.155931192905239,20.340780823709999,12.620107605821392,18.797000532112179,20.943874864024281,13.923239295013627,16.097823630888058,8.7361649861900172,3.3861187180406112,3.215662642957581,5.3894331786568435,8.0000795227017356,5.4237123635203606,8.2433049137736081,8.2235699635310624,8.8684805891466247,9.3060471430338971,9.5944243717789757]
[null,1.3503703341877076,8.6492033495633276,2.5119084724585212,-3.1218600706613815,0.80464391061894325,2.408334441175894,5.7735999530316553,-2.819735998593222,-5.3511950619962958,-7.1647895745417323,-4.105038229438609,-3.2090002904362804,-3.2964423384497481,-3.6639193311287515,-2.2305031765215797,2.6156178626280284,1.8982219237168616,1.4902574498688235,-0.77626330334489035,-2.6652629181619121,-3.4267408265336328]
["KSW-1LWZUL2",540.51643855858993,625.76047264828878,-711.91191790173923,-1080.7769863986446,-1250.8387123952959,-1010.7169164426369,-4.7475581514524006,-291.25438060192135,-732.25096493365288,-1074.9872529347006,-1526.1603195133041,-1785.8675573312466,-1777.1465518467023,-1495.1342519514299,-523.87265012976025,-103.82085515682063,780.55903621748371,868.87502232253814,910.19322512701694,1151.2202437416936,1129.7131394998003]
[null,36.157918471714822,44.347762653759666,52.908111298492187,52.553372771057298,53.933868104418906,55.360488169289546,57.130284076236826,61.059107361723221,66.569380552738039,69.820288736369989,76.166746899614267,80.256578046326609,79.948227257631785,76.492279451075888,71.940819016580491,57.21189598473962,42.165212620650891,26.809055234826904,12.850906893593672,3.4006662662911982,0.71028899620700514]
[null,-180.78663465081058,-214.60365244277239,220.98313213901559,342.61857837578162,397.39949943270796,319.7892508627279,-11.296816973609475,80.840307849261308,224.73225572764031,336.55247319500035,481.92340033171456,564.8629348639065,561.43135507423642,469.43527110709351,153.28357778088048,20.598637335402653,-264.2019898754499,-288.20743064431872,-296.90720559525965,-372.75056951098162,-364.63614612335999]
[null,59.598744653273819,89.393881293217859,-74.904546685433374,-116.11744652987427,-131.63284855941887,-108.48106272927672,16.756729335255926,-16.323314579427958,-72.818607061123274,-118.0505892936856,-173.18232649070239,-203.38708641547146,-201.87913800248569,-166.91762365190334,-50.271416267268776,-2.9284652293783942,102.47861307616139,111.14088983540744,113.74899238620084,142.19017894069344,139.69664962449178]
["KSW-1LWABL1",-174.12020172098053,-257.31649947122543,-86.673698903471902,-77.132219896178256,-143.80903281298802,-114.93000509808476,-125.12351835362711,-122.92621665093276,-125.25958437528179,-158.0324819498168,-166.87898233541432,-156.29301448887688,-145.22557678714401,-133.41480568120781,-134.59265549509263,-93.78273986537198,-95.852651921677051,-56.175535838674769,-21.317895394599134,-1.124556822222478,-2.0451917971411828]
[null,22.571713640691662,37.986024799077406,41.136230886948162,41.678724763837124,55.44651031769056,53.081852568028161,57.951130409369213,60.514594671487082,67.692120261458868,74.580752536011232,84.261620516704625,88.680617897774425,83.301816663070412,75.989596543065602,72.307702514915675,67.748460955881313,52.326665363058929,26.764014367566098,7.9169635071910092,1.1888330387638377,0.3086426287935507]
[null,56.896681387390181,82.954898266948263,19.506693471790868,15.80319436821858,34.414648005712259,24.711063602962767,26.82330228772193,25.557328070571902,22.933696942696667,32.433920431071897,30.038923253516206,23.42256958576537,21.612160550123711,20.049032291675932,20.969818975265376,7.6290180850701121,15.69036161111284,13.407699181035111,10.185007576856053,6.2483380980485457,7.4501642830880481]
[null,-8.8383720081933319,-19.146038825550779,-1.3357521891596253,9.1405215851075834,7.4726087351124395,8.5990855202368746,4.3937593701818587,3.7898713831289745,8.3115793227647341,4.2307706682018615,7.4381562555741283,9.5068872131266584,8.02075936394459,7.4778559610532573,9.8983949466586765,15.143299298474707,8.6924596474897982,2.3961010800838172,-1.8428891814208999,-2.3510870514227169,-2.7467607184523679]
["KSW-1LWABL2",-160.70094744738748,-169.25606616803705,-36.959353880526805,0.99216982801069786,-197.30061936462943,-58.373638099732098,-183.55347024359327,-60.215556841572841,-84.284838285739667,-109.08081746874049,-110.25690628361957,-125.79730239591427,-131.21836999035409,-95.040404552350992,-103.26019186753985,-81.946171193713724,-82.9217107518445,-50.343602857573124,-28.797549626655172,-39.53797640756185,-27.928975567393909]
[null,32.522449764630437,46.910221202872833,52.398484179674639,57.336147300264088,57.715315321468459,62.750104669987991,61.465866922426265,66.746552120911531,75.056063548013583,82.475708549195105,88.758208404458657,88.177657440617125,81.878268486483805,70.608419999991526,62.261037193685297,52.93528504703896,35.475251413478773,13.519487262492001,2.7443884644103447,0.46570598724972467,0.19215340713015458]
[null,50.376394008781745,37.298205348598231,-9.5595098072423266,-39.560726823347601,47.102011740780362,-9.862770293939386,46.491478148381823,-8.1606604760750976,-4.4152361620424765,4.9526728785892589,3.0453443550553159,8.0337963075499292,12.40858239879682,0.80064626804599537,12.03513377080713,10.171687313551782,19.137112326100553,17.267881363053522,13.618123197727888,20.199279200760639,15.869585354281236]
[null,-23.718562531434792,26.855868093240641,49.802401983239783,132.01190101243751,15.007743706310199,76.575793408048995,-9.0585344394808391,61.340411224495412,67.942856982097794,49.105774079437857,47.018565147524733,43.890149214216059,37.61870222193879,54.002235416750594,26.332671307694223,18.527979787969592,2.1717655782399419,-4.6843921274060634,-1.5988601877452087,-12.380137824170198,-6.6225275825345511]
[null,2,3,4,5,6,7,8,9,10,11,12,13,14,15,16,17,18,19,20,21,22]
[]
[null,"Terzfrequenzband fm [Hz]"]
[null,100,125,160,200,250,315,400,500,630,800,1000,1250,1600,2000,2500,3150,4000,5000,6300,8000,10000]
[{"$f":"'Grunddaten KSW'!C4","v":"KSWZUL5001"},{"$f":"B$4+'Lw KSW'!B$5*LOG('Grunddaten KSW'!$G4)+B$6*LOG('Grunddaten KSW'!$F4)+B$7*LOG('Grunddaten KSW'!$H4)","v":16.835295482865902},{"$f":"C$4+C$5*LOG('Grunddaten KSW'!$G4)+C$6*LOG('Grunddaten KSW'!$F4)+C$7*LOG('Grunddaten KSW'!$H4)","v":20.086009238229614},{"$f":"D$4+D$5*LOG('Grunddaten KSW'!$G4)+D$6*LOG('Grunddaten KSW'!$F4)+D$7*LOG('Grunddaten KSW'!$H4)","v":27.303751145623391},{"$f":"E$4+E$5*LOG('Grunddaten KSW'!$G4)+E$6*LOG('Grunddaten KSW'!$F4)+E$7*LOG('Grunddaten KSW'!$H4)","v":36.993679459128849},{"$f":"F$4+F$5*LOG('Grunddaten KSW'!$G4)+F$6*LOG('Grunddaten KSW'!$F4)+F$7*LOG('Grunddaten KSW'!$H4)","v":42.073805340158962},{"$f":"G$4+G$5*LOG('Grunddaten KSW'!$G4)+G$6*LOG('Grunddaten KSW'!$F4)+G$7*LOG('Grunddaten KSW'!$H4)","v":41.759628326824675},{"$f":"H$4+H$5*LOG('Grunddaten KSW'!$G4)+H$6*LOG('Grunddaten KSW'!$F4)+H$7*LOG('Grunddaten KSW'!$H4)","v":38.603986065448069},{"$f":"I$4+I$5*LOG('Grunddaten KSW'!$G4)+I$6*LOG('Grunddaten KSW'!$F4)+I$7*LOG('Grunddaten KSW'!$H4)","v":39.614547966042942},{"$f":"J$4+J$5*LOG('Grunddaten KSW'!$G4)+J$6*LOG('Grunddaten KSW'!$F4)+J$7*LOG('Grunddaten KSW'!$H4)","v":47.376924971590519},{"$f":"K$4+K$5*LOG('Grunddaten KSW'!$G4)+K$6*LOG('Grunddaten KSW'!$F4)+K$7*LOG('Grunddaten KSW'!$H4)","v":47.560312391361428},{"$f":"L$4+L$5*LOG('Grunddaten KSW'!$G4)+L$6*LOG('Grunddaten KSW'!$F4)+L$7*LOG('Grunddaten KSW'!$H4)","v":46.493238431452127},{"$f":"M$4+M$5*LOG('Grunddaten KSW'!$G4)+M$6*LOG('Grunddaten KSW'!$F4)+M$7*LOG('Grunddaten KSW'!$H4)","v":40.380280420302135},{"$f":"N$4+N$5*LOG('Grunddaten KSW'!$G4)+N$6*LOG('Grunddaten KSW'!$F4)+N$7*LOG('Grunddaten KSW'!$H4)","v":35.525701888135771},{"$f":"O$4+O$5*LOG('Grunddaten KSW'!$G4)+O$6*LOG('Grunddaten KSW'!$F4)+O$7*LOG('Grunddaten KSW'!$H4)","v":30.980994744531614},{"$f":"P$4+P$5*LOG('Grunddaten KSW'!$G4)+P$6*LOG('Grunddaten KSW'!$F4)+P$7*LOG('Grunddaten KSW'!$H4)","v":29.292489905882192},{"$f":"Q$4+Q$5*LOG('Grunddaten KSW'!$G4)+Q$6*LOG('Grunddaten KSW'!$F4)+Q$7*LOG('Grunddaten KSW'!$H4)","v":24.03757474667443},{"$f":"R$4+R$5*LOG('Grunddaten KSW'!$G4)+R$6*LOG('Grunddaten KSW'!$F4)+R$7*LOG('Grunddaten KSW'!$H4)","v":18.314119573444181},{"$f":"S$4+S$5*LOG('Grunddaten KSW'!$G4)+S$6*LOG('Grunddaten KSW'!$F4)+S$7*LOG('Grunddaten KSW'!$H4)","v":14.749651329199786},{"$f":"T$4+T$5*LOG('Grunddaten KSW'!$G4)+T$6*LOG('Grunddaten KSW'!$F4)+T$7*LOG('Grunddaten KSW'!$H4)","v":13.545705204848712},{"$f":"U$4+U$5*LOG('Grunddaten KSW'!$G4)+U$6*LOG('Grunddaten KSW'!$F4)+U$7*LOG('Grunddaten KSW'!$H4)","v":13.570164164951773},{"$f":"V$4+V$5*LOG('Grunddaten KSW'!$G4)+V$6*LOG('Grunddaten KSW'!$F4)+V$7*LOG('Grunddaten KSW'!$H4)","v":14.707629226723395},{"$f":"10*LOG(10^(0.1*B40)+10^(0.1*C40)+10^(0.1*D40)+10^(0.1*E40)+10^(0.1*F40)+10^(0.1*G40)+10^(0.1*H40)+10^(0.1*I40)+10^(0.1*J40)+10^(0.1*K40)+10^(0.1*L40)+10^(0.1*M40)+10^(0.1*N40)+10^(0.1*O40)+10^(0.1*P40)+10^(0.1*Q40)+10^(0.1*R40)+10^(0.1*S40)+10^(0.1*T40)+10^(0.1*U40)+10^(0.1*V40))","v":53.550794426285591}]
[{"$f":"'Grunddaten KSW'!C5","v":"KSWZUL8001"},{"$f":"B$4+B$5*LOG('Grunddaten KSW'!$G5)+B$6*LOG('Grunddaten KSW'!$F5)+B$7*LOG('Grunddaten KSW'!$H5)","v":15.085569945486402},{"$f":"C$4+C$5*LOG('Grunddaten KSW'!$G5)+C$6*LOG('Grunddaten KSW'!$F5)+C$7*LOG('Grunddaten KSW'!$H5)","v":17.42368255067889},{"$f":"D$4+D$5*LOG('Grunddaten KSW'!$G5)+D$6*LOG('Grunddaten KSW'!$F5)+D$7*LOG('Grunddaten KSW'!$H5)","v":27.072034158950629},{"$f":"E$4+E$5*LOG('Grunddaten KSW'!$G5)+E$6*LOG('Grunddaten KSW'!$F5)+E$7*LOG('Grunddaten KSW'!$H5)","v":38.152389071965402},{"$f":"F$4+F$5*LOG('Grunddaten KSW'!$G5)+F$6*LOG('Grunddaten KSW'!$F5)+F$7*LOG('Grunddaten KSW'!$H5)","v":44.998125730009015},{"$f":"G$4+G$5*LOG('Grunddaten KSW'!$G5)+G$6*LOG('Grunddaten KSW'!$F5)+G$7*LOG('Grunddaten KSW'!$H5)","v":44.585430678330205},{"$f":"H$4+H$5*LOG('Grunddaten KSW'!$G5)+H$6*LOG('Grunddaten KSW'!$F5)+H$7*LOG('Grunddaten KSW'!$H5)","v":41.459303223915562},{"$f":"I$4+I$5*LOG('Grunddaten KSW'!$G5)+I$6*LOG('Grunddaten KSW'!$F5)+I$7*LOG('Grunddaten KSW'!$H5)","v":42.770307428823351},{"$f":"J$4+J$5*LOG('Grunddaten KSW'!$G5)+J$6*LOG('Grunddaten KSW'!$F5)+J$7*LOG('Grunddaten KSW'!$H5)","v":50.93930483791938},{"$f":"K$4+K$5*LOG('Grunddaten KSW'!$G5)+K$6*LOG('Grunddaten KSW'!$F5)+K$7*LOG('Grunddaten KSW'!$H5)","v":52.13256764677709},{"$f":"L$4+L$5*LOG('Grunddaten KSW'!$G5)+L$6*LOG('Grunddaten KSW'!$F5)+L$7*LOG('Grunddaten KSW'!$H5)","v":50.339524044103158},{"$f":"M$4+M$5*LOG('Grunddaten KSW'!$G5)+M$6*LOG('Grunddaten KSW'!$F5)+M$7*LOG('Grunddaten KSW'!$H5)","v":44.297712253824145},{"$f":"N$4+N$5*LOG('Grunddaten KSW'!$G5)+N$6*LOG('Grunddaten KSW'!$F5)+N$7*LOG('Grunddaten KSW'!$H5)","v":39.180429894743597},{"$f":"O$4+O$5*LOG('Grunddaten KSW'!$G5)+O$6*LOG('Grunddaten KSW'!$F5)+O$7*LOG('Grunddaten KSW'!$H5)","v":34.444185181426448},{"$f":"P$4+P$5*LOG('Grunddaten KSW'!$G5)+P$6*LOG('Grunddaten KSW'!$F5)+P$7*LOG('Grunddaten KSW'!$H5)","v":31.823470900678362},{"$f":"Q$4+Q$5*LOG('Grunddaten KSW'!$G5)+Q$6*LOG('Grunddaten KSW'!$F5)+Q$7*LOG('Grunddaten KSW'!$H5)","v":26.208633990724639},{"$f":"R$4+R$5*LOG('Grunddaten KSW'!$G5)+R$6*LOG('Grunddaten KSW'!$F5)+R$7*LOG('Grunddaten KSW'!$H5)","v":19.770994678349037},{"$f":"S$4+S$5*LOG('Grunddaten KSW'!$G5)+S$6*LOG('Grunddaten KSW'!$F5)+S$7*LOG('Grunddaten KSW'!$H5)","v":15.670800065627812},{"$f":"T$4+T$5*LOG('Grunddaten KSW'!$G5)+T$6*LOG('Grunddaten KSW'!$F5)+T$7*LOG('Grunddaten KSW'!$H5)","v":13.909014106214828},{"$f":"U$4+U$5*LOG('Grunddaten KSW'!$G5)+U$6*LOG('Grunddaten KSW'!$F5)+U$7*LOG('Grunddaten KSW'!$H5)","v":13.530343950417667},{"$f":"V$4+V$5*LOG('Grunddaten KSW'!$G5)+V$6*LOG('Grunddaten KSW'!$F5)+V$7*LOG('Grunddaten KSW'!$H5)","v":14.641961903819039},{"$f":"10*LOG(10^(0.1*B41)+10^(0.1*C41)+10^(0.1*D41)+10^(0.1*E41)+10^(0.1*F41)+10^(0.1*G41)+10^(0.1*H41)+10^(0.1*I41)+10^(0.1*J41)+10^(0.1*K41)+10^(0.1*L41)+10^(0.1*M41)+10^(0.1*N41)+10^(0.1*O41)+10^(0.1*P41)+10^(0.1*Q41)+10^(0.1*R41)+10^(0.1*S41)+10^(0.1*T41)+10^(0.1*U41)+10^(0.1*V41))","v":57.293213127229052}]
[{"$f":"'Grunddaten KSW'!C6","v":"KSWZUL10001"},{"$f":"B$4+B$5*LOG('Grunddaten KSW'!$G6)+B$6*LOG('Grunddaten KSW'!$F6)+B$7*LOG('Grunddaten KSW'!$H6)","v":16.05513545549573},{"$f":"C$4+C$5*LOG('Grunddaten KSW'!$G6)+C$6*LOG('Grunddaten KSW'!$F6)+C$7*LOG('Grunddaten KSW'!$H6)","v":17.055670271379121},{"$f":"D$4+D$5*LOG('Grunddaten KSW'!$G6)+D$6*LOG('Grunddaten KSW'!$F6)+D$7*LOG('Grunddaten KSW'!$H6)","v":24.421859813590181},{"$f":"E$4+E$5*LOG('Grunddaten KSW'!$G6)+E$6*LOG('Grunddaten KSW'!$F6)+E$7*LOG('Grunddaten KSW'!$H6)","v":33.905062161141835},{"$f":"F$4+F$5*LOG('Grunddaten KSW'!$G6)+F$6*LOG('Grunddaten KSW'!$F6)+F$7*LOG('Grunddaten KSW'!$H6)","v":40.244052106631962},{"$f":"G$4+G$5*LOG('Grunddaten KSW'!$G6)+G$6*LOG('Grunddaten KSW'!$F6)+G$7*LOG('Grunddaten KSW'!$H6)","v":40.341878112220797},{"$f":"H$4+H$5*LOG('Grunddaten KSW'!$G6)+H$6*LOG('Grunddaten KSW'!$F6)+H$7*LOG('Grunddaten KSW'!$H6)","v":37.366425045026396},{"$f":"I$4+I$5*LOG('Grunddaten KSW'!$G6)+I$6*LOG('Grunddaten KSW'!$F6)+I$7*LOG('Grunddaten KSW'!$H6)","v":36.959002488417738},{"$f":"J$4+J$5*LOG('Grunddaten KSW'!$G6)+J$6*LOG('Grunddaten KSW'!$F6)+J$7*LOG('Grunddaten KSW'!$H6)","v":44.290799056546554},{"$f":"K$4+K$5*LOG('Grunddaten KSW'!$G6)+K$6*LOG('Grunddaten KSW'!$F6)+K$7*LOG('Grunddaten KSW'!$H6)","v":45.398496826673622},{"$f":"L$4+L$5*LOG('Grunddaten KSW'!$G6)+L$6*LOG('Grunddaten KSW'!$F6)+L$7*LOG('Grunddaten KSW'!$H6)","v":42.698478975486708},{"$f":"M$4+M$5*LOG('Grunddaten KSW'!$G6)+M$6*LOG('Grunddaten KSW'!$F6)+M$7*LOG('Grunddaten KSW'!$H6)","v":37.11544466139074},{"$f":"N$4+N$5*LOG('Grunddaten KSW'!$G6)+N$6*LOG('Grunddaten KSW'!$F6)+N$7*LOG('Grunddaten KSW'!$H6)","v":32.152178063153997},{"$f":"O$4+O$5*LOG('Grunddaten KSW'!$G6)+O$6*LOG('Grunddaten KSW'!$F6)+O$7*LOG('Grunddaten KSW'!$H6)","v":28.326728468386992},{"$f":"P$4+P$5*LOG('Grunddaten KSW'!$G6)+P$6*LOG('Grunddaten KSW'!$F6)+P$7*LOG('Grunddaten KSW'!$H6)","v":26.600882286043301},{"$f":"Q$4+Q$5*LOG('Grunddaten KSW'!$G6)+Q$6*LOG('Grunddaten KSW'!$F6)+Q$7*LOG('Grunddaten KSW'!$H6)","v":22.091872951705781},{"$f":"R$4+R$5*LOG('Grunddaten KSW'!$G6)+R$6*LOG('Grunddaten KSW'!$F6)+R$7*LOG('Grunddaten KSW'!$H6)","v":17.439970963507744},{"$f":"S$4+S$5*LOG('Grunddaten KSW'!$G6)+S$6*LOG('Grunddaten KSW'!$F6)+S$7*LOG('Grunddaten KSW'!$H6)","v":14.300358799196774},{"$f":"T$4+T$5*LOG('Grunddaten KSW'!$G6)+T$6*LOG('Grunddaten KSW'!$F6)+T$7*LOG('Grunddaten KSW'!$H6)","v":13.262551765813441},{"$f":"U$4+U$5*LOG('Grunddaten KSW'!$G6)+U$6*LOG('Grunddaten KSW'!$F6)+U$7*LOG('Grunddaten KSW'!$H6)","v":13.287754428362138},{"$f":"V$4+V$5*LOG('Grunddaten KSW'!$G6)+V$6*LOG('Grunddaten KSW'!$F6)+V$7*LOG('Grunddaten KSW'!$H6)","v":14.491599221493267},{"$f":"10*LOG(10^(0.1*B42)+10^(0.1*C42)+10^(0.1*D42)+10^(0.1*E42)+10^(0.1*F42)+10^(0.1*G42)+10^(0.1*H42)+10^(0.1*I42)+10^(0.1*J42)+10^(0.1*K42)+10^(0.1*L42)+10^(0.1*M42)+10^(0.1*N42)+10^(0.1*O42)+10^(0.1*P42)+10^(0.1*Q42)+10^(0.1*R42)+10^(0.1*S42)+10^(0.1*T42)+10^(0.1*U42)+10^(0.1*V42))","v":50.899596869234315}]
[{"$f":"'Grunddaten KSW'!C7","v":"KSWZUL12001"},{"$f":"B$4+B$5*LOG('Grunddaten KSW'!$G7)+B$6*LOG('Grunddaten KSW'!$F7)+B$7*LOG('Grunddaten KSW'!$H7)","v":17.48422838780451},{"$f":"C$4+C$5*LOG('Grunddaten KSW'!$G7)+C$6*LOG('Grunddaten KSW'!$F7)+C$7*LOG('Grunddaten KSW'!$H7)","v":19.228864002118542},{"$f":"D$4+D$5*LOG('Grunddaten KSW'!$G7)+D$6*LOG('Grunddaten KSW'!$F7)+D$7*LOG('Grunddaten KSW'!$H7)","v":24.609202981326881},{"$f":"E$4+E$5*LOG('Grunddaten KSW'!$G7)+E$6*LOG('Grunddaten KSW'!$F7)+E$7*LOG('Grunddaten KSW'!$H7)","v":32.956201802691048},{"$f":"F$4+F$5*LOG('Grunddaten KSW'!$G7)+F$6*LOG('Grunddaten KSW'!$F7)+F$7*LOG('Grunddaten KSW'!$H7)","v":37.853449087144163},{"$f":"G$4+G$5*LOG('Grunddaten KSW'!$G7)+G$6*LOG('Grunddaten KSW'!$F7)+G$7*LOG('Grunddaten KSW'!$H7)","v":38.032053742801267},{"$f":"H$4+H$5*LOG('Grunddaten KSW'!$G7)+H$6*LOG('Grunddaten KSW'!$F7)+H$7*LOG('Grunddaten KSW'!$H7)","v":35.032609333500915},{"$f":"I$4+I$5*LOG('Grunddaten KSW'!$G7)+I$6*LOG('Grunddaten KSW'!$F7)+I$7*LOG('Grunddaten KSW'!$H7)","v":34.378731644828058},{"$f":"J$4+J$5*LOG('Grunddaten KSW'!$G7)+J$6*LOG('Grunddaten KSW'!$F7)+J$7*LOG('Grunddaten KSW'!$H7)","v":41.377998815250209},{"$f":"K$4+K$5*LOG('Grunddaten KSW'!$G7)+K$6*LOG('Grunddaten KSW'!$F7)+K$7*LOG('Grunddaten KSW'!$H7)","v":41.661204447929997},{"$f":"L$4+L$5*LOG('Grunddaten KSW'!$G7)+L$6*LOG('Grunddaten KSW'!$F7)+L$7*LOG('Grunddaten KSW'!$H7)","v":39.553223148351243},{"$f":"M$4+M$5*LOG('Grunddaten KSW'!$G7)+M$6*LOG('Grunddaten KSW'!$F7)+M$7*LOG('Grunddaten KSW'!$H7)","v":33.912422847001451},{"$f":"N$4+N$5*LOG('Grunddaten KSW'!$G7)+N$6*LOG('Grunddaten KSW'!$F7)+N$7*LOG('Grunddaten KSW'!$H7)","v":29.1637261021882},{"$f":"O$4+O$5*LOG('Grunddaten KSW'!$G7)+O$6*LOG('Grunddaten KSW'!$F7)+O$7*LOG('Grunddaten KSW'!$H7)","v":25.495269109486301},{"$f":"P$4+P$5*LOG('Grunddaten KSW'!$G7)+P$6*LOG('Grunddaten KSW'!$F7)+P$7*LOG('Grunddaten KSW'!$H7)","v":24.531067801492185},{"$f":"Q$4+Q$5*LOG('Grunddaten KSW'!$G7)+Q$6*LOG('Grunddaten KSW'!$F7)+Q$7*LOG('Grunddaten KSW'!$H7)","v":20.316649302788015},{"$f":"R$4+R$5*LOG('Grunddaten KSW'!$G7)+R$6*LOG('Grunddaten KSW'!$F7)+R$7*LOG('Grunddaten KSW'!$H7)","v":16.249015716852856},{"$f":"S$4+S$5*LOG('Grunddaten KSW'!$G7)+S$6*LOG('Grunddaten KSW'!$F7)+S$7*LOG('Grunddaten KSW'!$H7)","v":13.547416264775029},{"$f":"T$4+T$5*LOG('Grunddaten KSW'!$G7)+T$6*LOG('Grunddaten KSW'!$F7)+T$7*LOG('Grunddaten KSW'!$H7)","v":12.965511905359717},{"$f":"U$4+U$5*LOG('Grunddaten KSW'!$G7)+U$6*LOG('Grunddaten KSW'!$F7)+U$7*LOG('Grunddaten KSW'!$H7)","v":13.320095550598573},{"$f":"V$4+V$5*LOG('Grunddaten KSW'!$G7)+V$6*LOG('Grunddaten KSW'!$F7)+V$7*LOG('Grunddaten KSW'!$H7)","v":14.545104653309586},{"$f":"10*LOG(10^(0.1*B43)+10^(0.1*C43)+10^(0.1*D43)+10^(0.1*E43)+10^(0.1*F43)+10^(0.1*G43)+10^(0.1*H43)+10^(0.1*I43)+10^(0.1*J43)+10^(0.1*K43)+10^(0.1*L43)+10^(0.1*M43)+10^(0.1*N43)+10^(0.1*O43)+10^(0.1*P43)+10^(0.1*Q43)+10^(0.1*R43)+10^(0.1*S43)+10^(0.1*T43)+10^(0.1*U43)+10^(0.1*V43))","v":47.949788767545918}]
[{"$f":"'Grunddaten KSW'!C8","v":"KSWZUL5002"},{"$f":"B$8+B$9*LOG('Grunddaten KSW'!$G8)+B$10*LOG('Grunddaten KSW'!$F8)+B$11*LOG('Grunddaten KSW'!$H8)","v":15.181145088251364},{"$f":"C$8+C$9*LOG('Grunddaten KSW'!$G8)+C$10*LOG('Grunddaten KSW'!$F8)+C$11*LOG('Grunddaten KSW'!$H8)","v":16.205370354617877},{"$f":"D$8+D$9*LOG('Grunddaten KSW'!$G8)+D$10*LOG('Grunddaten KSW'!$F8)+D$11*LOG('Grunddaten KSW'!$H8)","v":20.237933600599892},{"$f":"E$8+E$9*LOG('Grunddaten KSW'!$G8)+E$10*LOG('Grunddaten KSW'!$F8)+E$11*LOG('Grunddaten KSW'!$H8)","v":25.894381012516838},{"$f":"F$8+F$9*LOG('Grunddaten KSW'!$G8)+F$10*LOG('Grunddaten KSW'!$F8)+F$11*LOG('Grunddaten KSW'!$H8)","v":32.542013045250478},{"$f":"G$8+G$9*LOG('Grunddaten KSW'!$G8)+G$10*LOG('Grunddaten KSW'!$F8)+G$11*LOG('Grunddaten KSW'!$H8)","v":33.570465050846167},{"$f":"H$8+H$9*LOG('Grunddaten KSW'!$G8)+H$10*LOG('Grunddaten KSW'!$F8)+H$11*LOG('Grunddaten KSW'!$H8)","v":32.687762296008977},{"$f":"I$8+I$9*LOG('Grunddaten KSW'!$G8)+I$10*LOG('Grunddaten KSW'!$F8)+I$11*LOG('Grunddaten KSW'!$H8)","v":33.411423959875151},{"$f":"J$8+J$9*LOG('Grunddaten KSW'!$G8)+J$10*LOG('Grunddaten KSW'!$F8)+J$11*LOG('Grunddaten KSW'!$H8)","v":35.750717436135176},{"$f":"K$8+K$9*LOG('Grunddaten KSW'!$G8)+K$10*LOG('Grunddaten KSW'!$F8)+K$11*LOG('Grunddaten KSW'!$H8)","v":36.838540327157972},{"$f":"L$8+L$9*LOG('Grunddaten KSW'!$G8)+L$10*LOG('Grunddaten KSW'!$F8)+L$11*LOG('Grunddaten KSW'!$H8)","v":36.373640685727082},{"$f":"M$8+M$9*LOG('Grunddaten KSW'!$G8)+M$10*LOG('Grunddaten KSW'!$F8)+M$11*LOG('Grunddaten KSW'!$H8)","v":33.456839343188555},{"$f":"N$8+N$9*LOG('Grunddaten KSW'!$G8)+N$10*LOG('Grunddaten KSW'!$F8)+N$11*LOG('Grunddaten KSW'!$H8)","v":29.674870973144955},{"$f":"O$8+O$9*LOG('Grunddaten KSW'!$G8)+O$10*LOG('Grunddaten KSW'!$F8)+O$11*LOG('Grunddaten KSW'!$H8)","v":26.190854538191964},{"$f":"P$8+P$9*LOG('Grunddaten KSW'!$G8)+P$10*LOG('Grunddaten KSW'!$F8)+P$11*LOG('Grunddaten KSW'!$H8)","v":24.409257473564598},{"$f":"Q$8+Q$9*LOG('Grunddaten KSW'!$G8)+Q$10*LOG('Grunddaten KSW'!$F8)+Q$11*LOG('Grunddaten KSW'!$H8)","v":20.386214229013685},{"$f":"R$8+R$9*LOG('Grunddaten KSW'!$G8)+R$10*LOG('Grunddaten KSW'!$F8)+R$11*LOG('Grunddaten KSW'!$H8)","v":16.958372828234559},{"$f":"S$8+S$9*LOG('Grunddaten KSW'!$G8)+S$10*LOG('Grunddaten KSW'!$F8)+S$11*LOG('Grunddaten KSW'!$H8)","v":13.976564060386375},{"$f":"T$8+T$9*LOG('Grunddaten KSW'!$G8)+T$10*LOG('Grunddaten KSW'!$F8)+T$11*LOG('Grunddaten KSW'!$H8)","v":12.945481440129765},{"$f":"U$8+U$9*LOG('Grunddaten KSW'!$G8)+U$10*LOG('Grunddaten KSW'!$F8)+U$11*LOG('Grunddaten KSW'!$H8)","v":13.191303713168107},{"$f":"V$8+V$9*LOG('Grunddaten KSW'!$G8)+V$10*LOG('Grunddaten KSW'!$F8)+V$11*LOG('Grunddaten KSW'!$H8)","v":14.319395736588755},{"$f":"10*LOG(10^(0.1*B44)+10^(0.1*C44)+10^(0.1*D44)+10^(0.1*E44)+10^(0.1*F44)+10^(0.1*G44)+10^(0.1*H44)+10^(0.1*I44)+10^(0.1*J44)+10^(0.1*K44)+10^(0.1*L44)+10^(0.1*M44)+10^(0.1*N44)+10^(0.1*O44)+10^(0.1*P44)+10^(0.1*Q44)+10^(0.1*R44)+10^(0.1*S44)+10^(0.1*T44)+10^(0.1*U44)+10^(0.1*V44))","v":44.100148227985528}]
[{"$f":"'Grunddaten KSW'!C9","v":"KSWZUL8002"},{"$f":"B$8+B$9*LOG('Grunddaten KSW'!$G9)+B$10*LOG('Grunddaten KSW'!$F9)+B$11*LOG('Grunddaten KSW'!$H9)","v":13.46303511950466},{"$f":"C$8+C$9*LOG('Grunddaten KSW'!$G9)+C$10*LOG('Grunddaten KSW'!$F9)+C$11*LOG('Grunddaten KSW'!$H9)","v":16.050108443492558},{"$f":"D$8+D$9*LOG('Grunddaten KSW'!$G9)+D$10*LOG('Grunddaten KSW'!$F9)+D$11*LOG('Grunddaten KSW'!$H9)","v":19.281940557194538},{"$f":"E$8+E$9*LOG('Grunddaten KSW'!$G9)+E$10*LOG('Grunddaten KSW'!$F9)+E$11*LOG('Grunddaten KSW'!$H9)","v":29.757289695727714},{"$f":"F$8+F$9*LOG('Grunddaten KSW'!$G9)+F$10*LOG('Grunddaten KSW'!$F9)+F$11*LOG('Grunddaten KSW'!$H9)","v":37.640885699154644},{"$f":"G$8+G$9*LOG('Grunddaten KSW'!$G9)+G$10*LOG('Grunddaten KSW'!$F9)+G$11*LOG('Grunddaten KSW'!$H9)","v":40.358635506403488},{"$f":"H$8+H$9*LOG('Grunddaten KSW'!$G9)+H$10*LOG('Grunddaten KSW'!$F9)+H$11*LOG('Grunddaten KSW'!$H9)","v":38.313221377795415},{"$f":"I$8+I$9*LOG('Grunddaten KSW'!$G9)+I$10*LOG('Grunddaten KSW'!$F9)+I$11*LOG('Grunddaten KSW'!$H9)","v":38.38492035563845},{"$f":"J$8+J$9*LOG('Grunddaten KSW'!$G9)+J$10*LOG('Grunddaten KSW'!$F9)+J$11*LOG('Grunddaten KSW'!$H9)","v":40.015249670228116},{"$f":"K$8+K$9*LOG('Grunddaten KSW'!$G9)+K$10*LOG('Grunddaten KSW'!$F9)+K$11*LOG('Grunddaten KSW'!$H9)","v":41.45516979352751},{"$f":"L$8+L$9*LOG('Grunddaten KSW'!$G9)+L$10*LOG('Grunddaten KSW'!$F9)+L$11*LOG('Grunddaten KSW'!$H9)","v":41.452518754781188},{"$f":"M$8+M$9*LOG('Grunddaten KSW'!$G9)+M$10*LOG('Grunddaten KSW'!$F9)+M$11*LOG('Grunddaten KSW'!$H9)","v":38.902460127678118},{"$f":"N$8+N$9*LOG('Grunddaten KSW'!$G9)+N$10*LOG('Grunddaten KSW'!$F9)+N$11*LOG('Grunddaten KSW'!$H9)","v":36.100612979997692},{"$f":"O$8+O$9*LOG('Grunddaten KSW'!$G9)+O$10*LOG('Grunddaten KSW'!$F9)+O$11*LOG('Grunddaten KSW'!$H9)","v":31.980431947519236},{"$f":"P$8+P$9*LOG('Grunddaten KSW'!$G9)+P$10*LOG('Grunddaten KSW'!$F9)+P$11*LOG('Grunddaten KSW'!$H9)","v":28.622225768157456},{"$f":"Q$8+Q$9*LOG('Grunddaten KSW'!$G9)+Q$10*LOG('Grunddaten KSW'!$F9)+Q$11*LOG('Grunddaten KSW'!$H9)","v":22.809320642914052},{"$f":"R$8+R$9*LOG('Grunddaten KSW'!$G9)+R$10*LOG('Grunddaten KSW'!$F9)+R$11*LOG('Grunddaten KSW'!$H9)","v":17.592223354907802},{"$f":"S$8+S$9*LOG('Grunddaten KSW'!$G9)+S$10*LOG('Grunddaten KSW'!$F9)+S$11*LOG('Grunddaten KSW'!$H9)","v":13.318470706324984},{"$f":"T$8+T$9*LOG('Grunddaten KSW'!$G9)+T$10*LOG('Grunddaten KSW'!$F9)+T$11*LOG('Grunddaten KSW'!$H9)","v":11.701208108325574},{"$f":"U$8+U$9*LOG('Grunddaten KSW'!$G9)+U$10*LOG('Grunddaten KSW'!$F9)+U$11*LOG('Grunddaten KSW'!$H9)","v":11.638641797195232},{"$f":"V$8+V$9*LOG('Grunddaten KSW'!$G9)+V$10*LOG('Grunddaten KSW'!$F9)+V$11*LOG('Grunddaten KSW'!$H9)","v":12.830575350764606},49.237164158160496]
[{"$f":"'Grunddaten KSW'!C10","v":"KSWZUL10002"},{"$f":"B$8+B$9*LOG('Grunddaten KSW'!$G10)+B$10*LOG('Grunddaten KSW'!$F10)+B$11*LOG('Grunddaten KSW'!$H10)","v":15.001988897876448},{"$f":"C$8+C$9*LOG('Grunddaten KSW'!$G10)+C$10*LOG('Grunddaten KSW'!$F10)+C$11*LOG('Grunddaten KSW'!$H10)","v":16.337478698937939},{"$f":"D$8+D$9*LOG('Grunddaten KSW'!$G10)+D$10*LOG('Grunddaten KSW'!$F10)+D$11*LOG('Grunddaten KSW'!$H10)","v":20.208405680623684},{"$f":"E$8+E$9*LOG('Grunddaten KSW'!$G10)+E$10*LOG('Grunddaten KSW'!$F10)+E$11*LOG('Grunddaten KSW'!$H10)","v":26.422237297047314},{"$f":"F$8+F$9*LOG('Grunddaten KSW'!$G10)+F$10*LOG('Grunddaten KSW'!$F10)+F$11*LOG('Grunddaten KSW'!$H10)","v":32.915588045527258},{"$f":"G$8+G$9*LOG('Grunddaten KSW'!$G10)+G$10*LOG('Grunddaten KSW'!$F10)+G$11*LOG('Grunddaten KSW'!$H10)","v":34.109145980919571},{"$f":"H$8+H$9*LOG('Grunddaten KSW'!$G10)+H$10*LOG('Grunddaten KSW'!$F10)+H$11*LOG('Grunddaten KSW'!$H10)","v":33.102461591687231},{"$f":"I$8+I$9*LOG('Grunddaten KSW'!$G10)+I$10*LOG('Grunddaten KSW'!$F10)+I$11*LOG('Grunddaten KSW'!$H10)","v":33.622765057010284},{"$f":"J$8+J$9*LOG('Grunddaten KSW'!$G10)+J$10*LOG('Grunddaten KSW'!$F10)+J$11*LOG('Grunddaten KSW'!$H10)","v":35.922226473197206},{"$f":"K$8+K$9*LOG('Grunddaten KSW'!$G10)+K$10*LOG('Grunddaten KSW'!$F10)+K$11*LOG('Grunddaten KSW'!$H10)","v":37.01801139128888},{"$f":"L$8+L$9*LOG('Grunddaten KSW'!$G10)+L$10*LOG('Grunddaten KSW'!$F10)+L$11*LOG('Grunddaten KSW'!$H10)","v":36.523614138876567},{"$f":"M$8+M$9*LOG('Grunddaten KSW'!$G10)+M$10*LOG('Grunddaten KSW'!$F10)+M$11*LOG('Grunddaten KSW'!$H10)","v":33.670700651665022},{"$f":"N$8+N$9*LOG('Grunddaten KSW'!$G10)+N$10*LOG('Grunddaten KSW'!$F10)+N$11*LOG('Grunddaten KSW'!$H10)","v":30.050583656908774},{"$f":"O$8+O$9*LOG('Grunddaten KSW'!$G10)+O$10*LOG('Grunddaten KSW'!$F10)+O$11*LOG('Grunddaten KSW'!$H10)","v":26.550703644391518},{"$f":"P$8+P$9*LOG('Grunddaten KSW'!$G10)+P$10*LOG('Grunddaten KSW'!$F10)+P$11*LOG('Grunddaten KSW'!$H10)","v":24.621052872942446},{"$f":"Q$8+Q$9*LOG('Grunddaten KSW'!$G10)+Q$10*LOG('Grunddaten KSW'!$F10)+Q$11*LOG('Grunddaten KSW'!$H10)","v":20.47117911747393},{"$f":"R$8+R$9*LOG('Grunddaten KSW'!$G10)+R$10*LOG('Grunddaten KSW'!$F10)+R$11*LOG('Grunddaten KSW'!$H10)","v":16.889337569884031},{"$f":"S$8+S$9*LOG('Grunddaten KSW'!$G10)+S$10*LOG('Grunddaten KSW'!$F10)+S$11*LOG('Grunddaten KSW'!$H10)","v":13.852866387878855},{"$f":"T$8+T$9*LOG('Grunddaten KSW'!$G10)+T$10*LOG('Grunddaten KSW'!$F10)+T$11*LOG('Grunddaten KSW'!$H10)","v":12.824100923003051},{"$f":"U$8+U$9*LOG('Grunddaten KSW'!$G10)+U$10*LOG('Grunddaten KSW'!$F10)+U$11*LOG('Grunddaten KSW'!$H10)","v":13.061584237909681},{"$f":"V$8+V$9*LOG('Grunddaten KSW'!$G10)+V$10*LOG('Grunddaten KSW'!$F10)+V$11*LOG('Grunddaten KSW'!$H10)","v":14.201416766397264},44.355790599181724]
[{"$f":"'Grunddaten KSW'!C11","v":"KSWZUL12002"},{"$f":"B$8+B$9*LOG('Grunddaten KSW'!$G11)+B$10*LOG('Grunddaten KSW'!$F11)+B$11*LOG('Grunddaten KSW'!$H11)","v":14.82716962178865},{"$f":"C$8+C$9*LOG('Grunddaten KSW'!$G11)+C$10*LOG('Grunddaten KSW'!$F11)+C$11*LOG('Grunddaten KSW'!$H11)","v":17.628396735867128},{"$f":"D$8+D$9*LOG('Grunddaten KSW'!$G11)+D$10*LOG('Grunddaten KSW'!$F11)+D$11*LOG('Grunddaten KSW'!$H11)","v":20.729326478427748},{"$f":"E$8+E$9*LOG('Grunddaten KSW'!$G11)+E$10*LOG('Grunddaten KSW'!$F11)+E$11*LOG('Grunddaten KSW'!$H11)","v":27.917165366601285},{"$f":"F$8+F$9*LOG('Grunddaten KSW'!$G11)+F$10*LOG('Grunddaten KSW'!$F11)+F$11*LOG('Grunddaten KSW'!$H11)","v":32.04122549954711},{"$f":"G$8+G$9*LOG('Grunddaten KSW'!$G11)+G$10*LOG('Grunddaten KSW'!$F11)+G$11*LOG('Grunddaten KSW'!$H11)","v":33.309341461997484},{"$f":"H$8+H$9*LOG('Grunddaten KSW'!$G11)+H$10*LOG('Grunddaten KSW'!$F11)+H$11*LOG('Grunddaten KSW'!$H11)","v":32.160209332713364},{"$f":"I$8+I$9*LOG('Grunddaten KSW'!$G11)+I$10*LOG('Grunddaten KSW'!$F11)+I$11*LOG('Grunddaten KSW'!$H11)","v":31.421334124654571},{"$f":"J$8+J$9*LOG('Grunddaten KSW'!$G11)+J$10*LOG('Grunddaten KSW'!$F11)+J$11*LOG('Grunddaten KSW'!$H11)","v":33.949085118279385},{"$f":"K$8+K$9*LOG('Grunddaten KSW'!$G11)+K$10*LOG('Grunddaten KSW'!$F11)+K$11*LOG('Grunddaten KSW'!$H11)","v":34.827342277070883},{"$f":"L$8+L$9*LOG('Grunddaten KSW'!$G11)+L$10*LOG('Grunddaten KSW'!$F11)+L$11*LOG('Grunddaten KSW'!$H11)","v":33.695345087607805},{"$f":"M$8+M$9*LOG('Grunddaten KSW'!$G11)+M$10*LOG('Grunddaten KSW'!$F11)+M$11*LOG('Grunddaten KSW'!$H11)","v":31.105722602810644},{"$f":"N$8+N$9*LOG('Grunddaten KSW'!$G11)+N$10*LOG('Grunddaten KSW'!$F11)+N$11*LOG('Grunddaten KSW'!$H11)","v":28.110925900777044},{"$f":"O$8+O$9*LOG('Grunddaten KSW'!$G11)+O$10*LOG('Grunddaten KSW'!$F11)+O$11*LOG('Grunddaten KSW'!$H11)","v":24.991049841672318},{"$f":"P$8+P$9*LOG('Grunddaten KSW'!$G11)+P$10*LOG('Grunddaten KSW'!$F11)+P$11*LOG('Grunddaten KSW'!$H11)","v":23.045021684966638},{"$f":"Q$8+Q$9*LOG('Grunddaten KSW'!$G11)+Q$10*LOG('Grunddaten KSW'!$F11)+Q$11*LOG('Grunddaten KSW'!$H11)","v":19.2400168661474},{"$f":"R$8+R$9*LOG('Grunddaten KSW'!$G11)+R$10*LOG('Grunddaten KSW'!$F11)+R$11*LOG('Grunddaten KSW'!$H11)","v":15.763146520087661},{"$f":"S$8+S$9*LOG('Grunddaten KSW'!$G11)+S$10*LOG('Grunddaten KSW'!$F11)+S$11*LOG('Grunddaten KSW'!$H11)","v":13.300617807267653},{"$f":"T$8+T$9*LOG('Grunddaten KSW'!$G11)+T$10*LOG('Grunddaten KSW'!$F11)+T$11*LOG('Grunddaten KSW'!$H11)","v":12.771213646649002},{"$f":"U$8+U$9*LOG('Grunddaten KSW'!$G11)+U$10*LOG('Grunddaten KSW'!$F11)+U$11*LOG('Grunddaten KSW'!$H11)","v":13.187190863638817},{"$f":"V$8+V$9*LOG('Grunddaten KSW'!$G11)+V$10*LOG('Grunddaten KSW'!$F11)+V$11*LOG('Grunddaten KSW'!$H11)","v":14.378311381662309},42.583450141009102]
[{"$f":"'Grunddaten KSW'!C12","v":"KSWABL5001"},{"$f":"B50","v":11.333556510336106},{"$f":"C50","v":11.458743899551253},14.222304610447384,22.599610695331499,29.344185924597017,27.606890413325466,27.340892104691459,26.417172040823974,29.206691143007205,30.133594719723494,27.336851113178447,23.803232805700571,22.056166311245935,20.151037372772443,19.896649236106743,20.66622398239323,17.643658074366233,14.006081251490972,13.059696576493195,13.151685292354804,14.336943963572482,37.729170629059716]
[{"$f":"'Grunddaten KSW'!C13","v":"KSWABL8001"},{"$f":"B$12+B$13*LOG('Grunddaten KSW'!$G13)+B$14*LOG('Grunddaten KSW'!$F13)+B$15*LOG('Grunddaten KSW'!$H13)","v":12.86052729335262},{"$f":"C$12+C$13*LOG('Grunddaten KSW'!$G13)+C$14*LOG('Grunddaten KSW'!$F13)+C$15*LOG('Grunddaten KSW'!$H13)","v":11.456887447857254},{"$f":"D$12+D$13*LOG('Grunddaten KSW'!$G13)+D$14*LOG('Grunddaten KSW'!$F13)+D$15*LOG('Grunddaten KSW'!$H13)","v":16.274131410566781},{"$f":"E$12+E$13*LOG('Grunddaten KSW'!$G13)+E$14*LOG('Grunddaten KSW'!$F13)+E$15*LOG('Grunddaten KSW'!$H13)","v":25.246710393474206},{"$f":"F$12+F$13*LOG('Grunddaten KSW'!$G13)+F$14*LOG('Grunddaten KSW'!$F13)+F$15*LOG('Grunddaten KSW'!$H13)","v":30.412916154850045},{"$f":"G$12+G$13*LOG('Grunddaten KSW'!$G13)+G$14*LOG('Grunddaten KSW'!$F13)+G$15*LOG('Grunddaten KSW'!$H13)","v":29.093305777322776},{"$f":"H$12+H$13*LOG('Grunddaten KSW'!$G13)+H$14*LOG('Grunddaten KSW'!$F13)+H$15*LOG('Grunddaten KSW'!$H13)","v":29.462455842813938},{"$f":"I$12+I$13*LOG('Grunddaten KSW'!$G13)+I$14*LOG('Grunddaten KSW'!$F13)+I$15*LOG('Grunddaten KSW'!$H13)","v":29.330563342323885},{"$f":"J$12+J$13*LOG('Grunddaten KSW'!$G13)+J$14*LOG('Grunddaten KSW'!$F13)+J$15*LOG('Grunddaten KSW'!$H13)","v":32.250770911173717},{"$f":"K$12+K$13*LOG('Grunddaten KSW'!$G13)+K$14*LOG('Grunddaten KSW'!$F13)+K$15*LOG('Grunddaten KSW'!$H13)","v":32.160965212010758},{"$f":"L$12+L$13*LOG('Grunddaten KSW'!$G13)+L$14*LOG('Grunddaten KSW'!$F13)+L$15*LOG('Grunddaten KSW'!$H13)","v":30.552533434331004},{"$f":"M$12+M$13*LOG('Grunddaten KSW'!$G13)+M$14*LOG('Grunddaten KSW'!$F13)+M$15*LOG('Grunddaten KSW'!$H13)","v":27.398233462248488},{"$f":"N$12+N$13*LOG('Grunddaten KSW'!$G13)+N$14*LOG('Grunddaten KSW'!$F13)+N$15*LOG('Grunddaten KSW'!$H13)","v":25.576099550472211},{"$f":"O$12+O$13*LOG('Grunddaten KSW'!$G13)+O$14*LOG('Grunddaten KSW'!$F13)+O$15*LOG('Grunddaten KSW'!$H13)","v":23.15710672555937},{"$f":"P$12+P$13*LOG('Grunddaten KSW'!$G13)+P$14*LOG('Grunddaten KSW'!$F13)+P$15*LOG('Grunddaten KSW'!$H13)","v":22.641440465179265},{"$f":"Q$12+Q$13*LOG('Grunddaten KSW'!$G13)+Q$14*LOG('Grunddaten KSW'!$F13)+Q$15*LOG('Grunddaten KSW'!$H13)","v":23.038227886681362},{"$f":"R$12+R$13*LOG('Grunddaten KSW'!$G13)+R$14*LOG('Grunddaten KSW'!$F13)+R$15*LOG('Grunddaten KSW'!$H13)","v":19.420253139618758},{"$f":"S$12+S$13*LOG('Grunddaten KSW'!$G13)+S$14*LOG('Grunddaten KSW'!$F13)+S$15*LOG('Grunddaten KSW'!$H13)","v":14.974179888028642},{"$f":"T$12+T$13*LOG('Grunddaten KSW'!$G13)+T$14*LOG('Grunddaten KSW'!$F13)+T$15*LOG('Grunddaten KSW'!$H13)","v":13.540156108628652},{"$f":"U$12+U$13*LOG('Grunddaten KSW'!$G13)+U$14*LOG('Grunddaten KSW'!$F13)+U$15*LOG('Grunddaten KSW'!$H13)","v":13.176530129973978},{"$f":"V$12+V$13*LOG('Grunddaten KSW'!$G13)+V$14*LOG('Grunddaten KSW'!$F13)+V$15*LOG('Grunddaten KSW'!$H13)","v":14.31648663512175},40.091790108221474]
[{"$f":"'Grunddaten KSW'!C14","v":"KSWABL10001"},{"$f":"B$12+B$13*LOG('Grunddaten KSW'!$G14)+B$14*LOG('Grunddaten KSW'!$F14)+B$15*LOG('Grunddaten KSW'!$H14)","v":11.333556510336106},{"$f":"C$12+C$13*LOG('Grunddaten KSW'!$G14)+C$14*LOG('Grunddaten KSW'!$F14)+C$15*LOG('Grunddaten KSW'!$H14)","v":11.458743899551253},{"$f":"D$12+D$13*LOG('Grunddaten KSW'!$G14)+D$14*LOG('Grunddaten KSW'!$F14)+D$15*LOG('Grunddaten KSW'!$H14)","v":14.222304610447384},{"$f":"E$12+E$13*LOG('Grunddaten KSW'!$G14)+E$14*LOG('Grunddaten KSW'!$F14)+E$15*LOG('Grunddaten KSW'!$H14)","v":22.599610695331499},{"$f":"F$12+F$13*LOG('Grunddaten KSW'!$G14)+F$14*LOG('Grunddaten KSW'!$F14)+F$15*LOG('Grunddaten KSW'!$H14)","v":29.344185924597017},{"$f":"G$12+G$13*LOG('Grunddaten KSW'!$G14)+G$14*LOG('Grunddaten KSW'!$F14)+G$15*LOG('Grunddaten KSW'!$H14)","v":27.606890413325466},{"$f":"H$12+H$13*LOG('Grunddaten KSW'!$G14)+H$14*LOG('Grunddaten KSW'!$F14)+H$15*LOG('Grunddaten KSW'!$H14)","v":27.340892104691459},{"$f":"I$12+I$13*LOG('Grunddaten KSW'!$G14)+I$14*LOG('Grunddaten KSW'!$F14)+I$15*LOG('Grunddaten KSW'!$H14)","v":26.417172040823974},{"$f":"J$12+J$13*LOG('Grunddaten KSW'!$G14)+J$14*LOG('Grunddaten KSW'!$F14)+J$15*LOG('Grunddaten KSW'!$H14)","v":29.206691143007205},{"$f":"K$12+K$13*LOG('Grunddaten KSW'!$G14)+K$14*LOG('Grunddaten KSW'!$F14)+K$15*LOG('Grunddaten KSW'!$H14)","v":30.133594719723494},{"$f":"L$12+L$13*LOG('Grunddaten KSW'!$G14)+L$14*LOG('Grunddaten KSW'!$F14)+L$15*LOG('Grunddaten KSW'!$H14)","v":27.336851113178447},{"$f":"M$12+M$13*LOG('Grunddaten KSW'!$G14)+M$14*LOG('Grunddaten KSW'!$F14)+M$15*LOG('Grunddaten KSW'!$H14)","v":23.803232805700571},{"$f":"N$12+N$13*LOG('Grunddaten KSW'!$G14)+N$14*LOG('Grunddaten KSW'!$F14)+N$15*LOG('Grunddaten KSW'!$H14)","v":22.056166311245935},{"$f":"O$12+O$13*LOG('Grunddaten KSW'!$G14)+O$14*LOG('Grunddaten KSW'!$F14)+O$15*LOG('Grunddaten KSW'!$H14)","v":20.151037372772443},{"$f":"P$12+P$13*LOG('Grunddaten KSW'!$G14)+P$14*LOG('Grunddaten KSW'!$F14)+P$15*LOG('Grunddaten KSW'!$H14)","v":19.896649236106743},{"$f":"Q$12+Q$13*LOG('Grunddaten KSW'!$G14)+Q$14*LOG('Grunddaten KSW'!$F14)+Q$15*LOG('Grunddaten KSW'!$H14)","v":20.66622398239323},{"$f":"R$12+R$13*LOG('Grunddaten KSW'!$G14)+R$14*LOG('Grunddaten KSW'!$F14)+R$15*LOG('Grunddaten KSW'!$H14)","v":17.643658074366233},{"$f":"S$12+S$13*LOG('Grunddaten KSW'!$G14)+S$14*LOG('Grunddaten KSW'!$F14)+S$15*LOG('Grunddaten KSW'!$H14)","v":14.006081251490972},{"$f":"T$12+T$13*LOG('Grunddaten KSW'!$G14)+T$14*LOG('Grunddaten KSW'!$F14)+T$15*LOG('Grunddaten KSW'!$H14)","v":13.059696576493195},{"$f":"U$12+U$13*LOG('Grunddaten KSW'!$G14)+U$14*LOG('Grunddaten KSW'!$F14)+U$15*LOG('Grunddaten KSW'!$H14)","v":13.151685292354804},{"$f":"V$12+V$13*LOG('Grunddaten KSW'!$G14)+V$14*LOG('Grunddaten KSW'!$F14)+V$15*LOG('Grunddaten KSW'!$H14)","v":14.336943963572482},37.729170629059716]
[{"$f":"'Grunddaten KSW'!C15","v":"KSWABL12001"},{"$f":"B$12+B$13*LOG('Grunddaten KSW'!$G15)+B$14*LOG('Grunddaten KSW'!$F15)+B$15*LOG('Grunddaten KSW'!$H15)","v":10.682506011965595},{"$f":"C$12+C$13*LOG('Grunddaten KSW'!$G15)+C$14*LOG('Grunddaten KSW'!$F15)+C$15*LOG('Grunddaten KSW'!$H15)","v":11.062524988166668},{"$f":"D$12+D$13*LOG('Grunddaten KSW'!$G15)+D$14*LOG('Grunddaten KSW'!$F15)+D$15*LOG('Grunddaten KSW'!$H15)","v":14.317205801033793},{"$f":"E$12+E$13*LOG('Grunddaten KSW'!$G15)+E$14*LOG('Grunddaten KSW'!$F15)+E$15*LOG('Grunddaten KSW'!$H15)","v":22.440948345074951},{"$f":"F$12+F$13*LOG('Grunddaten KSW'!$G15)+F$14*LOG('Grunddaten KSW'!$F15)+F$15*LOG('Grunddaten KSW'!$H15)","v":27.772425915328988},{"$f":"G$12+G$13*LOG('Grunddaten KSW'!$G15)+G$14*LOG('Grunddaten KSW'!$F15)+G$15*LOG('Grunddaten KSW'!$H15)","v":26.720429350507253},{"$f":"H$12+H$13*LOG('Grunddaten KSW'!$G15)+H$14*LOG('Grunddaten KSW'!$F15)+H$15*LOG('Grunddaten KSW'!$H15)","v":25.140433396089445},{"$f":"I$12+I$13*LOG('Grunddaten KSW'!$G15)+I$14*LOG('Grunddaten KSW'!$F15)+I$15*LOG('Grunddaten KSW'!$H15)","v":23.748974138226544},{"$f":"J$12+J$13*LOG('Grunddaten KSW'!$G15)+J$14*LOG('Grunddaten KSW'!$F15)+J$15*LOG('Grunddaten KSW'!$H15)","v":26.857342693601616},{"$f":"K$12+K$13*LOG('Grunddaten KSW'!$G15)+K$14*LOG('Grunddaten KSW'!$F15)+K$15*LOG('Grunddaten KSW'!$H15)","v":27.477686972357773},{"$f":"L$12+L$13*LOG('Grunddaten KSW'!$G15)+L$14*LOG('Grunddaten KSW'!$F15)+L$15*LOG('Grunddaten KSW'!$H15)","v":24.107351664881783},{"$f":"M$12+M$13*LOG('Grunddaten KSW'!$G15)+M$14*LOG('Grunddaten KSW'!$F15)+M$15*LOG('Grunddaten KSW'!$H15)","v":20.834892982101326},{"$f":"N$12+N$13*LOG('Grunddaten KSW'!$G15)+N$14*LOG('Grunddaten KSW'!$F15)+N$15*LOG('Grunddaten KSW'!$H15)","v":19.121724960627702},{"$f":"O$12+O$13*LOG('Grunddaten KSW'!$G15)+O$14*LOG('Grunddaten KSW'!$F15)+O$15*LOG('Grunddaten KSW'!$H15)","v":17.362026833490962},{"$f":"P$12+P$13*LOG('Grunddaten KSW'!$G15)+P$14*LOG('Grunddaten KSW'!$F15)+P$15*LOG('Grunddaten KSW'!$H15)","v":17.314138370674851},{"$f":"Q$12+Q$13*LOG('Grunddaten KSW'!$G15)+Q$14*LOG('Grunddaten KSW'!$F15)+Q$15*LOG('Grunddaten KSW'!$H15)","v":18.430859487268275},{"$f":"R$12+R$13*LOG('Grunddaten KSW'!$G15)+R$14*LOG('Grunddaten KSW'!$F15)+R$15*LOG('Grunddaten KSW'!$H15)","v":15.826926625783088},{"$f":"S$12+S$13*LOG('Grunddaten KSW'!$G15)+S$14*LOG('Grunddaten KSW'!$F15)+S$15*LOG('Grunddaten KSW'!$H15)","v":12.967021426846703},{"$f":"T$12+T$13*LOG('Grunddaten KSW'!$G15)+T$14*LOG('Grunddaten KSW'!$F15)+T$15*LOG('Grunddaten KSW'!$H15)","v":12.664093851566053},{"$f":"U$12+U$13*LOG('Grunddaten KSW'!$G15)+U$14*LOG('Grunddaten KSW'!$F15)+U$15*LOG('Grunddaten KSW'!$H15)","v":13.103416167285658},{"$f":"V$12+V$13*LOG('Grunddaten KSW'!$G15)+V$14*LOG('Grunddaten KSW'!$F15)+V$15*LOG('Grunddaten KSW'!$H15)","v":14.363890056489838},35.642429676534569]
[{"$f":"'Grunddaten KSW'!C16","v":"KSWABL5002"},{"$f":"B54","v":7.9079195299280824},{"$f":"C54","v":9.1730474620568199},8.6093382505645106,13.488851427134893,18.764869343653405,20.902718092594881,20.5713487401561,16.728651498837642,17.00273761990622,16.123409182931084,12.666836232541996,10.562196624584526,9.2214059078186974,9.1597813070911513,10.157944122796771,10.620976305761952,10.894020319533759,10.837510635546279,11.893804380159928,12.994478670208467,14.256868086711499,28.125521163272186]
[{"$f":"'Grunddaten KSW'!C17","v":"KSWABL8002"},{"$f":"B$16+B$17*LOG('Grunddaten KSW'!$G17)+B$18*LOG('Grunddaten KSW'!$F17)+B$19*LOG('Grunddaten KSW'!$H17)","v":9.5468818581306572},{"$f":"C$16+C$17*LOG('Grunddaten KSW'!$G17)+C$18*LOG('Grunddaten KSW'!$F17)+C$19*LOG('Grunddaten KSW'!$H17)","v":11.154404024962989},{"$f":"D$16+D$17*LOG('Grunddaten KSW'!$G17)+D$18*LOG('Grunddaten KSW'!$F17)+D$19*LOG('Grunddaten KSW'!$H17)","v":9.968837332956884},{"$f":"E$16+E$17*LOG('Grunddaten KSW'!$G17)+E$18*LOG('Grunddaten KSW'!$F17)+E$19*LOG('Grunddaten KSW'!$H17)","v":17.116349933796606},{"$f":"F$16+F$17*LOG('Grunddaten KSW'!$G17)+F$18*LOG('Grunddaten KSW'!$F17)+F$19*LOG('Grunddaten KSW'!$H17)","v":22.731949155165342},{"$f":"G$16+G$17*LOG('Grunddaten KSW'!$G17)+G$18*LOG('Grunddaten KSW'!$F17)+G$19*LOG('Grunddaten KSW'!$H17)","v":23.531521066074916},{"$f":"H$16+H$17*LOG('Grunddaten KSW'!$G17)+H$18*LOG('Grunddaten KSW'!$F17)+H$19*LOG('Grunddaten KSW'!$H17)","v":22.156620349903655},{"$f":"I$16+I$17*LOG('Grunddaten KSW'!$G17)+I$18*LOG('Grunddaten KSW'!$F17)+I$19*LOG('Grunddaten KSW'!$H17)","v":21.716243706769966},{"$f":"J$16+J$17*LOG('Grunddaten KSW'!$G17)+J$18*LOG('Grunddaten KSW'!$F17)+J$19*LOG('Grunddaten KSW'!$H17)","v":22.353896425121953},{"$f":"K$16+K$17*LOG('Grunddaten KSW'!$G17)+K$18*LOG('Grunddaten KSW'!$F17)+K$19*LOG('Grunddaten KSW'!$H17)","v":21.70464234959325},{"$f":"L$16+L$17*LOG('Grunddaten KSW'!$G17)+L$18*LOG('Grunddaten KSW'!$F17)+L$19*LOG('Grunddaten KSW'!$H17)","v":19.332695198936658},{"$f":"M$16+M$17*LOG('Grunddaten KSW'!$G17)+M$18*LOG('Grunddaten KSW'!$F17)+M$19*LOG('Grunddaten KSW'!$H17)","v":16.461299821281919},{"$f":"N$16+N$17*LOG('Grunddaten KSW'!$G17)+N$18*LOG('Grunddaten KSW'!$F17)+N$19*LOG('Grunddaten KSW'!$H17)","v":14.705836022518286},{"$f":"O$16+O$17*LOG('Grunddaten KSW'!$G17)+O$18*LOG('Grunddaten KSW'!$F17)+O$19*LOG('Grunddaten KSW'!$H17)","v":13.748004382841589},{"$f":"P$16+P$17*LOG('Grunddaten KSW'!$G17)+P$18*LOG('Grunddaten KSW'!$F17)+P$19*LOG('Grunddaten KSW'!$H17)","v":13.442326923578086},{"$f":"Q$16+Q$17*LOG('Grunddaten KSW'!$G17)+Q$18*LOG('Grunddaten KSW'!$F17)+Q$19*LOG('Grunddaten KSW'!$H17)","v":12.855526685570473},{"$f":"R$16+R$17*LOG('Grunddaten KSW'!$G17)+R$18*LOG('Grunddaten KSW'!$F17)+R$19*LOG('Grunddaten KSW'!$H17)","v":12.068481926211151},{"$f":"S$16+S$17*LOG('Grunddaten KSW'!$G17)+S$18*LOG('Grunddaten KSW'!$F17)+S$19*LOG('Grunddaten KSW'!$H17)","v":11.352379578520797},{"$f":"T$16+T$17*LOG('Grunddaten KSW'!$G17)+T$18*LOG('Grunddaten KSW'!$F17)+T$19*LOG('Grunddaten KSW'!$H17)","v":12.054505950205513},{"$f":"U$16+U$17*LOG('Grunddaten KSW'!$G17)+U$18*LOG('Grunddaten KSW'!$F17)+U$19*LOG('Grunddaten KSW'!$H17)","v":13.046207628485911},{"$f":"V$16+V$17*LOG('Grunddaten KSW'!$G17)+V$18*LOG('Grunddaten KSW'!$F17)+V$19*LOG('Grunddaten KSW'!$H17)","v":14.444927948283498},31.607117176237537]
[{"$f":"'Grunddaten KSW'!C18","v":"KSWABL10002"},{"$f":"B$16+B$17*LOG('Grunddaten KSW'!$G18)+B$18*LOG('Grunddaten KSW'!$F18)+B$19*LOG('Grunddaten KSW'!$H18)","v":7.9079195299280824},{"$f":"C$16+C$17*LOG('Grunddaten KSW'!$G18)+C$18*LOG('Grunddaten KSW'!$F18)+C$19*LOG('Grunddaten KSW'!$H18)","v":9.1730474620568199},{"$f":"D$16+D$17*LOG('Grunddaten KSW'!$G18)+D$18*LOG('Grunddaten KSW'!$F18)+D$19*LOG('Grunddaten KSW'!$H18)","v":8.6093382505645106},{"$f":"E$16+E$17*LOG('Grunddaten KSW'!$G18)+E$18*LOG('Grunddaten KSW'!$F18)+E$19*LOG('Grunddaten KSW'!$H18)","v":13.488851427134893},{"$f":"F$16+F$17*LOG('Grunddaten KSW'!$G18)+F$18*LOG('Grunddaten KSW'!$F18)+F$19*LOG('Grunddaten KSW'!$H18)","v":18.764869343653405},{"$f":"G$16+G$17*LOG('Grunddaten KSW'!$G18)+G$18*LOG('Grunddaten KSW'!$F18)+G$19*LOG('Grunddaten KSW'!$H18)","v":20.902718092594881},{"$f":"H$16+H$17*LOG('Grunddaten KSW'!$G18)+H$18*LOG('Grunddaten KSW'!$F18)+H$19*LOG('Grunddaten KSW'!$H18)","v":20.5713487401561},{"$f":"I$16+I$17*LOG('Grunddaten KSW'!$G18)+I$18*LOG('Grunddaten KSW'!$F18)+I$19*LOG('Grunddaten KSW'!$H18)","v":16.728651498837642},{"$f":"J$16+J$17*LOG('Grunddaten KSW'!$G18)+J$18*LOG('Grunddaten KSW'!$F18)+J$19*LOG('Grunddaten KSW'!$H18)","v":17.00273761990622},{"$f":"K$16+K$17*LOG('Grunddaten KSW'!$G18)+K$18*LOG('Grunddaten KSW'!$F18)+K$19*LOG('Grunddaten KSW'!$H18)","v":16.123409182931084},{"$f":"L$16+L$17*LOG('Grunddaten KSW'!$G18)+L$18*LOG('Grunddaten KSW'!$F18)+L$19*LOG('Grunddaten KSW'!$H18)","v":12.666836232541996},{"$f":"M$16+M$17*LOG('Grunddaten KSW'!$G18)+M$18*LOG('Grunddaten KSW'!$F18)+M$19*LOG('Grunddaten KSW'!$H18)","v":10.562196624584526},{"$f":"N$16+N$17*LOG('Grunddaten KSW'!$G18)+N$18*LOG('Grunddaten KSW'!$F18)+N$19*LOG('Grunddaten KSW'!$H18)","v":9.2214059078186974},{"$f":"O$16+O$17*LOG('Grunddaten KSW'!$G18)+O$18*LOG('Grunddaten KSW'!$F18)+O$19*LOG('Grunddaten KSW'!$H18)","v":9.1597813070911513},{"$f":"P$16+P$17*LOG('Grunddaten KSW'!$G18)+P$18*LOG('Grunddaten KSW'!$F18)+P$19*LOG('Grunddaten KSW'!$H18)","v":10.157944122796771},{"$f":"Q$16+Q$17*LOG('Grunddaten KSW'!$G18)+Q$18*LOG('Grunddaten KSW'!$F18)+Q$19*LOG('Grunddaten KSW'!$H18)","v":10.620976305761952},{"$f":"R$16+R$17*LOG('Grunddaten KSW'!$G18)+R$18*LOG('Grunddaten KSW'!$F18)+R$19*LOG('Grunddaten KSW'!$H18)","v":10.894020319533759},{"$f":"S$16+S$17*LOG('Grunddaten KSW'!$G18)+S$18*LOG('Grunddaten KSW'!$F18)+S$19*LOG('Grunddaten KSW'!$H18)","v":10.837510635546279},{"$f":"T$16+T$17*LOG('Grunddaten KSW'!$G18)+T$18*LOG('Grunddaten KSW'!$F18)+T$19*LOG('Grunddaten KSW'!$H18)","v":11.893804380159928},{"$f":"U$16+U$17*LOG('Grunddaten KSW'!$G18)+U$18*LOG('Grunddaten KSW'!$F18)+U$19*LOG('Grunddaten KSW'!$H18)","v":12.994478670208467},{"$f":"V$16+V$17*LOG('Grunddaten KSW'!$G18)+V$18*LOG('Grunddaten KSW'!$F18)+V$19*LOG('Grunddaten KSW'!$H18)","v":14.256868086711499},28.125521163272186]
[{"$f":"'Grunddaten KSW'!C19","v":"KSWABL12002"},{"$f":"B$16+B$17*LOG('Grunddaten KSW'!$G19)+B$18*LOG('Grunddaten KSW'!$F19)+B$19*LOG('Grunddaten KSW'!$H19)","v":6.1559443122586091},{"$f":"C$16+C$17*LOG('Grunddaten KSW'!$G19)+C$18*LOG('Grunddaten KSW'!$F19)+C$19*LOG('Grunddaten KSW'!$H19)","v":8.6435433655338905},{"$f":"D$16+D$17*LOG('Grunddaten KSW'!$G19)+D$18*LOG('Grunddaten KSW'!$F19)+D$19*LOG('Grunddaten KSW'!$H19)","v":6.2263313990271456},{"$f":"E$16+E$17*LOG('Grunddaten KSW'!$G19)+E$18*LOG('Grunddaten KSW'!$F19)+E$19*LOG('Grunddaten KSW'!$H19)","v":11.53216497017501},{"$f":"F$16+F$17*LOG('Grunddaten KSW'!$G19)+F$18*LOG('Grunddaten KSW'!$F19)+F$19*LOG('Grunddaten KSW'!$H19)","v":16.819383041877728},{"$f":"G$16+G$17*LOG('Grunddaten KSW'!$G19)+G$18*LOG('Grunddaten KSW'!$F19)+G$19*LOG('Grunddaten KSW'!$H19)","v":16.356943462160885},{"$f":"H$16+H$17*LOG('Grunddaten KSW'!$G19)+H$18*LOG('Grunddaten KSW'!$F19)+H$19*LOG('Grunddaten KSW'!$H19)","v":14.743803144592919},{"$f":"I$16+I$17*LOG('Grunddaten KSW'!$G19)+I$18*LOG('Grunddaten KSW'!$F19)+I$19*LOG('Grunddaten KSW'!$H19)","v":12.179078136914628},{"$f":"J$16+J$17*LOG('Grunddaten KSW'!$G19)+J$18*LOG('Grunddaten KSW'!$F19)+J$19*LOG('Grunddaten KSW'!$H19)","v":11.32671388604083},{"$f":"K$16+K$17*LOG('Grunddaten KSW'!$G19)+K$18*LOG('Grunddaten KSW'!$F19)+K$19*LOG('Grunddaten KSW'!$H19)","v":9.2780623601400229},{"$f":"L$16+L$17*LOG('Grunddaten KSW'!$G19)+L$18*LOG('Grunddaten KSW'!$F19)+L$19*LOG('Grunddaten KSW'!$H19)","v":7.4455021922554563},{"$f":"M$16+M$17*LOG('Grunddaten KSW'!$G19)+M$18*LOG('Grunddaten KSW'!$F19)+M$19*LOG('Grunddaten KSW'!$H19)","v":6.139656392549055},{"$f":"N$16+N$17*LOG('Grunddaten KSW'!$G19)+N$18*LOG('Grunddaten KSW'!$F19)+N$19*LOG('Grunddaten KSW'!$H19)","v":5.7174737949596643},{"$f":"O$16+O$17*LOG('Grunddaten KSW'!$G19)+O$18*LOG('Grunddaten KSW'!$F19)+O$19*LOG('Grunddaten KSW'!$H19)","v":6.3607516808309619},{"$f":"P$16+P$17*LOG('Grunddaten KSW'!$G19)+P$18*LOG('Grunddaten KSW'!$F19)+P$19*LOG('Grunddaten KSW'!$H19)","v":7.3317723053749173},{"$f":"Q$16+Q$17*LOG('Grunddaten KSW'!$G19)+Q$18*LOG('Grunddaten KSW'!$F19)+Q$19*LOG('Grunddaten KSW'!$H19)","v":8.5132333608145601},{"$f":"R$16+R$17*LOG('Grunddaten KSW'!$G19)+R$18*LOG('Grunddaten KSW'!$F19)+R$19*LOG('Grunddaten KSW'!$H19)","v":9.945371732919412},{"$f":"S$16+S$17*LOG('Grunddaten KSW'!$G19)+S$18*LOG('Grunddaten KSW'!$F19)+S$19*LOG('Grunddaten KSW'!$H19)","v":10.620539726348522},{"$f":"T$16+T$17*LOG('Grunddaten KSW'!$G19)+T$18*LOG('Grunddaten KSW'!$F19)+T$19*LOG('Grunddaten KSW'!$H19)","v":11.828396032571197},{"$f":"U$16+U$17*LOG('Grunddaten KSW'!$G19)+U$18*LOG('Grunddaten KSW'!$F19)+U$19*LOG('Grunddaten KSW'!$H19)","v":12.977899076722206},{"$f":"V$16+V$17*LOG('Grunddaten KSW'!$G19)+V$18*LOG('Grunddaten KSW'!$F19)+V$19*LOG('Grunddaten KSW'!$H19)","v":14.377892899369188},24.823966463954953]
[{"$f":"'Grunddaten KSW'!C20","v":"KSW-1LWZUL8001"},{"$f":"B$20+B$21*LOG('Grunddaten KSW'!$G20)+B$22*LOG('Grunddaten KSW'!$F20)+B$23*LOG('Grunddaten KSW'!$H20)","v":14.215414861874672},{"$f":"C$20+C$21*LOG('Grunddaten KSW'!$G20)+C$22*LOG('Grunddaten KSW'!$F20)+C$23*LOG('Grunddaten KSW'!$H20)","v":18.649617549499368},{"$f":"D$20+D$21*LOG('Grunddaten KSW'!$G20)+D$22*LOG('Grunddaten KSW'!$F20)+D$23*LOG('Grunddaten KSW'!$H20)","v":20.681863844929421},{"$f":"E$20+E$21*LOG('Grunddaten KSW'!$G20)+E$22*LOG('Grunddaten KSW'!$F20)+E$23*LOG('Grunddaten KSW'!$H20)","v":28.68119386060167},{"$f":"F$20+F$21*LOG('Grunddaten KSW'!$G20)+F$22*LOG('Grunddaten KSW'!$F20)+F$23*LOG('Grunddaten KSW'!$H20)","v":31.647561708785283},{"$f":"G$20+G$21*LOG('Grunddaten KSW'!$G20)+G$22*LOG('Grunddaten KSW'!$F20)+G$23*LOG('Grunddaten KSW'!$H20)","v":31.783431450045217},{"$f":"H$20+H$21*LOG('Grunddaten KSW'!$G20)+H$22*LOG('Grunddaten KSW'!$F20)+H$23*LOG('Grunddaten KSW'!$H20)","v":28.751700556125368},{"$f":"I$20+I$21*LOG('Grunddaten KSW'!$G20)+I$22*LOG('Grunddaten KSW'!$F20)+I$23*LOG('Grunddaten KSW'!$H20)","v":30.162395815642178},{"$f":"J$20+J$21*LOG('Grunddaten KSW'!$G20)+J$22*LOG('Grunddaten KSW'!$F20)+J$23*LOG('Grunddaten KSW'!$H20)","v":33.427964632611399},{"$f":"K$20+K$21*LOG('Grunddaten KSW'!$G20)+K$22*LOG('Grunddaten KSW'!$F20)+K$23*LOG('Grunddaten KSW'!$H20)","v":33.039313811834141},{"$f":"L$20+L$21*LOG('Grunddaten KSW'!$G20)+L$22*LOG('Grunddaten KSW'!$F20)+L$23*LOG('Grunddaten KSW'!$H20)","v":33.235675519248908},{"$f":"M$20+M$21*LOG('Grunddaten KSW'!$G20)+M$22*LOG('Grunddaten KSW'!$F20)+M$23*LOG('Grunddaten KSW'!$H20)","v":32.034310532061845},{"$f":"N$20+N$21*LOG('Grunddaten KSW'!$G20)+N$22*LOG('Grunddaten KSW'!$F20)+N$23*LOG('Grunddaten KSW'!$H20)","v":30.383812809508811},{"$f":"O$20+O$21*LOG('Grunddaten KSW'!$G20)+O$22*LOG('Grunddaten KSW'!$F20)+O$23*LOG('Grunddaten KSW'!$H20)","v":27.967678724297734},{"$f":"P$20+P$21*LOG('Grunddaten KSW'!$G20)+P$22*LOG('Grunddaten KSW'!$F20)+P$23*LOG('Grunddaten KSW'!$H20)","v":27.412101665566453},{"$f":"Q$20+Q$21*LOG('Grunddaten KSW'!$G20)+Q$22*LOG('Grunddaten KSW'!$F20)+Q$23*LOG('Grunddaten KSW'!$H20)","v":26.183191426674309},{"$f":"R$20+R$21*LOG('Grunddaten KSW'!$G20)+R$22*LOG('Grunddaten KSW'!$F20)+R$23*LOG('Grunddaten KSW'!$H20)","v":22.476594848334784},{"$f":"S$20+S$21*LOG('Grunddaten KSW'!$G20)+S$22*LOG('Grunddaten KSW'!$F20)+S$23*LOG('Grunddaten KSW'!$H20)","v":19.547144643821202},{"$f":"T$20+T$21*LOG('Grunddaten KSW'!$G20)+T$22*LOG('Grunddaten KSW'!$F20)+T$23*LOG('Grunddaten KSW'!$H20)","v":17.45315706353302},{"$f":"U$20+U$21*LOG('Grunddaten KSW'!$G20)+U$22*LOG('Grunddaten KSW'!$F20)+U$23*LOG('Grunddaten KSW'!$H20)","v":15.845590275917225},{"$f":"V$20+V$21*LOG('Grunddaten KSW'!$G20)+V$22*LOG('Grunddaten KSW'!$F20)+V$23*LOG('Grunddaten KSW'!$H20)","v":16.752867059618424},42.233634080679167]
[{"$f":"'Grunddaten KSW'!C21","v":"KSW-1LWZUL10001"},{"$f":"B$20+B$21*LOG('Grunddaten KSW'!$G21)+B$22*LOG('Grunddaten KSW'!$F21)+B$23*LOG('Grunddaten KSW'!$H21)","v":12.845570630441465},{"$f":"C$20+C$21*LOG('Grunddaten KSW'!$G21)+C$22*LOG('Grunddaten KSW'!$F21)+C$23*LOG('Grunddaten KSW'!$H21)","v":18.038648179804301},{"$f":"D$20+D$21*LOG('Grunddaten KSW'!$G21)+D$22*LOG('Grunddaten KSW'!$F21)+D$23*LOG('Grunddaten KSW'!$H21)","v":20.735367820049646},{"$f":"E$20+E$21*LOG('Grunddaten KSW'!$G21)+E$22*LOG('Grunddaten KSW'!$F21)+E$23*LOG('Grunddaten KSW'!$H21)","v":25.31788022359186},{"$f":"F$20+F$21*LOG('Grunddaten KSW'!$G21)+F$22*LOG('Grunddaten KSW'!$F21)+F$23*LOG('Grunddaten KSW'!$H21)","v":28.277864127862617},{"$f":"G$20+G$21*LOG('Grunddaten KSW'!$G21)+G$22*LOG('Grunddaten KSW'!$F21)+G$23*LOG('Grunddaten KSW'!$H21)","v":27.730274134302991},{"$f":"H$20+H$21*LOG('Grunddaten KSW'!$G21)+H$22*LOG('Grunddaten KSW'!$F21)+H$23*LOG('Grunddaten KSW'!$H21)","v":26.187836222141641},{"$f":"I$20+I$21*LOG('Grunddaten KSW'!$G21)+I$22*LOG('Grunddaten KSW'!$F21)+I$23*LOG('Grunddaten KSW'!$H21)","v":25.452794641710003},{"$f":"J$20+J$21*LOG('Grunddaten KSW'!$G21)+J$22*LOG('Grunddaten KSW'!$F21)+J$23*LOG('Grunddaten KSW'!$H21)","v":27.073419678961841},{"$f":"K$20+K$21*LOG('Grunddaten KSW'!$G21)+K$22*LOG('Grunddaten KSW'!$F21)+K$23*LOG('Grunddaten KSW'!$H21)","v":26.016786647555438},{"$f":"L$20+L$21*LOG('Grunddaten KSW'!$G21)+L$22*LOG('Grunddaten KSW'!$F21)+L$23*LOG('Grunddaten KSW'!$H21)","v":25.648186769660583},{"$f":"M$20+M$21*LOG('Grunddaten KSW'!$G21)+M$22*LOG('Grunddaten KSW'!$F21)+M$23*LOG('Grunddaten KSW'!$H21)","v":23.574987002064393},{"$f":"N$20+N$21*LOG('Grunddaten KSW'!$G21)+N$22*LOG('Grunddaten KSW'!$F21)+N$23*LOG('Grunddaten KSW'!$H21)","v":21.732678997837059},{"$f":"O$20+O$21*LOG('Grunddaten KSW'!$G21)+O$22*LOG('Grunddaten KSW'!$F21)+O$23*LOG('Grunddaten KSW'!$H21)","v":19.664511897628095},{"$f":"P$20+P$21*LOG('Grunddaten KSW'!$G21)+P$22*LOG('Grunddaten KSW'!$F21)+P$23*LOG('Grunddaten KSW'!$H21)","v":20.076696131407221},{"$f":"Q$20+Q$21*LOG('Grunddaten KSW'!$G21)+Q$22*LOG('Grunddaten KSW'!$F21)+Q$23*LOG('Grunddaten KSW'!$H21)","v":20.567922151343552},{"$f":"R$20+R$21*LOG('Grunddaten KSW'!$G21)+R$22*LOG('Grunddaten KSW'!$F21)+R$23*LOG('Grunddaten KSW'!$H21)","v":18.571449389470629},{"$f":"S$20+S$21*LOG('Grunddaten KSW'!$G21)+S$22*LOG('Grunddaten KSW'!$F21)+S$23*LOG('Grunddaten KSW'!$H21)","v":17.306981472440587},{"$f":"T$20+T$21*LOG('Grunddaten KSW'!$G21)+T$22*LOG('Grunddaten KSW'!$F21)+T$23*LOG('Grunddaten KSW'!$H21)","v":16.524396737101583},{"$f":"U$20+U$21*LOG('Grunddaten KSW'!$G21)+U$22*LOG('Grunddaten KSW'!$F21)+U$23*LOG('Grunddaten KSW'!$H21)","v":15.765668811657427},{"$f":"V$20+V$21*LOG('Grunddaten KSW'!$G21)+V$22*LOG('Grunddaten KSW'!$F21)+V$23*LOG('Grunddaten KSW'!$H21)","v":16.673604809249042},36.803729456967048]
[{"$f":"'Grunddaten KSW'!C22","v":"KSW-1LWZUL12001"},{"$f":"B$20+B$21*LOG('Grunddaten KSW'!$G22)+B$22*LOG('Grunddaten KSW'!$F22)+B$23*LOG('Grunddaten KSW'!$H22)","v":11.196539622547926},{"$f":"C$20+C$21*LOG('Grunddaten KSW'!$G22)+C$22*LOG('Grunddaten KSW'!$F22)+C$23*LOG('Grunddaten KSW'!$H22)","v":14.14613364124363},{"$f":"D$20+D$21*LOG('Grunddaten KSW'!$G22)+D$22*LOG('Grunddaten KSW'!$F22)+D$23*LOG('Grunddaten KSW'!$H22)","v":19.793594173705777},{"$f":"E$20+E$21*LOG('Grunddaten KSW'!$G22)+E$22*LOG('Grunddaten KSW'!$F22)+E$23*LOG('Grunddaten KSW'!$H22)","v":23.794642962964915},{"$f":"F$20+F$21*LOG('Grunddaten KSW'!$G22)+F$22*LOG('Grunddaten KSW'!$F22)+F$23*LOG('Grunddaten KSW'!$H22)","v":25.208937181150326},{"$f":"G$20+G$21*LOG('Grunddaten KSW'!$G22)+G$22*LOG('Grunddaten KSW'!$F22)+G$23*LOG('Grunddaten KSW'!$H22)","v":23.473748789251694},{"$f":"H$20+H$21*LOG('Grunddaten KSW'!$G22)+H$22*LOG('Grunddaten KSW'!$F22)+H$23*LOG('Grunddaten KSW'!$H22)","v":21.827867239663288},{"$f":"I$20+I$21*LOG('Grunddaten KSW'!$G22)+I$22*LOG('Grunddaten KSW'!$F22)+I$23*LOG('Grunddaten KSW'!$H22)","v":22.711028931132155},{"$f":"J$20+J$21*LOG('Grunddaten KSW'!$G22)+J$22*LOG('Grunddaten KSW'!$F22)+J$23*LOG('Grunddaten KSW'!$H22)","v":23.980796840796174},{"$f":"K$20+K$21*LOG('Grunddaten KSW'!$G22)+K$22*LOG('Grunddaten KSW'!$F22)+K$23*LOG('Grunddaten KSW'!$H22)","v":23.089904742330226},{"$f":"L$20+L$21*LOG('Grunddaten KSW'!$G22)+L$22*LOG('Grunddaten KSW'!$F22)+L$23*LOG('Grunddaten KSW'!$H22)","v":21.059274496970168},{"$f":"M$20+M$21*LOG('Grunddaten KSW'!$G22)+M$22*LOG('Grunddaten KSW'!$F22)+M$23*LOG('Grunddaten KSW'!$H22)","v":17.922193947588955},{"$f":"N$20+N$21*LOG('Grunddaten KSW'!$G22)+N$22*LOG('Grunddaten KSW'!$F22)+N$23*LOG('Grunddaten KSW'!$H22)","v":15.95747141048167},{"$f":"O$20+O$21*LOG('Grunddaten KSW'!$G22)+O$22*LOG('Grunddaten KSW'!$F22)+O$23*LOG('Grunddaten KSW'!$H22)","v":14.317785193601182},{"$f":"P$20+P$21*LOG('Grunddaten KSW'!$G22)+P$22*LOG('Grunddaten KSW'!$F22)+P$23*LOG('Grunddaten KSW'!$H22)","v":14.958320082939878},{"$f":"Q$20+Q$21*LOG('Grunddaten KSW'!$G22)+Q$22*LOG('Grunddaten KSW'!$F22)+Q$23*LOG('Grunddaten KSW'!$H22)","v":14.953735513354845},{"$f":"R$20+R$21*LOG('Grunddaten KSW'!$G22)+R$22*LOG('Grunddaten KSW'!$F22)+R$23*LOG('Grunddaten KSW'!$H22)","v":14.635989463278962},{"$f":"S$20+S$21*LOG('Grunddaten KSW'!$G22)+S$22*LOG('Grunddaten KSW'!$F22)+S$23*LOG('Grunddaten KSW'!$H22)","v":14.891966617273617},{"$f":"T$20+T$21*LOG('Grunddaten KSW'!$G22)+T$22*LOG('Grunddaten KSW'!$F22)+T$23*LOG('Grunddaten KSW'!$H22)","v":16.070093368241416},{"$f":"U$20+U$21*LOG('Grunddaten KSW'!$G22)+U$22*LOG('Grunddaten KSW'!$F22)+U$23*LOG('Grunddaten KSW'!$H22)","v":16.746022891125691},{"$f":"V$20+V$21*LOG('Grunddaten KSW'!$G22)+V$22*LOG('Grunddaten KSW'!$F22)+V$23*LOG('Grunddaten KSW'!$H22)","v":17.953245867785011},33.521742461631945]
[{"$f":"'Grunddaten KSW'!C23","v":"KSW-1LWZUL8002"},{"$f":"B$24+B$25*LOG('Grunddaten KSW'!$G23)+B$26*LOG('Grunddaten KSW'!$F23)+B$27*LOG('Grunddaten KSW'!$H23)","v":20.074394806166367},{"$f":"C$24+C$25*LOG('Grunddaten KSW'!$G23)+C$26*LOG('Grunddaten KSW'!$F23)+C$27*LOG('Grunddaten KSW'!$H23)","v":16.7610404940854},{"$f":"D$24+D$25*LOG('Grunddaten KSW'!$G23)+D$26*LOG('Grunddaten KSW'!$F23)+D$27*LOG('Grunddaten KSW'!$H23)","v":17.813928341469914},{"$f":"E$24+E$25*LOG('Grunddaten KSW'!$G23)+E$26*LOG('Grunddaten KSW'!$F23)+E$27*LOG('Grunddaten KSW'!$H23)","v":21.966827502214514},{"$f":"F$24+F$25*LOG('Grunddaten KSW'!$G23)+F$26*LOG('Grunddaten KSW'!$F23)+F$27*LOG('Grunddaten KSW'!$H23)","v":22.608062682588255},{"$f":"G$24+G$25*LOG('Grunddaten KSW'!$G23)+G$26*LOG('Grunddaten KSW'!$F23)+G$27*LOG('Grunddaten KSW'!$H23)","v":24.640977557175837},{"$f":"H$24+H$25*LOG('Grunddaten KSW'!$G23)+H$26*LOG('Grunddaten KSW'!$F23)+H$27*LOG('Grunddaten KSW'!$H23)","v":21.241680991179994},{"$f":"I$24+I$25*LOG('Grunddaten KSW'!$G23)+I$26*LOG('Grunddaten KSW'!$F23)+I$27*LOG('Grunddaten KSW'!$H23)","v":20.630936447112077},{"$f":"J$24+J$25*LOG('Grunddaten KSW'!$G23)+J$26*LOG('Grunddaten KSW'!$F23)+J$27*LOG('Grunddaten KSW'!$H23)","v":23.594522738014785},{"$f":"K$24+K$25*LOG('Grunddaten KSW'!$G23)+K$26*LOG('Grunddaten KSW'!$F23)+K$27*LOG('Grunddaten KSW'!$H23)","v":24.335038647655196},{"$f":"L$24+L$25*LOG('Grunddaten KSW'!$G23)+L$26*LOG('Grunddaten KSW'!$F23)+L$27*LOG('Grunddaten KSW'!$H23)","v":23.215389008316862},{"$f":"M$24+M$25*LOG('Grunddaten KSW'!$G23)+M$26*LOG('Grunddaten KSW'!$F23)+M$27*LOG('Grunddaten KSW'!$H23)","v":21.232746168529417},{"$f":"N$24+N$25*LOG('Grunddaten KSW'!$G23)+N$26*LOG('Grunddaten KSW'!$F23)+N$27*LOG('Grunddaten KSW'!$H23)","v":19.257881800055017},{"$f":"O$24+O$25*LOG('Grunddaten KSW'!$G23)+O$26*LOG('Grunddaten KSW'!$F23)+O$27*LOG('Grunddaten KSW'!$H23)","v":17.033050035825383},{"$f":"P$24+P$25*LOG('Grunddaten KSW'!$G23)+P$26*LOG('Grunddaten KSW'!$F23)+P$27*LOG('Grunddaten KSW'!$H23)","v":17.220443169011386},{"$f":"Q$24+Q$25*LOG('Grunddaten KSW'!$G23)+Q$26*LOG('Grunddaten KSW'!$F23)+Q$27*LOG('Grunddaten KSW'!$H23)","v":16.624638796004287},{"$f":"R$24+R$25*LOG('Grunddaten KSW'!$G23)+R$26*LOG('Grunddaten KSW'!$F23)+R$27*LOG('Grunddaten KSW'!$H23)","v":15.717106161987921},{"$f":"S$24+S$25*LOG('Grunddaten KSW'!$G23)+S$26*LOG('Grunddaten KSW'!$F23)+S$27*LOG('Grunddaten KSW'!$H23)","v":15.63212033270586},{"$f":"T$24+T$25*LOG('Grunddaten KSW'!$G23)+T$26*LOG('Grunddaten KSW'!$F23)+T$27*LOG('Grunddaten KSW'!$H23)","v":16.544348339084472},{"$f":"U$24+U$25*LOG('Grunddaten KSW'!$G23)+U$26*LOG('Grunddaten KSW'!$F23)+U$27*LOG('Grunddaten KSW'!$H23)","v":16.673011504408557},{"$f":"V$24+V$25*LOG('Grunddaten KSW'!$G23)+V$26*LOG('Grunddaten KSW'!$F23)+V$27*LOG('Grunddaten KSW'!$H23)","v":17.559970882115209},33.779791262510827]
[{"$f":"'Grunddaten KSW'!C24","v":"KSW-1LWZUL10002"},{"$f":"B$24+B$25*LOG('Grunddaten KSW'!$G24)+B$26*LOG('Grunddaten KSW'!$F24)+B$27*LOG('Grunddaten KSW'!$H24)","v":15.359994712945216},{"$f":"C$24+C$25*LOG('Grunddaten KSW'!$G24)+C$26*LOG('Grunddaten KSW'!$F24)+C$27*LOG('Grunddaten KSW'!$H24)","v":16.129445415086103},{"$f":"D$24+D$25*LOG('Grunddaten KSW'!$G24)+D$26*LOG('Grunddaten KSW'!$F24)+D$27*LOG('Grunddaten KSW'!$H24)","v":13.603819548230355},{"$f":"E$24+E$25*LOG('Grunddaten KSW'!$G24)+E$26*LOG('Grunddaten KSW'!$F24)+E$27*LOG('Grunddaten KSW'!$H24)","v":18.300531302143156},{"$f":"F$24+F$25*LOG('Grunddaten KSW'!$G24)+F$26*LOG('Grunddaten KSW'!$F24)+F$27*LOG('Grunddaten KSW'!$H24)","v":19.87088174880823},{"$f":"G$24+G$25*LOG('Grunddaten KSW'!$G24)+G$26*LOG('Grunddaten KSW'!$F24)+G$27*LOG('Grunddaten KSW'!$H24)","v":20.580014204358704},{"$f":"H$24+H$25*LOG('Grunddaten KSW'!$G24)+H$26*LOG('Grunddaten KSW'!$F24)+H$27*LOG('Grunddaten KSW'!$H24)","v":19.196030115148133},{"$f":"I$24+I$25*LOG('Grunddaten KSW'!$G24)+I$26*LOG('Grunddaten KSW'!$F24)+I$27*LOG('Grunddaten KSW'!$H24)","v":18.080920071972351},{"$f":"J$24+J$25*LOG('Grunddaten KSW'!$G24)+J$26*LOG('Grunddaten KSW'!$F24)+J$27*LOG('Grunddaten KSW'!$H24)","v":18.994662758849799},{"$f":"K$24+K$25*LOG('Grunddaten KSW'!$G24)+K$26*LOG('Grunddaten KSW'!$F24)+K$27*LOG('Grunddaten KSW'!$H24)","v":17.878518235514662},{"$f":"L$24+L$25*LOG('Grunddaten KSW'!$G24)+L$26*LOG('Grunddaten KSW'!$F24)+L$27*LOG('Grunddaten KSW'!$H24)","v":15.144466604187414},{"$f":"M$24+M$25*LOG('Grunddaten KSW'!$G24)+M$26*LOG('Grunddaten KSW'!$F24)+M$27*LOG('Grunddaten KSW'!$H24)","v":12.537362122301232},{"$f":"N$24+N$25*LOG('Grunddaten KSW'!$G24)+N$26*LOG('Grunddaten KSW'!$F24)+N$27*LOG('Grunddaten KSW'!$H24)","v":10.672488398081668},{"$f":"O$24+O$25*LOG('Grunddaten KSW'!$G24)+O$26*LOG('Grunddaten KSW'!$F24)+O$27*LOG('Grunddaten KSW'!$H24)","v":9.4347442960453662},{"$f":"P$24+P$25*LOG('Grunddaten KSW'!$G24)+P$26*LOG('Grunddaten KSW'!$F24)+P$27*LOG('Grunddaten KSW'!$H24)","v":11.346173724409987},{"$f":"Q$24+Q$25*LOG('Grunddaten KSW'!$G24)+Q$26*LOG('Grunddaten KSW'!$F24)+Q$27*LOG('Grunddaten KSW'!$H24)","v":12.275048203456883},{"$f":"R$24+R$25*LOG('Grunddaten KSW'!$G24)+R$26*LOG('Grunddaten KSW'!$F24)+R$27*LOG('Grunddaten KSW'!$H24)","v":14.071193771410464},{"$f":"S$24+S$25*LOG('Grunddaten KSW'!$G24)+S$26*LOG('Grunddaten KSW'!$F24)+S$27*LOG('Grunddaten KSW'!$H24)","v":15.518510904910769},{"$f":"T$24+T$25*LOG('Grunddaten KSW'!$G24)+T$26*LOG('Grunddaten KSW'!$F24)+T$27*LOG('Grunddaten KSW'!$H24)","v":17.654057215283714},{"$f":"U$24+U$25*LOG('Grunddaten KSW'!$G24)+U$26*LOG('Grunddaten KSW'!$F24)+U$27*LOG('Grunddaten KSW'!$H24)","v":19.13173262804176},{"$f":"V$24+V$25*LOG('Grunddaten KSW'!$G24)+V$26*LOG('Grunddaten KSW'!$F24)+V$27*LOG('Grunddaten KSW'!$H24)","v":20.383410040117653},30.324137548708727]
[{"$f":"'Grunddaten KSW'!C25","v":"KSW-1LWZUL12002"},{"$f":"B$24+B$25*LOG('Grunddaten KSW'!$G25)+B$26*LOG('Grunddaten KSW'!$F25)+B$27*LOG('Grunddaten KSW'!$H25)","v":9.8147647740500901},{"$f":"C$24+C$25*LOG('Grunddaten KSW'!$G25)+C$26*LOG('Grunddaten KSW'!$F25)+C$27*LOG('Grunddaten KSW'!$H25)","v":13.073588115364302},{"$f":"D$24+D$25*LOG('Grunddaten KSW'!$G25)+D$26*LOG('Grunddaten KSW'!$F25)+D$27*LOG('Grunddaten KSW'!$H25)","v":12.292054259215405},{"$f":"E$24+E$25*LOG('Grunddaten KSW'!$G25)+E$26*LOG('Grunddaten KSW'!$F25)+E$27*LOG('Grunddaten KSW'!$H25)","v":18.604010002394816},{"$f":"F$24+F$25*LOG('Grunddaten KSW'!$G25)+F$26*LOG('Grunddaten KSW'!$F25)+F$27*LOG('Grunddaten KSW'!$H25)","v":21.374317403034368},{"$f":"G$24+G$25*LOG('Grunddaten KSW'!$G25)+G$26*LOG('Grunddaten KSW'!$F25)+G$27*LOG('Grunddaten KSW'!$H25)","v":20.344065901632334},{"$f":"H$24+H$25*LOG('Grunddaten KSW'!$G25)+H$26*LOG('Grunddaten KSW'!$F25)+H$27*LOG('Grunddaten KSW'!$H25)","v":17.048529278869719},{"$f":"I$24+I$25*LOG('Grunddaten KSW'!$G25)+I$26*LOG('Grunddaten KSW'!$F25)+I$27*LOG('Grunddaten KSW'!$H25)","v":16.461173430319775},{"$f":"J$24+J$25*LOG('Grunddaten KSW'!$G25)+J$26*LOG('Grunddaten KSW'!$F25)+J$27*LOG('Grunddaten KSW'!$H25)","v":17.305183070006414},{"$f":"K$24+K$25*LOG('Grunddaten KSW'!$G25)+K$26*LOG('Grunddaten KSW'!$F25)+K$27*LOG('Grunddaten KSW'!$H25)","v":15.957141075892977},{"$f":"L$24+L$25*LOG('Grunddaten KSW'!$G25)+L$26*LOG('Grunddaten KSW'!$F25)+L$27*LOG('Grunddaten KSW'!$H25)","v":13.47039756660746},{"$f":"M$24+M$25*LOG('Grunddaten KSW'!$G25)+M$26*LOG('Grunddaten KSW'!$F25)+M$27*LOG('Grunddaten KSW'!$H25)","v":11.211230702716932},{"$f":"N$24+N$25*LOG('Grunddaten KSW'!$G25)+N$26*LOG('Grunddaten KSW'!$F25)+N$27*LOG('Grunddaten KSW'!$H25)","v":9.3933829322513134},{"$f":"O$24+O$25*LOG('Grunddaten KSW'!$G25)+O$26*LOG('Grunddaten KSW'!$F25)+O$27*LOG('Grunddaten KSW'!$H25)","v":7.9688421262366376},{"$f":"P$24+P$25*LOG('Grunddaten KSW'!$G25)+P$26*LOG('Grunddaten KSW'!$F25)+P$27*LOG('Grunddaten KSW'!$H25)","v":7.9748281187327663},{"$f":"Q$24+Q$25*LOG('Grunddaten KSW'!$G25)+Q$26*LOG('Grunddaten KSW'!$F25)+Q$27*LOG('Grunddaten KSW'!$H25)","v":8.8043757584597859},{"$f":"R$24+R$25*LOG('Grunddaten KSW'!$G25)+R$26*LOG('Grunddaten KSW'!$F25)+R$27*LOG('Grunddaten KSW'!$H25)","v":9.8148231558114531},{"$f":"S$24+S$25*LOG('Grunddaten KSW'!$G25)+S$26*LOG('Grunddaten KSW'!$F25)+S$27*LOG('Grunddaten KSW'!$H25)","v":12.26801544173631},{"$f":"T$24+T$25*LOG('Grunddaten KSW'!$G25)+T$26*LOG('Grunddaten KSW'!$F25)+T$27*LOG('Grunddaten KSW'!$H25)","v":15.328985704168971},{"$f":"U$24+U$25*LOG('Grunddaten KSW'!$G25)+U$26*LOG('Grunddaten KSW'!$F25)+U$27*LOG('Grunddaten KSW'!$H25)","v":17.100830061464507},{"$f":"V$24+V$25*LOG('Grunddaten KSW'!$G25)+V$26*LOG('Grunddaten KSW'!$F25)+V$27*LOG('Grunddaten KSW'!$H25)","v":18.721348498624877},29.050237937377773]
[{"$f":"'Grunddaten KSW'!C26","v":"KSW-1LWABL8001"},{"$f":"B$28+B$29*LOG('Grunddaten KSW'!$G26)+B$30*LOG('Grunddaten KSW'!$F26)+B$31*LOG('Grunddaten KSW'!$H26)","v":6.8615869618523},{"$f":"C$28+C$29*LOG('Grunddaten KSW'!$G26)+C$30*LOG('Grunddaten KSW'!$F26)+C$31*LOG('Grunddaten KSW'!$H26)","v":6.8380366501584025},{"$f":"D$28+D$29*LOG('Grunddaten KSW'!$G26)+D$30*LOG('Grunddaten KSW'!$F26)+D$31*LOG('Grunddaten KSW'!$H26)","v":10.069649216396535},{"$f":"E$28+E$29*LOG('Grunddaten KSW'!$G26)+E$30*LOG('Grunddaten KSW'!$F26)+E$31*LOG('Grunddaten KSW'!$H26)","v":17.422018216360684},{"$f":"F$28+F$29*LOG('Grunddaten KSW'!$G26)+F$30*LOG('Grunddaten KSW'!$F26)+F$31*LOG('Grunddaten KSW'!$H26)","v":17.266864628475155},{"$f":"G$28+G$29*LOG('Grunddaten KSW'!$G26)+G$30*LOG('Grunddaten KSW'!$F26)+G$31*LOG('Grunddaten KSW'!$H26)","v":16.473216834151948},{"$f":"H$28+H$29*LOG('Grunddaten KSW'!$G26)+H$30*LOG('Grunddaten KSW'!$F26)+H$31*LOG('Grunddaten KSW'!$H26)","v":14.061662780241207},{"$f":"I$28+I$29*LOG('Grunddaten KSW'!$G26)+I$30*LOG('Grunddaten KSW'!$F26)+I$31*LOG('Grunddaten KSW'!$H26)","v":14.684892376955721},{"$f":"J$28+J$29*LOG('Grunddaten KSW'!$G26)+J$30*LOG('Grunddaten KSW'!$F26)+J$31*LOG('Grunddaten KSW'!$H26)","v":15.37395293223536},{"$f":"K$28+K$29*LOG('Grunddaten KSW'!$G26)+K$30*LOG('Grunddaten KSW'!$F26)+K$31*LOG('Grunddaten KSW'!$H26)","v":13.945676593541076},{"$f":"L$28+L$29*LOG('Grunddaten KSW'!$G26)+L$30*LOG('Grunddaten KSW'!$F26)+L$31*LOG('Grunddaten KSW'!$H26)","v":10.282527903562205},{"$f":"M$28+M$29*LOG('Grunddaten KSW'!$G26)+M$30*LOG('Grunddaten KSW'!$F26)+M$31*LOG('Grunddaten KSW'!$H26)","v":7.6633155251555163},{"$f":"N$28+N$29*LOG('Grunddaten KSW'!$G26)+N$30*LOG('Grunddaten KSW'!$F26)+N$31*LOG('Grunddaten KSW'!$H26)","v":6.9584840789989215},{"$f":"O$28+O$29*LOG('Grunddaten KSW'!$G26)+O$30*LOG('Grunddaten KSW'!$F26)+O$31*LOG('Grunddaten KSW'!$H26)","v":6.5035198008949102},{"$f":"P$28+P$29*LOG('Grunddaten KSW'!$G26)+P$30*LOG('Grunddaten KSW'!$F26)+P$31*LOG('Grunddaten KSW'!$H26)","v":6.1699175055398552},{"$f":"Q$28+Q$29*LOG('Grunddaten KSW'!$G26)+Q$30*LOG('Grunddaten KSW'!$F26)+Q$31*LOG('Grunddaten KSW'!$H26)","v":7.7062204859615342},{"$f":"R$28+R$29*LOG('Grunddaten KSW'!$G26)+R$30*LOG('Grunddaten KSW'!$F26)+R$31*LOG('Grunddaten KSW'!$H26)","v":8.6789546343698909},{"$f":"S$28+S$29*LOG('Grunddaten KSW'!$G26)+S$30*LOG('Grunddaten KSW'!$F26)+S$31*LOG('Grunddaten KSW'!$H26)","v":11.346542566282894},{"$f":"T$28+T$29*LOG('Grunddaten KSW'!$G26)+T$30*LOG('Grunddaten KSW'!$F26)+T$31*LOG('Grunddaten KSW'!$H26)","v":14.756259645440647},{"$f":"U$28+U$29*LOG('Grunddaten KSW'!$G26)+U$30*LOG('Grunddaten KSW'!$F26)+U$31*LOG('Grunddaten KSW'!$H26)","v":16.403917144378521},{"$f":"V$28+V$29*LOG('Grunddaten KSW'!$G26)+V$30*LOG('Grunddaten KSW'!$F26)+V$31*LOG('Grunddaten KSW'!$H26)","v":17.789198034955515},{"$f":"10*LOG(10^(0.1*B62)+10^(0.1*C62)+10^(0.1*D62)+10^(0.1*E62)+10^(0.1*F62)+10^(0.1*G62)+10^(0.1*H62)+10^(0.1*I62)+10^(0.1*J62)+10^(0.1*K62)+10^(0.1*L62)+10^(0.1*M62)+10^(0.1*N62)+10^(0.1*O62)+10^(0.1*P62)+10^(0.1*Q62)+10^(0.1*R62)+10^(0.1*S62)+10^(0.1*T62)+10^(0.1*U62)+10^(0.1*V62))","v":26.790792298986169}]
[{"$f":"'Grunddaten KSW'!C27","v":"KSW-1LWABL10001"},{"$f":"B$28+B$29*LOG('Grunddaten KSW'!$G27)+B$30*LOG('Grunddaten KSW'!$F27)+B$31*LOG('Grunddaten KSW'!$H27)","v":7.2379566574493595},{"$f":"C$28+C$29*LOG('Grunddaten KSW'!$G27)+C$30*LOG('Grunddaten KSW'!$F27)+C$31*LOG('Grunddaten KSW'!$H27)","v":4.8054241930264077},{"$f":"D$28+D$29*LOG('Grunddaten KSW'!$G27)+D$30*LOG('Grunddaten KSW'!$F27)+D$31*LOG('Grunddaten KSW'!$H27)","v":7.5276843730250658},{"$f":"E$28+E$29*LOG('Grunddaten KSW'!$G27)+E$30*LOG('Grunddaten KSW'!$F27)+E$31*LOG('Grunddaten KSW'!$H27)","v":17.965334801835994},{"$f":"F$28+F$29*LOG('Grunddaten KSW'!$G27)+F$30*LOG('Grunddaten KSW'!$F27)+F$31*LOG('Grunddaten KSW'!$H27)","v":17.722866791409608},{"$f":"G$28+G$29*LOG('Grunddaten KSW'!$G27)+G$30*LOG('Grunddaten KSW'!$F27)+G$31*LOG('Grunddaten KSW'!$H27)","v":16.593997866114563},{"$f":"H$28+H$29*LOG('Grunddaten KSW'!$G27)+H$30*LOG('Grunddaten KSW'!$F27)+H$31*LOG('Grunddaten KSW'!$H27)","v":12.511609362072384},{"$f":"I$28+I$29*LOG('Grunddaten KSW'!$G27)+I$30*LOG('Grunddaten KSW'!$F27)+I$31*LOG('Grunddaten KSW'!$H27)","v":12.562162869864608},{"$f":"J$28+J$29*LOG('Grunddaten KSW'!$G27)+J$30*LOG('Grunddaten KSW'!$F27)+J$31*LOG('Grunddaten KSW'!$H27)","v":13.810644561558837},{"$f":"K$28+K$29*LOG('Grunddaten KSW'!$G27)+K$30*LOG('Grunddaten KSW'!$F27)+K$31*LOG('Grunddaten KSW'!$H27)","v":11.273369142594055},{"$f":"L$28+L$29*LOG('Grunddaten KSW'!$G27)+L$30*LOG('Grunddaten KSW'!$F27)+L$31*LOG('Grunddaten KSW'!$H27)","v":7.5105063038812023},{"$f":"M$28+M$29*LOG('Grunddaten KSW'!$G27)+M$30*LOG('Grunddaten KSW'!$F27)+M$31*LOG('Grunddaten KSW'!$H27)","v":4.512356956794072},{"$f":"N$28+N$29*LOG('Grunddaten KSW'!$G27)+N$30*LOG('Grunddaten KSW'!$F27)+N$31*LOG('Grunddaten KSW'!$H27)","v":3.6573001096437032},{"$f":"O$28+O$29*LOG('Grunddaten KSW'!$G27)+O$30*LOG('Grunddaten KSW'!$F27)+O$31*LOG('Grunddaten KSW'!$H27)","v":3.5782706188541944},{"$f":"P$28+P$29*LOG('Grunddaten KSW'!$G27)+P$30*LOG('Grunddaten KSW'!$F27)+P$31*LOG('Grunddaten KSW'!$H27)","v":4.4986393640599118},{"$f":"Q$28+Q$29*LOG('Grunddaten KSW'!$G27)+Q$30*LOG('Grunddaten KSW'!$F27)+Q$31*LOG('Grunddaten KSW'!$H27)","v":6.9345604852795972},{"$f":"R$28+R$29*LOG('Grunddaten KSW'!$G27)+R$30*LOG('Grunddaten KSW'!$F27)+R$31*LOG('Grunddaten KSW'!$H27)","v":8.0298908479136237},{"$f":"S$28+S$29*LOG('Grunddaten KSW'!$G27)+S$30*LOG('Grunddaten KSW'!$F27)+S$31*LOG('Grunddaten KSW'!$H27)","v":10.851950219944534},{"$f":"T$28+T$29*LOG('Grunddaten KSW'!$G27)+T$30*LOG('Grunddaten KSW'!$F27)+T$31*LOG('Grunddaten KSW'!$H27)","v":14.360938033262347},{"$f":"U$28+U$29*LOG('Grunddaten KSW'!$G27)+U$30*LOG('Grunddaten KSW'!$F27)+U$31*LOG('Grunddaten KSW'!$H27)","v":16.109490252893753},{"$f":"V$28+V$29*LOG('Grunddaten KSW'!$G27)+V$30*LOG('Grunddaten KSW'!$F27)+V$31*LOG('Grunddaten KSW'!$H27)","v":17.56447181975053},26.224971407952072]
[{"$f":"'Grunddaten KSW'!C28","v":"KSW-1LWABL12001"},{"$f":"B$28+B$29*LOG('Grunddaten KSW'!$G28)+B$30*LOG('Grunddaten KSW'!$F28)+B$31*LOG('Grunddaten KSW'!$H28)","v":10.522739305624699},{"$f":"C$28+C$29*LOG('Grunddaten KSW'!$G28)+C$30*LOG('Grunddaten KSW'!$F28)+C$31*LOG('Grunddaten KSW'!$H28)","v":9.5941333531426594},{"$f":"D$28+D$29*LOG('Grunddaten KSW'!$G28)+D$30*LOG('Grunddaten KSW'!$F28)+D$31*LOG('Grunddaten KSW'!$H28)","v":5.9007051522922493},{"$f":"E$28+E$29*LOG('Grunddaten KSW'!$G28)+E$30*LOG('Grunddaten KSW'!$F28)+E$31*LOG('Grunddaten KSW'!$H28)","v":15.330209402919438},{"$f":"F$28+F$29*LOG('Grunddaten KSW'!$G28)+F$30*LOG('Grunddaten KSW'!$F28)+F$31*LOG('Grunddaten KSW'!$H28)","v":15.578248195125429},{"$f":"G$28+G$29*LOG('Grunddaten KSW'!$G28)+G$30*LOG('Grunddaten KSW'!$F28)+G$31*LOG('Grunddaten KSW'!$H28)","v":13.796022233356807},{"$f":"H$28+H$29*LOG('Grunddaten KSW'!$G28)+H$30*LOG('Grunddaten KSW'!$F28)+H$31*LOG('Grunddaten KSW'!$H28)","v":9.7650555309955713},{"$f":"I$28+I$29*LOG('Grunddaten KSW'!$G28)+I$30*LOG('Grunddaten KSW'!$F28)+I$31*LOG('Grunddaten KSW'!$H28)","v":9.5511224134994634},{"$f":"J$28+J$29*LOG('Grunddaten KSW'!$G28)+J$30*LOG('Grunddaten KSW'!$F28)+J$31*LOG('Grunddaten KSW'!$H28)","v":9.7335161301861657},{"$f":"K$28+K$29*LOG('Grunddaten KSW'!$G28)+K$30*LOG('Grunddaten KSW'!$F28)+K$31*LOG('Grunddaten KSW'!$H28)","v":7.6647708629025608},{"$f":"L$28+L$29*LOG('Grunddaten KSW'!$G28)+L$30*LOG('Grunddaten KSW'!$F28)+L$31*LOG('Grunddaten KSW'!$H28)","v":2.7400058042732871},{"$f":"M$28+M$29*LOG('Grunddaten KSW'!$G28)+M$30*LOG('Grunddaten KSW'!$F28)+M$31*LOG('Grunddaten KSW'!$H28)","v":-1.2646237984814661},{"$f":"N$28+N$29*LOG('Grunddaten KSW'!$G28)+N$30*LOG('Grunddaten KSW'!$F28)+N$31*LOG('Grunddaten KSW'!$H28)","v":-1.7418113791515282},{"$f":"O$28+O$29*LOG('Grunddaten KSW'!$G28)+O$30*LOG('Grunddaten KSW'!$F28)+O$31*LOG('Grunddaten KSW'!$H28)","v":-1.3307990494468731},{"$f":"P$28+P$29*LOG('Grunddaten KSW'!$G28)+P$30*LOG('Grunddaten KSW'!$F28)+P$31*LOG('Grunddaten KSW'!$H28)","v":-0.20123651715848823},{"$f":"Q$28+Q$29*LOG('Grunddaten KSW'!$G28)+Q$30*LOG('Grunddaten KSW'!$F28)+Q$31*LOG('Grunddaten KSW'!$H28)","v":1.2029441504068661},{"$f":"R$28+R$29*LOG('Grunddaten KSW'!$G28)+R$30*LOG('Grunddaten KSW'!$F28)+R$31*LOG('Grunddaten KSW'!$H28)","v":4.5714524834743795},{"$f":"S$28+S$29*LOG('Grunddaten KSW'!$G28)+S$30*LOG('Grunddaten KSW'!$F28)+S$31*LOG('Grunddaten KSW'!$H28)","v":9.6406957695492945},{"$f":"T$28+T$29*LOG('Grunddaten KSW'!$G28)+T$30*LOG('Grunddaten KSW'!$F28)+T$31*LOG('Grunddaten KSW'!$H28)","v":14.658726614893574},{"$f":"U$28+U$29*LOG('Grunddaten KSW'!$G28)+U$30*LOG('Grunddaten KSW'!$F28)+U$31*LOG('Grunddaten KSW'!$H28)","v":16.660905761035814},{"$f":"V$28+V$29*LOG('Grunddaten KSW'!$G28)+V$30*LOG('Grunddaten KSW'!$F28)+V$31*LOG('Grunddaten KSW'!$H28)","v":18.306122314955498},24.967873802396387]
[{"$f":"'Grunddaten KSW'!C29","v":"KSW-1LWABL8002"},{"$f":"B$32+B$33*LOG('Grunddaten KSW'!$G29)+B$34*LOG('Grunddaten KSW'!$F29)+B$35*LOG('Grunddaten KSW'!$H29)","v":7.5611988812430386},{"$f":"C$32+C$33*LOG('Grunddaten KSW'!$G29)+C$34*LOG('Grunddaten KSW'!$F29)+C$35*LOG('Grunddaten KSW'!$H29)","v":1.0235348774191841},{"$f":"D$32+D$33*LOG('Grunddaten KSW'!$G29)+D$34*LOG('Grunddaten KSW'!$F29)+D$35*LOG('Grunddaten KSW'!$H29)","v":2.3837634445087588},{"$f":"E$32+E$33*LOG('Grunddaten KSW'!$G29)+E$34*LOG('Grunddaten KSW'!$F29)+E$35*LOG('Grunddaten KSW'!$H29)","v":2.7070038248396742},{"$f":"F$32+F$33*LOG('Grunddaten KSW'!$G29)+F$34*LOG('Grunddaten KSW'!$F29)+F$35*LOG('Grunddaten KSW'!$H29)","v":4.01042042801447},{"$f":"G$32+G$33*LOG('Grunddaten KSW'!$G29)+G$34*LOG('Grunddaten KSW'!$F29)+G$35*LOG('Grunddaten KSW'!$H29)","v":5.1608800768394687},{"$f":"H$32+H$33*LOG('Grunddaten KSW'!$G29)+H$34*LOG('Grunddaten KSW'!$F29)+H$35*LOG('Grunddaten KSW'!$H29)","v":2.3079562054397265},{"$f":"I$32+I$33*LOG('Grunddaten KSW'!$G29)+I$34*LOG('Grunddaten KSW'!$F29)+I$35*LOG('Grunddaten KSW'!$H29)","v":1.3644257681390854},{"$f":"J$32+J$33*LOG('Grunddaten KSW'!$G29)+J$34*LOG('Grunddaten KSW'!$F29)+J$35*LOG('Grunddaten KSW'!$H29)","v":-0.47493319536269496},{"$f":"K$32+K$33*LOG('Grunddaten KSW'!$G29)+K$34*LOG('Grunddaten KSW'!$F29)+K$35*LOG('Grunddaten KSW'!$H29)","v":-2.6823138740885994},{"$f":"L$32+L$33*LOG('Grunddaten KSW'!$G29)+L$34*LOG('Grunddaten KSW'!$F29)+L$35*LOG('Grunddaten KSW'!$H29)","v":-6.9760398683990665},{"$f":"M$32+M$33*LOG('Grunddaten KSW'!$G29)+M$34*LOG('Grunddaten KSW'!$F29)+M$35*LOG('Grunddaten KSW'!$H29)","v":-9.0334297934548964},{"$f":"N$32+N$33*LOG('Grunddaten KSW'!$G29)+N$34*LOG('Grunddaten KSW'!$F29)+N$35*LOG('Grunddaten KSW'!$H29)","v":-9.0396375201046411},{"$f":"O$32+O$33*LOG('Grunddaten KSW'!$G29)+O$34*LOG('Grunddaten KSW'!$F29)+O$35*LOG('Grunddaten KSW'!$H29)","v":-6.9616734076036266},{"$f":"P$32+P$33*LOG('Grunddaten KSW'!$G29)+P$34*LOG('Grunddaten KSW'!$F29)+P$35*LOG('Grunddaten KSW'!$H29)","v":-3.5470788419277284},{"$f":"Q$32+Q$33*LOG('Grunddaten KSW'!$G29)+Q$34*LOG('Grunddaten KSW'!$F29)+Q$35*LOG('Grunddaten KSW'!$H29)","v":5.1749988394997004E-2},{"$f":"R$32+R$33*LOG('Grunddaten KSW'!$G29)+R$34*LOG('Grunddaten KSW'!$F29)+R$35*LOG('Grunddaten KSW'!$H29)","v":4.6462561916797878},{"$f":"S$32+S$33*LOG('Grunddaten KSW'!$G29)+S$34*LOG('Grunddaten KSW'!$F29)+S$35*LOG('Grunddaten KSW'!$H29)","v":11.297781957201217},{"$f":"T$32+T$33*LOG('Grunddaten KSW'!$G29)+T$34*LOG('Grunddaten KSW'!$F29)+T$35*LOG('Grunddaten KSW'!$H29)","v":15.684190591318977},{"$f":"U$32+U$33*LOG('Grunddaten KSW'!$G29)+U$34*LOG('Grunddaten KSW'!$F29)+U$35*LOG('Grunddaten KSW'!$H29)","v":17.218643174965223},{"$f":"V$32+V$33*LOG('Grunddaten KSW'!$G29)+V$34*LOG('Grunddaten KSW'!$F29)+V$35*LOG('Grunddaten KSW'!$H29)","v":18.618908194696932},23.050478558290834]
[{"$f":"'Grunddaten KSW'!C30","v":"KSW-1LWABL10002"},{"$f":"B$32+B$33*LOG('Grunddaten KSW'!$G30)+B$34*LOG('Grunddaten KSW'!$F30)+B$35*LOG('Grunddaten KSW'!$H30)","v":8.2605743346666998},{"$f":"C$32+C$33*LOG('Grunddaten KSW'!$G30)+C$34*LOG('Grunddaten KSW'!$F30)+C$35*LOG('Grunddaten KSW'!$H30)","v":1.2592376385627588},{"$f":"D$32+D$33*LOG('Grunddaten KSW'!$G30)+D$34*LOG('Grunddaten KSW'!$F30)+D$35*LOG('Grunddaten KSW'!$H30)","v":-1.4560864255138455},{"$f":"E$32+E$33*LOG('Grunddaten KSW'!$G30)+E$34*LOG('Grunddaten KSW'!$F30)+E$35*LOG('Grunddaten KSW'!$H30)","v":-0.94580370733214636},{"$f":"F$32+F$33*LOG('Grunddaten KSW'!$G30)+F$34*LOG('Grunddaten KSW'!$F30)+F$35*LOG('Grunddaten KSW'!$H30)","v":3.6341480224138891},{"$f":"G$32+G$33*LOG('Grunddaten KSW'!$G30)+G$34*LOG('Grunddaten KSW'!$F30)+G$35*LOG('Grunddaten KSW'!$H30)","v":1.4520843140311399},{"$f":"H$32+H$33*LOG('Grunddaten KSW'!$G30)+H$34*LOG('Grunddaten KSW'!$F30)+H$35*LOG('Grunddaten KSW'!$H30)","v":0.46308812828638057},{"$f":"I$32+I$33*LOG('Grunddaten KSW'!$G30)+I$34*LOG('Grunddaten KSW'!$F30)+I$35*LOG('Grunddaten KSW'!$H30)","v":-3.2288708362759522},{"$f":"J$32+J$33*LOG('Grunddaten KSW'!$G30)+J$34*LOG('Grunddaten KSW'!$F30)+J$35*LOG('Grunddaten KSW'!$H30)","v":-5.2235816163098434},{"$f":"K$32+K$33*LOG('Grunddaten KSW'!$G30)+K$34*LOG('Grunddaten KSW'!$F30)+K$35*LOG('Grunddaten KSW'!$H30)","v":-8.0608488121826269},{"$f":"L$32+L$33*LOG('Grunddaten KSW'!$G30)+L$34*LOG('Grunddaten KSW'!$F30)+L$35*LOG('Grunddaten KSW'!$H30)","v":-13.238964958689508},{"$f":"M$32+M$33*LOG('Grunddaten KSW'!$G30)+M$34*LOG('Grunddaten KSW'!$F30)+M$35*LOG('Grunddaten KSW'!$H30)","v":-14.892629206857642},{"$f":"N$32+N$33*LOG('Grunddaten KSW'!$G30)+N$34*LOG('Grunddaten KSW'!$F30)+N$35*LOG('Grunddaten KSW'!$H30)","v":-14.136970626472444},{"$f":"O$32+O$33*LOG('Grunddaten KSW'!$G30)+O$34*LOG('Grunddaten KSW'!$F30)+O$35*LOG('Grunddaten KSW'!$H30)","v":-11.379713374444329},{"$f":"P$32+P$33*LOG('Grunddaten KSW'!$G30)+P$34*LOG('Grunddaten KSW'!$F30)+P$35*LOG('Grunddaten KSW'!$H30)","v":-7.2700075074451966},{"$f":"Q$32+Q$33*LOG('Grunddaten KSW'!$G30)+Q$34*LOG('Grunddaten KSW'!$F30)+Q$35*LOG('Grunddaten KSW'!$H30)","v":-3.2872121796247775},{"$f":"R$32+R$33*LOG('Grunddaten KSW'!$G30)+R$34*LOG('Grunddaten KSW'!$F30)+R$35*LOG('Grunddaten KSW'!$H30)","v":3.1573156784911074},{"$f":"S$32+S$33*LOG('Grunddaten KSW'!$G30)+S$34*LOG('Grunddaten KSW'!$F30)+S$35*LOG('Grunddaten KSW'!$H30)","v":11.457446943319692},{"$f":"T$32+T$33*LOG('Grunddaten KSW'!$G30)+T$34*LOG('Grunddaten KSW'!$F30)+T$35*LOG('Grunddaten KSW'!$H30)","v":16.668475085103079},{"$f":"U$32+U$33*LOG('Grunddaten KSW'!$G30)+U$34*LOG('Grunddaten KSW'!$F30)+U$35*LOG('Grunddaten KSW'!$H30)","v":18.592961410333562},{"$f":"V$32+V$33*LOG('Grunddaten KSW'!$G30)+V$34*LOG('Grunddaten KSW'!$F30)+V$35*LOG('Grunddaten KSW'!$H30)","v":19.850381612170736},23.93725315259011]
[{"$f":"'Grunddaten KSW'!C31","v":"KSW-1LWABL12002"},{"$f":"B$32+B$33*LOG('Grunddaten KSW'!$G31)+B$34*LOG('Grunddaten KSW'!$F31)+B$35*LOG('Grunddaten KSW'!$H31)","v":7.8366460159086415},{"$f":"C$32+C$33*LOG('Grunddaten KSW'!$G31)+C$34*LOG('Grunddaten KSW'!$F31)+C$35*LOG('Grunddaten KSW'!$H31)","v":2.5788388652125462},{"$f":"D$32+D$33*LOG('Grunddaten KSW'!$G31)+D$34*LOG('Grunddaten KSW'!$F31)+D$35*LOG('Grunddaten KSW'!$H31)","v":-2.5034930053667637},{"$f":"E$32+E$33*LOG('Grunddaten KSW'!$G31)+E$34*LOG('Grunddaten KSW'!$F31)+E$35*LOG('Grunddaten KSW'!$H31)","v":1.609571394109409},{"$f":"F$32+F$33*LOG('Grunddaten KSW'!$G31)+F$34*LOG('Grunddaten KSW'!$F31)+F$35*LOG('Grunddaten KSW'!$H31)","v":3.9565174972045867},{"$f":"G$32+G$33*LOG('Grunddaten KSW'!$G31)+G$34*LOG('Grunddaten KSW'!$F31)+G$35*LOG('Grunddaten KSW'!$H31)","v":1.6353136159141002},{"$f":"H$32+H$33*LOG('Grunddaten KSW'!$G31)+H$34*LOG('Grunddaten KSW'!$F31)+H$35*LOG('Grunddaten KSW'!$H31)","v":-1.4244241380517355},{"$f":"I$32+I$33*LOG('Grunddaten KSW'!$G31)+I$34*LOG('Grunddaten KSW'!$F31)+I$35*LOG('Grunddaten KSW'!$H31)","v":-4.4076907052641943},{"$f":"J$32+J$33*LOG('Grunddaten KSW'!$G31)+J$34*LOG('Grunddaten KSW'!$F31)+J$35*LOG('Grunddaten KSW'!$H31)","v":-6.2522586874645967},{"$f":"K$32+K$33*LOG('Grunddaten KSW'!$G31)+K$34*LOG('Grunddaten KSW'!$F31)+K$35*LOG('Grunddaten KSW'!$H31)","v":-10.394686922309944},{"$f":"L$32+L$33*LOG('Grunddaten KSW'!$G31)+L$34*LOG('Grunddaten KSW'!$F31)+L$35*LOG('Grunddaten KSW'!$H31)","v":-16.382993057745004},{"$f":"M$32+M$33*LOG('Grunddaten KSW'!$G31)+M$34*LOG('Grunddaten KSW'!$F31)+M$35*LOG('Grunddaten KSW'!$H31)","v":-17.838074728599608},{"$f":"N$32+N$33*LOG('Grunddaten KSW'!$G31)+N$34*LOG('Grunddaten KSW'!$F31)+N$35*LOG('Grunddaten KSW'!$H31)","v":-16.723110018773706},{"$f":"O$32+O$33*LOG('Grunddaten KSW'!$G31)+O$34*LOG('Grunddaten KSW'!$F31)+O$35*LOG('Grunddaten KSW'!$H31)","v":-12.723287846086826},{"$f":"P$32+P$33*LOG('Grunddaten KSW'!$G31)+P$34*LOG('Grunddaten KSW'!$F31)+P$35*LOG('Grunddaten KSW'!$H31)","v":-9.2067998432984091},{"$f":"Q$32+Q$33*LOG('Grunddaten KSW'!$G31)+Q$34*LOG('Grunddaten KSW'!$F31)+Q$35*LOG('Grunddaten KSW'!$H31)","v":-5.237808278281296},{"$f":"R$32+R$33*LOG('Grunddaten KSW'!$G31)+R$34*LOG('Grunddaten KSW'!$F31)+R$35*LOG('Grunddaten KSW'!$H31)","v":2.0319017744071886},{"$f":"S$32+S$33*LOG('Grunddaten KSW'!$G31)+S$34*LOG('Grunddaten KSW'!$F31)+S$35*LOG('Grunddaten KSW'!$H31)","v":11.391320206685997},{"$f":"T$32+T$33*LOG('Grunddaten KSW'!$G31)+T$34*LOG('Grunddaten KSW'!$F31)+T$35*LOG('Grunddaten KSW'!$H31)","v":17.405597219049017},{"$f":"U$32+U$33*LOG('Grunddaten KSW'!$G31)+U$34*LOG('Grunddaten KSW'!$F31)+U$35*LOG('Grunddaten KSW'!$H31)","v":19.196323365008805},{"$f":"V$32+V$33*LOG('Grunddaten KSW'!$G31)+V$34*LOG('Grunddaten KSW'!$F31)+V$35*LOG('Grunddaten KSW'!$H31)","v":20.578651441067869},24.526188941638871]
[]
[]
[null,"Oktav-Frequenz fOkt [Hz]",null,null,null,null,null,null,"SLWA "]
[null,125,250,500,1000,2000,4000,8000,"Summe"]
[{"$f":"A40","v":"KSWZUL5001"},{"$f":"10*LOG(10^(0.1*B40)+10^(0.1*C40)+10^(0.1*D40))","v":28.374303505892954},{"$f":"10*LOG(10^(0.1*E40)+10^(0.1*F40)+10^(0.1*G40))","v":45.577564435957328},{"$f":"10*LOG(10^(0.1*H40)+10^(0.1*I40)+10^(0.1*J40))","v":48.516533174553054},{"$f":"10*LOG(10^(0.1*K40)+10^(0.1*L40)+10^(0.1*M40))","v":50.512857068953146},{"$f":"10*LOG(10^(0.1*N40)+10^(0.1*O40)+10^(0.1*P40))","v":37.537584256317153},{"$f":"10*LOG(10^(0.1*Q40)+10^(0.1*R40)+10^(0.1*S40))","v":25.45370488686746},{"$f":"10*LOG(10^(0.1*T40)+10^(0.1*U40)+10^(0.1*V40))","v":18.747129623648501},{"$f":"10*LOG(10^(0.1*B72)+10^(0.1*C72)+10^(0.1*D72)+10^(0.1*E72)+10^(0.1*F72)+10^(0.1*G72)+10^(0.1*H72))","v":53.550794426285591}]
["KSWZUL8001",27.760296805927922,48.253466382319424,51.96075993581367,54.74849013836274,40.998324371351735,27.399416885259612,18.823115621965798,{"$f":"10*LOG(10^(0.1*B73)+10^(0.1*C73)+10^(0.1*D73)+10^(0.1*E73)+10^(0.1*F73)+10^(0.1*G73)+10^(0.1*H73))","v":57.293213127229059}]
["KSWZUL10001",25.657266492114946,43.775726692202653,45.714322901697884,47.665832733592964,34.438651908343772,23.878480373458274,18.490805023436842,50.899596869234323]
["KSWZUL12001",26.322307244751251,41.593195262038023,42.936050422715311,44.173668678899524,31.65284185745513,22.364278414207991,18.435544533033781,47.949788767545925]
["KSWZUL5002",22.560912488882767,36.49281191579125,38.926158026874724,40.563060197822907,32.094809584683169,22.646398839527677,18.298869772912184,44.100148227985528]
["KSWZUL8002",21.679986344348588,42.45890509979909,43.749489222073151,45.528989234445234,38.048410237653265,24.31150169164912,16.863503045086631,49.23716415816051]
["KSWZUL10002",22.542595551077223,36.964810637590311,39.167810606721041,40.738047552988405,32.43893183308689,22.662307931835425,18.176280185407474,44.355790599181724]
["KSWZUL12002",23.151226059739898,36.396470337789324,37.414858963725209,38.241707841726246,30.661255973814129,21.55417026165431,18.271445663705588,42.583450141009109]
["KSWABL5001",17.325883581011869,32.090185876373866,32.584945033166719,32.583760799792351,25.583960966485094,23.007237069098174,18.327380111617025,37.729170629059723]
["KSWABL8001",18.791675390484379,33.514164096436801,35.3400457800605,35.224087218929178,28.760309430595314,25.054607650846656,18.475309873245337,40.091790108221474]
["KSWABL10001",17.325883581011869,32.090185876373866,32.584945033166719,32.583760799792351,25.583960966485094,23.007237069098174,18.327380111617025,37.729170629059723]
["KSWABL12001",17.117713706761627,30.948597834753468,30.206485537885548,29.722634402712124,22.788556578394626,21.063048688699265,18.209579127136287,35.642429676534576]
["KSWABL5002",13.36526479296584,23.437636136752889,23.248868211072981,18.501525684628103,14.308821645765523,15.556967369289499,17.926908362570927,28.125521163272186]
["KSWABL8002",15.049142033813919,26.670475045522291,26.854903953940482,24.441980296160754,18.770630882069796,16.906738187568344,18.064773314534264,31.607117176237544]
["KSWABL10002",13.36526479296584,23.437636136752889,23.248868211072981,18.501525684628103,14.308821645765523,15.556967369289499,17.926908362570927,28.125521163272186]
["KSWABL12002",11.941818650536371,20.233695110290938,17.77428498386335,12.584685891071171,11.292375941028814,14.550281427325418,17.958013989393468,24.823966463954953]
["KSW-1LWZUL8001",{"$f":"10*LOG(10^(0.1*B56)+10^(0.1*C56)+10^(0.1*D56))","v":23.358034848446742},{"$f":"10*LOG(10^(0.1*E56)+10^(0.1*F56)+10^(0.1*G56))","v":35.690532242350677},{"$f":"10*LOG(10^(0.1*H56)+10^(0.1*I56)+10^(0.1*J56))","v":36.009928264601008},{"$f":"10*LOG(10^(0.1*K56)+10^(0.1*L56)+10^(0.1*M56))","v":37.571985423181772},{"$f":"10*LOG(10^(0.1*N56)+10^(0.1*O56)+10^(0.1*P56))","v":33.559784671165133},{"$f":"10*LOG(10^(0.1*Q56)+10^(0.1*R56)+10^(0.1*S56))","v":28.339302430325674},{"$f":"10*LOG(10^(0.1*T56)+10^(0.1*U56)+10^(0.1*V56))","v":21.504413341955612},42.233634080679167]
["KSW-1LWZUL10001",23.039857169497353,32.05705137325063,31.059912789375925,29.976262155001869,25.357694606043463,23.797204451057937,21.110260588941468,36.803729456967048]
["KSW-1LWZUL12001",21.287514313175787,28.997788260285596,27.70183905536048,25.947214145808775,19.902025393500292,19.600607501354446,21.765264745764803,33.521742461631952]
["KSW-1LWZUL8002",23.214178791220604,27.998426715623296,26.790016887840387,27.880470099206931,22.73052931253968,20.786248533822711,21.720966159821977,33.779791262510834]
["KSW-1LWZUL10002",19.925524511866357,24.455660324246189,23.554860668773912,20.491563286253786,15.326039645603405,18.923844271283905,23.968505308043937,30.32413754870873]
["KSW-1LWZUL12002",16.705003154287564,25.023994367512387,21.723694108848761,18.743171570056354,13.270308440395125,15.319107584039775,22.038582149380396,29.050237937377773]
["KSW-1LWABL8001",12.976451827345418,21.844703666991961,19.511140643995738,16.161361593329804,11.327259486671046,14.298994189566439,21.261123490621529,26.790792298986169]
["KSW-1LWABL10001",11.454215286056819,22.238463196013459,17.775482453541045,13.398609148392692,8.7030015085594297,13.702797207739966,20.975973389591161,26.224971407952076]
["KSW-1LWABL12001",13.852123100217288,19.741141309126473,14.45546279229719,9.2775810800885967,3.7298517282223069,11.267889194204571,21.562188619440896,24.96787380239639]
["KSW-1LWABL8002",9.3953418217340676,8.844912550784791,5.9845026541536486,-0.63094100596132918,-1.1468901631467294,12.407898261612155,22.108125374753929,23.050478558290834]
["KSW-1LWABL10002",9.4206926827646988,6.5420475838062675,2.7608046321379476,-6.2684138281460786,-5.2453708436781241,12.181578835552521,23.331954500188669,23.937253152590113]
["KSW-1LWABL12002",9.26825890670926,7.3180885214740323,1.2051569331501755,-8.8351745890420368,-7.1058835172296684,11.951310053497487,24.020606157610192,24.526188941638875]
[null,2,3,4,5,6,7,8,9]
["Auswahl:",-16.100000000000001,-8.6,-3.2,0,1.2,1,-1.1000000000000001]
[{"$f":"'Grunddaten KSW'!C49","v":"KSW-1LWZUL12002"},{"$f":"IF($I$102=\"<25\",\"\",VLOOKUP($A$102,$A$72:$I$99,B$100,FALSE))","v":16.705003154287564},{"$f":"IF($I$102=\"<25\",\"\",VLOOKUP($A$102,$A$72:$I$99,C$100,FALSE))","v":25.023994367512387},21.723694108848761,18.743171570056354,13.270308440395125,15.319107584039775,22.038582149380396,{"$f":"IF(VLOOKUP($A$102,$A$72:$I$99,I$100,FALSE)<25,\"<25\",VLOOKUP($A$102,$A$72:$I$99,I$100,FALSE))","v":29.050237937377773}]
[{"$f":"'Grunddaten KSW'!C50","v":"KSW-1LWZUL12002"},{"$f":"IF($I$103=\"<25\",\"\",VLOOKUP($A$103,$A$72:$I$99,B$100,FALSE))","v":16.705003154287564},{"$f":"IF($I$103=\"<25\",\"\",VLOOKUP($A$103,$A$72:$I$99,C$100,FALSE))","v":25.023994367512387},21.723694108848761,18.743171570056354,13.270308440395125,15.319107584039775,22.038582149380396,{"$f":"IF(VLOOKUP($A$103,$A$72:$I$99,I$100,FALSE)<25,\"<25\",VLOOKUP($A$103,$A$72:$I$99,I$100,FALSE))","v":29.050237937377773}]
[null,{"$f":"IF($I$102=\"<25\",\"\",B102-B101)","v":32.805003154287562},{"$f":"IF($I$102=\"<25\",\"\",C102-C101)","v":33.623994367512388},{"$f":"IF($I$102=\"<25\",\"\",D102-D101)","v":24.92369410884876},{"$f":"IF($I$102=\"<25\",\"\",E102-E101)","v":18.743171570056354},12.070308440395126,14.319107584039775,23.138582149380397]
[null,{"$f":"IF(B$103=\"\",\"\",B103-B101)","v":32.805003154287562},{"$f":"IF(C$103=\"\",\"\",C103-C101)","v":33.623994367512388},24.92369410884876,18.743171570056354,12.070308440395126,14.319107584039775,23.138582149380397]
[]
["T[s] nach VDI 2081",null,null,null,"Nachhallzeit","Richtungsfaktor","Raumvolumen","äqu. Absorptionsfläche"]
["Raumart",null,"s",null,"t","Q","V","A"]
["Einzelbüro",null,0.5,null,"s",null,"m³","m²Sabine"]
["Großraumbüro",null,0.5,{"$f":"'Auslegung KSW'!D33","v":"Einzelbüro"},{"$f":"VLOOKUP(D110,'Lw KSW'!$A$109:$C$132,3,FALSE)","v":0.5},4,{"$f":"'Auslegung KSW'!D29*'Auslegung KSW'!D31*'Auslegung KSW'!D32","v":54},{"$f":"0.163*G110/E110","v":17.603999999999999}]
["Werkstätten",null,1.5]
["Ruheraum, Pausenraum",null,1]
["Untersuchungsraum Krankenhaus",null,2]
["Rundfunk-, Fernsehstudio",null,0.5]
["Chemielabor",null,2]
["Wasch- und WC-Raum, Umkleide",null,2]
["Schwimmbad",null,2]
["EDV-Raum",null,1.5]
["Konzertsaal",null,1.5]
["Lesesaal",null,1]
["Museum",null,1.5]
["Küche",null,1.5]
["Theater, Kino",null,1]
["Klassen- Seminarraum",null,1]
["Gaststätte",null,1]
["kein Typ",null,"x"]
["Konferenzraum",null,1]
["Hotelzimmer",null,0.5]
["Hörsaal",null,1]
["Bettenzimmer Krankenhaus",null,1]
["Verkaufsraum",null,1]
["Sporthalle",null,2]

{"sheet":"Dt KSW","index":32,"n_rows":25,"n_cols":12,"rows_kept":25,"cut":false,"hidden":true,"merged":[]}
["Frequenzband","fm_Okt","[Hz]",63,125,250,500,1000,2000,4000,8000]
[null,null,{"$f":"'Grunddaten KSW'!C4","v":"KSWZUL5001"},28.071173539098098,19.028220153326941,13.200684276299825,13.987059592608233,19.612420550027267,23.537194017763227,23.704553553564708,22.588908176366793]
[null,null,{"$f":"'Grunddaten KSW'!C5","v":"KSWZUL8001"},30.266909641225361,19.465934110649755,12.029251589121145,12.153086660079097,17.754084619180006,21.637224831870924,25.398833363423989,26.784364505562905]
[null,null,{"$f":"'Grunddaten KSW'!C6","v":"KSWZUL10001"},20.977177239036536,11.594937881583789,7.6860228153225307,13.498963854887293,16.334390175814093,18.956656446592874,26.873813704830049,23.755415551971154]
[null,null,{"$f":"'Grunddaten KSW'!C7","v":"KSWZUL12001"},20.286402818172121,13.888576735357034,7.5342453869197072,12.458402067107571,17.493988420379495,18.067136175819812,23.645676601334486,23.457427452105804]
[null,null,{"$f":"'Grunddaten KSW'!C8","v":"KSWZUL5002"},26.338998167462577,23.363878893817947,11.911179232683352,11.787309025663717,16.475704396233297,19.397700584208863,23.393032691142864,24.988420878547359]
[null,null,{"$f":"'Grunddaten KSW'!C9","v":"KSWZUL8002"},30.585896235269175,17.468508664199618,9.4274312762176464,11.844791323127993,15.761363189305769,20.107025791755106,23.538314970765015,24.041955548312785]
[null,null,{"$f":"'Grunddaten KSW'!C10","v":"KSWZUL10002"},19.73872147153007,11.432771592639924,6.7940632806969461,11.225348332804202,13.305853135872056,16.164088344251397,23.110330886968725,21.359622489673775]
[null,null,{"$f":"'Grunddaten KSW'!C11","v":"KSWZUL12002"},19.698409857859403,15.454466612265961,7.3172431684106414,13.421185591925095,14.091426117601586,16.896810725185134,21.568095654510728,20.624634693261029]
[null,null,"KSW-1LWZUL8001",26.688379752113867,17.857670596182505,13.642709650254725,16.801317894431403,26.641082887944187,28.441437099471351,23.157827477458031,24.413509467528023]
[null,null,"KSW-1LWZUL10001",24.216119392824528,17.883346568727191,16.534243529040022,18.03859368284067,22.83433887706526,24.540249080975137,28.356231492783959,27.41735400567125]
[null,null,"KSW-1LWZUL12001",26.586931301393477,17.558938755907572,17.474165863635744,15.406717376002225,21.057493990079905,25.102077261988079,25.110134750760974,25.027137785707243,"Hinweis: Durchgangsdämpfung des 2-Schlitzers verwendet, 1-Schlitzer wurde nicht messtechnisch untersucht"]
[null,null,"KSW-1LWZUL8002",23.005712254630566,15.197822854057911,9.1723439163706804,13.359547691197166,19.824252809847909,22.175823572524422,23.949316064734262,23.355206498225964]
[null,null,"KSW-1LWZUL10002",21.556634911029402,14.302910208250022,12.170011253437146,13.647692513354926,19.595697216654219,22.627654398281869,25.628020225714057,23.722459392874594]
[null,null,"KSW-1LWZUL12002",26.586931301393477,17.558938755907572,17.474165863635744,15.406717376002225,21.057493990079905,25.102077261988079,25.110134750760974,25.027137785707243]
[null,null,"KSW-1LWABL8001",26.688379752113867,17.857670596182505,13.642709650254725,16.801317894431403,26.641082887944187,28.441437099471351,23.157827477458031,24.413509467528023]
[null,null,"KSW-1LWABL10001",24.216119392824528,17.883346568727191,16.534243529040022,18.03859368284067,22.83433887706526,24.540249080975137,28.356231492783959,27.41735400567125]
[null,null,"KSW-1LWABL12001",26.586931301393477,17.558938755907572,17.474165863635744,15.406717376002225,21.057493990079905,25.102077261988079,25.110134750760974,25.027137785707243]
[null,null,"KSW-1LWABL8002",23.005712254630566,15.197822854057911,9.1723439163706804,13.359547691197166,19.824252809847909,22.175823572524422,23.949316064734262,23.355206498225964]
[null,null,"KSW-1LWABL10002",21.556634911029402,14.302910208250022,12.170011253437146,13.647692513354926,19.595697216654219,22.627654398281869,25.628020225714057,23.722459392874594]
[null,null,"KSW-1LWABL12002",26.586931301393477,17.558938755907572,17.474165863635744,15.406717376002225,21.057493990079905,25.102077261988079,25.110134750760974,25.027137785707243]
[]
[null,null,null,2,3,4,5,6,7,8,9]
[]
[null,null,{"$f":"'Grunddaten KSW'!C49","v":"KSW-1LWZUL12002"},{"$f":"VLOOKUP($C$25,$C$2:$K$21,D23,FALSE)","v":26.586931301393477},{"$f":"VLOOKUP($C$25,$C$2:$K$21,E23,FALSE)","v":17.558938755907572},17.474165863635744,15.406717376002225,21.057493990079905,25.102077261988079,25.110134750760974,25.027137785707243]

{"sheet":"xkr._vx KSW","index":33,"n_rows":65,"n_cols":16,"rows_kept":65,"cut":false,"hidden":true,"merged":[]}
["Geschwindigkeit im Strahl",null,null,null,null,null,null,null,null,null,null,null,"kritischer Strahlweg"]
[null,null,null,null,null,null,null,null,null,null,null,null,"Schlitzanzahl","n",1,2]
["Konstanten","K031",6.1519175685683086E-3,null,null,null,null,null,null,null,null,null,"Konstanten:","K041",1.7840971390036042E-2,7.3043071442997515E-2]
[null,"K033",0.59221223573337767,null,null,null,null,null,null,null,null,null,null,"K042",0.41137168119149808,0.59107517230985229]
[null,"K034",null,null,null,null,null,null,null,null,null,null,null,"K043",1.2872387520934141,1.0678298315985706]
[null,null,null,null,null,null,null,null,null,null,null,null,"mittlere Untertemperatur","Dt0",{"$f":"IF('Auslegung KSW'!$D$27-'Auslegung KSW'!$D$26>0,'Auslegung KSW'!$D$27-'Auslegung KSW'!$D$26,0.0000001)","v":4}]
[null,"Lauflänge","Geschwindigkeit im Strahl horizontal","Geschwindigkeit im Strahl vertikal",null,"kritischer Strahlweg Anzeige","kritischer Strahlweg","vertikaler Strahlweg","Geschwindigkeit im Strahl","Lauflänge bis Aufenthaltsbereich Anzeige","Geschwindigkeit im Strahl","Schlitzanzahl","Zugluftrisiko","Volumenstrom spezifisch"]
[null,"L","v0","v1",null,"xkr._Anzeige","xkr.","y","v0","x+y","vx","n","DR","V°spez."]
[null,"m","m/s","m/s",null,"m","m","m","m/s","m","m/s","-","%","m³/(h·m)"]
[null,0.5,{"$f":"$C$3*'Auslegung KSW'!$D$24/('Grunddaten KSW'!$F$49*0.001)*(1/'xkr._vx KSW'!B10)^('xkr._vx KSW'!$C$4)","v":0.57964777304915915},{"$f":"1/B10*$I$10","v":0.5001412900235771},null,{"$f":"IF($P10<'Auslegung KSW'!$D$31,$P10,\">Raumlänge\")","v":2.0676375866238672},{"$f":"IF(P10<'Auslegung KSW'!D31,'xkr._vx KSW'!P10,'Auslegung KSW'!D31)","v":2.0676375866238672},{"$f":"('Auslegung KSW'!$D$29-'Auslegung KSW'!$D$30)/SIN(45/180*PI())","v":1.697056274847714},{"$f":"$C$3*'Auslegung KSW'!$D$24/('Grunddaten KSW'!$F$49*0.001)*(1/'xkr._vx KSW'!G10)^('xkr._vx KSW'!$C$4)","v":0.25007064501178855},{"$f":"IF(G10+H10<'Auslegung KSW'!$D$31,G10+H10,'Auslegung KSW'!$D$31+('Auslegung KSW'!$D$29-'Auslegung KSW'!$D$30))","v":3.7646938614715815},{"$f":"1/(H10+0.5)*I10","v":0.11382077367550443},1,{"$f":"IF(K10=\"<0,1\",(34-$M$13)*(0.1-0.05)^0.62*(0.37*0.1*$M$14+3.14),(34-$M$13)*(K10-0.05)^0.62*(0.37*K10*$M$14+3.14))","v":12.793390169317417},{"$f":"'Grunddaten KSW'!$G$49*10","v":62.5},null,{"$f":"$O$3*$N$10^$O$5*(1/'xkr._vx KSW'!$O$6^('xkr._vx KSW'!$O$4))","v":2.0676375866238672}]
[null,0.6,{"$f":"$C$3*'Auslegung KSW'!$D$24/('Grunddaten KSW'!$F$49*0.001)*(1/'xkr._vx KSW'!B11)^('xkr._vx KSW'!$C$4)","v":0.52032185626026317},{"$f":"1/B11*$I$10","v":0.41678440835298092},null,{"$f":"IF($P11<'Auslegung KSW'!$D$31,$P11,\">Raumlänge\")","v":2.6632416266967365},{"$f":"IF(P11<'Auslegung KSW'!D32,'xkr._vx KSW'!P11,'Auslegung KSW'!D32)","v":2.6632416266967365},{"$f":"('Auslegung KSW'!$D$29-'Auslegung KSW'!$D$30)/SIN(45/180*PI())","v":1.697056274847714},{"$f":"$C$3*'Auslegung KSW'!$D$24/('Grunddaten KSW'!$F$49*0.001)*(1/'xkr._vx KSW'!G11)^('xkr._vx KSW'!$C$4)","v":0.21525694880858928},{"$f":"IF(G11+H11<'Auslegung KSW'!$D$31,G11+H11,'Auslegung KSW'!$D$31+('Auslegung KSW'!$D$29-'Auslegung KSW'!$D$30))","v":4.3602979015444507},{"$f":"1/(H11+0.5)*I11","v":9.7975163983230015E-2},2,{"$f":"IF(K11=\"<0,1\",(34-$M$13)*(0.1-0.05)^0.62*(0.37*0.1*$M$14+3.14),(34-$M$13)*(K11-0.05)^0.62*(0.37*K11*$M$14+3.14))","v":10.29049598223042},{"$f":"'Grunddaten KSW'!$G$49*10","v":62.5},null,{"$f":"$P$3*($N$11)^$P$5*(1/'xkr._vx KSW'!$O$6^('xkr._vx KSW'!$P$4))","v":2.6632416266967365}]
[null,0.7,{"$f":"$C$3*'Auslegung KSW'!$D$24/('Grunddaten KSW'!$F$49*0.001)*(1/'xkr._vx KSW'!B12)^('xkr._vx KSW'!$C$4)","v":0.47492536041001565},0.35724377858826939]
[null,0.8,{"$f":"$C$3*'Auslegung KSW'!$D$24/('Grunddaten KSW'!$F$49*0.001)*(1/'xkr._vx KSW'!B13)^('xkr._vx KSW'!$C$4)","v":0.43881535947144706},0.31258830626473566,null,null,null,null,"Vorauswahl Geschwindigkeit A-Bereich",null,{"$f":"IF('Auslegung KSW'!$D$15=2,'xkr._vx KSW'!$K$11,'xkr._vx KSW'!$K$10)","v":9.7975163983230015E-2},null,{"$f":"('Auslegung KSW'!D27+'Auslegung KSW'!D26)/2","v":18}]
[null,0.9,{"$f":"$C$3*'Auslegung KSW'!$D$24/('Grunddaten KSW'!$F$49*0.001)*(1/'xkr._vx KSW'!B14)^('xkr._vx KSW'!$C$4)","v":0.40924998363533699},{"$f":"1/B14*$I$10","v":0.27785627223532061},null,null,null,null,null,null,null,null,30]
[null,1,{"$f":"$C$3*'Auslegung KSW'!$D$24/('Grunddaten KSW'!$F$49*0.001)*(1/'xkr._vx KSW'!B15)^('xkr._vx KSW'!$C$4)","v":0.38449484803551931},0.25007064501178855,null,null,null,null,null,null,null,null,"TU = 30 = Mittelwert Messreihen"]
[null,1.1000000000000001,{"$f":"$C$3*'Auslegung KSW'!$D$24/('Grunddaten KSW'!$F$49*0.001)*(1/'xkr._vx KSW'!B16)^('xkr._vx KSW'!$C$4)","v":0.36339359662004905},0.22733695001071685]
[null,1.2,{"$f":"$C$3*'Auslegung KSW'!$D$24/('Grunddaten KSW'!$F$49*0.001)*(1/'xkr._vx KSW'!B17)^('xkr._vx KSW'!$C$4)","v":0.3451424854096391},0.20839220417649046]
[null,1.3,{"$f":"$C$3*'Auslegung KSW'!$D$24/('Grunddaten KSW'!$F$49*0.001)*(1/'xkr._vx KSW'!B18)^('xkr._vx KSW'!$C$4)","v":0.32916365611701109},0.19236203462445273]
[null,1.4,{"$f":"$C$3*'Auslegung KSW'!$D$24/('Grunddaten KSW'!$F$49*0.001)*(1/'xkr._vx KSW'!B19)^('xkr._vx KSW'!$C$4)","v":0.31502985566301245},{"$f":"1/B19*$I$10","v":0.17862188929413469}]
[null,1.5,{"$f":"$C$3*'Auslegung KSW'!$D$24/('Grunddaten KSW'!$F$49*0.001)*(1/'xkr._vx KSW'!B20)^('xkr._vx KSW'!$C$4)","v":0.3024176447196934},0.16671376334119237]
[null,1.6,{"$f":"$C$3*'Auslegung KSW'!$D$24/('Grunddaten KSW'!$F$49*0.001)*(1/'xkr._vx KSW'!B21)^('xkr._vx KSW'!$C$4)","v":0.29107718997708748},0.15629415313236783]
[null,1.7,{"$f":"$C$3*'Auslegung KSW'!$D$24/('Grunddaten KSW'!$F$49*0.001)*(1/'xkr._vx KSW'!B22)^('xkr._vx KSW'!$C$4)","v":0.28081212370963271},0.14710037941869916]
[null,1.8,{"$f":"$C$3*'Auslegung KSW'!$D$24/('Grunddaten KSW'!$F$49*0.001)*(1/'xkr._vx KSW'!B23)^('xkr._vx KSW'!$C$4)","v":0.27146573761280135},0.13892813611766031]
[null,1.9,{"$f":"$C$3*'Auslegung KSW'!$D$24/('Grunddaten KSW'!$F$49*0.001)*(1/'xkr._vx KSW'!B24)^('xkr._vx KSW'!$C$4)","v":0.26291128734072133},0.13161612895357291]
[null,2,{"$f":"$C$3*'Auslegung KSW'!$D$24/('Grunddaten KSW'!$F$49*0.001)*(1/'xkr._vx KSW'!B25)^('xkr._vx KSW'!$C$4)","v":0.2550450377617845},0.12503532250589428]
[null,2.1,{"$f":"$C$3*'Auslegung KSW'!$D$24/('Grunddaten KSW'!$F$49*0.001)*(1/'xkr._vx KSW'!B26)^('xkr._vx KSW'!$C$4)","v":0.24778117952101186},0.11908125952942311]
[null,2.2000000000000002,{"$f":"$C$3*'Auslegung KSW'!$D$24/('Grunddaten KSW'!$F$49*0.001)*(1/'xkr._vx KSW'!B27)^('xkr._vx KSW'!$C$4)","v":0.24104805056786935},0.11366847500535843]
[null,2.2999999999999998,{"$f":"$C$3*'Auslegung KSW'!$D$24/('Grunddaten KSW'!$F$49*0.001)*(1/'xkr._vx KSW'!B28)^('xkr._vx KSW'!$C$4)","v":0.23478528505637097},0.10872636739642981]
[null,2.4,{"$f":"$C$3*'Auslegung KSW'!$D$24/('Grunddaten KSW'!$F$49*0.001)*(1/'xkr._vx KSW'!B29)^('xkr._vx KSW'!$C$4)","v":0.22894163257127886},0.10419610208824523]
[null,2.5,{"$f":"$C$3*'Auslegung KSW'!$D$24/('Grunddaten KSW'!$F$49*0.001)*(1/'xkr._vx KSW'!B30)^('xkr._vx KSW'!$C$4)","v":0.22347326938270365},0.10002825800471543]
[null,2.6,{"$f":"$C$3*'Auslegung KSW'!$D$24/('Grunddaten KSW'!$F$49*0.001)*(1/'xkr._vx KSW'!B31)^('xkr._vx KSW'!$C$4)","v":0.21834247593459241},9.6181017312226363E-2]
[null,2.7,{"$f":"$C$3*'Auslegung KSW'!$D$24/('Grunddaten KSW'!$F$49*0.001)*(1/'xkr._vx KSW'!B32)^('xkr._vx KSW'!$C$4)","v":0.21351659043133317},9.2618757411773528E-2]
[null,2.8,{"$f":"$C$3*'Auslegung KSW'!$D$24/('Grunddaten KSW'!$F$49*0.001)*(1/'xkr._vx KSW'!B33)^('xkr._vx KSW'!$C$4)","v":0.20896717301720558},8.9310944647067347E-2]
[null,2.9,{"$f":"$C$3*'Auslegung KSW'!$D$24/('Grunddaten KSW'!$F$49*0.001)*(1/'xkr._vx KSW'!B34)^('xkr._vx KSW'!$C$4)","v":0.20466933232120471},8.6231256900616754E-2]
[null,3,{"$f":"$C$3*'Auslegung KSW'!$D$24/('Grunddaten KSW'!$F$49*0.001)*(1/'xkr._vx KSW'!B35)^('xkr._vx KSW'!$C$4)","v":0.20060117843305644},8.3356881670596183E-2]
[null,3.1,{"$f":"$C$3*'Auslegung KSW'!$D$24/('Grunddaten KSW'!$F$49*0.001)*(1/'xkr._vx KSW'!B36)^('xkr._vx KSW'!$C$4)","v":0.19674337523828545},8.0667950003802752E-2]
[null,3.2,{"$f":"$C$3*'Auslegung KSW'!$D$24/('Grunddaten KSW'!$F$49*0.001)*(1/'xkr._vx KSW'!B37)^('xkr._vx KSW'!$C$4)","v":0.19307877150656222},7.8147076566183915E-2]
[null,3.3,{"$f":"$C$3*'Auslegung KSW'!$D$24/('Grunddaten KSW'!$F$49*0.001)*(1/'xkr._vx KSW'!B38)^('xkr._vx KSW'!$C$4)","v":0.18959209489921286},7.5778983336905623E-2]
[null,3.4,{"$f":"$C$3*'Auslegung KSW'!$D$24/('Grunddaten KSW'!$F$49*0.001)*(1/'xkr._vx KSW'!B39)^('xkr._vx KSW'!$C$4)","v":0.18626969661989853},7.3550189709349581E-2]
[null,3.5,{"$f":"$C$3*'Auslegung KSW'!$D$24/('Grunddaten KSW'!$F$49*0.001)*(1/'xkr._vx KSW'!B40)^('xkr._vx KSW'!$C$4)","v":0.18309933711171875},7.144875571765387E-2]
[null,3.6,{"$f":"$C$3*'Auslegung KSW'!$D$24/('Grunddaten KSW'!$F$49*0.001)*(1/'xkr._vx KSW'!B41)^('xkr._vx KSW'!$C$4)","v":0.18007000523994443},6.9464068058830153E-2]
[null,3.7,{"$f":"$C$3*'Auslegung KSW'!$D$24/('Grunddaten KSW'!$F$49*0.001)*(1/'xkr._vx KSW'!B42)^('xkr._vx KSW'!$C$4)","v":0.17717176495999773},6.7586660813996891E-2]
[null,3.8,{"$f":"$C$3*'Auslegung KSW'!$D$24/('Grunddaten KSW'!$F$49*0.001)*(1/'xkr._vx KSW'!B43)^('xkr._vx KSW'!$C$4)","v":0.17439562467588443},6.5808064476786457E-2]
[null,3.9,{"$f":"$C$3*'Auslegung KSW'!$D$24/('Grunddaten KSW'!$F$49*0.001)*(1/'xkr._vx KSW'!B44)^('xkr._vx KSW'!$C$4)","v":0.17173342543280565},6.4120678208150914E-2]
[null,4,{"$f":"$C$3*'Auslegung KSW'!$D$24/('Grunddaten KSW'!$F$49*0.001)*(1/'xkr._vx KSW'!B45)^('xkr._vx KSW'!$C$4)","v":0.16917774482351713},6.2517661252947138E-2]
[null,4.0999999999999996,{"$f":"$C$3*'Auslegung KSW'!$D$24/('Grunddaten KSW'!$F$49*0.001)*(1/'xkr._vx KSW'!B46)^('xkr._vx KSW'!$C$4)","v":0.16672181406883457},6.0992840246777702E-2]
[null,4.2,{"$f":"$C$3*'Auslegung KSW'!$D$24/('Grunddaten KSW'!$F$49*0.001)*(1/'xkr._vx KSW'!B47)^('xkr._vx KSW'!$C$4)","v":0.1643594461940828},5.9540629764711556E-2]
[null,4.3,{"$f":"$C$3*'Auslegung KSW'!$D$24/('Grunddaten KSW'!$F$49*0.001)*(1/'xkr._vx KSW'!B48)^('xkr._vx KSW'!$C$4)","v":0.16208497359203461},5.8155963956229892E-2]
[null,4.4000000000000004,{"$f":"$C$3*'Auslegung KSW'!$D$24/('Grunddaten KSW'!$F$49*0.001)*(1/'xkr._vx KSW'!B49)^('xkr._vx KSW'!$C$4)","v":0.15989319355927359},5.6834237502679213E-2]
[null,4.5,{"$f":"$C$3*'Auslegung KSW'!$D$24/('Grunddaten KSW'!$F$49*0.001)*(1/'xkr._vx KSW'!B50)^('xkr._vx KSW'!$C$4)","v":0.15777932063244623},5.5571254447064122E-2]
[null,4.5999999999999996,{"$f":"$C$3*'Auslegung KSW'!$D$24/('Grunddaten KSW'!$F$49*0.001)*(1/'xkr._vx KSW'!B51)^('xkr._vx KSW'!$C$4)","v":0.15573894474544878},5.4363183698214905E-2]
[null,4.7,{"$f":"$C$3*'Auslegung KSW'!$D$24/('Grunddaten KSW'!$F$49*0.001)*(1/'xkr._vx KSW'!B52)^('xkr._vx KSW'!$C$4)","v":0.15376799438744454},5.320652021527416E-2]
[null,4.8,{"$f":"$C$3*'Auslegung KSW'!$D$24/('Grunddaten KSW'!$F$49*0.001)*(1/'xkr._vx KSW'!B53)^('xkr._vx KSW'!$C$4)","v":0.15186270407189525},5.2098051044122615E-2]
[null,4.9000000000000004,{"$f":"$C$3*'Auslegung KSW'!$D$24/('Grunddaten KSW'!$F$49*0.001)*(1/'xkr._vx KSW'!B54)^('xkr._vx KSW'!$C$4)","v":0.15001958553413289},5.1034825512609905E-2]
[null,5,{"$f":"$C$3*'Auslegung KSW'!$D$24/('Grunddaten KSW'!$F$49*0.001)*(1/'xkr._vx KSW'!B55)^('xkr._vx KSW'!$C$4)","v":0.14823540216381748},5.0014129002357716E-2]
[null,5.0999999999999996,{"$f":"$C$3*'Auslegung KSW'!$D$24/('Grunddaten KSW'!$F$49*0.001)*(1/'xkr._vx KSW'!B56)^('xkr._vx KSW'!$C$4)","v":0.14650714625241928},4.9033459806233054E-2]
[null,5.2,{"$f":"$C$3*'Auslegung KSW'!$D$24/('Grunddaten KSW'!$F$49*0.001)*(1/'xkr._vx KSW'!B57)^('xkr._vx KSW'!$C$4)","v":0.14483201869741388},4.8090508656113182E-2]
[null,5.3,{"$f":"$C$3*'Auslegung KSW'!$D$24/('Grunddaten KSW'!$F$49*0.001)*(1/'xkr._vx KSW'!B58)^('xkr._vx KSW'!$C$4)","v":0.14320741085641003},4.7183140568261991E-2]
[null,5.4,{"$f":"$C$3*'Auslegung KSW'!$D$24/('Grunddaten KSW'!$F$49*0.001)*(1/'xkr._vx KSW'!B59)^('xkr._vx KSW'!$C$4)","v":0.14163088828773127},4.6309378705886764E-2]
[null,5.5,{"$f":"$C$3*'Auslegung KSW'!$D$24/('Grunddaten KSW'!$F$49*0.001)*(1/'xkr._vx KSW'!B60)^('xkr._vx KSW'!$C$4)","v":0.14010017615048193},4.5467390002143372E-2]
[null,5.6,{"$f":"$C$3*'Auslegung KSW'!$D$24/('Grunddaten KSW'!$F$49*0.001)*(1/'xkr._vx KSW'!B61)^('xkr._vx KSW'!$C$4)","v":0.13861314606801467},4.4655472323533674E-2]
[null,5.7,{"$f":"$C$3*'Auslegung KSW'!$D$24/('Grunddaten KSW'!$F$49*0.001)*(1/'xkr._vx KSW'!B62)^('xkr._vx KSW'!$C$4)","v":0.13716780428493155},4.3872042984524302E-2]
[null,5.8,{"$f":"$C$3*'Auslegung KSW'!$D$24/('Grunddaten KSW'!$F$49*0.001)*(1/'xkr._vx KSW'!B63)^('xkr._vx KSW'!$C$4)","v":0.13576228097006565},4.3115628450308377E-2]
[null,5.8999999999999897,{"$f":"$C$3*'Auslegung KSW'!$D$24/('Grunddaten KSW'!$F$49*0.001)*(1/'xkr._vx KSW'!B64)^('xkr._vx KSW'!$C$4)","v":0.13439482053694657},4.2384855086743896E-2]
[null,6,{"$f":"$C$3*'Auslegung KSW'!$D$24/('Grunddaten KSW'!$F$49*0.001)*(1/'xkr._vx KSW'!B65)^('xkr._vx KSW'!$C$4)","v":0.13306377286956786},4.1678440835298092E-2]

{"sheet":"Eingabe KSW","index":34,"n_rows":50,"n_cols":20,"rows_kept":50,"cut":false,"hidden":true,"merged":[]}
[]
[null,null,null,null,1,"= Produktgruppe emcoair"]
[null,null,null,null,null,"KSW","Artikel"]
[null,null,null,null,null,null,1,"Schlitzanzahl","1 Schlitz "]
[null,null,null,null,null,null,2,null,"2 Schlitze"]
[null,null,null,null,null,null,"X",null,"Sonder"]
[null,null,null,null,null,null,null,"K","Funktion","Zuluft / Abluft Kombination"]
[null,null,null,null,null,null,null,"Z",null,"Zuluft"]
[null,null,null,null,null,null,null,"A",null,"Abluft"]
[null,null,null,null,null,null,null,null,"0500","Breite"]
[null,null,null,null,null,null,null,null,"0600"]
[null,null,null,null,null,null,null,null,"0700"]
[null,null,null,null,null,null,null,null,"0800"]
[null,null,null,null,null,null,null,null,"0900"]
[null,null,null,null,null,null,null,null,"1000"]
[null,null,null,null,null,null,null,null,"1100"]
[null,null,null,null,null,null,null,null,"1200"]
[null,null,null,null,null,null,null,null,null,"A","Werkstoff","Aluminium"]
[]
[]
[null,null,null,null,null,null,null,null,null,null,9010,"Oberfläche Luftdurchlass","RAL 9010 glänzend"]
[null,null,null,null,null,null,null,null,null,null,"E6C0",null,"Aluminium naturfarbig eloxiert"]
[null,null,null,null,null,null,null,null,null,null,"XXXX",null,"RAL-Ton **** glänzend"]
[null,null,null,null,null,null,null,null,null,null,"SSSS",null,"Sonderlackierung"]
[null,null,null,null,null,null,null,null,null,null,null,"S","Farbe Luftlenkelement","schwarz"]
[null,null,null,null,null,null,null,null,null,null,null,"W",null,"weiß"]
[null,null,null,null,null,null,null,null,null,null,null,"G",null,"grau"]
[null,null,null,null,null,null,null,null,null,null,null,null,"C","Luftlenkeinstellung","DE"]
[null,null,null,null,null,null,null,null,null,null,null,null,"S",null,"Sonder"]
[null,null,null,null,null,null,null,null,null,null,null,null,null,"V","Werkstoff Anschlusskasten","Stahl verzinkt"]
[null,null,null,null,null,null,null,null,null,null,null,null,null,0,null,"ohne Anschlusskasten"]
[null,null,null,null,null,null,null,null,null,null,null,null,null,null,1,"Drossel ","mit FBD"]
[null,null,null,null,null,null,null,null,null,null,null,null,null,null,0,null,"ohne FBD"]
[null,null,null,null,null,null,null,null,null,null,null,null,null,null,null,"B1","Innenauskleidung","Dämmung Baustoffklasse B1"]
[null,null,null,null,null,null,null,null,null,null,null,null,null,null,null,"A2",null,"Dämmung Baustoffklasse A2"]
[null,null,null,null,null,null,null,null,null,null,null,null,null,null,null,null,1,"Stutzenanzahl","1 Stutzen"]
[null,null,null,null,null,null,null,null,null,null,null,null,null,null,null,null,"x",null,"Sonder"]
[null,null,null,null,null,null,null,null,null,null,null,null,null,null,null,null,null,100,"Stutzendurchmesser","98 mm"]
[null,null,null,null,null,null,null,null,null,null,null,null,null,null,null,null,null,"080",null,"78 mm"]
[null,null,null,null,null,null,null,null,null,null,null,null,null,null,null,null,null,"xxx",null,"Sonder"]
[null,null,null,null,{"$f":"E2","v":1},{"$f":"F3","v":"KSW"},{"$f":"G4","v":1},1,{"$f":"I10","v":"0500"},{"$f":"J18","v":"A"},{"$f":"K21","v":9010},{"$f":"L25","v":"S"},{"$f":"M28","v":"C"},{"$f":"N30","v":"V"},{"$f":"O32","v":1},{"$f":"P34","v":"B1"},{"$f":"Q36","v":1},{"$f":"R38","v":100}]
[]
[]
[]
["Schwarz","S"]
["weiß","W"]
["naturfarbig eloxiert","K"]
["weiß (RAL 9010) bepulvert","L"]
["Anschlusskasten ohne Mengeneinstellung","AK1"]
["Anschlusskasten mit Mengeneinstellung*","AK2"]